{"text_format":"1","workbook":"xlsx","n_sheets":45,"sheets":["Control Panel","Player Averages","100+ Scores","30 Darts and Under Games","180's","Singles Least Darts","Singles Most Darts","GAME BY GAME AVERAGES","NAGS HEAD \"A\"","CRICKET CLUB","CROWN","JOLLY MINSTER","WORKMENS CLUB \"A\"","BUCK INN","ODD FELLOWS","SPORTSMANS","WORKMENS CLUB \"B\"","NAGS HEAD \"B\"","Team 11 - Unused","Team 12 - Unused","AVERAGES WORKING SHEET","100+ WORKING SHEET","UNDER 30 DARTS WORKING SHEET","180'S WORKING SHEET","LEAST WORKING SHEET","MOST WORKING SHEET","League Table Working Sheet","Week 17","Week 16","Week 15","Week 14","Week 13","Week 12","Week 11","Week 10","Week 9","Week 8","Week 7","Week 6","Week 5","Week 4","Week 3","Week 2","League Table Template","Sheet1"],"not_rendered":{"charts":0,"images":0,"macros":1,"external_links":0,"defined_names":61,"comments":0,"pivot_tables":0},"unopened":[],"bounds":{"document_bytes":16777216,"sheet_cells":100000,"rows_first":2000,"rows_last":500,"rows_between":2000,"halvings":0,"cell_chars":16384,"cell_head_chars":4096},"cells_cut":0,"cells_raw":0,"read":"whole","date_system":"1900"}

{"sheet":"Control Panel","index":0,"n_rows":30,"n_cols":8,"rows_kept":30,"cut":false,"hidden":false,"merged":[]}
[]
[]
[]
[]
[]
[]
[]
[null,"Game Week","Date",null,null,{"$f":"IF(SUM(G$9:G$20)>0,\"ENABLED\",\"\")","v":"ENABLED"},"Names","Games Pld"]
[null,{"$f":"IF(C9=\"\",\"N\",\"Week 1\")","v":"Week 1"},"29/09/14","NAGS HEAD \"A\"","BUCK INN",{"$f":"IF(SUM(H$9:H$20)>0,\"ENABLED\",\"\")","v":"ENABLED"},1,1]
[null,{"$f":"IF(C10=\"\",\"N\",\"Week 2\")","v":"Week 2"},"19/01/15","CRICKET CLUB","CRICKET CLUB",{"$f":"IF(ISBLANK(D$9:D$20),\"\",\"ENABLED\")","v":"ENABLED"},1,1]
[null,{"$f":"IF(C11=\"\",\"N\",\"Week 3\")","v":"Week 3"},"13/10/14","CROWN","CROWN",null,1,1]
[null,{"$f":"IF(C12=\"\",\"N\",\"Week 4\")","v":"Week 4"},"20/10/14","JOLLY MINSTER","JOLLY MINSTER",null,1,1]
[null,{"$f":"IF(C13=\"\",\"N\",\"Week 5\")","v":"Week 5"},"2014-03-11","WORKMENS CLUB \"A\"","NAGS HEAD \"A\"",null,1,1]
[null,{"$f":"IF(C14=\"\",\"N\",\"Week 6\")","v":"Week 6"},"2014-10-11","BUCK INN","NAGS HEAD \"B\"",null,1,1]
[null,{"$f":"IF(C15=\"\",\"N\",\"Week 7\")","v":"Week 7"},"24/11/14","ODD FELLOWS","ODD FELLOWS",null,1,1]
[null,{"$f":"IF(C16=\"\",\"N\",\"Week 8\")","v":"Week 8"},"2014-01-12","SPORTSMANS","SPORTSMANS",null,1,1]
[null,{"$f":"IF(C17=\"\",\"N\",\"Week 9\")","v":"Week 9"},"15/12/14","WORKMENS CLUB \"B\"","WORKMENS CLUB \"A\"",null,1,1]
[null,{"$f":"IF(C18=\"\",\"N\",\"Week 10\")","v":"Week 10"},"22/12/14","NAGS HEAD \"B\"","WORKMENS CLUB \"B\"",null,1,1]
[null,{"$f":"IF(C19=\"\",\"N\",\"Week 11\")","v":"Week 11"},"2015-05-01",null,"BYE"]
[null,{"$f":"IF(C20=\"\",\"N\",\"Week 12\")","v":"Week 12"},"2014-12-22",null,"BYE"]
[null,{"$f":"IF(C21=\"\",\"N\",\"Week 13\")","v":"Week 13"},"26/01/15"]
[null,{"$f":"IF(C22=\"\",\"N\",\"Week 14\")","v":"Week 14"},"2015-09-02"]
[null,{"$f":"IF(C23=\"\",\"N\",\"Week 15\")","v":"Week 15"},"16/02/15"]
[null,{"$f":"IF(C24=\"\",\"N\",\"Week 16\")","v":"Week 16"},"2015-02-03"]
[null,{"$f":"IF(C25=\"\",\"N\",\"Week 17\")","v":"Week 17"},"2015-09-03"]
[null,{"$f":"IF(C26=\"\",\"N\",\"Week 18\")","v":"Week 18"},"23/03/15"]
[null,{"$f":"IF(C27=\"\",\"N\",\"Week 19\")","v":"N"}]
[null,{"$f":"IF(C28=\"\",\"N\",\"Week 20\")","v":"N"}]
[null,{"$f":"IF(C29=\"\",\"N\",\"Week 21\")","v":"N"}]
[null,{"$f":"IF(C30=\"\",\"N\",\"Week 22\")","v":"N"}]

{"sheet":"Player Averages","index":1,"n_rows":191,"n_cols":10,"rows_kept":191,"cut":false,"hidden":false,"merged":[]}
["RANK","NAME","GAMES PLAYED","GAMES WON","POINTS SCORED","DARTS THROWN","AVERAGE DARTS PER GAME","AVERAGE"]
[1,"Chris Garsed",14,13,9798,396,28.285714285714285,74.22727272727272,1,1]
[{"$f":"IF(B3=\"\",\"\",I3)","v":2},"Craig Monk",16,13,11159,497,31.0625,67.358148893360166,{"$f":"IF(H3=H2,A2,J3)","v":2},{"$f":"SUM(J2+1)","v":2}]
[{"$f":"IF(B4=\"\",\"\",I4)","v":3},"Dennis Clarkson",16,13,11164,525,32.8125,63.794285714285714,{"$f":"IF(H4=H3,A3,J4)","v":3},{"$f":"SUM(J3+1)","v":3}]
[4,"Sean Kendrew",16,15,11196,527,32.9375,63.734345351043643,4,4]
[5,"Kyle Young",15,14,10466,511,34.06666666666667,61.444227005870843,5,5]
[6,"Alan Martin",15,13,10497,518,34.533333333333331,60.793436293436287,6,6]
[7,"Ian Whittaker",15,12,10328,520,34.666666666666664,59.58461538461539,7,7]
[8,"Nigel Outram",16,12,10659,546,34.125,58.565934065934066,8,8]
[9,"Steve Blewitt",15,12,10025,515,34.333333333333336,58.398058252427184,9,9]
[10,"George Webb",16,13,10918,563,35.1875,58.177619893428066,10,10]
[11,"Dave Atkinson",15,12,10089,527,35.133333333333333,57.4326375711575,11,11]
[12,"George Kay",15,10,10307,559,37.266666666666666,55.314847942754923,12,12]
[13,"Howard Ward",5,4,3443,188,37.6,54.941489361702125,13,13]
[14,"Mike Wayman",13,10,9013,494,38,54.734817813765176,14,14]
[15,"Steve Truman",14,10,9587,528,37.714285714285715,54.471590909090907,15,15]
[16,"Matthew Cornforth",15,8,10072,557,37.133333333333333,54.247755834829448,16,16]
[17,"Mark Cox",16,8,10376,584,36.5,53.301369863013697,17,17]
[18,"Bob Carter",14,8,9228,523,37.357142857142854,52.933078393881452,18,18]
[19,"Ian Richards",13,7,8488,482,37.07692307692308,52.829875518672203,19,19]
[20,"Tim Whiting JNR",16,9,10408,593,37.0625,52.654300168634066,20,20]
[21,"Martin Young",16,8,10507,601,37.5625,52.447587354409322,21,21]
[22,"Andy Etherington",13,6,8447,484,37.230769230769234,52.357438016528917,22,22]
[23,"Col Lagan",9,3,5691,329,36.555555555555557,51.893617021276597,23,23]
[24,"Andy Johnson",15,7,9503,551,36.733333333333334,51.740471869328495,24,24]
[25,"Andy Monk",16,8,10543,614,38.375,51.513029315960907,25,25]
[26,"Kireon Timmons",2,1,1294,76,38,51.078947368421055,26,26]
[27,"Mark Outram",16,6,10292,613,38.3125,50.368678629690052,27,27]
[28,"Al Whelan",14,9,9495,566,40.428571428571431,50.326855123674903,28,28]
[29,"Chris Pattison",8,5,5388,323,40.375,50.043343653250773,29,29]
[30,"Bill Rispin",6,1,3385,204,34,49.779411764705884,30,30]
[31,"Mick Smedley",15,11,9860,597,39.799999999999997,49.547738693467338,31,31]
[32,"Morris Walker",16,10,10318,629,39.3125,49.211446740858506,32,32]
[33,"Dave Crilly",15,4,9133,560,37.333333333333336,48.926785714285714,33,33]
[34,"Phil Teare",16,6,10219,632,39.5,48.507911392405063,34,34]
[35,"Kenny Kerringan",5,1,2807,174,34.799999999999997,48.396551724137936,35,35]
[36,"Joe Hutchinson",14,6,9282,577,41.214285714285715,48.259965337954938,36,36]
[37,"Eric Stapley",15,6,10214,638,42.533333333333331,48.028213166144205,37,37]
[38,"Alex Sinclair",3,2,1886,119,39.666666666666664,47.54621848739496,38,38]
[39,"Steve Cooke",13,6,8209,521,40.07692307692308,47.268714011516309,39,39]
[40,"Al Spence",10,6,6688,429,42.9,46.769230769230766,40,40]
[41,"Steve Monk",10,2,6365,410,41,46.573170731707314,41,41]
[42,"Mel Paylor",13,8,8493,552,42.46153846153846,46.157608695652172,42,42]
[43,"Dan Buxton",14,6,9042,589,42.071428571428569,46.054329371816642,43,43]
[44,"Gaz Lumley",10,3,6019,393,39.299999999999997,45.94656488549618,44,44]
[45,"Steve Atkinson",12,3,7985,525,43.75,45.628571428571426,45,45]
[46,"Trevor Brown",15,7,9819,646,43.06666666666667,45.599071207430342,46,46]
[47,"Alex Watson",9,4,5882,390,43.333333333333336,45.246153846153845,47,47]
[48,"Jack Stevenson",2,1,1235,82,41,45.18292682926829,48,48]
[49,"Baz Pearson",13,8,8478,566,43.53846153846154,44.936395759717314,49,49]
[50,"Ian Atherton",16,4,9527,643,40.1875,44.44945567651633,50,50]
[51,"Phil Wells",9,3,5612,385,42.777777777777779,43.729870129870136,51,51]
[52,"Jake Doherty",1,0,699,48,48,43.6875,52,52]
[53,"David Langthorne",16,4,9777,673,42.0625,43.582466567607725,53,53]
[54,"Andy Haw",15,5,9408,650,43.333333333333336,43.421538461538461,54,54]
[55,"Chris Wayman",6,2,3810,264,44,43.295454545454547,55,55]
[56,"Carl Bickerton",11,5,6984,485,44.090909090909093,43.2,56,56]
[57,"Craig Burns",13,3,7766,540,41.53846153846154,43.144444444444446,57,57]
[58,"Pete Young",3,0,1680,117,39,43.07692307692308,58,58]
[59,"Sam Mathews",2,0,1243,87,43.5,42.862068965517238,59,59]
[60,"B. Dawson",12,3,7284,511,42.583333333333336,42.763209393346379,60,60]
[61,"Anthony Clemmet",16,5,10282,722,45.125,42.722991689750693,61,61]
[62,"Dave Thornton",6,1,3843,273,45.5,42.230769230769226,62,62]
[63,"Chris Cockerline",15,4,8892,634,42.266666666666666,42.07570977917981,63,63]
[64,"Chris Whiting",7,2,3904,281,40.142857142857146,41.679715302491104,64,64]
[65,"Morris Weighell",7,2,4508,326,46.571428571428569,41.484662576687114,65,65]
[66,"George McPhee",15,3,9026,659,43.93333333333333,41.089529590288315,66,66]
[{"$f":"IF(B68=\"\",\"\",I68)","v":67},"Darren Downs",8,2,4857,355,44.375,41.045070422535211,{"$f":"IF(H68=H67,A67,J68)","v":67},{"$f":"SUM(J67+1)","v":67}]
[68,"Stuart Truman",9,2,5634,417,46.333333333333336,40.532374100719423,68,68]
[69,"Tymo Sobkowiak",16,4,9308,706,44.125,39.552407932011334,69,69]
[70,"Marty Burns",1,0,587,45,45,39.133333333333333,70,70]
[71,"Mark Natttrass",16,3,9360,719,44.9375,39.054242002781642,71,71]
[72,"Richard Salton",1,0,343,27,27,38.111111111111114,72,72]
[73,"Tom Melvil",1,0,450,36,36,37.5,73,73]
[74,"Dean Wakeling  ",8,1,4078,327,40.875,37.412844036697251,74,74]
[75,"Greg Tozier",1,0,503,48,48,31.4375,75,75]
[76,"Pete Wilkinson",0,0,0,0,0,0,76,76]
[76,"Phil Wayman",0,0,0,0,0,0,76,77]
[76,"Bob Berry",0,0,0,0,0,0,76,78]
[76,"Ben Jack",0,0,0,0,0,0,76,79]
[76,"Tony Bell",0,0,0,0,0,0,76,80]
[76,"Shaun Raynor",0,0,0,0,0,0,76,81]
[76,"Adam Carter",0,0,0,0,0,0,76,82]
[76,"Tim Bowman",0,0,0,0,0,0,76,83]
[76,"Tony Read",0,0,0,0,0,0,76,84]
[76,"Josh Willis",0,0,0,0,0,0,76,85]
[76,"John Oliver",0,0,0,0,0,0,76,86]
[76,"Jim Timmons",0,0,0,0,0,0,76,87]
[76,"Graham Lake",0,0,0,0,0,0,76,88]
[76,"Kireon Timmons",0,0,0,0,0,0,76,89]
[76,"Kenny Kerrigan",0,0,0,0,0,0,76,90]
[76,"Lee Johnson",0,0,0,0,0,0,76,91]
[76,"Chris Timmons",0,0,0,0,0,0,76,92]
[76,"M. Meadley",0,0,0,0,0,0,76,93]
[76,"Liam Monk",0,0,0,0,0,0,76,94]
[76,"Tim Whiting SNR",0,0,0,0,0,0,76,95]
[76,"Ian Windress",0,0,0,0,0,0,76,96]
[76,"Dan Clarke",0,0,0,0,0,0,76,97]
[76,"Adam Richards",0,0,0,0,0,0,76,98]
[76,"Ian Appleby",0,0,0,0,0,0,76,99]
[76,"Steve Gibb",0,0,0,0,0,0,76,100]
["",null,null,null,null,null,null,null,76,101]
["",null,null,null,null,null,null,null,"",102]
["",null,null,null,null,null,null,null,"",103]
["",null,null,null,null,null,null,null,"",104]
["",null,null,null,null,null,null,null,"",105]
["",null,null,null,null,null,null,null,"",106]
["",null,null,null,null,null,null,null,"",107]
["",null,null,null,null,null,null,null,"",108]
["",null,null,null,null,null,null,null,"",109]
["",null,null,null,null,null,null,null,"",110]
["",null,null,null,null,null,null,null,"",111]
["",null,null,null,null,null,null,null,"",112]
["",null,null,null,null,null,null,null,"",113]
["",null,null,null,null,null,null,null,"",114]
["",null,null,null,null,null,null,null,"",115]
["",null,null,null,null,null,null,null,"",116]
["",null,null,null,null,null,null,null,"",117]
["",null,null,null,null,null,null,null,"",118]
["",null,null,null,null,null,null,null,"",119]
["",null,null,null,null,null,null,null,"",120]
["",null,null,null,null,null,null,null,{"$f":"IF(H122=H121,A121,J122)","v":""},{"$f":"SUM(J121+1)","v":121}]
["",null,null,null,null,null,null,null,"",122]
["",null,null,null,null,null,null,null,"",123]
["",null,null,null,null,null,null,null,"",124]
["",null,null,null,null,null,null,null,"",125]
["",null,null,null,null,null,null,null,"",126]
["",null,null,null,null,null,null,null,"",127]
["",null,null,null,null,null,null,null,"",128]
["",null,null,null,null,null,null,null,"",129]
["",null,null,null,null,null,null,null,"",130]
[{"$f":"IF(B132=\"\",\"\",I132)","v":""},null,null,null,null,null,null,null,"",131]
["",null,null,null,null,null,null,null,"",132]
["",null,null,null,null,null,null,null,"",133]
["",null,null,null,null,null,null,null,"",134]
["",null,null,null,null,null,null,null,"",135]
["",null,null,null,null,null,null,null,"",136]
["",null,null,null,null,null,null,null,"",137]
["",null,null,null,null,null,null,null,"",138]
["",null,null,null,null,null,null,null,"",139]
["",null,null,null,null,null,null,null,"",140]
["",null,null,null,null,null,null,null,"",141]
["",null,null,null,null,null,null,null,"",142]
["",null,null,null,null,null,null,null,"",143]
["",null,null,null,null,null,null,null,"",144]
[""]
[""]
[""]
[""]
[""]
[""]
[""]
[""]
[""]
[""]
[""]
[""]
[""]
[""]
[""]
[""]
[""]
[""]
[""]
[""]
[""]
[""]
[""]
[""]
[""]
[""]
[""]
[""]
[""]
[""]
[""]
[""]
[""]
[""]
[""]
[""]
[""]
[""]
[""]
[""]
[""]
[""]
[""]
[""]
[""]
[""]

{"sheet":"100+ Scores","index":2,"n_rows":145,"n_cols":7,"rows_kept":145,"cut":false,"hidden":false,"merged":[]}
["RANK","NAME","SINGLES GAMES PLAYED","TOTAL 100+ SCORES"]
[1,"Dennis Clarkson",16,79,null,1,1]
[{"$f":"IF(B3=\"\",\"\",F3)","v":2},"Craig Monk",16,62,null,{"$f":"IF(D3=D2,A2,G3)","v":2},{"$f":"SUM(G2+1)","v":2}]
[{"$f":"IF(B4=\"\",\"\",F4)","v":3},"Sean Kendrew",16,59,null,{"$f":"IF(D4=D3,A3,G4)","v":3},{"$f":"SUM(G3+1)","v":3}]
[3,"Chris Garsed",14,59,null,3,4]
[5,"Nigel Outram",16,50,null,5,5]
[6,"Martin Young",16,48,null,6,6]
[6,"Ian Whittaker",15,48,null,6,7]
[8,"Steve Blewitt",15,47,null,8,8]
[9,"Alan Martin",15,42,null,9,9]
[10,"Steve Truman",14,40,null,10,10]
[11,"George Webb",16,39,null,11,11]
[12,"Dave Atkinson",15,38,null,12,12]
[13,"Kyle Young",15,36,null,13,13]
[14,"Mike Wayman",13,34,null,14,14]
[15,"Matthew Cornforth",15,33,null,15,15]
[16,"Andy Johnson",15,32,null,16,16]
[17,"George Kay",15,31,null,17,17]
[17,"Morris Walker",16,31,null,17,18]
[17,"Tim Whiting JNR",16,31,null,17,19]
[17,"Andy Monk",16,31,null,17,20]
[17,"Bob Carter",14,31,null,17,21]
[22,"Ian Richards",13,30,null,22,22]
[23,"Al Whelan",14,27,null,23,23]
[23,"Eric Stapley",15,27,null,23,24]
[25,"Trevor Brown",15,26,null,25,25]
[26,"Joe Hutchinson",14,24,null,26,26]
[27,"Mick Smedley",15,23,null,27,27]
[27,"Andy Etherington",13,23,null,27,28]
[27,"Mark Cox",16,23,null,27,29]
[30,"Al Spence",10,22,null,30,30]
[30,"Anthony Clemmet",16,22,null,30,31]
[30,"Baz Pearson",13,22,null,30,32]
[33,"Phil Teare",16,20,null,33,33]
[33,"Dave Crilly",15,20,null,33,34]
[33,"Steve Cooke",13,20,null,33,35]
[36,"Mel Paylor",13,19,null,36,36]
[37,"Mark Outram",16,18,null,37,37]
[38,"Craig Burns",13,16,null,38,38]
[39,"Dan Buxton",14,15,null,39,39]
[39,"Howard Ward",5,15,null,39,40]
[39,"George McPhee",15,15,null,39,41]
[39,"Andy Haw",15,15,null,39,42]
[43,"Col Lagan",9,13,null,43,43]
[44,"Ian Atherton",16,12,null,44,44]
[44,"Steve Monk",10,12,null,44,45]
[44,"Darren Downs",8,12,null,44,46]
[44,"Alex Watson",9,12,null,44,47]
[48,"Bill Rispin",6,11,null,48,48]
[48,"Chris Whiting",7,11,null,48,49]
[48,"Kenny Kerringan",5,11,null,48,50]
[51,"David Langthorne",16,10,null,51,51]
[52,"Tymo Sobkowiak",16,9,null,52,52]
[52,"Alex Sinclair",3,9,null,52,53]
[54,"Dave Thornton",6,8,null,54,54]
[54,"Chris Pattison",8,8,null,54,55]
[54,"Carl Bickerton",11,8,null,54,56]
[54,"Gaz Lumley",10,8,null,54,57]
[54,"Stuart Truman",9,8,null,54,58]
[59,"Kireon Timmons",2,7,null,59,59]
[59,"Steve Atkinson",12,7,null,59,60]
[61,"B. Dawson",12,6,null,61,61]
[62,"Chris Wayman",6,5,null,62,62]
[62,"Phil Wells",9,5,null,62,63]
[64,"Morris Weighell",7,4,null,64,64]
[65,"Dean Wakeling  ",8,3,null,65,65]
[65,"Mark Natttrass",16,3,null,65,66]
[{"$f":"IF(B68=\"\",\"\",F68)","v":65},"Jack Stevenson",2,3,null,{"$f":"IF(D68=D67,A67,G68)","v":65},{"$f":"SUM(G67+1)","v":67}]
[68,"Chris Cockerline",15,2,null,68,68]
[68,"Sam Mathews",2,2,null,68,69]
[68,"Marty Burns",1,2,null,68,70]
[68,"John Oliver",0,2,null,68,71]
[72,"Pete Wilkinson",0,1,null,72,72]
[72,"Liam Monk",0,1,null,72,73]
[72,"Pete Young",3,1,null,72,74]
[72,"Adam Richards",0,1,null,72,75]
[72,"Jake Doherty",1,1,null,72,76]
["",null,null,null,null,77,77]
["",null,null,null,null,"",78]
["",null,null,null,null,"",79]
["",null,null,null,null,"",80]
["",null,null,null,null,"",81]
["",null,null,null,null,"",82]
["",null,null,null,null,"",83]
["",null,null,null,null,"",84]
["",null,null,null,null,"",85]
["",null,null,null,null,"",86]
["",null,null,null,null,"",87]
["",null,null,null,null,"",88]
["",null,null,null,null,"",89]
["",null,null,null,null,"",90]
["",null,null,null,null,"",91]
["",null,null,null,null,"",92]
["",null,null,null,null,"",93]
["",null,null,null,null,"",94]
["",null,null,null,null,"",95]
["",null,null,null,null,"",96]
["",null,null,null,null,"",97]
["",null,null,null,null,"",98]
["",null,null,null,null,"",99]
["",null,null,null,null,"",100]
["",null,null,null,null,"",101]
["",null,null,null,null,"",102]
["",null,null,null,null,"",103]
["",null,null,null,null,"",104]
["",null,null,null,null,"",105]
["",null,null,null,null,"",106]
["",null,null,null,null,"",107]
["",null,null,null,null,"",108]
["",null,null,null,null,"",109]
["",null,null,null,null,"",110]
["",null,null,null,null,"",111]
["",null,null,null,null,"",112]
["",null,null,null,null,"",113]
["",null,null,null,null,"",114]
["",null,null,null,null,"",115]
["",null,null,null,null,"",116]
["",null,null,null,null,"",117]
["",null,null,null,null,"",118]
["",null,null,null,null,"",119]
["",null,null,null,null,"",120]
["",null,null,null,null,{"$f":"IF(D122=D121,A121,G122)","v":""},{"$f":"SUM(G121+1)","v":121}]
["",null,null,null,null,"",122]
["",null,null,null,null,"",123]
["",null,null,null,null,"",124]
["",null,null,null,null,"",125]
["",null,null,null,null,"",126]
["",null,null,null,null,"",127]
["",null,null,null,null,"",128]
["",null,null,null,null,"",129]
["",null,null,null,null,"",130]
[{"$f":"IF(B132=\"\",\"\",F132)","v":""},null,null,null,null,"",131]
[{"$f":"IF(B133=\"\",\"\",F133)","v":""},null,null,null,null,"",132]
[{"$f":"IF(B134=\"\",\"\",F134)","v":""},null,null,null,null,"",133]
["",null,null,null,null,"",134]
["",null,null,null,null,"",135]
["",null,null,null,null,"",136]
["",null,null,null,null,"",137]
["",null,null,null,null,"",138]
["",null,null,null,null,"",139]
["",null,null,null,null,"",140]
["",null,null,null,null,"",141]
["",null,null,null,null,"",142]
["",null,null,null,null,"",143]
["",null,null,null,null,"",144]

{"sheet":"30 Darts and Under Games","index":3,"n_rows":145,"n_cols":6,"rows_kept":145,"cut":false,"hidden":false,"merged":[]}
["RANK","NAME","TOTAL GAMES OF 30 DARTS AND UNDER"]
[1,"Chris Garsed",8,null,1,1]
[{"$f":"IF(B3=\"\",\"\",E3)","v":2},"Craig Monk",7,null,{"$f":"IF(C3=C2,A2,F3)","v":2},{"$f":"SUM(F2+1)","v":2}]
[{"$f":"IF(B4=\"\",\"\",E4)","v":2},"Kyle Young",7,null,2,{"$f":"SUM(F3+1)","v":3}]
[4,"Dennis Clarkson",6,null,4,4]
[5,"Sean Kendrew",4,null,5,5]
[5,"Dave Atkinson",4,null,5,6]
[5,"Ian Whittaker",4,null,5,7]
[8,"Mike Wayman",3,null,8,8]
[8,"Alan Martin",3,null,8,9]
[10,"Steve Blewitt",2,null,10,10]
[10,"Nigel Outram",2,null,10,11]
[12,"Steve Truman",1,null,12,12]
[12,"George Webb",1,null,12,13]
[12,"Howard Ward",1,null,12,14]
[12,"George Kay",1,null,12,15]
[12,"Mark Outram",1,null,12,16]
[12,"George McPhee",1,null,12,17]
[12,"Andy Etherington",1,null,12,18]
[12,"Morris Walker",1,null,12,19]
[12,"Matthew Cornforth",1,null,12,20]
[12,"Tim Whiting JNR",1,null,12,21]
[12,"Martin Young",1,null,12,22]
[12,"Ian Richards",1,null,12,23]
[12,"Bob Carter",1,null,12,24]
["",null,null,null,25,25]
["",null,null,null,"",26]
["",null,null,null,"",27]
["",null,null,null,"",28]
["",null,null,null,"",29]
["",null,null,null,"",30]
["",null,null,null,"",31]
["",null,null,null,"",32]
["",null,null,null,"",33]
["",null,null,null,"",34]
["",null,null,null,"",35]
["",null,null,null,"",36]
["",null,null,null,"",37]
["",null,null,null,"",38]
["",null,null,null,"",39]
["",null,null,null,"",40]
["",null,null,null,"",41]
["",null,null,null,"",42]
["",null,null,null,"",43]
["",null,null,null,"",44]
["",null,null,null,"",45]
["",null,null,null,"",46]
["",null,null,null,"",47]
["",null,null,null,"",48]
["",null,null,null,"",49]
["",null,null,null,"",50]
["",null,null,null,"",51]
["",null,null,null,"",52]
["",null,null,null,"",53]
["",null,null,null,"",54]
["",null,null,null,"",55]
["",null,null,null,"",56]
["",null,null,null,"",57]
["",null,null,null,"",58]
["",null,null,null,"",59]
["",null,null,null,"",60]
["",null,null,null,"",61]
["",null,null,null,"",62]
["",null,null,null,"",63]
["",null,null,null,"",64]
["",null,null,null,"",65]
["",null,null,null,"",66]
[{"$f":"IF(B68=\"\",\"\",E68)","v":""},null,null,null,{"$f":"IF(C68=C67,A67,F68)","v":""},{"$f":"SUM(F67+1)","v":67}]
["",null,null,null,"",68]
["",null,null,null,"",69]
["",null,null,null,"",70]
["",null,null,null,"",71]
["",null,null,null,"",72]
["",null,null,null,"",73]
["",null,null,null,"",74]
["",null,null,null,"",75]
["",null,null,null,"",76]
["",null,null,null,"",77]
["",null,null,null,"",78]
["",null,null,null,"",79]
["",null,null,null,"",80]
["",null,null,null,"",81]
["",null,null,null,"",82]
["",null,null,null,"",83]
["",null,null,null,"",84]
["",null,null,null,"",85]
["",null,null,null,"",86]
["",null,null,null,"",87]
["",null,null,null,"",88]
["",null,null,null,"",89]
["",null,null,null,"",90]
["",null,null,null,"",91]
["",null,null,null,"",92]
["",null,null,null,"",93]
["",null,null,null,"",94]
["",null,null,null,"",95]
["",null,null,null,"",96]
["",null,null,null,"",97]
["",null,null,null,"",98]
["",null,null,null,"",99]
["",null,null,null,"",100]
["",null,null,null,"",101]
["",null,null,null,"",102]
["",null,null,null,"",103]
["",null,null,null,"",104]
["",null,null,null,"",105]
["",null,null,null,"",106]
["",null,null,null,"",107]
["",null,null,null,"",108]
["",null,null,null,"",109]
["",null,null,null,"",110]
["",null,null,null,"",111]
["",null,null,null,"",112]
["",null,null,null,"",113]
["",null,null,null,"",114]
["",null,null,null,"",115]
["",null,null,null,"",116]
["",null,null,null,"",117]
["",null,null,null,"",118]
["",null,null,null,"",119]
["",null,null,null,"",120]
["",null,null,null,{"$f":"IF(C122=C121,A121,F122)","v":""},{"$f":"SUM(F121+1)","v":121}]
["",null,null,null,"",122]
["",null,null,null,"",123]
["",null,null,null,"",124]
["",null,null,null,"",125]
["",null,null,null,"",126]
["",null,null,null,"",127]
["",null,null,null,"",128]
["",null,null,null,"",129]
["",null,null,null,"",130]
[{"$f":"IF(B132=\"\",\"\",E132)","v":""},null,null,null,"",131]
[{"$f":"IF(B133=\"\",\"\",E133)","v":""},null,null,null,"",132]
[{"$f":"IF(B134=\"\",\"\",E134)","v":""},null,null,null,"",133]
["",null,null,null,"",134]
["",null,null,null,"",135]
["",null,null,null,"",136]
["",null,null,null,"",137]
["",null,null,null,"",138]
["",null,null,null,"",139]
["",null,null,null,"",140]
["",null,null,null,"",141]
["",null,null,null,"",142]
["",null,null,null,"",143]
["",null,null,null,"",144]

{"sheet":"180's","index":4,"n_rows":145,"n_cols":5,"rows_kept":145,"cut":false,"hidden":false,"merged":[]}
["RANK","NAME","TOTAL 180's"]
[1,"Chris Garsed",4,1,1]
[{"$f":"IF(B3=\"\",\"\",D3)","v":1},"Mike Wayman",4,{"$f":"IF(C3=C2,A2,E3)","v":1},{"$f":"SUM(E2+1)","v":2}]
[{"$f":"IF(B4=\"\",\"\",D4)","v":3},"Craig Monk",3,{"$f":"IF(C4=C3,A3,E4)","v":3},{"$f":"SUM(E3+1)","v":3}]
[3,"Kyle Young",3,{"$f":"IF(C5=C4,A4,E5)","v":3},4]
[5,"Alan Martin",2,5,5]
[5,"Steve Blewitt",2,5,6]
[7,"Andy Etherington",1,7,7]
[7,"Andy Haw",1,7,8]
[7,"Dave Atkinson",1,7,9]
[7,"Dennis Clarkson",1,7,10]
[7,"George Webb",1,7,11]
[7,"Matthew Cornforth",1,7,12]
[7,"Nigel Outram",1,7,13]
[7,"Steve Cooke",1,7,14]
[7,"Tim Whiting JNR",1,7,15]
["",null,null,16,16]
["",null,null,"",17]
["",null,null,"",18]
["",null,null,"",19]
["",null,null,"",20]
["",null,null,"",21]
["",null,null,"",22]
["",null,null,"",23]
["",null,null,"",24]
["",null,null,"",25]
["",null,null,"",26]
["",null,null,"",27]
["",null,null,"",28]
["",null,null,"",29]
["",null,null,"",30]
["",null,null,"",31]
["",null,null,"",32]
["",null,null,"",33]
["",null,null,"",34]
["",null,null,"",35]
["",null,null,"",36]
["",null,null,"",37]
["",null,null,"",38]
["",null,null,"",39]
["",null,null,"",40]
["",null,null,"",41]
["",null,null,"",42]
["",null,null,"",43]
["",null,null,"",44]
["",null,null,"",45]
["",null,null,"",46]
["",null,null,"",47]
["",null,null,"",48]
["",null,null,"",49]
["",null,null,"",50]
["",null,null,"",51]
["",null,null,"",52]
["",null,null,"",53]
["",null,null,"",54]
["",null,null,"",55]
["",null,null,"",56]
["",null,null,"",57]
["",null,null,"",58]
["",null,null,"",59]
["",null,null,"",60]
["",null,null,"",61]
["",null,null,"",62]
["",null,null,"",63]
["",null,null,"",64]
["",null,null,"",65]
["",null,null,"",66]
[{"$f":"IF(B68=\"\",\"\",D68)","v":""},null,null,"",{"$f":"SUM(E67+1)","v":67}]
["",null,null,{"$f":"IF(C69=C68,A68,E69)","v":""},68]
["",null,null,"",69]
["",null,null,"",70]
["",null,null,"",71]
["",null,null,"",72]
["",null,null,"",73]
["",null,null,"",74]
["",null,null,"",75]
["",null,null,"",76]
["",null,null,"",77]
["",null,null,"",78]
["",null,null,"",79]
["",null,null,"",80]
["",null,null,"",81]
["",null,null,"",82]
["",null,null,"",83]
["",null,null,"",84]
["",null,null,"",85]
["",null,null,"",86]
["",null,null,"",87]
["",null,null,"",88]
["",null,null,"",89]
["",null,null,"",90]
["",null,null,"",91]
["",null,null,"",92]
["",null,null,"",93]
["",null,null,"",94]
["",null,null,"",95]
["",null,null,"",96]
["",null,null,"",97]
["",null,null,"",98]
["",null,null,"",99]
["",null,null,"",100]
["",null,null,"",101]
["",null,null,"",102]
["",null,null,"",103]
["",null,null,"",104]
["",null,null,"",105]
["",null,null,"",106]
["",null,null,"",107]
["",null,null,"",108]
["",null,null,"",109]
["",null,null,"",110]
["",null,null,"",111]
["",null,null,"",112]
["",null,null,"",113]
["",null,null,"",114]
["",null,null,"",115]
["",null,null,"",116]
["",null,null,"",117]
["",null,null,"",118]
["",null,null,"",119]
["",null,null,"",120]
["",null,null,{"$f":"IF(C122=C121,A121,E122)","v":""},{"$f":"SUM(E121+1)","v":121}]
["",null,null,"",122]
["",null,null,"",123]
["",null,null,"",124]
["",null,null,"",125]
["",null,null,"",126]
["",null,null,"",127]
["",null,null,"",128]
["",null,null,"",129]
["",null,null,"",130]
[{"$f":"IF(B132=\"\",\"\",D132)","v":""},null,null,"",131]
[{"$f":"IF(B133=\"\",\"\",D133)","v":""},null,null,"",132]
[{"$f":"IF(B134=\"\",\"\",D134)","v":""},null,null,"",133]
["",null,null,"",134]
["",null,null,"",135]
["",null,null,"",136]
["",null,null,"",137]
["",null,null,"",138]
["",null,null,"",139]
["",null,null,"",140]
["",null,null,"",141]
["",null,null,"",142]
["",null,null,"",143]
["",null,null,"",144]

{"sheet":"Singles Least Darts","index":5,"n_rows":145,"n_cols":5,"rows_kept":145,"cut":false,"hidden":false,"merged":[]}
["RANK","NAME","LEAST DARTS"]
[1,"Chris Garsed",19,1,1]
[{"$f":"IF(B3=\"\",\"\",D3)","v":2},"Craig Monk",21,{"$f":"IF(C3=C2,A2,E3)","v":2},{"$f":"SUM(E2+1)","v":2}]
[{"$f":"IF(B4=\"\",\"\",D4)","v":3},"Nigel Outram",23,{"$f":"IF(C4=C3,A3,E4)","v":3},{"$f":"SUM(E3+1)","v":3}]
[4,"Sean Kendrew",24,{"$f":"IF(C5=C4,A4,E5)","v":4},4]
[4,"Kyle Young",24,4,5]
[6,"Mike Wayman",25,6,6]
[7,"Alan Martin",26,7,7]
[7,"Dave Atkinson",26,7,8]
[9,"George Webb",27,9,9]
[9,"Dennis Clarkson",27,9,10]
[9,"Steve Blewitt",27,9,11]
[9,"Martin Young",27,9,12]
[9,"Ian Whittaker",27,9,13]
[9,"Bob Carter",27,9,14]
[15,"George Kay",28,15,15]
[16,"Howard Ward",29,16,16]
[16,"Tim Whiting JNR",29,16,17]
[16,"Matthew Cornforth",29,16,18]
[19,"George McPhee",30,19,19]
[19,"Morris Walker",30,19,20]
[19,"Ian Richards",30,19,21]
[19,"Andy Etherington",30,19,22]
[19,"Steve Truman",30,19,23]
[19,"Mark Outram",30,19,24]
[25,"Mel Paylor",31,25,25]
[25,"Mick Smedley",31,25,26]
[25,"Mark Cox",31,25,27]
[28,"Col Lagan",32,28,28]
[28,"Craig Burns",32,28,29]
[28,"Andy Johnson",32,28,30]
[28,"Al Spence",32,28,31]
[28,"Andy Monk",32,28,32]
[28,"Alex Sinclair",32,28,33]
[34,"Alex Watson",33,34,34]
[34,"David Langthorne",33,34,35]
[34,"Baz Pearson",33,34,36]
[37,"Chris Pattison",34,37,37]
[37,"Al Whelan",34,37,38]
[39,"Chris Whiting",35,39,39]
[39,"Dave Crilly",35,39,40]
[39,"Dan Buxton",35,39,41]
[39,"Steve Cooke",35,39,42]
[43,"Bill Rispin",36,43,43]
[44,"Phil Teare",37,44,44]
[44,"Joe Hutchinson",37,44,45]
[44,"Gaz Lumley",37,44,46]
[44,"Trevor Brown",37,44,47]
[48,"Eric Stapley",38,48,48]
[48,"Ian Atherton",38,48,49]
[48,"Phil Wells",38,48,50]
[51,"Chris Wayman",39,51,51]
[52,"Kireon Timmons",40,52,52]
[53,"Andy Haw",41,53,53]
[54,"Anthony Clemmet",42,54,54]
[54,"Carl Bickerton",42,54,55]
[54,"Steve Atkinson",42,54,56]
[57,"Jack Stevenson",43,57,57]
[57,"Morris Weighell",43,57,58]
[57,"Darren Downs",43,57,59]
[60,"Steve Monk",45,60,60]
[60,"Mark Natttrass",45,60,61]
[62,"B. Dawson",46,62,62]
[63,"Kenny Kerringan",48,63,63]
[63,"Chris Cockerline",48,63,64]
[65,"Stuart Truman",50,65,65]
[66,"Tymo Sobkowiak",51,66,66]
[{"$f":"IF(B68=\"\",\"\",D68)","v":67},"Dean Wakeling  ",57,67,{"$f":"SUM(E67+1)","v":67}]
[68,"Dave Thornton",59,{"$f":"IF(C69=C68,A68,E69)","v":68},68]
["",null,null,69,69]
["",null,null,"",70]
["",null,null,"",71]
["",null,null,"",72]
["",null,null,"",73]
["",null,null,"",74]
["",null,null,"",75]
["",null,null,"",76]
["",null,null,"",77]
["",null,null,"",78]
["",null,null,"",79]
["",null,null,"",80]
["",null,null,"",81]
["",null,null,"",82]
["",null,null,"",83]
["",null,null,"",84]
["",null,null,"",85]
["",null,null,"",86]
["",null,null,"",87]
["",null,null,"",88]
["",null,null,"",89]
["",null,null,"",90]
["",null,null,"",91]
["",null,null,"",92]
["",null,null,"",93]
["",null,null,"",94]
["",null,null,"",95]
["",null,null,"",96]
["",null,null,"",97]
["",null,null,"",98]
["",null,null,"",99]
["",null,null,"",100]
["",null,null,"",101]
["",null,null,"",102]
["",null,null,"",103]
["",null,null,"",104]
["",null,null,"",105]
["",null,null,"",106]
["",null,null,"",107]
["",null,null,"",108]
["",null,null,"",109]
["",null,null,"",110]
["",null,null,"",111]
["",null,null,"",112]
["",null,null,"",113]
["",null,null,"",114]
["",null,null,"",115]
["",null,null,"",116]
["",null,null,"",117]
["",null,null,"",118]
["",null,null,"",119]
["",null,null,"",120]
["",null,null,{"$f":"IF(C122=C121,A121,E122)","v":""},{"$f":"SUM(E121+1)","v":121}]
["",null,null,"",122]
["",null,null,"",123]
["",null,null,"",124]
["",null,null,"",125]
["",null,null,"",126]
["",null,null,"",127]
["",null,null,"",128]
["",null,null,"",129]
["",null,null,"",130]
[{"$f":"IF(B132=\"\",\"\",D132)","v":""},null,null,"",131]
[{"$f":"IF(B133=\"\",\"\",D133)","v":""},null,null,"",132]
[{"$f":"IF(B134=\"\",\"\",D134)","v":""},null,null,"",133]
["",null,null,"",134]
["",null,null,"",135]
["",null,null,"",136]
["",null,null,"",137]
["",null,null,"",138]
["",null,null,"",139]
["",null,null,"",140]
["",null,null,"",141]
["",null,null,"",142]
["",null,null,"",143]
["",null,null,"",144]

{"sheet":"Singles Most Darts","index":6,"n_rows":145,"n_cols":5,"rows_kept":145,"cut":false,"hidden":false,"merged":[]}
["RANK","NAME","MOST DARTS TO WIN"]
[1,"George McPhee",71,1,1]
[{"$f":"IF(B3=\"\",\"\",D3)","v":2},"Alex Sinclair",66,{"$f":"IF(C3=C2,A2,E3)","v":2},{"$f":"SUM(E2+1)","v":2}]
[3,"Morris Walker",65,3,3]
[4,"Tymo Sobkowiak",63,4,4]
[4,"Chris Cockerline",63,4,5]
[6,"Anthony Clemmet",62,6,6]
[6,"Mick Smedley",62,6,7]
[6,"Martin Young",62,6,8]
[6,"Phil Wells",62,6,9]
[10,"Stuart Truman",61,10,10]
[11,"Mike Wayman",60,11,11]
[12,"Dave Thornton",59,12,12]
[12,"Andy Haw",59,12,13]
[14,"Craig Burns",58,14,14]
[14,"Alex Watson",58,14,15]
[14,"Phil Teare",58,14,16]
[14,"Andy Etherington",58,14,17]
[18,"Mel Paylor",57,18,18]
[18,"Dean Wakeling  ",57,18,19]
[18,"B. Dawson",57,18,20]
[18,"Darren Downs",57,18,21]
[22,"Chris Pattison",56,22,22]
[22,"Steve Truman",56,22,23]
[24,"Al Spence",55,24,24]
[25,"Ian Atherton",54,25,25]
[25,"Tim Whiting JNR",54,25,26]
[25,"Matthew Cornforth",54,25,27]
[25,"Trevor Brown",54,25,28]
[25,"Baz Pearson",54,25,29]
[30,"Col Lagan",53,30,30]
[30,"Eric Stapley",53,30,31]
[32,"Chris Whiting",52,32,32]
[32,"Joe Hutchinson",52,32,33]
[{"$f":"IF(B35=\"\",\"\",D35)","v":34},"Carl Bickerton",51,{"$f":"IF(C35=C34,A34,E35)","v":34},{"$f":"SUM(E34+1)","v":34}]
[34,"Dan Buxton",51,34,35]
[34,"Nigel Outram",51,34,36]
[34,"Mark Natttrass",51,34,37]
[34,"Ian Richards",51,34,38]
[34,"Steve Cooke",51,34,39]
[40,"Steve Monk",50,40,40]
[40,"David Langthorne",50,40,41]
[42,"Gaz Lumley",49,42,42]
[43,"Kenny Kerringan",48,43,43]
[43,"Chris Wayman",48,43,44]
[43,"Al Whelan",48,43,45]
[43,"Andy Monk",48,43,46]
[43,"Alan Martin",48,43,47]
[43,"Mark Cox",48,43,48]
[43,"Bob Carter",48,43,49]
[50,"Kyle Young",47,50,50]
[50,"Ian Whittaker",47,50,51]
[52,"Dave Crilly",46,52,52]
[52,"Morris Weighell",46,52,53]
[52,"Dave Atkinson",46,52,54]
[55,"George Webb",45,55,55]
[55,"George Kay",45,55,56]
[57,"Andy Johnson",44,57,57]
[57,"Steve Atkinson",44,57,58]
[59,"Jack Stevenson",43,59,59]
[59,"Steve Blewitt",43,59,60]
[61,"Dennis Clarkson",42,61,61]
[61,"Mark Outram",42,61,62]
[63,"Howard Ward",41,63,63]
[64,"Kireon Timmons",40,64,64]
[64,"Craig Monk",40,64,65]
[{"$f":"IF(B67=\"\",\"\",D67)","v":66},"Sean Kendrew",39,{"$f":"IF(C67=C66,A66,E67)","v":66},{"$f":"SUM(E66+1)","v":66}]
[67,"Bill Rispin",36,67,67]
[67,"Chris Garsed",36,67,68]
["",null,null,69,69]
["",null,null,"",70]
["",null,null,"",71]
["",null,null,"",72]
["",null,null,"",73]
["",null,null,"",74]
["",null,null,"",75]
["",null,null,"",76]
["",null,null,"",77]
["",null,null,"",78]
["",null,null,"",79]
["",null,null,"",80]
["",null,null,"",81]
["",null,null,"",82]
["",null,null,"",83]
["",null,null,"",84]
["",null,null,"",85]
["",null,null,"",86]
["",null,null,"",87]
["",null,null,"",88]
["",null,null,"",89]
["",null,null,"",90]
["",null,null,"",91]
["",null,null,"",92]
["",null,null,"",93]
["",null,null,"",94]
["",null,null,"",95]
["",null,null,"",96]
["",null,null,"",97]
[{"$f":"IF(B99=\"\",\"\",D99)","v":""},null,null,{"$f":"IF(C99=C98,A98,E99)","v":""},{"$f":"SUM(E98+1)","v":98}]
["",null,null,"",99]
["",null,null,"",100]
["",null,null,"",101]
["",null,null,"",102]
["",null,null,"",103]
["",null,null,"",104]
["",null,null,"",105]
["",null,null,"",106]
["",null,null,"",107]
["",null,null,"",108]
["",null,null,"",109]
["",null,null,"",110]
["",null,null,"",111]
["",null,null,"",112]
["",null,null,"",113]
["",null,null,"",114]
["",null,null,"",115]
["",null,null,"",116]
["",null,null,"",117]
["",null,null,"",118]
["",null,null,"",119]
["",null,null,"",120]
["",null,null,{"$f":"IF(C122=C121,A121,E122)","v":""},{"$f":"SUM(E121+1)","v":121}]
["",null,null,"",122]
["",null,null,"",123]
["",null,null,"",124]
["",null,null,"",125]
["",null,null,"",126]
["",null,null,"",127]
["",null,null,"",128]
["",null,null,"",129]
[{"$f":"IF(B131=\"\",\"\",D131)","v":""},null,null,"",130]
[{"$f":"IF(B132=\"\",\"\",D132)","v":""},null,null,"",131]
[{"$f":"IF(B133=\"\",\"\",D133)","v":""},null,null,"",132]
[{"$f":"IF(B134=\"\",\"\",D134)","v":""},null,null,"",133]
["",null,null,"",134]
["",null,null,"",135]
["",null,null,"",136]
["",null,null,"",137]
["",null,null,"",138]
["",null,null,"",139]
["",null,null,"",140]
["",null,null,"",141]
["",null,null,"",142]
["",null,null,"",143]
["",null,null,"",144]

{"sheet":"GAME BY GAME AVERAGES","index":7,"n_rows":439,"n_cols":45,"rows_kept":439,"cut":false,"hidden":true,"merged":[[160,27,160,28],[0,19,0,20],[280,35,280,36],[280,17,280,18],[280,19,280,20],[280,29,280,30],[280,33,280,34],[0,21,0,22],[0,15,0,16],[0,23,0,24],[120,33,120,34],[280,15,280,16],[120,27,120,28],[120,29,120,30],[120,31,120,32],[80,23,80,24],[80,21,80,22],[80,19,80,20],[0,17,0,18],[240,19,240,20],[240,21,240,22],[240,33,240,34],[240,15,240,16],[240,17,240,18],[120,0,121,0],[120,1,120,2],[120,3,120,4],[120,5,120,6],[120,7,120,8],[120,9,120,10],[120,11,120,12],[120,13,120,14],[120,15,120,16],[80,0,81,0],[80,1,80,2],[80,3,80,4],[80,5,80,6],[80,13,80,14],[80,15,80,16],[80,17,80,18],[0,0,1,0],[0,1,0,2],[0,3,0,4],[0,5,0,6],[80,7,80,8],[80,9,80,10],[80,11,80,12],[0,9,0,10],[0,11,0,12],[0,7,0,8],[0,13,0,14],[40,17,40,18],[80,39,80,40],[0,25,0,26],[0,35,0,36],[0,37,0,38],[40,39,40,40],[0,27,0,28],[0,39,0,40],[0,29,0,30],[0,31,0,32],[0,33,0,34],[80,25,80,26],[80,35,80,36],[80,27,80,28],[80,29,80,30],[80,31,80,32],[80,33,80,34],[40,27,40,28],[40,29,40,30],[40,31,40,32],[40,33,40,34],[80,37,80,38],[120,39,120,40],[160,0,161,0],[160,1,160,2],[160,3,160,4],[160,5,160,6],[160,7,160,8],[160,9,160,10],[160,11,160,12],[160,21,160,22],[160,23,160,24],[160,39,160,40],[160,13,160,14],[160,15,160,16],[160,17,160,18],[160,19,160,20],[160,29,160,30],[160,25,160,26],[120,17,120,18],[120,19,120,20],[120,21,120,22],[120,23,120,24],[120,25,120,26],[120,35,120,36],[120,37,120,38],[200,25,200,26],[200,35,200,36],[200,27,200,28],[200,29,200,30],[200,13,200,14],[200,15,200,16],[200,17,200,18],[200,19,200,20],[200,23,200,24],[200,21,200,22],[200,33,200,34],[200,31,200,32],[200,0,201,0],[240,3,240,4],[320,9,320,10],[280,9,280,10],[280,11,280,12],[320,11,320,12],[200,1,200,2],[200,3,200,4],[200,5,200,6],[200,7,200,8],[200,9,200,10],[200,11,200,12],[320,13,320,14],[360,0,361,0],[360,1,360,2],[360,3,360,4],[360,5,360,6],[240,5,240,6],[320,0,321,0],[320,1,320,2],[280,1,280,2],[280,3,280,4],[280,0,281,0],[320,3,320,4],[240,13,240,14],[240,0,241,0],[240,1,240,2],[240,11,240,12],[320,5,320,6],[320,7,320,8],[280,5,280,6],[280,7,280,8],[240,7,240,8],[240,9,240,10],[400,0,401,0],[400,1,400,2],[400,3,400,4],[400,5,400,6],[360,7,360,8],[400,13,400,14],[400,15,400,16],[400,7,400,8],[400,9,400,10],[400,11,400,12],[400,17,400,18],[400,19,400,20],[400,21,400,22],[400,23,400,24],[400,25,400,26],[360,15,360,16],[360,17,360,18],[360,19,360,20],[360,21,360,22],[360,27,360,28],[360,29,360,30],[360,23,360,24],[360,9,360,10],[360,11,360,12],[360,13,360,14],[240,25,240,26],[240,29,240,30],[320,27,320,28],[320,29,320,30],[240,23,240,24],[240,27,240,28],[280,27,280,28],[320,25,320,26],[320,23,320,24],[280,21,280,22],[280,23,280,24],[280,25,280,26],[320,19,320,20],[320,21,320,22],[320,15,320,16],[320,17,320,18],[280,13,280,14],[360,25,360,26],[400,35,400,36],[400,29,400,30],[400,33,400,34],[400,37,400,38],[400,39,400,40],[400,27,400,28],[400,31,400,32],[360,39,360,40],[40,0,41,0],[40,1,40,2],[40,3,40,4],[40,5,40,6],[40,7,40,8],[40,9,40,10],[40,11,40,12],[40,13,40,14],[40,15,40,16],[40,19,40,20],[40,21,40,22],[360,31,360,32],[40,23,40,24],[40,25,40,26],[40,35,40,36],[40,37,40,38],[360,33,360,34],[320,31,320,32],[240,37,240,38],[240,35,240,36],[240,39,240,40],[240,31,240,32],[360,35,360,36],[360,37,360,38],[160,35,160,36],[280,39,280,40],[280,37,280,38],[200,39,200,40],[200,37,200,38],[160,37,160,38],[160,33,160,34],[160,31,160,32],[280,31,280,32],[320,35,320,36],[320,37,320,38],[320,39,320,40],[320,33,320,34],[400,43,400,44],[360,41,360,42],[400,41,400,42],[0,43,0,44],[40,43,40,44],[80,43,80,44],[120,43,120,44],[320,41,320,42],[360,43,360,44],[240,41,240,42],[160,43,160,44],[200,43,200,44],[240,43,240,44],[280,43,280,44],[0,41,0,42],[40,41,40,42],[80,41,80,42],[120,41,120,42],[160,41,160,42],[200,41,200,42],[280,41,280,42],[320,43,320,44]]}
["BOWLING CLUB","10/09/2007\nV\nSPORTSMANS\n(A)",null,"17/09/2007\nV\nNAGS HEAD\n (H)",null,"24/09/2007\nV\nCRICKET CLUB\n (A)",null,"1/10/2007\nV\nRAFA 'B'\n (A)",null,"15/10/2007\nV\nRAFA 'A'\n (A)",null,"29/10/2007\nV\nSTANDARD 'B'\n (H)",null,"12/11/2007\nV\nWMC\n (A)",null,"26/11/2007\nV\nSTANDARD 'A'\n (H)",null,"3/12/2007\nV\nGOLDEN LION 'B'\n(A)",null,"17/12/2007\nV\nGOLDEN LION 'A'\n(H)",null,"7/01/2008\nV\nSPORTSMANS\n(H)",null,"14/01/2008\nV\nNAGS HEAD\n (A)",null,"21/01/2008\nV\nCRICKET CLUB\n (H)",null,"4/02/2008\nV\nRAFA 'B'\n (H)",null,"11/02/2008\nV\nRAFA 'A'\n (H)",null,"25/02/2008\nV\nSTANDARD 'B'\n (A)",null,"17/03/2008\nV\nWMC\n (H)",null,"31/03/2008\nV\nSTANDARD 'A'\n (A)",null,"14/04/2008\nV\nGOLDEN LION 'B'\n(H)",null,"21/04/2008\nV\nGOLDEN LION 'A'\n(A)"]
[null,"W/L","AVG","W/L","AVG","W/L","AVG","W/L","AVG","W/L","AVG","W/L","AVG","W/L","AVG","W/L","AVG","W/L","AVG","W/L","AVG","W/L","AVG","W/L","AVG","W/L","AVG","W/L","AVG","W/L","AVG","W/L","AVG","W/L","AVG","W/L","AVG","W/L","AVG","W/L","AVG"]
[{"$f":"'JOLLY MINSTER'!A3","v":"Eric Stapley"},{"$f":"IF(C16=1,B16,\"\")","v":"WON"},{"$f":"IF(B28>0,B28,\"\")","v":47.795454545454547},{"$f":"IF(E16=1,D16,\"\")","v":""},{"$f":"IF(D28>0,D28,\"\")","v":""},{"$f":"IF(G16=1,F16,\"\")","v":"LOST"},{"$f":"IF(F28>0,F28,\"\")","v":36.789473684210527},{"$f":"IF(I16=1,H16,\"\")","v":"WON"},{"$f":"IF(H28>0,H28,\"\")","v":55.34210526315789},{"$f":"IF(K16=1,J16,\"\")","v":"LOST"},{"$f":"IF(J28>0,J28,\"\")","v":48.928571428571431},{"$f":"IF(M16=1,L16,\"\")","v":"LOST"},{"$f":"IF(L28>0,L28,\"\")","v":49.857142857142861},{"$f":"IF(O16=1,N16,\"\")","v":"LOST"},{"$f":"IF(N28>0,N28,\"\")","v":53.15384615384616},{"$f":"IF(Q16=1,P16,\"\")","v":"WON"},{"$f":"IF(P28>0,P28,\"\")","v":43.8125},{"$f":"IF(S16=1,R16,\"\")","v":"WON"},{"$f":"IF(R28>0,R28,\"\")","v":43.8125},{"$f":"IF(U16=1,T16,\"\")","v":"LOST"},{"$f":"IF(T28>0,T28,\"\")","v":55.75},{"$f":"IF(W16=1,V16,\"\")","v":""},{"$f":"IF(V28>0,V28,\"\")","v":""},{"$f":"IF(Y16=1,X16,\"\")","v":"LOST"},{"$f":"IF(X28>0,X28,\"\")","v":53.333333333333336},{"$f":"IF(AA16=1,Z16,\"\")","v":"LOST"},{"$f":"IF(Z28>0,Z28,\"\")","v":45.4},{"$f":"IF(AC16=1,AB16,\"\")","v":"WON"},{"$f":"IF(AB28>0,AB28,\"\")","v":39.679245283018872},{"$f":"IF(AE16=1,AD16,\"\")","v":"LOST"},{"$f":"IF(AD28>0,AD28,\"\")","v":69},{"$f":"IF(AG16=1,AF16,\"\")","v":"LOST"},{"$f":"IF(AF28>0,AF28,\"\")","v":52},{"$f":"IF(AI16=1,AH16,\"\")","v":"WON"},{"$f":"IF(AH28>0,AH28,\"\")","v":44.744680851063826},{"$f":"IF(AK16=1,AJ16,\"\")","v":""},{"$f":"IF(AJ28>0,AJ28,\"\")","v":""},{"$f":"IF(AM16=1,AL16,\"\")","v":""},{"$f":"IF(AL28>0,AL28,\"\")","v":""},{"$f":"IF(AO16=1,AN16,\"\")","v":""},{"$f":"IF(AN28>0,AN28,\"\")","v":""}]
[{"$f":"'JOLLY MINSTER'!A4","v":"Ian Atherton"},{"$f":"IF(C17=1,B17,\"\")","v":"LOST"},{"$f":"IF(B29>0,B29,\"\")","v":36.916666666666664},{"$f":"IF(E17=1,D17,\"\")","v":""},{"$f":"IF(D29>0,D29,\"\")","v":""},{"$f":"IF(G17=1,F17,\"\")","v":"LOST"},{"$f":"IF(F29>0,F29,\"\")","v":41.692307692307693},{"$f":"IF(I17=1,H17,\"\")","v":"LOST"},{"$f":"IF(H29>0,H29,\"\")","v":36.5},{"$f":"IF(K17=1,J17,\"\")","v":"WON"},{"$f":"IF(J29>0,J29,\"\")","v":38.944444444444443},{"$f":"IF(M17=1,L17,\"\")","v":"WON"},{"$f":"IF(L29>0,L29,\"\")","v":46.733333333333334},{"$f":"IF(O17=1,N17,\"\")","v":"LOST"},{"$f":"IF(N29>0,N29,\"\")","v":57.454545454545453},{"$f":"IF(Q17=1,P17,\"\")","v":"WON"},{"$f":"IF(P29>0,P29,\"\")","v":55.34210526315789},{"$f":"IF(S17=1,R17,\"\")","v":"LOST"},{"$f":"IF(R29>0,R29,\"\")","v":36.900000000000006},{"$f":"IF(U17=1,T17,\"\")","v":"LOST"},{"$f":"IF(T29>0,T29,\"\")","v":43.6875},{"$f":"IF(W17=1,V17,\"\")","v":""},{"$f":"IF(V29>0,V29,\"\")","v":""},{"$f":"IF(Y17=1,X17,\"\")","v":"LOST"},{"$f":"IF(X29>0,X29,\"\")","v":41.071428571428569},{"$f":"IF(AA17=1,Z17,\"\")","v":"LOST"},{"$f":"IF(Z29>0,Z29,\"\")","v":49.153846153846146},{"$f":"IF(AC17=1,AB17,\"\")","v":"WON"},{"$f":"IF(AB29>0,AB29,\"\")","v":47.795454545454547},{"$f":"IF(AE17=1,AD17,\"\")","v":"LOST"},{"$f":"IF(AD29>0,AD29,\"\")","v":44.083333333333336},{"$f":"IF(AG17=1,AF17,\"\")","v":"LOST"},{"$f":"IF(AF29>0,AF29,\"\")","v":42.428571428571431},{"$f":"IF(AI17=1,AH17,\"\")","v":"LOST"},{"$f":"IF(AH29>0,AH29,\"\")","v":53.384615384615387},{"$f":"IF(AK17=1,AJ17,\"\")","v":"LOST"},{"$f":"IF(AJ29>0,AJ29,\"\")","v":42.3},{"$f":"IF(AM17=1,AL17,\"\")","v":""},{"$f":"IF(AL29>0,AL29,\"\")","v":""},{"$f":"IF(AO17=1,AN17,\"\")","v":""},{"$f":"IF(AN29>0,AN29,\"\")","v":""}]
[{"$f":"'JOLLY MINSTER'!A5","v":"George McPhee"},{"$f":"IF(C18=1,B18,\"\")","v":"LOST"},{"$f":"IF(B30>0,B30,\"\")","v":39.705882352941174},{"$f":"IF(E18=1,D18,\"\")","v":""},{"$f":"IF(D30>0,D30,\"\")","v":""},{"$f":"IF(G18=1,F18,\"\")","v":"WON"},{"$f":"IF(F30>0,F30,\"\")","v":70.099999999999994},{"$f":"IF(I18=1,H18,\"\")","v":"LOST"},{"$f":"IF(H30>0,H30,\"\")","v":35.692307692307693},{"$f":"IF(K18=1,J18,\"\")","v":"WON"},{"$f":"IF(J30>0,J30,\"\")","v":50.071428571428569},{"$f":"IF(M18=1,L18,\"\")","v":"LOST"},{"$f":"IF(L30>0,L30,\"\")","v":43.6875},{"$f":"IF(O18=1,N18,\"\")","v":"LOST"},{"$f":"IF(N30>0,N30,\"\")","v":35.166666666666664},{"$f":"IF(Q18=1,P18,\"\")","v":"LOST"},{"$f":"IF(P30>0,P30,\"\")","v":39.583333333333336},{"$f":"IF(S18=1,R18,\"\")","v":"LOST"},{"$f":"IF(R30>0,R30,\"\")","v":42.428571428571431},{"$f":"IF(U18=1,T18,\"\")","v":"LOST"},{"$f":"IF(T30>0,T30,\"\")","v":46.375},{"$f":"IF(W18=1,V18,\"\")","v":""},{"$f":"IF(V30>0,V30,\"\")","v":""},{"$f":"IF(Y18=1,X18,\"\")","v":"LOST"},{"$f":"IF(X30>0,X30,\"\")","v":34.950000000000003},{"$f":"IF(AA18=1,Z18,\"\")","v":"WON"},{"$f":"IF(Z30>0,Z30,\"\")","v":29.619718309859152},{"$f":"IF(AC18=1,AB18,\"\")","v":"LOST"},{"$f":"IF(AB30>0,AB30,\"\")","v":36.789473684210527},{"$f":"IF(AE18=1,AD18,\"\")","v":"LOST"},{"$f":"IF(AD30>0,AD30,\"\")","v":52.9},{"$f":"IF(AG18=1,AF18,\"\")","v":"LOST"},{"$f":"IF(AF30>0,AF30,\"\")","v":52.692307692307693},{"$f":"IF(AI18=1,AH18,\"\")","v":"LOST"},{"$f":"IF(AH30>0,AH30,\"\")","v":36.684210526315788},{"$f":"IF(AK18=1,AJ18,\"\")","v":""},{"$f":"IF(AJ30>0,AJ30,\"\")","v":""},{"$f":"IF(AM18=1,AL18,\"\")","v":""},{"$f":"IF(AL30>0,AL30,\"\")","v":""},{"$f":"IF(AO18=1,AN18,\"\")","v":""},{"$f":"IF(AN30>0,AN30,\"\")","v":""}]
[{"$f":"'JOLLY MINSTER'!A6","v":"Craig Burns"},"LOST",40.823529411764703,"","","LOST",33.285714285714285,"","","LOST",40.764705882352942,"WON",36.258620689655174,"LOST",44.888888888888893,"LOST",46.4,"LOST",42.888888888888886,"LOST",47.6,"","","","","WON",65.71875,"WON",41.235294117647058,"LOST",43.375,"LOST",42.2,"","","LOST",52.916666666666671,"","","",""]
[{"$f":"'JOLLY MINSTER'!A7","v":"Tymo Sobkowiak"},"LOST",40.833333333333329,"","","LOST",60.636363636363633,"LOST",34.650000000000006,"WON",35.644067796610166,"LOST",42.416666666666671,"LOST",40.071428571428569,"LOST",42.357142857142854,"LOST",41.333333333333336,"LOST",32.428571428571431,"","","WON",41.235294117647058,"WON",33.38095238095238,"WON",33.91935483870968,"LOST",38.833333333333336,"LOST",41.63636363636364,"LOST",55.545454545454547,"LOST",37.764705882352942,"","","",""]
[{"$f":"'JOLLY MINSTER'!A8","v":"Anthony Clemmet"},"WON",33.91935483870968,"","","LOST",34.550000000000004,"WON",42.918367346938773,"LOST",46.909090909090907,"WON",50.071428571428569,"LOST",37.299999999999997,"WON",47.795454545454547,"LOST",46.6,"LOST",40.5,"","","WON",50.071428571428569,"LOST",36.789473684210527,"LOST",34.4,"LOST",48.714285714285708,"LOST",59.545454545454547,"LOST",43.375,"LOST",42.8125,"","","",""]
[{"$f":"'JOLLY MINSTER'!A9","v":"Sam Mathews"},"","","","","","","","","","","","","","","","","","","","","","","","","","","","","","","","","LOST",40.714285714285715,"LOST",44.866666666666667,"","","",""]
[{"$f":"'JOLLY MINSTER'!A10","v":"Tony Read"},"","","","","","","","","","","","","","","","","","","","","","","","","","","","","","","","","","","","","","","",""]
[{"$f":"'JOLLY MINSTER'!A11","v":"Josh Willis"},"","","","","","","","","","","","","","","","","","","","","","","","","","","","","","","","","","","","","","","",""]
[{"$f":"'JOLLY MINSTER'!A12","v":"Marty Burns"},"","","","","","","","","","","","","","","","","","","","","","","","","","","","","","","","","","","LOST",39.133333333333333,"","","",""]
[{"$f":"'JOLLY MINSTER'!A13","v":0},"","","","","","","","","","","","","","","","","","","","","","","","","","","","","","","","","","","","","","","",""]
[{"$f":"'JOLLY MINSTER'!A14","v":0},"",{"$f":"IF(B39>0,B39,\"\")","v":""},"","","","","","","","","","","","","","","","","","","","","","","","","","","","","","","","","","","","","",""]
[]
["BOWLING CLUB",{"$f":"IF('JOLLY MINSTER'!B3=701,\"WON\",\"LOST\")","v":"WON"},{"$f":"IF('JOLLY MINSTER'!B3>0,1,0)","v":1},{"$f":"IF('JOLLY MINSTER'!F3=701,\"WON\",\"LOST\")","v":"LOST"},{"$f":"IF('JOLLY MINSTER'!F3>0,1,0)","v":0},{"$f":"IF('JOLLY MINSTER'!J3=701,\"WON\",\"LOST\")","v":"LOST"},{"$f":"IF('JOLLY MINSTER'!J3>0,1,0)","v":1},{"$f":"IF('JOLLY MINSTER'!N3=701,\"WON\",\"LOST\")","v":"WON"},{"$f":"IF('JOLLY MINSTER'!N3>0,1,0)","v":1},{"$f":"IF('JOLLY MINSTER'!R3=701,\"WON\",\"LOST\")","v":"LOST"},{"$f":"IF('JOLLY MINSTER'!R3>0,1,0)","v":1},{"$f":"IF('JOLLY MINSTER'!V3=701,\"WON\",\"LOST\")","v":"LOST"},{"$f":"IF('JOLLY MINSTER'!V3>0,1,0)","v":1},{"$f":"IF('JOLLY MINSTER'!Z3=701,\"WON\",\"LOST\")","v":"LOST"},{"$f":"IF('JOLLY MINSTER'!Z3>0,1,0)","v":1},{"$f":"IF('JOLLY MINSTER'!AD3=701,\"WON\",\"LOST\")","v":"WON"},{"$f":"IF('JOLLY MINSTER'!AD3>0,1,0)","v":1},{"$f":"IF('JOLLY MINSTER'!AH3=701,\"WON\",\"LOST\")","v":"WON"},{"$f":"IF('JOLLY MINSTER'!AH3>0,1,0)","v":1},{"$f":"IF('JOLLY MINSTER'!AL3=701,\"WON\",\"LOST\")","v":"LOST"},{"$f":"IF('JOLLY MINSTER'!AL3>0,1,0)","v":1},{"$f":"IF('JOLLY MINSTER'!AP3=701,\"WON\",\"LOST\")","v":"LOST"},{"$f":"IF('JOLLY MINSTER'!AP3>0,1,0)","v":0},{"$f":"IF('JOLLY MINSTER'!AT3=701,\"WON\",\"LOST\")","v":"LOST"},{"$f":"IF('JOLLY MINSTER'!AT3>0,1,0)","v":1},{"$f":"IF('JOLLY MINSTER'!AX3=701,\"WON\",\"LOST\")","v":"LOST"},{"$f":"IF('JOLLY MINSTER'!AX3>0,1,0)","v":1},{"$f":"IF('JOLLY MINSTER'!BB3=701,\"WON\",\"LOST\")","v":"WON"},{"$f":"IF('JOLLY MINSTER'!BB3>0,1,0)","v":1},{"$f":"IF('JOLLY MINSTER'!BF3=701,\"WON\",\"LOST\")","v":"LOST"},{"$f":"IF('JOLLY MINSTER'!BF3>0,1,0)","v":1},{"$f":"IF('JOLLY MINSTER'!BJ3=701,\"WON\",\"LOST\")","v":"LOST"},{"$f":"IF('JOLLY MINSTER'!BJ3>0,1,0)","v":1},{"$f":"IF('JOLLY MINSTER'!BN3=701,\"WON\",\"LOST\")","v":"WON"},{"$f":"IF('JOLLY MINSTER'!BN3>0,1,0)","v":1},{"$f":"IF('JOLLY MINSTER'!BR3=701,\"WON\",\"LOST\")","v":"LOST"},{"$f":"IF('JOLLY MINSTER'!BR3>0,1,0)","v":0},{"$f":"IF('JOLLY MINSTER'!CD3=701,\"WON\",\"LOST\")","v":"LOST"},{"$f":"IF('JOLLY MINSTER'!CD3>0,1,0)","v":0},{"$f":"IF('JOLLY MINSTER'!CH3=701,\"WON\",\"LOST\")","v":"LOST"},{"$f":"IF('JOLLY MINSTER'!CH3>0,1,0)","v":0}]
[null,{"$f":"IF('JOLLY MINSTER'!B4=701,\"WON\",\"LOST\")","v":"LOST"},{"$f":"IF('JOLLY MINSTER'!B4>0,1,0)","v":1},{"$f":"IF('JOLLY MINSTER'!F4=701,\"WON\",\"LOST\")","v":"LOST"},{"$f":"IF('JOLLY MINSTER'!F4>0,1,0)","v":0},{"$f":"IF('JOLLY MINSTER'!J4=701,\"WON\",\"LOST\")","v":"LOST"},{"$f":"IF('JOLLY MINSTER'!J4>0,1,0)","v":1},{"$f":"IF('JOLLY MINSTER'!N4=701,\"WON\",\"LOST\")","v":"LOST"},{"$f":"IF('JOLLY MINSTER'!N4>0,1,0)","v":1},{"$f":"IF('JOLLY MINSTER'!R4=701,\"WON\",\"LOST\")","v":"WON"},{"$f":"IF('JOLLY MINSTER'!R4>0,1,0)","v":1},{"$f":"IF('JOLLY MINSTER'!V4=701,\"WON\",\"LOST\")","v":"WON"},{"$f":"IF('JOLLY MINSTER'!V4>0,1,0)","v":1},{"$f":"IF('JOLLY MINSTER'!Z4=701,\"WON\",\"LOST\")","v":"LOST"},{"$f":"IF('JOLLY MINSTER'!Z4>0,1,0)","v":1},{"$f":"IF('JOLLY MINSTER'!AD4=701,\"WON\",\"LOST\")","v":"WON"},{"$f":"IF('JOLLY MINSTER'!AD4>0,1,0)","v":1},{"$f":"IF('JOLLY MINSTER'!AH4=701,\"WON\",\"LOST\")","v":"LOST"},{"$f":"IF('JOLLY MINSTER'!AH4>0,1,0)","v":1},{"$f":"IF('JOLLY MINSTER'!AL4=701,\"WON\",\"LOST\")","v":"LOST"},{"$f":"IF('JOLLY MINSTER'!AL4>0,1,0)","v":1},{"$f":"IF('JOLLY MINSTER'!AP4=701,\"WON\",\"LOST\")","v":"LOST"},{"$f":"IF('JOLLY MINSTER'!AP4>0,1,0)","v":0},{"$f":"IF('JOLLY MINSTER'!AT4=701,\"WON\",\"LOST\")","v":"LOST"},{"$f":"IF('JOLLY MINSTER'!AT4>0,1,0)","v":1},{"$f":"IF('JOLLY MINSTER'!AX4=701,\"WON\",\"LOST\")","v":"LOST"},{"$f":"IF('JOLLY MINSTER'!AX4>0,1,0)","v":1},{"$f":"IF('JOLLY MINSTER'!BB4=701,\"WON\",\"LOST\")","v":"WON"},{"$f":"IF('JOLLY MINSTER'!BB4>0,1,0)","v":1},{"$f":"IF('JOLLY MINSTER'!BF4=701,\"WON\",\"LOST\")","v":"LOST"},{"$f":"IF('JOLLY MINSTER'!BF4>0,1,0)","v":1},{"$f":"IF('JOLLY MINSTER'!BJ4=701,\"WON\",\"LOST\")","v":"LOST"},{"$f":"IF('JOLLY MINSTER'!BJ4>0,1,0)","v":1},{"$f":"IF('JOLLY MINSTER'!BN4=701,\"WON\",\"LOST\")","v":"LOST"},{"$f":"IF('JOLLY MINSTER'!BN4>0,1,0)","v":1},{"$f":"IF('JOLLY MINSTER'!BR4=701,\"WON\",\"LOST\")","v":"LOST"},{"$f":"IF('JOLLY MINSTER'!BR4>0,1,0)","v":1},{"$f":"IF('JOLLY MINSTER'!CD4=701,\"WON\",\"LOST\")","v":"LOST"},{"$f":"IF('JOLLY MINSTER'!CD4>0,1,0)","v":0},{"$f":"IF('JOLLY MINSTER'!CH4=701,\"WON\",\"LOST\")","v":"LOST"},{"$f":"IF('JOLLY MINSTER'!CH4>0,1,0)","v":0}]
[null,{"$f":"IF('JOLLY MINSTER'!B5=701,\"WON\",\"LOST\")","v":"LOST"},{"$f":"IF('JOLLY MINSTER'!B5>0,1,0)","v":1},{"$f":"IF('JOLLY MINSTER'!F5=701,\"WON\",\"LOST\")","v":"LOST"},{"$f":"IF('JOLLY MINSTER'!F5>0,1,0)","v":0},{"$f":"IF('JOLLY MINSTER'!J5=701,\"WON\",\"LOST\")","v":"WON"},{"$f":"IF('JOLLY MINSTER'!J5>0,1,0)","v":1},{"$f":"IF('JOLLY MINSTER'!N5=701,\"WON\",\"LOST\")","v":"LOST"},{"$f":"IF('JOLLY MINSTER'!N5>0,1,0)","v":1},{"$f":"IF('JOLLY MINSTER'!R5=701,\"WON\",\"LOST\")","v":"WON"},{"$f":"IF('JOLLY MINSTER'!R5>0,1,0)","v":1},{"$f":"IF('JOLLY MINSTER'!V5=701,\"WON\",\"LOST\")","v":"LOST"},{"$f":"IF('JOLLY MINSTER'!V5>0,1,0)","v":1},{"$f":"IF('JOLLY MINSTER'!Z5=701,\"WON\",\"LOST\")","v":"LOST"},{"$f":"IF('JOLLY MINSTER'!Z5>0,1,0)","v":1},{"$f":"IF('JOLLY MINSTER'!AD5=701,\"WON\",\"LOST\")","v":"LOST"},{"$f":"IF('JOLLY MINSTER'!AD5>0,1,0)","v":1},{"$f":"IF('JOLLY MINSTER'!AH5=701,\"WON\",\"LOST\")","v":"LOST"},{"$f":"IF('JOLLY MINSTER'!AH5>0,1,0)","v":1},{"$f":"IF('JOLLY MINSTER'!AL5=701,\"WON\",\"LOST\")","v":"LOST"},{"$f":"IF('JOLLY MINSTER'!AL5>0,1,0)","v":1},{"$f":"IF('JOLLY MINSTER'!AP5=701,\"WON\",\"LOST\")","v":"LOST"},{"$f":"IF('JOLLY MINSTER'!AP5>0,1,0)","v":0},{"$f":"IF('JOLLY MINSTER'!AT5=701,\"WON\",\"LOST\")","v":"LOST"},{"$f":"IF('JOLLY MINSTER'!AT5>0,1,0)","v":1},{"$f":"IF('JOLLY MINSTER'!AX5=701,\"WON\",\"LOST\")","v":"WON"},{"$f":"IF('JOLLY MINSTER'!AX5>0,1,0)","v":1},{"$f":"IF('JOLLY MINSTER'!BB5=701,\"WON\",\"LOST\")","v":"LOST"},{"$f":"IF('JOLLY MINSTER'!BB5>0,1,0)","v":1},{"$f":"IF('JOLLY MINSTER'!BF5=701,\"WON\",\"LOST\")","v":"LOST"},{"$f":"IF('JOLLY MINSTER'!BF5>0,1,0)","v":1},{"$f":"IF('JOLLY MINSTER'!BJ5=701,\"WON\",\"LOST\")","v":"LOST"},{"$f":"IF('JOLLY MINSTER'!BJ5>0,1,0)","v":1},{"$f":"IF('JOLLY MINSTER'!BN5=701,\"WON\",\"LOST\")","v":"LOST"},{"$f":"IF('JOLLY MINSTER'!BN5>0,1,0)","v":1},{"$f":"IF('JOLLY MINSTER'!BR5=701,\"WON\",\"LOST\")","v":"LOST"},{"$f":"IF('JOLLY MINSTER'!BR5>0,1,0)","v":0},{"$f":"IF('JOLLY MINSTER'!CD5=701,\"WON\",\"LOST\")","v":"LOST"},{"$f":"IF('JOLLY MINSTER'!CD5>0,1,0)","v":0},{"$f":"IF('JOLLY MINSTER'!CH5=701,\"WON\",\"LOST\")","v":"LOST"},{"$f":"IF('JOLLY MINSTER'!CH5>0,1,0)","v":0}]
[null,{"$f":"IF('JOLLY MINSTER'!B6=701,\"WON\",\"LOST\")","v":"LOST"},{"$f":"IF('JOLLY MINSTER'!B6>0,1,0)","v":1},{"$f":"IF('JOLLY MINSTER'!F6=701,\"WON\",\"LOST\")","v":"LOST"},{"$f":"IF('JOLLY MINSTER'!F6>0,1,0)","v":0},{"$f":"IF('JOLLY MINSTER'!J6=701,\"WON\",\"LOST\")","v":"LOST"},{"$f":"IF('JOLLY MINSTER'!J6>0,1,0)","v":1},{"$f":"IF('JOLLY MINSTER'!N6=701,\"WON\",\"LOST\")","v":"LOST"},{"$f":"IF('JOLLY MINSTER'!N6>0,1,0)","v":0},{"$f":"IF('JOLLY MINSTER'!R6=701,\"WON\",\"LOST\")","v":"LOST"},{"$f":"IF('JOLLY MINSTER'!R6>0,1,0)","v":1},{"$f":"IF('JOLLY MINSTER'!V6=701,\"WON\",\"LOST\")","v":"WON"},{"$f":"IF('JOLLY MINSTER'!V6>0,1,0)","v":1},{"$f":"IF('JOLLY MINSTER'!Z6=701,\"WON\",\"LOST\")","v":"LOST"},{"$f":"IF('JOLLY MINSTER'!Z6>0,1,0)","v":1},{"$f":"IF('JOLLY MINSTER'!AD6=701,\"WON\",\"LOST\")","v":"LOST"},{"$f":"IF('JOLLY MINSTER'!AD6>0,1,0)","v":1},{"$f":"IF('JOLLY MINSTER'!AH6=701,\"WON\",\"LOST\")","v":"LOST"},{"$f":"IF('JOLLY MINSTER'!AH6>0,1,0)","v":1},{"$f":"IF('JOLLY MINSTER'!AL6=701,\"WON\",\"LOST\")","v":"LOST"},{"$f":"IF('JOLLY MINSTER'!AL6>0,1,0)","v":1},{"$f":"IF('JOLLY MINSTER'!AP6=701,\"WON\",\"LOST\")","v":"LOST"},{"$f":"IF('JOLLY MINSTER'!AP6>0,1,0)","v":0},{"$f":"IF('JOLLY MINSTER'!AT6=701,\"WON\",\"LOST\")","v":"LOST"},{"$f":"IF('JOLLY MINSTER'!AT6>0,1,0)","v":0},{"$f":"IF('JOLLY MINSTER'!AX6=701,\"WON\",\"LOST\")","v":"WON"},{"$f":"IF('JOLLY MINSTER'!AX6>0,1,0)","v":1},{"$f":"IF('JOLLY MINSTER'!BB6=701,\"WON\",\"LOST\")","v":"WON"},{"$f":"IF('JOLLY MINSTER'!BB6>0,1,0)","v":1},{"$f":"IF('JOLLY MINSTER'!BF6=701,\"WON\",\"LOST\")","v":"LOST"},{"$f":"IF('JOLLY MINSTER'!BF6>0,1,0)","v":1},{"$f":"IF('JOLLY MINSTER'!BJ6=701,\"WON\",\"LOST\")","v":"LOST"},{"$f":"IF('JOLLY MINSTER'!BJ6>0,1,0)","v":1},{"$f":"IF('JOLLY MINSTER'!BN6=701,\"WON\",\"LOST\")","v":"LOST"},{"$f":"IF('JOLLY MINSTER'!BN6>0,1,0)","v":0},{"$f":"IF('JOLLY MINSTER'!BR6=701,\"WON\",\"LOST\")","v":"LOST"},{"$f":"IF('JOLLY MINSTER'!BR6>0,1,0)","v":1},{"$f":"IF('JOLLY MINSTER'!CD6=701,\"WON\",\"LOST\")","v":"LOST"},{"$f":"IF('JOLLY MINSTER'!CD6>0,1,0)","v":0},{"$f":"IF('JOLLY MINSTER'!CH6=701,\"WON\",\"LOST\")","v":"LOST"},{"$f":"IF('JOLLY MINSTER'!CH6>0,1,0)","v":0}]
[null,{"$f":"IF('JOLLY MINSTER'!B7=701,\"WON\",\"LOST\")","v":"LOST"},{"$f":"IF('JOLLY MINSTER'!B7>0,1,0)","v":1},{"$f":"IF('JOLLY MINSTER'!F7=701,\"WON\",\"LOST\")","v":"LOST"},{"$f":"IF('JOLLY MINSTER'!F7>0,1,0)","v":0},{"$f":"IF('JOLLY MINSTER'!J7=701,\"WON\",\"LOST\")","v":"LOST"},{"$f":"IF('JOLLY MINSTER'!J7>0,1,0)","v":1},{"$f":"IF('JOLLY MINSTER'!N7=701,\"WON\",\"LOST\")","v":"LOST"},{"$f":"IF('JOLLY MINSTER'!N7>0,1,0)","v":1},{"$f":"IF('JOLLY MINSTER'!R7=701,\"WON\",\"LOST\")","v":"WON"},{"$f":"IF('JOLLY MINSTER'!R7>0,1,0)","v":1},{"$f":"IF('JOLLY MINSTER'!V7=701,\"WON\",\"LOST\")","v":"LOST"},{"$f":"IF('JOLLY MINSTER'!V7>0,1,0)","v":1},{"$f":"IF('JOLLY MINSTER'!Z7=701,\"WON\",\"LOST\")","v":"LOST"},{"$f":"IF('JOLLY MINSTER'!Z7>0,1,0)","v":1},{"$f":"IF('JOLLY MINSTER'!AD7=701,\"WON\",\"LOST\")","v":"LOST"},{"$f":"IF('JOLLY MINSTER'!AD7>0,1,0)","v":1},{"$f":"IF('JOLLY MINSTER'!AH7=701,\"WON\",\"LOST\")","v":"LOST"},{"$f":"IF('JOLLY MINSTER'!AH7>0,1,0)","v":1},{"$f":"IF('JOLLY MINSTER'!AL7=701,\"WON\",\"LOST\")","v":"LOST"},{"$f":"IF('JOLLY MINSTER'!AL7>0,1,0)","v":1},{"$f":"IF('JOLLY MINSTER'!AP7=701,\"WON\",\"LOST\")","v":"LOST"},{"$f":"IF('JOLLY MINSTER'!AP7>0,1,0)","v":0},{"$f":"IF('JOLLY MINSTER'!AT7=701,\"WON\",\"LOST\")","v":"WON"},{"$f":"IF('JOLLY MINSTER'!AT7>0,1,0)","v":1},{"$f":"IF('JOLLY MINSTER'!AX7=701,\"WON\",\"LOST\")","v":"WON"},{"$f":"IF('JOLLY MINSTER'!AX7>0,1,0)","v":1},{"$f":"IF('JOLLY MINSTER'!BB7=701,\"WON\",\"LOST\")","v":"WON"},{"$f":"IF('JOLLY MINSTER'!BB7>0,1,0)","v":1},{"$f":"IF('JOLLY MINSTER'!BF7=701,\"WON\",\"LOST\")","v":"LOST"},{"$f":"IF('JOLLY MINSTER'!BF7>0,1,0)","v":1},{"$f":"IF('JOLLY MINSTER'!BJ7=701,\"WON\",\"LOST\")","v":"LOST"},{"$f":"IF('JOLLY MINSTER'!BJ7>0,1,0)","v":1},{"$f":"IF('JOLLY MINSTER'!BN7=701,\"WON\",\"LOST\")","v":"LOST"},{"$f":"IF('JOLLY MINSTER'!BN7>0,1,0)","v":1},{"$f":"IF('JOLLY MINSTER'!BR7=701,\"WON\",\"LOST\")","v":"LOST"},{"$f":"IF('JOLLY MINSTER'!BR7>0,1,0)","v":1},{"$f":"IF('JOLLY MINSTER'!CD7=701,\"WON\",\"LOST\")","v":"LOST"},{"$f":"IF('JOLLY MINSTER'!CD7>0,1,0)","v":0},{"$f":"IF('JOLLY MINSTER'!CH7=701,\"WON\",\"LOST\")","v":"LOST"},{"$f":"IF('JOLLY MINSTER'!CH7>0,1,0)","v":0}]
[null,{"$f":"IF('JOLLY MINSTER'!B8=701,\"WON\",\"LOST\")","v":"WON"},{"$f":"IF('JOLLY MINSTER'!B8>0,1,0)","v":1},{"$f":"IF('JOLLY MINSTER'!F8=701,\"WON\",\"LOST\")","v":"LOST"},{"$f":"IF('JOLLY MINSTER'!F8>0,1,0)","v":0},{"$f":"IF('JOLLY MINSTER'!J8=701,\"WON\",\"LOST\")","v":"LOST"},{"$f":"IF('JOLLY MINSTER'!J8>0,1,0)","v":1},{"$f":"IF('JOLLY MINSTER'!N8=701,\"WON\",\"LOST\")","v":"WON"},{"$f":"IF('JOLLY MINSTER'!N8>0,1,0)","v":1},{"$f":"IF('JOLLY MINSTER'!R8=701,\"WON\",\"LOST\")","v":"LOST"},{"$f":"IF('JOLLY MINSTER'!R8>0,1,0)","v":1},{"$f":"IF('JOLLY MINSTER'!V8=701,\"WON\",\"LOST\")","v":"WON"},{"$f":"IF('JOLLY MINSTER'!V8>0,1,0)","v":1},{"$f":"IF('JOLLY MINSTER'!Z8=701,\"WON\",\"LOST\")","v":"LOST"},{"$f":"IF('JOLLY MINSTER'!Z8>0,1,0)","v":1},{"$f":"IF('JOLLY MINSTER'!AD8=701,\"WON\",\"LOST\")","v":"WON"},{"$f":"IF('JOLLY MINSTER'!AD8>0,1,0)","v":1},{"$f":"IF('JOLLY MINSTER'!AH8=701,\"WON\",\"LOST\")","v":"LOST"},{"$f":"IF('JOLLY MINSTER'!AH8>0,1,0)","v":1},{"$f":"IF('JOLLY MINSTER'!AL8=701,\"WON\",\"LOST\")","v":"LOST"},{"$f":"IF('JOLLY MINSTER'!AL8>0,1,0)","v":1},{"$f":"IF('JOLLY MINSTER'!AP8=701,\"WON\",\"LOST\")","v":"LOST"},{"$f":"IF('JOLLY MINSTER'!AP8>0,1,0)","v":0},{"$f":"IF('JOLLY MINSTER'!AT8=701,\"WON\",\"LOST\")","v":"WON"},{"$f":"IF('JOLLY MINSTER'!AT8>0,1,0)","v":1},{"$f":"IF('JOLLY MINSTER'!AX8=701,\"WON\",\"LOST\")","v":"LOST"},{"$f":"IF('JOLLY MINSTER'!AX8>0,1,0)","v":1},{"$f":"IF('JOLLY MINSTER'!BB8=701,\"WON\",\"LOST\")","v":"LOST"},{"$f":"IF('JOLLY MINSTER'!BB8>0,1,0)","v":1},{"$f":"IF('JOLLY MINSTER'!BF8=701,\"WON\",\"LOST\")","v":"LOST"},{"$f":"IF('JOLLY MINSTER'!BF8>0,1,0)","v":1},{"$f":"IF('JOLLY MINSTER'!BJ8=701,\"WON\",\"LOST\")","v":"LOST"},{"$f":"IF('JOLLY MINSTER'!BJ8>0,1,0)","v":1},{"$f":"IF('JOLLY MINSTER'!BN8=701,\"WON\",\"LOST\")","v":"LOST"},{"$f":"IF('JOLLY MINSTER'!BN8>0,1,0)","v":1},{"$f":"IF('JOLLY MINSTER'!BR8=701,\"WON\",\"LOST\")","v":"LOST"},{"$f":"IF('JOLLY MINSTER'!BR8>0,1,0)","v":1},{"$f":"IF('JOLLY MINSTER'!CD8=701,\"WON\",\"LOST\")","v":"LOST"},{"$f":"IF('JOLLY MINSTER'!CD8>0,1,0)","v":0},{"$f":"IF('JOLLY MINSTER'!CH8=701,\"WON\",\"LOST\")","v":"LOST"},{"$f":"IF('JOLLY MINSTER'!CH8>0,1,0)","v":0}]
[null,{"$f":"IF('JOLLY MINSTER'!B9=701,\"WON\",\"LOST\")","v":"LOST"},{"$f":"IF('JOLLY MINSTER'!B9>0,1,0)","v":0},{"$f":"IF('JOLLY MINSTER'!F9=701,\"WON\",\"LOST\")","v":"LOST"},{"$f":"IF('JOLLY MINSTER'!F9>0,1,0)","v":0},{"$f":"IF('JOLLY MINSTER'!J9=701,\"WON\",\"LOST\")","v":"LOST"},{"$f":"IF('JOLLY MINSTER'!J9>0,1,0)","v":0},{"$f":"IF('JOLLY MINSTER'!N9=701,\"WON\",\"LOST\")","v":"LOST"},{"$f":"IF('JOLLY MINSTER'!N9>0,1,0)","v":0},{"$f":"IF('JOLLY MINSTER'!R9=701,\"WON\",\"LOST\")","v":"LOST"},{"$f":"IF('JOLLY MINSTER'!R9>0,1,0)","v":0},{"$f":"IF('JOLLY MINSTER'!V9=701,\"WON\",\"LOST\")","v":"LOST"},{"$f":"IF('JOLLY MINSTER'!V9>0,1,0)","v":0},{"$f":"IF('JOLLY MINSTER'!Z9=701,\"WON\",\"LOST\")","v":"LOST"},{"$f":"IF('JOLLY MINSTER'!Z9>0,1,0)","v":0},{"$f":"IF('JOLLY MINSTER'!AD9=701,\"WON\",\"LOST\")","v":"LOST"},{"$f":"IF('JOLLY MINSTER'!AD9>0,1,0)","v":0},{"$f":"IF('JOLLY MINSTER'!AH9=701,\"WON\",\"LOST\")","v":"LOST"},{"$f":"IF('JOLLY MINSTER'!AH9>0,1,0)","v":0},{"$f":"IF('JOLLY MINSTER'!AL9=701,\"WON\",\"LOST\")","v":"LOST"},{"$f":"IF('JOLLY MINSTER'!AL9>0,1,0)","v":0},{"$f":"IF('JOLLY MINSTER'!AP9=701,\"WON\",\"LOST\")","v":"LOST"},{"$f":"IF('JOLLY MINSTER'!AP9>0,1,0)","v":0},{"$f":"IF('JOLLY MINSTER'!AT9=701,\"WON\",\"LOST\")","v":"LOST"},{"$f":"IF('JOLLY MINSTER'!AT9>0,1,0)","v":0},{"$f":"IF('JOLLY MINSTER'!AX9=701,\"WON\",\"LOST\")","v":"LOST"},{"$f":"IF('JOLLY MINSTER'!AX9>0,1,0)","v":0},{"$f":"IF('JOLLY MINSTER'!BB9=701,\"WON\",\"LOST\")","v":"LOST"},{"$f":"IF('JOLLY MINSTER'!BB9>0,1,0)","v":0},{"$f":"IF('JOLLY MINSTER'!BF9=701,\"WON\",\"LOST\")","v":"LOST"},{"$f":"IF('JOLLY MINSTER'!BF9>0,1,0)","v":0},{"$f":"IF('JOLLY MINSTER'!BJ9=701,\"WON\",\"LOST\")","v":"LOST"},{"$f":"IF('JOLLY MINSTER'!BJ9>0,1,0)","v":0},{"$f":"IF('JOLLY MINSTER'!BN9=701,\"WON\",\"LOST\")","v":"LOST"},{"$f":"IF('JOLLY MINSTER'!BN9>0,1,0)","v":1},{"$f":"IF('JOLLY MINSTER'!BR9=701,\"WON\",\"LOST\")","v":"LOST"},{"$f":"IF('JOLLY MINSTER'!BR9>0,1,0)","v":1},{"$f":"IF('JOLLY MINSTER'!CD9=701,\"WON\",\"LOST\")","v":"LOST"},{"$f":"IF('JOLLY MINSTER'!CD9>0,1,0)","v":0},{"$f":"IF('JOLLY MINSTER'!CH9=701,\"WON\",\"LOST\")","v":"LOST"},{"$f":"IF('JOLLY MINSTER'!CH9>0,1,0)","v":0}]
[null,{"$f":"IF('JOLLY MINSTER'!B10=701,\"WON\",\"LOST\")","v":"LOST"},{"$f":"IF('JOLLY MINSTER'!B10>0,1,0)","v":0},{"$f":"IF('JOLLY MINSTER'!F10=701,\"WON\",\"LOST\")","v":"LOST"},{"$f":"IF('JOLLY MINSTER'!F10>0,1,0)","v":0},{"$f":"IF('JOLLY MINSTER'!J10=701,\"WON\",\"LOST\")","v":"LOST"},{"$f":"IF('JOLLY MINSTER'!J10>0,1,0)","v":0},{"$f":"IF('JOLLY MINSTER'!N10=701,\"WON\",\"LOST\")","v":"LOST"},{"$f":"IF('JOLLY MINSTER'!N10>0,1,0)","v":0},{"$f":"IF('JOLLY MINSTER'!R10=701,\"WON\",\"LOST\")","v":"LOST"},{"$f":"IF('JOLLY MINSTER'!R10>0,1,0)","v":0},{"$f":"IF('JOLLY MINSTER'!V10=701,\"WON\",\"LOST\")","v":"LOST"},{"$f":"IF('JOLLY MINSTER'!V10>0,1,0)","v":0},{"$f":"IF('JOLLY MINSTER'!Z10=701,\"WON\",\"LOST\")","v":"LOST"},{"$f":"IF('JOLLY MINSTER'!Z10>0,1,0)","v":0},{"$f":"IF('JOLLY MINSTER'!AD10=701,\"WON\",\"LOST\")","v":"LOST"},{"$f":"IF('JOLLY MINSTER'!AD10>0,1,0)","v":0},{"$f":"IF('JOLLY MINSTER'!AH10=701,\"WON\",\"LOST\")","v":"LOST"},{"$f":"IF('JOLLY MINSTER'!AH10>0,1,0)","v":0},{"$f":"IF('JOLLY MINSTER'!AL10=701,\"WON\",\"LOST\")","v":"LOST"},{"$f":"IF('JOLLY MINSTER'!AL10>0,1,0)","v":0},{"$f":"IF('JOLLY MINSTER'!AP10=701,\"WON\",\"LOST\")","v":"LOST"},{"$f":"IF('JOLLY MINSTER'!AP10>0,1,0)","v":0},{"$f":"IF('JOLLY MINSTER'!AT10=701,\"WON\",\"LOST\")","v":"LOST"},{"$f":"IF('JOLLY MINSTER'!AT10>0,1,0)","v":0},{"$f":"IF('JOLLY MINSTER'!AX10=701,\"WON\",\"LOST\")","v":"LOST"},{"$f":"IF('JOLLY MINSTER'!AX10>0,1,0)","v":0},{"$f":"IF('JOLLY MINSTER'!BB10=701,\"WON\",\"LOST\")","v":"LOST"},{"$f":"IF('JOLLY MINSTER'!BB10>0,1,0)","v":0},{"$f":"IF('JOLLY MINSTER'!BF10=701,\"WON\",\"LOST\")","v":"LOST"},{"$f":"IF('JOLLY MINSTER'!BF10>0,1,0)","v":0},{"$f":"IF('JOLLY MINSTER'!BJ10=701,\"WON\",\"LOST\")","v":"LOST"},{"$f":"IF('JOLLY MINSTER'!BJ10>0,1,0)","v":0},{"$f":"IF('JOLLY MINSTER'!BN10=701,\"WON\",\"LOST\")","v":"LOST"},{"$f":"IF('JOLLY MINSTER'!BN10>0,1,0)","v":0},{"$f":"IF('JOLLY MINSTER'!BR10=701,\"WON\",\"LOST\")","v":"LOST"},{"$f":"IF('JOLLY MINSTER'!BR10>0,1,0)","v":0},{"$f":"IF('JOLLY MINSTER'!CD10=701,\"WON\",\"LOST\")","v":"LOST"},{"$f":"IF('JOLLY MINSTER'!CD10>0,1,0)","v":0},{"$f":"IF('JOLLY MINSTER'!CH10=701,\"WON\",\"LOST\")","v":"LOST"},{"$f":"IF('JOLLY MINSTER'!CH10>0,1,0)","v":0}]
[null,{"$f":"IF('JOLLY MINSTER'!B11=701,\"WON\",\"LOST\")","v":"LOST"},{"$f":"IF('JOLLY MINSTER'!B11>0,1,0)","v":0},{"$f":"IF('JOLLY MINSTER'!F11=701,\"WON\",\"LOST\")","v":"LOST"},{"$f":"IF('JOLLY MINSTER'!F11>0,1,0)","v":0},{"$f":"IF('JOLLY MINSTER'!J11=701,\"WON\",\"LOST\")","v":"LOST"},{"$f":"IF('JOLLY MINSTER'!J11>0,1,0)","v":0},{"$f":"IF('JOLLY MINSTER'!N11=701,\"WON\",\"LOST\")","v":"LOST"},{"$f":"IF('JOLLY MINSTER'!N11>0,1,0)","v":0},{"$f":"IF('JOLLY MINSTER'!R11=701,\"WON\",\"LOST\")","v":"LOST"},{"$f":"IF('JOLLY MINSTER'!R11>0,1,0)","v":0},{"$f":"IF('JOLLY MINSTER'!V11=701,\"WON\",\"LOST\")","v":"LOST"},{"$f":"IF('JOLLY MINSTER'!V11>0,1,0)","v":0},{"$f":"IF('JOLLY MINSTER'!Z11=701,\"WON\",\"LOST\")","v":"LOST"},{"$f":"IF('JOLLY MINSTER'!Z11>0,1,0)","v":0},{"$f":"IF('JOLLY MINSTER'!AD11=701,\"WON\",\"LOST\")","v":"LOST"},{"$f":"IF('JOLLY MINSTER'!AD11>0,1,0)","v":0},{"$f":"IF('JOLLY MINSTER'!AH11=701,\"WON\",\"LOST\")","v":"LOST"},{"$f":"IF('JOLLY MINSTER'!AH11>0,1,0)","v":0},{"$f":"IF('JOLLY MINSTER'!AL11=701,\"WON\",\"LOST\")","v":"LOST"},{"$f":"IF('JOLLY MINSTER'!AL11>0,1,0)","v":0},{"$f":"IF('JOLLY MINSTER'!AP11=701,\"WON\",\"LOST\")","v":"LOST"},{"$f":"IF('JOLLY MINSTER'!AP11>0,1,0)","v":0},{"$f":"IF('JOLLY MINSTER'!AT11=701,\"WON\",\"LOST\")","v":"LOST"},{"$f":"IF('JOLLY MINSTER'!AT11>0,1,0)","v":0},{"$f":"IF('JOLLY MINSTER'!AX11=701,\"WON\",\"LOST\")","v":"LOST"},{"$f":"IF('JOLLY MINSTER'!AX11>0,1,0)","v":0},{"$f":"IF('JOLLY MINSTER'!BB11=701,\"WON\",\"LOST\")","v":"LOST"},{"$f":"IF('JOLLY MINSTER'!BB11>0,1,0)","v":0},{"$f":"IF('JOLLY MINSTER'!BF11=701,\"WON\",\"LOST\")","v":"LOST"},{"$f":"IF('JOLLY MINSTER'!BF11>0,1,0)","v":0},{"$f":"IF('JOLLY MINSTER'!BJ11=701,\"WON\",\"LOST\")","v":"LOST"},{"$f":"IF('JOLLY MINSTER'!BJ11>0,1,0)","v":0},{"$f":"IF('JOLLY MINSTER'!BN11=701,\"WON\",\"LOST\")","v":"LOST"},{"$f":"IF('JOLLY MINSTER'!BN11>0,1,0)","v":0},{"$f":"IF('JOLLY MINSTER'!BR11=701,\"WON\",\"LOST\")","v":"LOST"},{"$f":"IF('JOLLY MINSTER'!BR11>0,1,0)","v":0},{"$f":"IF('JOLLY MINSTER'!CD11=701,\"WON\",\"LOST\")","v":"LOST"},{"$f":"IF('JOLLY MINSTER'!CD11>0,1,0)","v":0},{"$f":"IF('JOLLY MINSTER'!CH11=701,\"WON\",\"LOST\")","v":"LOST"},{"$f":"IF('JOLLY MINSTER'!CH11>0,1,0)","v":0}]
[null,{"$f":"IF('JOLLY MINSTER'!B12=701,\"WON\",\"LOST\")","v":"LOST"},{"$f":"IF('JOLLY MINSTER'!B12>0,1,0)","v":0},{"$f":"IF('JOLLY MINSTER'!F12=701,\"WON\",\"LOST\")","v":"LOST"},{"$f":"IF('JOLLY MINSTER'!F12>0,1,0)","v":0},{"$f":"IF('JOLLY MINSTER'!J12=701,\"WON\",\"LOST\")","v":"LOST"},{"$f":"IF('JOLLY MINSTER'!J12>0,1,0)","v":0},{"$f":"IF('JOLLY MINSTER'!N12=701,\"WON\",\"LOST\")","v":"LOST"},{"$f":"IF('JOLLY MINSTER'!N12>0,1,0)","v":0},{"$f":"IF('JOLLY MINSTER'!R12=701,\"WON\",\"LOST\")","v":"LOST"},{"$f":"IF('JOLLY MINSTER'!R12>0,1,0)","v":0},{"$f":"IF('JOLLY MINSTER'!V12=701,\"WON\",\"LOST\")","v":"LOST"},{"$f":"IF('JOLLY MINSTER'!V12>0,1,0)","v":0},{"$f":"IF('JOLLY MINSTER'!Z12=701,\"WON\",\"LOST\")","v":"LOST"},{"$f":"IF('JOLLY MINSTER'!Z12>0,1,0)","v":0},{"$f":"IF('JOLLY MINSTER'!AD12=701,\"WON\",\"LOST\")","v":"LOST"},{"$f":"IF('JOLLY MINSTER'!AD12>0,1,0)","v":0},{"$f":"IF('JOLLY MINSTER'!AH12=701,\"WON\",\"LOST\")","v":"LOST"},{"$f":"IF('JOLLY MINSTER'!AH12>0,1,0)","v":0},{"$f":"IF('JOLLY MINSTER'!AL12=701,\"WON\",\"LOST\")","v":"LOST"},{"$f":"IF('JOLLY MINSTER'!AL12>0,1,0)","v":0},{"$f":"IF('JOLLY MINSTER'!AP12=701,\"WON\",\"LOST\")","v":"LOST"},{"$f":"IF('JOLLY MINSTER'!AP12>0,1,0)","v":0},{"$f":"IF('JOLLY MINSTER'!AT12=701,\"WON\",\"LOST\")","v":"LOST"},{"$f":"IF('JOLLY MINSTER'!AT12>0,1,0)","v":0},{"$f":"IF('JOLLY MINSTER'!AX12=701,\"WON\",\"LOST\")","v":"LOST"},{"$f":"IF('JOLLY MINSTER'!AX12>0,1,0)","v":0},{"$f":"IF('JOLLY MINSTER'!BB12=701,\"WON\",\"LOST\")","v":"LOST"},{"$f":"IF('JOLLY MINSTER'!BB12>0,1,0)","v":0},{"$f":"IF('JOLLY MINSTER'!BF12=701,\"WON\",\"LOST\")","v":"LOST"},{"$f":"IF('JOLLY MINSTER'!BF12>0,1,0)","v":0},{"$f":"IF('JOLLY MINSTER'!BJ12=701,\"WON\",\"LOST\")","v":"LOST"},{"$f":"IF('JOLLY MINSTER'!BJ12>0,1,0)","v":0},{"$f":"IF('JOLLY MINSTER'!BN12=701,\"WON\",\"LOST\")","v":"LOST"},{"$f":"IF('JOLLY MINSTER'!BN12>0,1,0)","v":0},{"$f":"IF('JOLLY MINSTER'!BR12=701,\"WON\",\"LOST\")","v":"LOST"},{"$f":"IF('JOLLY MINSTER'!BR12>0,1,0)","v":1},{"$f":"IF('JOLLY MINSTER'!CD12=701,\"WON\",\"LOST\")","v":"LOST"},{"$f":"IF('JOLLY MINSTER'!CD12>0,1,0)","v":0},{"$f":"IF('JOLLY MINSTER'!CH12=701,\"WON\",\"LOST\")","v":"LOST"},{"$f":"IF('JOLLY MINSTER'!CH12>0,1,0)","v":0}]
[null,{"$f":"IF('JOLLY MINSTER'!B13=701,\"WON\",\"LOST\")","v":"LOST"},{"$f":"IF('JOLLY MINSTER'!B13>0,1,0)","v":0},{"$f":"IF('JOLLY MINSTER'!F13=701,\"WON\",\"LOST\")","v":"LOST"},{"$f":"IF('JOLLY MINSTER'!F13>0,1,0)","v":0},{"$f":"IF('JOLLY MINSTER'!J13=701,\"WON\",\"LOST\")","v":"LOST"},{"$f":"IF('JOLLY MINSTER'!J13>0,1,0)","v":0},{"$f":"IF('JOLLY MINSTER'!N13=701,\"WON\",\"LOST\")","v":"LOST"},{"$f":"IF('JOLLY MINSTER'!N13>0,1,0)","v":0},{"$f":"IF('JOLLY MINSTER'!R13=701,\"WON\",\"LOST\")","v":"LOST"},{"$f":"IF('JOLLY MINSTER'!R13>0,1,0)","v":0},{"$f":"IF('JOLLY MINSTER'!V13=701,\"WON\",\"LOST\")","v":"LOST"},{"$f":"IF('JOLLY MINSTER'!V13>0,1,0)","v":0},{"$f":"IF('JOLLY MINSTER'!Z13=701,\"WON\",\"LOST\")","v":"LOST"},{"$f":"IF('JOLLY MINSTER'!Z13>0,1,0)","v":0},{"$f":"IF('JOLLY MINSTER'!AD13=701,\"WON\",\"LOST\")","v":"LOST"},{"$f":"IF('JOLLY MINSTER'!AD13>0,1,0)","v":0},{"$f":"IF('JOLLY MINSTER'!AH13=701,\"WON\",\"LOST\")","v":"LOST"},{"$f":"IF('JOLLY MINSTER'!AH13>0,1,0)","v":0},{"$f":"IF('JOLLY MINSTER'!AL13=701,\"WON\",\"LOST\")","v":"LOST"},{"$f":"IF('JOLLY MINSTER'!AL13>0,1,0)","v":0},{"$f":"IF('JOLLY MINSTER'!AP13=701,\"WON\",\"LOST\")","v":"LOST"},{"$f":"IF('JOLLY MINSTER'!AP13>0,1,0)","v":0},{"$f":"IF('JOLLY MINSTER'!AT13=701,\"WON\",\"LOST\")","v":"LOST"},{"$f":"IF('JOLLY MINSTER'!AT13>0,1,0)","v":0},{"$f":"IF('JOLLY MINSTER'!AX13=701,\"WON\",\"LOST\")","v":"LOST"},{"$f":"IF('JOLLY MINSTER'!AX13>0,1,0)","v":0},{"$f":"IF('JOLLY MINSTER'!BB13=701,\"WON\",\"LOST\")","v":"LOST"},{"$f":"IF('JOLLY MINSTER'!BB13>0,1,0)","v":0},{"$f":"IF('JOLLY MINSTER'!BF13=701,\"WON\",\"LOST\")","v":"LOST"},{"$f":"IF('JOLLY MINSTER'!BF13>0,1,0)","v":0},{"$f":"IF('JOLLY MINSTER'!BJ13=701,\"WON\",\"LOST\")","v":"LOST"},{"$f":"IF('JOLLY MINSTER'!BJ13>0,1,0)","v":0},{"$f":"IF('JOLLY MINSTER'!BN13=701,\"WON\",\"LOST\")","v":"LOST"},{"$f":"IF('JOLLY MINSTER'!BN13>0,1,0)","v":0},{"$f":"IF('JOLLY MINSTER'!BR13=701,\"WON\",\"LOST\")","v":"LOST"},{"$f":"IF('JOLLY MINSTER'!BR13>0,1,0)","v":0},{"$f":"IF('JOLLY MINSTER'!CD13=701,\"WON\",\"LOST\")","v":"LOST"},{"$f":"IF('JOLLY MINSTER'!CD13>0,1,0)","v":0},{"$f":"IF('JOLLY MINSTER'!CH13=701,\"WON\",\"LOST\")","v":"LOST"},{"$f":"IF('JOLLY MINSTER'!CH13>0,1,0)","v":0}]
[null,{"$f":"IF('JOLLY MINSTER'!B14=701,\"WON\",\"LOST\")","v":"LOST"},{"$f":"IF('JOLLY MINSTER'!B14>0,1,0)","v":0},{"$f":"IF('JOLLY MINSTER'!F14=701,\"WON\",\"LOST\")","v":"LOST"},{"$f":"IF('JOLLY MINSTER'!F14>0,1,0)","v":0},{"$f":"IF('JOLLY MINSTER'!J14=701,\"WON\",\"LOST\")","v":"LOST"},{"$f":"IF('JOLLY MINSTER'!J14>0,1,0)","v":0},{"$f":"IF('JOLLY MINSTER'!N14=701,\"WON\",\"LOST\")","v":"LOST"},{"$f":"IF('JOLLY MINSTER'!N14>0,1,0)","v":0},{"$f":"IF('JOLLY MINSTER'!R14=701,\"WON\",\"LOST\")","v":"LOST"},{"$f":"IF('JOLLY MINSTER'!R14>0,1,0)","v":0},{"$f":"IF('JOLLY MINSTER'!V14=701,\"WON\",\"LOST\")","v":"LOST"},{"$f":"IF('JOLLY MINSTER'!V14>0,1,0)","v":0},{"$f":"IF('JOLLY MINSTER'!Z14=701,\"WON\",\"LOST\")","v":"LOST"},{"$f":"IF('JOLLY MINSTER'!Z14>0,1,0)","v":0},{"$f":"IF('JOLLY MINSTER'!AD14=701,\"WON\",\"LOST\")","v":"LOST"},{"$f":"IF('JOLLY MINSTER'!AD14>0,1,0)","v":0},{"$f":"IF('JOLLY MINSTER'!AH14=701,\"WON\",\"LOST\")","v":"LOST"},{"$f":"IF('JOLLY MINSTER'!AH14>0,1,0)","v":0},{"$f":"IF('JOLLY MINSTER'!AL14=701,\"WON\",\"LOST\")","v":"LOST"},{"$f":"IF('JOLLY MINSTER'!AL14>0,1,0)","v":0},{"$f":"IF('JOLLY MINSTER'!AP14=701,\"WON\",\"LOST\")","v":"LOST"},{"$f":"IF('JOLLY MINSTER'!AP14>0,1,0)","v":0},{"$f":"IF('JOLLY MINSTER'!AT14=701,\"WON\",\"LOST\")","v":"LOST"},{"$f":"IF('JOLLY MINSTER'!AT14>0,1,0)","v":0},{"$f":"IF('JOLLY MINSTER'!AX14=701,\"WON\",\"LOST\")","v":"LOST"},{"$f":"IF('JOLLY MINSTER'!AX14>0,1,0)","v":0},{"$f":"IF('JOLLY MINSTER'!BB14=701,\"WON\",\"LOST\")","v":"LOST"},{"$f":"IF('JOLLY MINSTER'!BB14>0,1,0)","v":0},{"$f":"IF('JOLLY MINSTER'!BF14=701,\"WON\",\"LOST\")","v":"LOST"},{"$f":"IF('JOLLY MINSTER'!BF14>0,1,0)","v":0},{"$f":"IF('JOLLY MINSTER'!BJ14=701,\"WON\",\"LOST\")","v":"LOST"},{"$f":"IF('JOLLY MINSTER'!BJ14>0,1,0)","v":0},{"$f":"IF('JOLLY MINSTER'!BN14=701,\"WON\",\"LOST\")","v":"LOST"},{"$f":"IF('JOLLY MINSTER'!BN14>0,1,0)","v":0},{"$f":"IF('JOLLY MINSTER'!BR14=701,\"WON\",\"LOST\")","v":"LOST"},{"$f":"IF('JOLLY MINSTER'!BR14>0,1,0)","v":0},{"$f":"IF('JOLLY MINSTER'!CD14=701,\"WON\",\"LOST\")","v":"LOST"},{"$f":"IF('JOLLY MINSTER'!CD14>0,1,0)","v":0},{"$f":"IF('JOLLY MINSTER'!CH14=701,\"WON\",\"LOST\")","v":"LOST"},{"$f":"IF('JOLLY MINSTER'!CH14>0,1,0)","v":0}]
[null,{"$f":"IF('JOLLY MINSTER'!B3=\"\",0,(SUM(('JOLLY MINSTER'!B3/'JOLLY MINSTER'!C3)*3)))","v":47.795454545454547},null,{"$f":"IF('JOLLY MINSTER'!F3=\"\",0,(SUM(('JOLLY MINSTER'!F3/'JOLLY MINSTER'!G3)*3)))","v":0},null,{"$f":"IF('JOLLY MINSTER'!J3=\"\",0,(SUM(('JOLLY MINSTER'!J3/'JOLLY MINSTER'!K3)*3)))","v":36.789473684210527},null,{"$f":"IF('JOLLY MINSTER'!N3=\"\",0,(SUM(('JOLLY MINSTER'!N3/'JOLLY MINSTER'!O3)*3)))","v":55.34210526315789},null,{"$f":"IF('JOLLY MINSTER'!R3=\"\",0,(SUM(('JOLLY MINSTER'!R3/'JOLLY MINSTER'!S3)*3)))","v":48.928571428571431},null,{"$f":"IF('JOLLY MINSTER'!V3=\"\",0,(SUM(('JOLLY MINSTER'!V3/'JOLLY MINSTER'!W3)*3)))","v":49.857142857142861},null,{"$f":"IF('JOLLY MINSTER'!Z3=\"\",0,(SUM(('JOLLY MINSTER'!Z3/'JOLLY MINSTER'!AA3)*3)))","v":53.15384615384616},null,{"$f":"IF('JOLLY MINSTER'!AD3=\"\",0,(SUM(('JOLLY MINSTER'!AD3/'JOLLY MINSTER'!AE3)*3)))","v":43.8125},null,{"$f":"IF('JOLLY MINSTER'!AH3=\"\",0,(SUM(('JOLLY MINSTER'!AH3/'JOLLY MINSTER'!AI3)*3)))","v":43.8125},null,{"$f":"IF('JOLLY MINSTER'!AL3=\"\",0,(SUM(('JOLLY MINSTER'!AL3/'JOLLY MINSTER'!AM3)*3)))","v":55.75},null,{"$f":"IF('JOLLY MINSTER'!AP3=\"\",0,(SUM(('JOLLY MINSTER'!AP3/'JOLLY MINSTER'!AQ3)*3)))","v":0},null,{"$f":"IF('JOLLY MINSTER'!AT3=\"\",0,(SUM(('JOLLY MINSTER'!AT3/'JOLLY MINSTER'!AU3)*3)))","v":53.333333333333336},null,{"$f":"IF('JOLLY MINSTER'!AX3=\"\",0,(SUM(('JOLLY MINSTER'!AX3/'JOLLY MINSTER'!AY3)*3)))","v":45.4},null,{"$f":"IF('JOLLY MINSTER'!BB3=\"\",0,(SUM(('JOLLY MINSTER'!BB3/'JOLLY MINSTER'!BC3)*3)))","v":39.679245283018872},null,{"$f":"IF('JOLLY MINSTER'!BF3=\"\",0,(SUM(('JOLLY MINSTER'!BF3/'JOLLY MINSTER'!BG3)*3)))","v":69},null,{"$f":"IF('JOLLY MINSTER'!BJ3=\"\",0,(SUM(('JOLLY MINSTER'!BJ3/'JOLLY MINSTER'!BK3)*3)))","v":52},null,{"$f":"IF('JOLLY MINSTER'!BN3=\"\",0,(SUM(('JOLLY MINSTER'!BN3/'JOLLY MINSTER'!BO3)*3)))","v":44.744680851063826},null,{"$f":"IF('JOLLY MINSTER'!BR3=\"\",0,(SUM(('JOLLY MINSTER'!BR3/'JOLLY MINSTER'!BS3)*3)))","v":0},null,{"$f":"IF('JOLLY MINSTER'!CD3=\"\",0,(SUM(('JOLLY MINSTER'!CD3/'JOLLY MINSTER'!CE3)*3)))","v":0},null,{"$f":"IF('JOLLY MINSTER'!CH3=\"\",0,(SUM(('JOLLY MINSTER'!CH3/'JOLLY MINSTER'!CI3)*3)))","v":0}]
[null,{"$f":"IF('JOLLY MINSTER'!B4=\"\",0,(SUM(('JOLLY MINSTER'!B4/'JOLLY MINSTER'!C4)*3)))","v":36.916666666666664},null,{"$f":"IF('JOLLY MINSTER'!F4=\"\",0,(SUM(('JOLLY MINSTER'!F4/'JOLLY MINSTER'!G4)*3)))","v":0},null,{"$f":"IF('JOLLY MINSTER'!J4=\"\",0,(SUM(('JOLLY MINSTER'!J4/'JOLLY MINSTER'!K4)*3)))","v":41.692307692307693},null,{"$f":"IF('JOLLY MINSTER'!N4=\"\",0,(SUM(('JOLLY MINSTER'!N4/'JOLLY MINSTER'!O4)*3)))","v":36.5},null,{"$f":"IF('JOLLY MINSTER'!R4=\"\",0,(SUM(('JOLLY MINSTER'!R4/'JOLLY MINSTER'!S4)*3)))","v":38.944444444444443},null,{"$f":"IF('JOLLY MINSTER'!V4=\"\",0,(SUM(('JOLLY MINSTER'!V4/'JOLLY MINSTER'!W4)*3)))","v":46.733333333333334},null,{"$f":"IF('JOLLY MINSTER'!Z4=\"\",0,(SUM(('JOLLY MINSTER'!Z4/'JOLLY MINSTER'!AA4)*3)))","v":57.454545454545453},null,{"$f":"IF('JOLLY MINSTER'!AD4=\"\",0,(SUM(('JOLLY MINSTER'!AD4/'JOLLY MINSTER'!AE4)*3)))","v":55.34210526315789},null,{"$f":"IF('JOLLY MINSTER'!AH4=\"\",0,(SUM(('JOLLY MINSTER'!AH4/'JOLLY MINSTER'!AI4)*3)))","v":36.900000000000006},null,{"$f":"IF('JOLLY MINSTER'!AL4=\"\",0,(SUM(('JOLLY MINSTER'!AL4/'JOLLY MINSTER'!AM4)*3)))","v":43.6875},null,{"$f":"IF('JOLLY MINSTER'!AP4=\"\",0,(SUM(('JOLLY MINSTER'!AP4/'JOLLY MINSTER'!AQ4)*3)))","v":0},null,{"$f":"IF('JOLLY MINSTER'!AT4=\"\",0,(SUM(('JOLLY MINSTER'!AT4/'JOLLY MINSTER'!AU4)*3)))","v":41.071428571428569},null,{"$f":"IF('JOLLY MINSTER'!AX4=\"\",0,(SUM(('JOLLY MINSTER'!AX4/'JOLLY MINSTER'!AY4)*3)))","v":49.153846153846146},null,{"$f":"IF('JOLLY MINSTER'!BB4=\"\",0,(SUM(('JOLLY MINSTER'!BB4/'JOLLY MINSTER'!BC4)*3)))","v":47.795454545454547},null,{"$f":"IF('JOLLY MINSTER'!BF4=\"\",0,(SUM(('JOLLY MINSTER'!BF4/'JOLLY MINSTER'!BG4)*3)))","v":44.083333333333336},null,{"$f":"IF('JOLLY MINSTER'!BJ4=\"\",0,(SUM(('JOLLY MINSTER'!BJ4/'JOLLY MINSTER'!BK4)*3)))","v":42.428571428571431},null,{"$f":"IF('JOLLY MINSTER'!BN4=\"\",0,(SUM(('JOLLY MINSTER'!BN4/'JOLLY MINSTER'!BO4)*3)))","v":53.384615384615387},null,{"$f":"IF('JOLLY MINSTER'!BR4=\"\",0,(SUM(('JOLLY MINSTER'!BR4/'JOLLY MINSTER'!BS4)*3)))","v":42.3},null,{"$f":"IF('JOLLY MINSTER'!CD4=\"\",0,(SUM(('JOLLY MINSTER'!CD4/'JOLLY MINSTER'!CE4)*3)))","v":0},null,{"$f":"IF('JOLLY MINSTER'!CH4=\"\",0,(SUM(('JOLLY MINSTER'!CH4/'JOLLY MINSTER'!CI4)*3)))","v":0}]
[null,{"$f":"IF('JOLLY MINSTER'!B5=\"\",0,(SUM(('JOLLY MINSTER'!B5/'JOLLY MINSTER'!C5)*3)))","v":39.705882352941174},null,{"$f":"IF('JOLLY MINSTER'!F5=\"\",0,(SUM(('JOLLY MINSTER'!F5/'JOLLY MINSTER'!G5)*3)))","v":0},null,{"$f":"IF('JOLLY MINSTER'!J5=\"\",0,(SUM(('JOLLY MINSTER'!J5/'JOLLY MINSTER'!K5)*3)))","v":70.099999999999994},null,{"$f":"IF('JOLLY MINSTER'!N5=\"\",0,(SUM(('JOLLY MINSTER'!N5/'JOLLY MINSTER'!O5)*3)))","v":35.692307692307693},null,{"$f":"IF('JOLLY MINSTER'!R5=\"\",0,(SUM(('JOLLY MINSTER'!R5/'JOLLY MINSTER'!S5)*3)))","v":50.071428571428569},null,{"$f":"IF('JOLLY MINSTER'!V5=\"\",0,(SUM(('JOLLY MINSTER'!V5/'JOLLY MINSTER'!W5)*3)))","v":43.6875},null,{"$f":"IF('JOLLY MINSTER'!Z5=\"\",0,(SUM(('JOLLY MINSTER'!Z5/'JOLLY MINSTER'!AA5)*3)))","v":35.166666666666664},null,{"$f":"IF('JOLLY MINSTER'!AD5=\"\",0,(SUM(('JOLLY MINSTER'!AD5/'JOLLY MINSTER'!AE5)*3)))","v":39.583333333333336},null,{"$f":"IF('JOLLY MINSTER'!AH5=\"\",0,(SUM(('JOLLY MINSTER'!AH5/'JOLLY MINSTER'!AI5)*3)))","v":42.428571428571431},null,{"$f":"IF('JOLLY MINSTER'!AL5=\"\",0,(SUM(('JOLLY MINSTER'!AL5/'JOLLY MINSTER'!AM5)*3)))","v":46.375},null,{"$f":"IF('JOLLY MINSTER'!AP5=\"\",0,(SUM(('JOLLY MINSTER'!AP5/'JOLLY MINSTER'!AQ5)*3)))","v":0},null,{"$f":"IF('JOLLY MINSTER'!AT5=\"\",0,(SUM(('JOLLY MINSTER'!AT5/'JOLLY MINSTER'!AU5)*3)))","v":34.950000000000003},null,{"$f":"IF('JOLLY MINSTER'!AX5=\"\",0,(SUM(('JOLLY MINSTER'!AX5/'JOLLY MINSTER'!AY5)*3)))","v":29.619718309859152},null,{"$f":"IF('JOLLY MINSTER'!BB5=\"\",0,(SUM(('JOLLY MINSTER'!BB5/'JOLLY MINSTER'!BC5)*3)))","v":36.789473684210527},null,{"$f":"IF('JOLLY MINSTER'!BF5=\"\",0,(SUM(('JOLLY MINSTER'!BF5/'JOLLY MINSTER'!BG5)*3)))","v":52.9},null,{"$f":"IF('JOLLY MINSTER'!BJ5=\"\",0,(SUM(('JOLLY MINSTER'!BJ5/'JOLLY MINSTER'!BK5)*3)))","v":52.692307692307693},null,{"$f":"IF('JOLLY MINSTER'!BN5=\"\",0,(SUM(('JOLLY MINSTER'!BN5/'JOLLY MINSTER'!BO5)*3)))","v":36.684210526315788},null,{"$f":"IF('JOLLY MINSTER'!BR5=\"\",0,(SUM(('JOLLY MINSTER'!BR5/'JOLLY MINSTER'!BS5)*3)))","v":0},null,{"$f":"IF('JOLLY MINSTER'!CD5=\"\",0,(SUM(('JOLLY MINSTER'!CD5/'JOLLY MINSTER'!CE5)*3)))","v":0},null,{"$f":"IF('JOLLY MINSTER'!CH5=\"\",0,(SUM(('JOLLY MINSTER'!CH5/'JOLLY MINSTER'!CI5)*3)))","v":0}]
[null,{"$f":"IF('JOLLY MINSTER'!B6=\"\",0,(SUM(('JOLLY MINSTER'!B6/'JOLLY MINSTER'!C6)*3)))","v":40.823529411764703},null,{"$f":"IF('JOLLY MINSTER'!F6=\"\",0,(SUM(('JOLLY MINSTER'!F6/'JOLLY MINSTER'!G6)*3)))","v":0},null,{"$f":"IF('JOLLY MINSTER'!J6=\"\",0,(SUM(('JOLLY MINSTER'!J6/'JOLLY MINSTER'!K6)*3)))","v":33.285714285714285},null,{"$f":"IF('JOLLY MINSTER'!N6=\"\",0,(SUM(('JOLLY MINSTER'!N6/'JOLLY MINSTER'!O6)*3)))","v":0},null,{"$f":"IF('JOLLY MINSTER'!R6=\"\",0,(SUM(('JOLLY MINSTER'!R6/'JOLLY MINSTER'!S6)*3)))","v":40.764705882352942},null,{"$f":"IF('JOLLY MINSTER'!V6=\"\",0,(SUM(('JOLLY MINSTER'!V6/'JOLLY MINSTER'!W6)*3)))","v":36.258620689655174},null,{"$f":"IF('JOLLY MINSTER'!Z6=\"\",0,(SUM(('JOLLY MINSTER'!Z6/'JOLLY MINSTER'!AA6)*3)))","v":44.888888888888893},null,{"$f":"IF('JOLLY MINSTER'!AD6=\"\",0,(SUM(('JOLLY MINSTER'!AD6/'JOLLY MINSTER'!AE6)*3)))","v":46.4},null,{"$f":"IF('JOLLY MINSTER'!AH6=\"\",0,(SUM(('JOLLY MINSTER'!AH6/'JOLLY MINSTER'!AI6)*3)))","v":42.888888888888886},null,{"$f":"IF('JOLLY MINSTER'!AL6=\"\",0,(SUM(('JOLLY MINSTER'!AL6/'JOLLY MINSTER'!AM6)*3)))","v":47.6},null,{"$f":"IF('JOLLY MINSTER'!AP6=\"\",0,(SUM(('JOLLY MINSTER'!AP6/'JOLLY MINSTER'!AQ6)*3)))","v":0},null,{"$f":"IF('JOLLY MINSTER'!AT6=\"\",0,(SUM(('JOLLY MINSTER'!AT6/'JOLLY MINSTER'!AU6)*3)))","v":0},null,{"$f":"IF('JOLLY MINSTER'!AX6=\"\",0,(SUM(('JOLLY MINSTER'!AX6/'JOLLY MINSTER'!AY6)*3)))","v":65.71875},null,{"$f":"IF('JOLLY MINSTER'!BB6=\"\",0,(SUM(('JOLLY MINSTER'!BB6/'JOLLY MINSTER'!BC6)*3)))","v":41.235294117647058},null,{"$f":"IF('JOLLY MINSTER'!BF6=\"\",0,(SUM(('JOLLY MINSTER'!BF6/'JOLLY MINSTER'!BG6)*3)))","v":43.375},null,{"$f":"IF('JOLLY MINSTER'!BJ6=\"\",0,(SUM(('JOLLY MINSTER'!BJ6/'JOLLY MINSTER'!BK6)*3)))","v":42.2},null,{"$f":"IF('JOLLY MINSTER'!BN6=\"\",0,(SUM(('JOLLY MINSTER'!BN6/'JOLLY MINSTER'!BO6)*3)))","v":0},null,{"$f":"IF('JOLLY MINSTER'!BR6=\"\",0,(SUM(('JOLLY MINSTER'!BR6/'JOLLY MINSTER'!BS6)*3)))","v":52.916666666666671},null,{"$f":"IF('JOLLY MINSTER'!CD6=\"\",0,(SUM(('JOLLY MINSTER'!CD6/'JOLLY MINSTER'!CE6)*3)))","v":0},null,{"$f":"IF('JOLLY MINSTER'!CH6=\"\",0,(SUM(('JOLLY MINSTER'!CH6/'JOLLY MINSTER'!CI6)*3)))","v":0}]
[null,{"$f":"IF('JOLLY MINSTER'!B7=\"\",0,(SUM(('JOLLY MINSTER'!B7/'JOLLY MINSTER'!C7)*3)))","v":40.833333333333329},null,{"$f":"IF('JOLLY MINSTER'!F7=\"\",0,(SUM(('JOLLY MINSTER'!F7/'JOLLY MINSTER'!G7)*3)))","v":0},null,{"$f":"IF('JOLLY MINSTER'!J7=\"\",0,(SUM(('JOLLY MINSTER'!J7/'JOLLY MINSTER'!K7)*3)))","v":60.636363636363633},null,{"$f":"IF('JOLLY MINSTER'!N7=\"\",0,(SUM(('JOLLY MINSTER'!N7/'JOLLY MINSTER'!O7)*3)))","v":34.650000000000006},null,{"$f":"IF('JOLLY MINSTER'!R7=\"\",0,(SUM(('JOLLY MINSTER'!R7/'JOLLY MINSTER'!S7)*3)))","v":35.644067796610166},null,{"$f":"IF('JOLLY MINSTER'!V7=\"\",0,(SUM(('JOLLY MINSTER'!V7/'JOLLY MINSTER'!W7)*3)))","v":42.416666666666671},null,{"$f":"IF('JOLLY MINSTER'!Z7=\"\",0,(SUM(('JOLLY MINSTER'!Z7/'JOLLY MINSTER'!AA7)*3)))","v":40.071428571428569},null,{"$f":"IF('JOLLY MINSTER'!AD7=\"\",0,(SUM(('JOLLY MINSTER'!AD7/'JOLLY MINSTER'!AE7)*3)))","v":42.357142857142854},null,{"$f":"IF('JOLLY MINSTER'!AH7=\"\",0,(SUM(('JOLLY MINSTER'!AH7/'JOLLY MINSTER'!AI7)*3)))","v":41.333333333333336},null,{"$f":"IF('JOLLY MINSTER'!AL7=\"\",0,(SUM(('JOLLY MINSTER'!AL7/'JOLLY MINSTER'!AM7)*3)))","v":32.428571428571431},null,{"$f":"IF('JOLLY MINSTER'!AP7=\"\",0,(SUM(('JOLLY MINSTER'!AP7/'JOLLY MINSTER'!AQ7)*3)))","v":0},null,{"$f":"IF('JOLLY MINSTER'!AT7=\"\",0,(SUM(('JOLLY MINSTER'!AT7/'JOLLY MINSTER'!AU7)*3)))","v":41.235294117647058},null,{"$f":"IF('JOLLY MINSTER'!AX7=\"\",0,(SUM(('JOLLY MINSTER'!AX7/'JOLLY MINSTER'!AY7)*3)))","v":33.38095238095238},null,{"$f":"IF('JOLLY MINSTER'!BB7=\"\",0,(SUM(('JOLLY MINSTER'!BB7/'JOLLY MINSTER'!BC7)*3)))","v":33.91935483870968},null,{"$f":"IF('JOLLY MINSTER'!BF7=\"\",0,(SUM(('JOLLY MINSTER'!BF7/'JOLLY MINSTER'!BG7)*3)))","v":38.833333333333336},null,{"$f":"IF('JOLLY MINSTER'!BJ7=\"\",0,(SUM(('JOLLY MINSTER'!BJ7/'JOLLY MINSTER'!BK7)*3)))","v":41.63636363636364},null,{"$f":"IF('JOLLY MINSTER'!BN7=\"\",0,(SUM(('JOLLY MINSTER'!BN7/'JOLLY MINSTER'!BO7)*3)))","v":55.545454545454547},null,{"$f":"IF('JOLLY MINSTER'!BR7=\"\",0,(SUM(('JOLLY MINSTER'!BR7/'JOLLY MINSTER'!BS7)*3)))","v":37.764705882352942},null,{"$f":"IF('JOLLY MINSTER'!CD7=\"\",0,(SUM(('JOLLY MINSTER'!CD7/'JOLLY MINSTER'!CE7)*3)))","v":0},null,{"$f":"IF('JOLLY MINSTER'!CH7=\"\",0,(SUM(('JOLLY MINSTER'!CH7/'JOLLY MINSTER'!CI7)*3)))","v":0}]
[null,{"$f":"IF('JOLLY MINSTER'!B8=\"\",0,(SUM(('JOLLY MINSTER'!B8/'JOLLY MINSTER'!C8)*3)))","v":33.91935483870968},null,{"$f":"IF('JOLLY MINSTER'!F8=\"\",0,(SUM(('JOLLY MINSTER'!F8/'JOLLY MINSTER'!G8)*3)))","v":0},null,{"$f":"IF('JOLLY MINSTER'!J8=\"\",0,(SUM(('JOLLY MINSTER'!J8/'JOLLY MINSTER'!K8)*3)))","v":34.550000000000004},null,{"$f":"IF('JOLLY MINSTER'!N8=\"\",0,(SUM(('JOLLY MINSTER'!N8/'JOLLY MINSTER'!O8)*3)))","v":42.918367346938773},null,{"$f":"IF('JOLLY MINSTER'!R8=\"\",0,(SUM(('JOLLY MINSTER'!R8/'JOLLY MINSTER'!S8)*3)))","v":46.909090909090907},null,{"$f":"IF('JOLLY MINSTER'!V8=\"\",0,(SUM(('JOLLY MINSTER'!V8/'JOLLY MINSTER'!W8)*3)))","v":50.071428571428569},null,{"$f":"IF('JOLLY MINSTER'!Z8=\"\",0,(SUM(('JOLLY MINSTER'!Z8/'JOLLY MINSTER'!AA8)*3)))","v":37.299999999999997},null,{"$f":"IF('JOLLY MINSTER'!AD8=\"\",0,(SUM(('JOLLY MINSTER'!AD8/'JOLLY MINSTER'!AE8)*3)))","v":47.795454545454547},null,{"$f":"IF('JOLLY MINSTER'!AH8=\"\",0,(SUM(('JOLLY MINSTER'!AH8/'JOLLY MINSTER'!AI8)*3)))","v":46.6},null,{"$f":"IF('JOLLY MINSTER'!AL8=\"\",0,(SUM(('JOLLY MINSTER'!AL8/'JOLLY MINSTER'!AM8)*3)))","v":40.5},null,{"$f":"IF('JOLLY MINSTER'!AP8=\"\",0,(SUM(('JOLLY MINSTER'!AP8/'JOLLY MINSTER'!AQ8)*3)))","v":0},null,{"$f":"IF('JOLLY MINSTER'!AT8=\"\",0,(SUM(('JOLLY MINSTER'!AT8/'JOLLY MINSTER'!AU8)*3)))","v":50.071428571428569},null,{"$f":"IF('JOLLY MINSTER'!AX8=\"\",0,(SUM(('JOLLY MINSTER'!AX8/'JOLLY MINSTER'!AY8)*3)))","v":36.789473684210527},null,{"$f":"IF('JOLLY MINSTER'!BB8=\"\",0,(SUM(('JOLLY MINSTER'!BB8/'JOLLY MINSTER'!BC8)*3)))","v":34.4},null,{"$f":"IF('JOLLY MINSTER'!BF8=\"\",0,(SUM(('JOLLY MINSTER'!BF8/'JOLLY MINSTER'!BG8)*3)))","v":48.714285714285708},null,{"$f":"IF('JOLLY MINSTER'!BJ8=\"\",0,(SUM(('JOLLY MINSTER'!BJ8/'JOLLY MINSTER'!BK8)*3)))","v":59.545454545454547},null,{"$f":"IF('JOLLY MINSTER'!BN8=\"\",0,(SUM(('JOLLY MINSTER'!BN8/'JOLLY MINSTER'!BO8)*3)))","v":43.375},null,{"$f":"IF('JOLLY MINSTER'!BR8=\"\",0,(SUM(('JOLLY MINSTER'!BR8/'JOLLY MINSTER'!BS8)*3)))","v":42.8125},null,{"$f":"IF('JOLLY MINSTER'!CD8=\"\",0,(SUM(('JOLLY MINSTER'!CD8/'JOLLY MINSTER'!CE8)*3)))","v":0},null,{"$f":"IF('JOLLY MINSTER'!CH8=\"\",0,(SUM(('JOLLY MINSTER'!CH8/'JOLLY MINSTER'!CI8)*3)))","v":0}]
[null,{"$f":"IF('JOLLY MINSTER'!B9=\"\",0,(SUM(('JOLLY MINSTER'!B9/'JOLLY MINSTER'!C9)*3)))","v":0},null,{"$f":"IF('JOLLY MINSTER'!F9=\"\",0,(SUM(('JOLLY MINSTER'!F9/'JOLLY MINSTER'!G9)*3)))","v":0},null,{"$f":"IF('JOLLY MINSTER'!J9=\"\",0,(SUM(('JOLLY MINSTER'!J9/'JOLLY MINSTER'!K9)*3)))","v":0},null,{"$f":"IF('JOLLY MINSTER'!N9=\"\",0,(SUM(('JOLLY MINSTER'!N9/'JOLLY MINSTER'!O9)*3)))","v":0},null,{"$f":"IF('JOLLY MINSTER'!R9=\"\",0,(SUM(('JOLLY MINSTER'!R9/'JOLLY MINSTER'!S9)*3)))","v":0},null,{"$f":"IF('JOLLY MINSTER'!V9=\"\",0,(SUM(('JOLLY MINSTER'!V9/'JOLLY MINSTER'!W9)*3)))","v":0},null,{"$f":"IF('JOLLY MINSTER'!Z9=\"\",0,(SUM(('JOLLY MINSTER'!Z9/'JOLLY MINSTER'!AA9)*3)))","v":0},null,{"$f":"IF('JOLLY MINSTER'!AD9=\"\",0,(SUM(('JOLLY MINSTER'!AD9/'JOLLY MINSTER'!AE9)*3)))","v":0},null,{"$f":"IF('JOLLY MINSTER'!AH9=\"\",0,(SUM(('JOLLY MINSTER'!AH9/'JOLLY MINSTER'!AI9)*3)))","v":0},null,{"$f":"IF('JOLLY MINSTER'!AL9=\"\",0,(SUM(('JOLLY MINSTER'!AL9/'JOLLY MINSTER'!AM9)*3)))","v":0},null,{"$f":"IF('JOLLY MINSTER'!AP9=\"\",0,(SUM(('JOLLY MINSTER'!AP9/'JOLLY MINSTER'!AQ9)*3)))","v":0},null,{"$f":"IF('JOLLY MINSTER'!AT9=\"\",0,(SUM(('JOLLY MINSTER'!AT9/'JOLLY MINSTER'!AU9)*3)))","v":0},null,{"$f":"IF('JOLLY MINSTER'!AX9=\"\",0,(SUM(('JOLLY MINSTER'!AX9/'JOLLY MINSTER'!AY9)*3)))","v":0},null,{"$f":"IF('JOLLY MINSTER'!BB9=\"\",0,(SUM(('JOLLY MINSTER'!BB9/'JOLLY MINSTER'!BC9)*3)))","v":0},null,{"$f":"IF('JOLLY MINSTER'!BF9=\"\",0,(SUM(('JOLLY MINSTER'!BF9/'JOLLY MINSTER'!BG9)*3)))","v":0},null,{"$f":"IF('JOLLY MINSTER'!BJ9=\"\",0,(SUM(('JOLLY MINSTER'!BJ9/'JOLLY MINSTER'!BK9)*3)))","v":0},null,{"$f":"IF('JOLLY MINSTER'!BN9=\"\",0,(SUM(('JOLLY MINSTER'!BN9/'JOLLY MINSTER'!BO9)*3)))","v":40.714285714285715},null,{"$f":"IF('JOLLY MINSTER'!BR9=\"\",0,(SUM(('JOLLY MINSTER'!BR9/'JOLLY MINSTER'!BS9)*3)))","v":44.866666666666667},null,{"$f":"IF('JOLLY MINSTER'!CD9=\"\",0,(SUM(('JOLLY MINSTER'!CD9/'JOLLY MINSTER'!CE9)*3)))","v":0},null,{"$f":"IF('JOLLY MINSTER'!CH9=\"\",0,(SUM(('JOLLY MINSTER'!CH9/'JOLLY MINSTER'!CI9)*3)))","v":0}]
[null,{"$f":"IF('JOLLY MINSTER'!B10=\"\",0,(SUM(('JOLLY MINSTER'!B10/'JOLLY MINSTER'!C10)*3)))","v":0},null,{"$f":"IF('JOLLY MINSTER'!F10=\"\",0,(SUM(('JOLLY MINSTER'!F10/'JOLLY MINSTER'!G10)*3)))","v":0},null,{"$f":"IF('JOLLY MINSTER'!J10=\"\",0,(SUM(('JOLLY MINSTER'!J10/'JOLLY MINSTER'!K10)*3)))","v":0},null,{"$f":"IF('JOLLY MINSTER'!N10=\"\",0,(SUM(('JOLLY MINSTER'!N10/'JOLLY MINSTER'!O10)*3)))","v":0},null,{"$f":"IF('JOLLY MINSTER'!R10=\"\",0,(SUM(('JOLLY MINSTER'!R10/'JOLLY MINSTER'!S10)*3)))","v":0},null,{"$f":"IF('JOLLY MINSTER'!V10=\"\",0,(SUM(('JOLLY MINSTER'!V10/'JOLLY MINSTER'!W10)*3)))","v":0},null,{"$f":"IF('JOLLY MINSTER'!Z10=\"\",0,(SUM(('JOLLY MINSTER'!Z10/'JOLLY MINSTER'!AA10)*3)))","v":0},null,{"$f":"IF('JOLLY MINSTER'!AD10=\"\",0,(SUM(('JOLLY MINSTER'!AD10/'JOLLY MINSTER'!AE10)*3)))","v":0},null,{"$f":"IF('JOLLY MINSTER'!AH10=\"\",0,(SUM(('JOLLY MINSTER'!AH10/'JOLLY MINSTER'!AI10)*3)))","v":0},null,{"$f":"IF('JOLLY MINSTER'!AL10=\"\",0,(SUM(('JOLLY MINSTER'!AL10/'JOLLY MINSTER'!AM10)*3)))","v":0},null,{"$f":"IF('JOLLY MINSTER'!AP10=\"\",0,(SUM(('JOLLY MINSTER'!AP10/'JOLLY MINSTER'!AQ10)*3)))","v":0},null,{"$f":"IF('JOLLY MINSTER'!AT10=\"\",0,(SUM(('JOLLY MINSTER'!AT10/'JOLLY MINSTER'!AU10)*3)))","v":0},null,{"$f":"IF('JOLLY MINSTER'!AX10=\"\",0,(SUM(('JOLLY MINSTER'!AX10/'JOLLY MINSTER'!AY10)*3)))","v":0},null,{"$f":"IF('JOLLY MINSTER'!BB10=\"\",0,(SUM(('JOLLY MINSTER'!BB10/'JOLLY MINSTER'!BC10)*3)))","v":0},null,{"$f":"IF('JOLLY MINSTER'!BF10=\"\",0,(SUM(('JOLLY MINSTER'!BF10/'JOLLY MINSTER'!BG10)*3)))","v":0},null,{"$f":"IF('JOLLY MINSTER'!BJ10=\"\",0,(SUM(('JOLLY MINSTER'!BJ10/'JOLLY MINSTER'!BK10)*3)))","v":0},null,{"$f":"IF('JOLLY MINSTER'!BN10=\"\",0,(SUM(('JOLLY MINSTER'!BN10/'JOLLY MINSTER'!BO10)*3)))","v":0},null,{"$f":"IF('JOLLY MINSTER'!BR10=\"\",0,(SUM(('JOLLY MINSTER'!BR10/'JOLLY MINSTER'!BS10)*3)))","v":0},null,{"$f":"IF('JOLLY MINSTER'!CD10=\"\",0,(SUM(('JOLLY MINSTER'!CD10/'JOLLY MINSTER'!CE10)*3)))","v":0},null,{"$f":"IF('JOLLY MINSTER'!CH10=\"\",0,(SUM(('JOLLY MINSTER'!CH10/'JOLLY MINSTER'!CI10)*3)))","v":0}]
[null,{"$f":"IF('JOLLY MINSTER'!B11=\"\",0,(SUM(('JOLLY MINSTER'!B11/'JOLLY MINSTER'!C11)*3)))","v":0},null,{"$f":"IF('JOLLY MINSTER'!F11=\"\",0,(SUM(('JOLLY MINSTER'!F11/'JOLLY MINSTER'!G11)*3)))","v":0},null,{"$f":"IF('JOLLY MINSTER'!J11=\"\",0,(SUM(('JOLLY MINSTER'!J11/'JOLLY MINSTER'!K11)*3)))","v":0},null,{"$f":"IF('JOLLY MINSTER'!N11=\"\",0,(SUM(('JOLLY MINSTER'!N11/'JOLLY MINSTER'!O11)*3)))","v":0},null,{"$f":"IF('JOLLY MINSTER'!R11=\"\",0,(SUM(('JOLLY MINSTER'!R11/'JOLLY MINSTER'!S11)*3)))","v":0},null,{"$f":"IF('JOLLY MINSTER'!V11=\"\",0,(SUM(('JOLLY MINSTER'!V11/'JOLLY MINSTER'!W11)*3)))","v":0},null,{"$f":"IF('JOLLY MINSTER'!Z11=\"\",0,(SUM(('JOLLY MINSTER'!Z11/'JOLLY MINSTER'!AA11)*3)))","v":0},null,{"$f":"IF('JOLLY MINSTER'!AD11=\"\",0,(SUM(('JOLLY MINSTER'!AD11/'JOLLY MINSTER'!AE11)*3)))","v":0},null,{"$f":"IF('JOLLY MINSTER'!AH11=\"\",0,(SUM(('JOLLY MINSTER'!AH11/'JOLLY MINSTER'!AI11)*3)))","v":0},null,{"$f":"IF('JOLLY MINSTER'!AL11=\"\",0,(SUM(('JOLLY MINSTER'!AL11/'JOLLY MINSTER'!AM11)*3)))","v":0},null,{"$f":"IF('JOLLY MINSTER'!AP11=\"\",0,(SUM(('JOLLY MINSTER'!AP11/'JOLLY MINSTER'!AQ11)*3)))","v":0},null,{"$f":"IF('JOLLY MINSTER'!AT11=\"\",0,(SUM(('JOLLY MINSTER'!AT11/'JOLLY MINSTER'!AU11)*3)))","v":0},null,{"$f":"IF('JOLLY MINSTER'!AX11=\"\",0,(SUM(('JOLLY MINSTER'!AX11/'JOLLY MINSTER'!AY11)*3)))","v":0},null,{"$f":"IF('JOLLY MINSTER'!BB11=\"\",0,(SUM(('JOLLY MINSTER'!BB11/'JOLLY MINSTER'!BC11)*3)))","v":0},null,{"$f":"IF('JOLLY MINSTER'!BF11=\"\",0,(SUM(('JOLLY MINSTER'!BF11/'JOLLY MINSTER'!BG11)*3)))","v":0},null,{"$f":"IF('JOLLY MINSTER'!BJ11=\"\",0,(SUM(('JOLLY MINSTER'!BJ11/'JOLLY MINSTER'!BK11)*3)))","v":0},null,{"$f":"IF('JOLLY MINSTER'!BN11=\"\",0,(SUM(('JOLLY MINSTER'!BN11/'JOLLY MINSTER'!BO11)*3)))","v":0},null,{"$f":"IF('JOLLY MINSTER'!BR11=\"\",0,(SUM(('JOLLY MINSTER'!BR11/'JOLLY MINSTER'!BS11)*3)))","v":0},null,{"$f":"IF('JOLLY MINSTER'!CD11=\"\",0,(SUM(('JOLLY MINSTER'!CD11/'JOLLY MINSTER'!CE11)*3)))","v":0},null,{"$f":"IF('JOLLY MINSTER'!CH11=\"\",0,(SUM(('JOLLY MINSTER'!CH11/'JOLLY MINSTER'!CI11)*3)))","v":0}]
[null,{"$f":"IF('JOLLY MINSTER'!B12=\"\",0,(SUM(('JOLLY MINSTER'!B12/'JOLLY MINSTER'!C12)*3)))","v":0},null,{"$f":"IF('JOLLY MINSTER'!F12=\"\",0,(SUM(('JOLLY MINSTER'!F12/'JOLLY MINSTER'!G12)*3)))","v":0},null,{"$f":"IF('JOLLY MINSTER'!J12=\"\",0,(SUM(('JOLLY MINSTER'!J12/'JOLLY MINSTER'!K12)*3)))","v":0},null,{"$f":"IF('JOLLY MINSTER'!N12=\"\",0,(SUM(('JOLLY MINSTER'!N12/'JOLLY MINSTER'!O12)*3)))","v":0},null,{"$f":"IF('JOLLY MINSTER'!R12=\"\",0,(SUM(('JOLLY MINSTER'!R12/'JOLLY MINSTER'!S12)*3)))","v":0},null,{"$f":"IF('JOLLY MINSTER'!V12=\"\",0,(SUM(('JOLLY MINSTER'!V12/'JOLLY MINSTER'!W12)*3)))","v":0},null,{"$f":"IF('JOLLY MINSTER'!Z12=\"\",0,(SUM(('JOLLY MINSTER'!Z12/'JOLLY MINSTER'!AA12)*3)))","v":0},null,{"$f":"IF('JOLLY MINSTER'!AD12=\"\",0,(SUM(('JOLLY MINSTER'!AD12/'JOLLY MINSTER'!AE12)*3)))","v":0},null,{"$f":"IF('JOLLY MINSTER'!AH12=\"\",0,(SUM(('JOLLY MINSTER'!AH12/'JOLLY MINSTER'!AI12)*3)))","v":0},null,{"$f":"IF('JOLLY MINSTER'!AL12=\"\",0,(SUM(('JOLLY MINSTER'!AL12/'JOLLY MINSTER'!AM12)*3)))","v":0},null,{"$f":"IF('JOLLY MINSTER'!AP12=\"\",0,(SUM(('JOLLY MINSTER'!AP12/'JOLLY MINSTER'!AQ12)*3)))","v":0},null,{"$f":"IF('JOLLY MINSTER'!AT12=\"\",0,(SUM(('JOLLY MINSTER'!AT12/'JOLLY MINSTER'!AU12)*3)))","v":0},null,{"$f":"IF('JOLLY MINSTER'!AX12=\"\",0,(SUM(('JOLLY MINSTER'!AX12/'JOLLY MINSTER'!AY12)*3)))","v":0},null,{"$f":"IF('JOLLY MINSTER'!BB12=\"\",0,(SUM(('JOLLY MINSTER'!BB12/'JOLLY MINSTER'!BC12)*3)))","v":0},null,{"$f":"IF('JOLLY MINSTER'!BF12=\"\",0,(SUM(('JOLLY MINSTER'!BF12/'JOLLY MINSTER'!BG12)*3)))","v":0},null,{"$f":"IF('JOLLY MINSTER'!BJ12=\"\",0,(SUM(('JOLLY MINSTER'!BJ12/'JOLLY MINSTER'!BK12)*3)))","v":0},null,{"$f":"IF('JOLLY MINSTER'!BN12=\"\",0,(SUM(('JOLLY MINSTER'!BN12/'JOLLY MINSTER'!BO12)*3)))","v":0},null,{"$f":"IF('JOLLY MINSTER'!BR12=\"\",0,(SUM(('JOLLY MINSTER'!BR12/'JOLLY MINSTER'!BS12)*3)))","v":39.133333333333333},null,{"$f":"IF('JOLLY MINSTER'!CD12=\"\",0,(SUM(('JOLLY MINSTER'!CD12/'JOLLY MINSTER'!CE12)*3)))","v":0},null,{"$f":"IF('JOLLY MINSTER'!CH12=\"\",0,(SUM(('JOLLY MINSTER'!CH12/'JOLLY MINSTER'!CI12)*3)))","v":0}]
[null,{"$f":"IF('JOLLY MINSTER'!B13=\"\",0,(SUM(('JOLLY MINSTER'!B13/'JOLLY MINSTER'!C13)*3)))","v":0},null,{"$f":"IF('JOLLY MINSTER'!F13=\"\",0,(SUM(('JOLLY MINSTER'!F13/'JOLLY MINSTER'!G13)*3)))","v":0},null,{"$f":"IF('JOLLY MINSTER'!J13=\"\",0,(SUM(('JOLLY MINSTER'!J13/'JOLLY MINSTER'!K13)*3)))","v":0},null,{"$f":"IF('JOLLY MINSTER'!N13=\"\",0,(SUM(('JOLLY MINSTER'!N13/'JOLLY MINSTER'!O13)*3)))","v":0},null,{"$f":"IF('JOLLY MINSTER'!R13=\"\",0,(SUM(('JOLLY MINSTER'!R13/'JOLLY MINSTER'!S13)*3)))","v":0},null,{"$f":"IF('JOLLY MINSTER'!V13=\"\",0,(SUM(('JOLLY MINSTER'!V13/'JOLLY MINSTER'!W13)*3)))","v":0},null,{"$f":"IF('JOLLY MINSTER'!Z13=\"\",0,(SUM(('JOLLY MINSTER'!Z13/'JOLLY MINSTER'!AA13)*3)))","v":0},null,{"$f":"IF('JOLLY MINSTER'!AD13=\"\",0,(SUM(('JOLLY MINSTER'!AD13/'JOLLY MINSTER'!AE13)*3)))","v":0},null,{"$f":"IF('JOLLY MINSTER'!AH13=\"\",0,(SUM(('JOLLY MINSTER'!AH13/'JOLLY MINSTER'!AI13)*3)))","v":0},null,{"$f":"IF('JOLLY MINSTER'!AL13=\"\",0,(SUM(('JOLLY MINSTER'!AL13/'JOLLY MINSTER'!AM13)*3)))","v":0},null,{"$f":"IF('JOLLY MINSTER'!AP13=\"\",0,(SUM(('JOLLY MINSTER'!AP13/'JOLLY MINSTER'!AQ13)*3)))","v":0},null,{"$f":"IF('JOLLY MINSTER'!AT13=\"\",0,(SUM(('JOLLY MINSTER'!AT13/'JOLLY MINSTER'!AU13)*3)))","v":0},null,{"$f":"IF('JOLLY MINSTER'!AX13=\"\",0,(SUM(('JOLLY MINSTER'!AX13/'JOLLY MINSTER'!AY13)*3)))","v":0},null,{"$f":"IF('JOLLY MINSTER'!BB13=\"\",0,(SUM(('JOLLY MINSTER'!BB13/'JOLLY MINSTER'!BC13)*3)))","v":0},null,{"$f":"IF('JOLLY MINSTER'!BF13=\"\",0,(SUM(('JOLLY MINSTER'!BF13/'JOLLY MINSTER'!BG13)*3)))","v":0},null,{"$f":"IF('JOLLY MINSTER'!BJ13=\"\",0,(SUM(('JOLLY MINSTER'!BJ13/'JOLLY MINSTER'!BK13)*3)))","v":0},null,{"$f":"IF('JOLLY MINSTER'!BN13=\"\",0,(SUM(('JOLLY MINSTER'!BN13/'JOLLY MINSTER'!BO13)*3)))","v":0},null,{"$f":"IF('JOLLY MINSTER'!BR13=\"\",0,(SUM(('JOLLY MINSTER'!BR13/'JOLLY MINSTER'!BS13)*3)))","v":0},null,{"$f":"IF('JOLLY MINSTER'!CD13=\"\",0,(SUM(('JOLLY MINSTER'!CD13/'JOLLY MINSTER'!CE13)*3)))","v":0},null,{"$f":"IF('JOLLY MINSTER'!CH13=\"\",0,(SUM(('JOLLY MINSTER'!CH13/'JOLLY MINSTER'!CI13)*3)))","v":0}]
[null,{"$f":"IF('JOLLY MINSTER'!B14=\"\",0,(SUM(('JOLLY MINSTER'!B14/'JOLLY MINSTER'!C14)*3)))","v":0},null,{"$f":"IF('JOLLY MINSTER'!F14=\"\",0,(SUM(('JOLLY MINSTER'!F14/'JOLLY MINSTER'!G14)*3)))","v":0},null,{"$f":"IF('JOLLY MINSTER'!J14=\"\",0,(SUM(('JOLLY MINSTER'!J14/'JOLLY MINSTER'!K14)*3)))","v":0},null,{"$f":"IF('JOLLY MINSTER'!N14=\"\",0,(SUM(('JOLLY MINSTER'!N14/'JOLLY MINSTER'!O14)*3)))","v":0},null,{"$f":"IF('JOLLY MINSTER'!R14=\"\",0,(SUM(('JOLLY MINSTER'!R14/'JOLLY MINSTER'!S14)*3)))","v":0},null,{"$f":"IF('JOLLY MINSTER'!V14=\"\",0,(SUM(('JOLLY MINSTER'!V14/'JOLLY MINSTER'!W14)*3)))","v":0},null,{"$f":"IF('JOLLY MINSTER'!Z14=\"\",0,(SUM(('JOLLY MINSTER'!Z14/'JOLLY MINSTER'!AA14)*3)))","v":0},null,{"$f":"IF('JOLLY MINSTER'!AD14=\"\",0,(SUM(('JOLLY MINSTER'!AD14/'JOLLY MINSTER'!AE14)*3)))","v":0},null,{"$f":"IF('JOLLY MINSTER'!AH14=\"\",0,(SUM(('JOLLY MINSTER'!AH14/'JOLLY MINSTER'!AI14)*3)))","v":0},null,{"$f":"IF('JOLLY MINSTER'!AL14=\"\",0,(SUM(('JOLLY MINSTER'!AL14/'JOLLY MINSTER'!AM14)*3)))","v":0},null,{"$f":"IF('JOLLY MINSTER'!AP14=\"\",0,(SUM(('JOLLY MINSTER'!AP14/'JOLLY MINSTER'!AQ14)*3)))","v":0},null,{"$f":"IF('JOLLY MINSTER'!AT14=\"\",0,(SUM(('JOLLY MINSTER'!AT14/'JOLLY MINSTER'!AU14)*3)))","v":0},null,{"$f":"IF('JOLLY MINSTER'!AX14=\"\",0,(SUM(('JOLLY MINSTER'!AX14/'JOLLY MINSTER'!AY14)*3)))","v":0},null,{"$f":"IF('JOLLY MINSTER'!BB14=\"\",0,(SUM(('JOLLY MINSTER'!BB14/'JOLLY MINSTER'!BC14)*3)))","v":0},null,{"$f":"IF('JOLLY MINSTER'!BF14=\"\",0,(SUM(('JOLLY MINSTER'!BF14/'JOLLY MINSTER'!BG14)*3)))","v":0},null,{"$f":"IF('JOLLY MINSTER'!BJ14=\"\",0,(SUM(('JOLLY MINSTER'!BJ14/'JOLLY MINSTER'!BK14)*3)))","v":0},null,{"$f":"IF('JOLLY MINSTER'!BN14=\"\",0,(SUM(('JOLLY MINSTER'!BN14/'JOLLY MINSTER'!BO14)*3)))","v":0},null,{"$f":"IF('JOLLY MINSTER'!BR14=\"\",0,(SUM(('JOLLY MINSTER'!BR14/'JOLLY MINSTER'!BS14)*3)))","v":0},null,{"$f":"IF('JOLLY MINSTER'!CD14=\"\",0,(SUM(('JOLLY MINSTER'!CD14/'JOLLY MINSTER'!CE14)*3)))","v":0},null,{"$f":"IF('JOLLY MINSTER'!CH14=\"\",0,(SUM(('JOLLY MINSTER'!CH14/'JOLLY MINSTER'!CI14)*3)))","v":0}]
[]
["CRICKET CLUB","11/09/2006\nV\nRAFA 'A' (A)"]
[null,"W/L","AVG","W/L","AVG","W/L","AVG","W/L","AVG","W/L","AVG","W/L","AVG","W/L","AVG","W/L","AVG","W/L","AVG","W/L","AVG","W/L","AVG","W/L","AVG","W/L","AVG","W/L","AVG","W/L","AVG","W/L","AVG","W/L","AVG","W/L","AVG","W/L","AVG","W/L","AVG","W/L","AVG","W/L","AVG"]
[{"$f":"'Team 11 - Unused'!A3","v":0},{"$f":"IF(C56=1,B56,\"\")","v":""},{"$f":"IF(B68>0,B68,\"\")","v":""},{"$f":"IF(E56=1,D56,\"\")","v":""},{"$f":"IF(D68>0,D68,\"\")","v":""},{"$f":"IF(G56=1,F56,\"\")","v":""},{"$f":"IF(F68>0,F68,\"\")","v":""},{"$f":"IF(I56=1,H56,\"\")","v":""},{"$f":"IF(H68>0,H68,\"\")","v":""},{"$f":"IF(K56=1,J56,\"\")","v":""},{"$f":"IF(J68>0,J68,\"\")","v":""},{"$f":"IF(M56=1,L56,\"\")","v":""},{"$f":"IF(L68>0,L68,\"\")","v":""},{"$f":"IF(O56=1,N56,\"\")","v":""},{"$f":"IF(N68>0,N68,\"\")","v":""},{"$f":"IF(Q56=1,P56,\"\")","v":""},{"$f":"IF(P68>0,P68,\"\")","v":""},{"$f":"IF(S56=1,R56,\"\")","v":""},{"$f":"IF(R68>0,R68,\"\")","v":""},{"$f":"IF(U56=1,T56,\"\")","v":""},{"$f":"IF(T68>0,T68,\"\")","v":""},{"$f":"IF(W56=1,V56,\"\")","v":""},{"$f":"IF(V68>0,V68,\"\")","v":""},{"$f":"IF(Y56=1,X56,\"\")","v":""},{"$f":"IF(X68>0,X68,\"\")","v":""},{"$f":"IF(AA56=1,Z56,\"\")","v":""},{"$f":"IF(Z68>0,Z68,\"\")","v":""},{"$f":"IF(AC56=1,AB56,\"\")","v":""},{"$f":"IF(AB68>0,AB68,\"\")","v":""},{"$f":"IF(AE56=1,AD56,\"\")","v":""},{"$f":"IF(AD68>0,AD68,\"\")","v":""},{"$f":"IF(AG56=1,AF56,\"\")","v":""},{"$f":"IF(AF68>0,AF68,\"\")","v":""},{"$f":"IF(AI56=1,AH56,\"\")","v":""},{"$f":"IF(AH68>0,AH68,\"\")","v":""},{"$f":"IF(AK56=1,AJ56,\"\")","v":""},{"$f":"IF(AJ68>0,AJ68,\"\")","v":""},{"$f":"IF(AM56=1,AL56,\"\")","v":""},{"$f":"IF(AL68>0,AL68,\"\")","v":""},{"$f":"IF(AO56=1,AN56,\"\")","v":""},{"$f":"IF(AN68>0,AN68,\"\")","v":""},{"$f":"IF(AQ56=1,AP56,\"\")","v":""},{"$f":"IF(AP68>0,AP68,\"\")","v":""},{"$f":"IF(AS56=1,AR56,\"\")","v":""},{"$f":"IF(AR68>0,AR68,\"\")","v":""}]
[{"$f":"'Team 11 - Unused'!A4","v":0},{"$f":"IF(C57=1,B57,\"\")","v":""},{"$f":"IF(B69>0,B69,\"\")","v":""},{"$f":"IF(E57=1,D57,\"\")","v":""},{"$f":"IF(D69>0,D69,\"\")","v":""},{"$f":"IF(G57=1,F57,\"\")","v":""},{"$f":"IF(F69>0,F69,\"\")","v":""},{"$f":"IF(I57=1,H57,\"\")","v":""},{"$f":"IF(H69>0,H69,\"\")","v":""},{"$f":"IF(K57=1,J57,\"\")","v":""},{"$f":"IF(J69>0,J69,\"\")","v":""},{"$f":"IF(M57=1,L57,\"\")","v":""},{"$f":"IF(L69>0,L69,\"\")","v":""},{"$f":"IF(O57=1,N57,\"\")","v":""},{"$f":"IF(N69>0,N69,\"\")","v":""},{"$f":"IF(Q57=1,P57,\"\")","v":""},{"$f":"IF(P69>0,P69,\"\")","v":""},{"$f":"IF(S57=1,R57,\"\")","v":""},{"$f":"IF(R69>0,R69,\"\")","v":""},{"$f":"IF(U57=1,T57,\"\")","v":""},{"$f":"IF(T69>0,T69,\"\")","v":""},{"$f":"IF(W57=1,V57,\"\")","v":""},{"$f":"IF(V69>0,V69,\"\")","v":""},{"$f":"IF(Y57=1,X57,\"\")","v":""},{"$f":"IF(X69>0,X69,\"\")","v":""},{"$f":"IF(AA57=1,Z57,\"\")","v":""},{"$f":"IF(Z69>0,Z69,\"\")","v":""},{"$f":"IF(AC57=1,AB57,\"\")","v":""},{"$f":"IF(AB69>0,AB69,\"\")","v":""},{"$f":"IF(AE57=1,AD57,\"\")","v":""},{"$f":"IF(AD69>0,AD69,\"\")","v":""},{"$f":"IF(AG57=1,AF57,\"\")","v":""},{"$f":"IF(AF69>0,AF69,\"\")","v":""},{"$f":"IF(AI57=1,AH57,\"\")","v":""},{"$f":"IF(AH69>0,AH69,\"\")","v":""},{"$f":"IF(AK57=1,AJ57,\"\")","v":""},{"$f":"IF(AJ69>0,AJ69,\"\")","v":""},{"$f":"IF(AM57=1,AL57,\"\")","v":""},{"$f":"IF(AL69>0,AL69,\"\")","v":""},{"$f":"IF(AO57=1,AN57,\"\")","v":""},{"$f":"IF(AN69>0,AN69,\"\")","v":""},{"$f":"IF(AQ57=1,AP57,\"\")","v":""},{"$f":"IF(AP69>0,AP69,\"\")","v":""},{"$f":"IF(AS57=1,AR57,\"\")","v":""},{"$f":"IF(AR69>0,AR69,\"\")","v":""}]
[{"$f":"'Team 11 - Unused'!A5","v":0},"","","","","","","","","","","","","","","","","","","","","","","","","","","","","","","","","","","","","","","","","","","",""]
[{"$f":"'Team 11 - Unused'!A6","v":0},"","","","","","","","","","","","","","","","","","","","","","","","","","","","","","","","","","","","","","","","","","","",""]
[{"$f":"'Team 11 - Unused'!A7","v":0},"","","","","","","","","","","","","","","","","","","","","","","","","","","","","","","","","","","","","","","","","","","",""]
[{"$f":"'Team 11 - Unused'!A8","v":0},"","","","","","","","","","","","","","","","","","","","","","","","","","","","","","","","","","","","","","","","","","","",""]
[{"$f":"'Team 11 - Unused'!A9","v":0},"","","","","","","","","","","","","","","","","","","","","","","","","","","","","","","","","","","","","","","","","","","",""]
[{"$f":"'Team 11 - Unused'!A10","v":0},"","","","","","","","","","","","","","","","","","","","","","","","","","","","","","","","","","","","","","","","","","","",""]
[{"$f":"'Team 11 - Unused'!A11","v":0},"","","","","","","","","","","","","","","","","","","","","","","","","","","","","","","","","","","","","","","","","","","",""]
[{"$f":"'Team 11 - Unused'!A12","v":0},"","","","","","","","","","","","","","","","","","","","","","","","","","","","","","","","","","","","","","","","","","","",""]
[{"$f":"'Team 11 - Unused'!A13","v":0},"","","","","","","","","","","","","","","","","","","","","","","","","","","","","","","","","","","","","","","","","","","",""]
[{"$f":"'Team 11 - Unused'!A14","v":0},"","","","","","","","","","","","","","","","","","","","","","","","","","","","","","","","","","","","","","","","","","","",""]
[]
["CRICKET CLUB",{"$f":"IF('Team 11 - Unused'!B3=701,\"WON\",\"LOST\")","v":"LOST"},{"$f":"IF('Team 11 - Unused'!B3>0,1,0)","v":0},{"$f":"IF('Team 11 - Unused'!F3=701,\"WON\",\"LOST\")","v":"LOST"},{"$f":"IF('Team 11 - Unused'!F3>0,1,0)","v":0},{"$f":"IF('Team 11 - Unused'!J3=701,\"WON\",\"LOST\")","v":"LOST"},{"$f":"IF('Team 11 - Unused'!J3>0,1,0)","v":0},{"$f":"IF('Team 11 - Unused'!N3=701,\"WON\",\"LOST\")","v":"LOST"},{"$f":"IF('Team 11 - Unused'!N3>0,1,0)","v":0},{"$f":"IF('Team 11 - Unused'!R3=701,\"WON\",\"LOST\")","v":"LOST"},{"$f":"IF('Team 11 - Unused'!R3>0,1,0)","v":0},{"$f":"IF('Team 11 - Unused'!V3=701,\"WON\",\"LOST\")","v":"LOST"},{"$f":"IF('Team 11 - Unused'!V3>0,1,0)","v":0},{"$f":"IF('Team 11 - Unused'!Z3=701,\"WON\",\"LOST\")","v":"LOST"},{"$f":"IF('Team 11 - Unused'!Z3>0,1,0)","v":0},{"$f":"IF('Team 11 - Unused'!AD3=701,\"WON\",\"LOST\")","v":"LOST"},{"$f":"IF('Team 11 - Unused'!AD3>0,1,0)","v":0},{"$f":"IF('Team 11 - Unused'!AH3=701,\"WON\",\"LOST\")","v":"LOST"},{"$f":"IF('Team 11 - Unused'!AH3>0,1,0)","v":0},{"$f":"IF('Team 11 - Unused'!AL3=701,\"WON\",\"LOST\")","v":"LOST"},{"$f":"IF('Team 11 - Unused'!AL3>0,1,0)","v":0},{"$f":"IF('Team 11 - Unused'!AP3=701,\"WON\",\"LOST\")","v":"LOST"},{"$f":"IF('Team 11 - Unused'!AP3>0,1,0)","v":0},{"$f":"IF('Team 11 - Unused'!AT3=701,\"WON\",\"LOST\")","v":"LOST"},{"$f":"IF('Team 11 - Unused'!AT3>0,1,0)","v":0},{"$f":"IF('Team 11 - Unused'!AX3=701,\"WON\",\"LOST\")","v":"LOST"},{"$f":"IF('Team 11 - Unused'!AX3>0,1,0)","v":0},{"$f":"IF('Team 11 - Unused'!BB3=701,\"WON\",\"LOST\")","v":"LOST"},{"$f":"IF('Team 11 - Unused'!BB3>0,1,0)","v":0},{"$f":"IF('Team 11 - Unused'!BF3=701,\"WON\",\"LOST\")","v":"LOST"},{"$f":"IF('Team 11 - Unused'!BF3>0,1,0)","v":0},{"$f":"IF('Team 11 - Unused'!BJ3=701,\"WON\",\"LOST\")","v":"LOST"},{"$f":"IF('Team 11 - Unused'!BJ3>0,1,0)","v":0},{"$f":"IF('Team 11 - Unused'!BN3=701,\"WON\",\"LOST\")","v":"LOST"},{"$f":"IF('Team 11 - Unused'!BN3>0,1,0)","v":0},{"$f":"IF('Team 11 - Unused'!BR3=701,\"WON\",\"LOST\")","v":"LOST"},{"$f":"IF('Team 11 - Unused'!BR3>0,1,0)","v":0},{"$f":"IF('Team 11 - Unused'!BV3=701,\"WON\",\"LOST\")","v":"LOST"},{"$f":"IF('Team 11 - Unused'!BV3>0,1,0)","v":0},{"$f":"IF('Team 11 - Unused'!BZ3=701,\"WON\",\"LOST\")","v":"LOST"},{"$f":"IF('Team 11 - Unused'!BZ3>0,1,0)","v":0},{"$f":"IF('Team 11 - Unused'!CD3=701,\"WON\",\"LOST\")","v":"LOST"},{"$f":"IF('Team 11 - Unused'!CD3>0,1,0)","v":0},{"$f":"IF('Team 11 - Unused'!CH3=701,\"WON\",\"LOST\")","v":"LOST"},{"$f":"IF('Team 11 - Unused'!CH3>0,1,0)","v":0}]
[null,{"$f":"IF('Team 11 - Unused'!B4=701,\"WON\",\"LOST\")","v":"LOST"},{"$f":"IF('Team 11 - Unused'!B4>0,1,0)","v":0},{"$f":"IF('Team 11 - Unused'!F4=701,\"WON\",\"LOST\")","v":"LOST"},{"$f":"IF('Team 11 - Unused'!F4>0,1,0)","v":0},{"$f":"IF('Team 11 - Unused'!J4=701,\"WON\",\"LOST\")","v":"LOST"},{"$f":"IF('Team 11 - Unused'!J4>0,1,0)","v":0},{"$f":"IF('Team 11 - Unused'!N4=701,\"WON\",\"LOST\")","v":"LOST"},{"$f":"IF('Team 11 - Unused'!N4>0,1,0)","v":0},{"$f":"IF('Team 11 - Unused'!R4=701,\"WON\",\"LOST\")","v":"LOST"},{"$f":"IF('Team 11 - Unused'!R4>0,1,0)","v":0},{"$f":"IF('Team 11 - Unused'!V4=701,\"WON\",\"LOST\")","v":"LOST"},{"$f":"IF('Team 11 - Unused'!V4>0,1,0)","v":0},{"$f":"IF('Team 11 - Unused'!Z4=701,\"WON\",\"LOST\")","v":"LOST"},{"$f":"IF('Team 11 - Unused'!Z4>0,1,0)","v":0},{"$f":"IF('Team 11 - Unused'!AD4=701,\"WON\",\"LOST\")","v":"LOST"},{"$f":"IF('Team 11 - Unused'!AD4>0,1,0)","v":0},{"$f":"IF('Team 11 - Unused'!AH4=701,\"WON\",\"LOST\")","v":"LOST"},{"$f":"IF('Team 11 - Unused'!AH4>0,1,0)","v":0},{"$f":"IF('Team 11 - Unused'!AL4=701,\"WON\",\"LOST\")","v":"LOST"},{"$f":"IF('Team 11 - Unused'!AL4>0,1,0)","v":0},{"$f":"IF('Team 11 - Unused'!AP4=701,\"WON\",\"LOST\")","v":"LOST"},{"$f":"IF('Team 11 - Unused'!AP4>0,1,0)","v":0},{"$f":"IF('Team 11 - Unused'!AT4=701,\"WON\",\"LOST\")","v":"LOST"},{"$f":"IF('Team 11 - Unused'!AT4>0,1,0)","v":0},{"$f":"IF('Team 11 - Unused'!AX4=701,\"WON\",\"LOST\")","v":"LOST"},{"$f":"IF('Team 11 - Unused'!AX4>0,1,0)","v":0},{"$f":"IF('Team 11 - Unused'!BB4=701,\"WON\",\"LOST\")","v":"LOST"},{"$f":"IF('Team 11 - Unused'!BB4>0,1,0)","v":0},{"$f":"IF('Team 11 - Unused'!BF4=701,\"WON\",\"LOST\")","v":"LOST"},{"$f":"IF('Team 11 - Unused'!BF4>0,1,0)","v":0},{"$f":"IF('Team 11 - Unused'!BJ4=701,\"WON\",\"LOST\")","v":"LOST"},{"$f":"IF('Team 11 - Unused'!BJ4>0,1,0)","v":0},{"$f":"IF('Team 11 - Unused'!BN4=701,\"WON\",\"LOST\")","v":"LOST"},{"$f":"IF('Team 11 - Unused'!BN4>0,1,0)","v":0},{"$f":"IF('Team 11 - Unused'!BR4=701,\"WON\",\"LOST\")","v":"LOST"},{"$f":"IF('Team 11 - Unused'!BR4>0,1,0)","v":0},{"$f":"IF('Team 11 - Unused'!BV4=701,\"WON\",\"LOST\")","v":"LOST"},{"$f":"IF('Team 11 - Unused'!BV4>0,1,0)","v":0},{"$f":"IF('Team 11 - Unused'!BZ4=701,\"WON\",\"LOST\")","v":"LOST"},{"$f":"IF('Team 11 - Unused'!BZ4>0,1,0)","v":0},{"$f":"IF('Team 11 - Unused'!CD4=701,\"WON\",\"LOST\")","v":"LOST"},{"$f":"IF('Team 11 - Unused'!CD4>0,1,0)","v":0},{"$f":"IF('Team 11 - Unused'!CH4=701,\"WON\",\"LOST\")","v":"LOST"},{"$f":"IF('Team 11 - Unused'!CH4>0,1,0)","v":0}]
[null,{"$f":"IF('Team 11 - Unused'!B5=701,\"WON\",\"LOST\")","v":"LOST"},{"$f":"IF('Team 11 - Unused'!B5>0,1,0)","v":0},{"$f":"IF('Team 11 - Unused'!F5=701,\"WON\",\"LOST\")","v":"LOST"},{"$f":"IF('Team 11 - Unused'!F5>0,1,0)","v":0},{"$f":"IF('Team 11 - Unused'!J5=701,\"WON\",\"LOST\")","v":"LOST"},{"$f":"IF('Team 11 - Unused'!J5>0,1,0)","v":0},{"$f":"IF('Team 11 - Unused'!N5=701,\"WON\",\"LOST\")","v":"LOST"},{"$f":"IF('Team 11 - Unused'!N5>0,1,0)","v":0},{"$f":"IF('Team 11 - Unused'!R5=701,\"WON\",\"LOST\")","v":"LOST"},{"$f":"IF('Team 11 - Unused'!R5>0,1,0)","v":0},{"$f":"IF('Team 11 - Unused'!V5=701,\"WON\",\"LOST\")","v":"LOST"},{"$f":"IF('Team 11 - Unused'!V5>0,1,0)","v":0},{"$f":"IF('Team 11 - Unused'!Z5=701,\"WON\",\"LOST\")","v":"LOST"},{"$f":"IF('Team 11 - Unused'!Z5>0,1,0)","v":0},{"$f":"IF('Team 11 - Unused'!AD5=701,\"WON\",\"LOST\")","v":"LOST"},{"$f":"IF('Team 11 - Unused'!AD5>0,1,0)","v":0},{"$f":"IF('Team 11 - Unused'!AH5=701,\"WON\",\"LOST\")","v":"LOST"},{"$f":"IF('Team 11 - Unused'!AH5>0,1,0)","v":0},{"$f":"IF('Team 11 - Unused'!AL5=701,\"WON\",\"LOST\")","v":"LOST"},{"$f":"IF('Team 11 - Unused'!AL5>0,1,0)","v":0},{"$f":"IF('Team 11 - Unused'!AP5=701,\"WON\",\"LOST\")","v":"LOST"},{"$f":"IF('Team 11 - Unused'!AP5>0,1,0)","v":0},{"$f":"IF('Team 11 - Unused'!AT5=701,\"WON\",\"LOST\")","v":"LOST"},{"$f":"IF('Team 11 - Unused'!AT5>0,1,0)","v":0},{"$f":"IF('Team 11 - Unused'!AX5=701,\"WON\",\"LOST\")","v":"LOST"},{"$f":"IF('Team 11 - Unused'!AX5>0,1,0)","v":0},{"$f":"IF('Team 11 - Unused'!BB5=701,\"WON\",\"LOST\")","v":"LOST"},{"$f":"IF('Team 11 - Unused'!BB5>0,1,0)","v":0},{"$f":"IF('Team 11 - Unused'!BF5=701,\"WON\",\"LOST\")","v":"LOST"},{"$f":"IF('Team 11 - Unused'!BF5>0,1,0)","v":0},{"$f":"IF('Team 11 - Unused'!BJ5=701,\"WON\",\"LOST\")","v":"LOST"},{"$f":"IF('Team 11 - Unused'!BJ5>0,1,0)","v":0},{"$f":"IF('Team 11 - Unused'!BN5=701,\"WON\",\"LOST\")","v":"LOST"},{"$f":"IF('Team 11 - Unused'!BN5>0,1,0)","v":0},{"$f":"IF('Team 11 - Unused'!BR5=701,\"WON\",\"LOST\")","v":"LOST"},{"$f":"IF('Team 11 - Unused'!BR5>0,1,0)","v":0},{"$f":"IF('Team 11 - Unused'!BV5=701,\"WON\",\"LOST\")","v":"LOST"},{"$f":"IF('Team 11 - Unused'!BV5>0,1,0)","v":0},{"$f":"IF('Team 11 - Unused'!BZ5=701,\"WON\",\"LOST\")","v":"LOST"},{"$f":"IF('Team 11 - Unused'!BZ5>0,1,0)","v":0},{"$f":"IF('Team 11 - Unused'!CD5=701,\"WON\",\"LOST\")","v":"LOST"},{"$f":"IF('Team 11 - Unused'!CD5>0,1,0)","v":0},{"$f":"IF('Team 11 - Unused'!CH5=701,\"WON\",\"LOST\")","v":"LOST"},{"$f":"IF('Team 11 - Unused'!CH5>0,1,0)","v":0}]
[null,{"$f":"IF('Team 11 - Unused'!B6=701,\"WON\",\"LOST\")","v":"LOST"},{"$f":"IF('Team 11 - Unused'!B6>0,1,0)","v":0},{"$f":"IF('Team 11 - Unused'!F6=701,\"WON\",\"LOST\")","v":"LOST"},{"$f":"IF('Team 11 - Unused'!F6>0,1,0)","v":0},{"$f":"IF('Team 11 - Unused'!J6=701,\"WON\",\"LOST\")","v":"LOST"},{"$f":"IF('Team 11 - Unused'!J6>0,1,0)","v":0},{"$f":"IF('Team 11 - Unused'!N6=701,\"WON\",\"LOST\")","v":"LOST"},{"$f":"IF('Team 11 - Unused'!N6>0,1,0)","v":0},{"$f":"IF('Team 11 - Unused'!R6=701,\"WON\",\"LOST\")","v":"LOST"},{"$f":"IF('Team 11 - Unused'!R6>0,1,0)","v":0},{"$f":"IF('Team 11 - Unused'!V6=701,\"WON\",\"LOST\")","v":"LOST"},{"$f":"IF('Team 11 - Unused'!V6>0,1,0)","v":0},{"$f":"IF('Team 11 - Unused'!Z6=701,\"WON\",\"LOST\")","v":"LOST"},{"$f":"IF('Team 11 - Unused'!Z6>0,1,0)","v":0},{"$f":"IF('Team 11 - Unused'!AD6=701,\"WON\",\"LOST\")","v":"LOST"},{"$f":"IF('Team 11 - Unused'!AD6>0,1,0)","v":0},{"$f":"IF('Team 11 - Unused'!AH6=701,\"WON\",\"LOST\")","v":"LOST"},{"$f":"IF('Team 11 - Unused'!AH6>0,1,0)","v":0},{"$f":"IF('Team 11 - Unused'!AL6=701,\"WON\",\"LOST\")","v":"LOST"},{"$f":"IF('Team 11 - Unused'!AL6>0,1,0)","v":0},{"$f":"IF('Team 11 - Unused'!AP6=701,\"WON\",\"LOST\")","v":"LOST"},{"$f":"IF('Team 11 - Unused'!AP6>0,1,0)","v":0},{"$f":"IF('Team 11 - Unused'!AT6=701,\"WON\",\"LOST\")","v":"LOST"},{"$f":"IF('Team 11 - Unused'!AT6>0,1,0)","v":0},{"$f":"IF('Team 11 - Unused'!AX6=701,\"WON\",\"LOST\")","v":"LOST"},{"$f":"IF('Team 11 - Unused'!AX6>0,1,0)","v":0},{"$f":"IF('Team 11 - Unused'!BB6=701,\"WON\",\"LOST\")","v":"LOST"},{"$f":"IF('Team 11 - Unused'!BB6>0,1,0)","v":0},{"$f":"IF('Team 11 - Unused'!BF6=701,\"WON\",\"LOST\")","v":"LOST"},{"$f":"IF('Team 11 - Unused'!BF6>0,1,0)","v":0},{"$f":"IF('Team 11 - Unused'!BJ6=701,\"WON\",\"LOST\")","v":"LOST"},{"$f":"IF('Team 11 - Unused'!BJ6>0,1,0)","v":0},{"$f":"IF('Team 11 - Unused'!BN6=701,\"WON\",\"LOST\")","v":"LOST"},{"$f":"IF('Team 11 - Unused'!BN6>0,1,0)","v":0},{"$f":"IF('Team 11 - Unused'!BR6=701,\"WON\",\"LOST\")","v":"LOST"},{"$f":"IF('Team 11 - Unused'!BR6>0,1,0)","v":0},{"$f":"IF('Team 11 - Unused'!BV6=701,\"WON\",\"LOST\")","v":"LOST"},{"$f":"IF('Team 11 - Unused'!BV6>0,1,0)","v":0},{"$f":"IF('Team 11 - Unused'!BZ6=701,\"WON\",\"LOST\")","v":"LOST"},{"$f":"IF('Team 11 - Unused'!BZ6>0,1,0)","v":0},{"$f":"IF('Team 11 - Unused'!CD6=701,\"WON\",\"LOST\")","v":"LOST"},{"$f":"IF('Team 11 - Unused'!CD6>0,1,0)","v":0},{"$f":"IF('Team 11 - Unused'!CH6=701,\"WON\",\"LOST\")","v":"LOST"},{"$f":"IF('Team 11 - Unused'!CH6>0,1,0)","v":0}]
[null,{"$f":"IF('Team 11 - Unused'!B7=701,\"WON\",\"LOST\")","v":"LOST"},{"$f":"IF('Team 11 - Unused'!B7>0,1,0)","v":0},{"$f":"IF('Team 11 - Unused'!F7=701,\"WON\",\"LOST\")","v":"LOST"},{"$f":"IF('Team 11 - Unused'!F7>0,1,0)","v":0},{"$f":"IF('Team 11 - Unused'!J7=701,\"WON\",\"LOST\")","v":"LOST"},{"$f":"IF('Team 11 - Unused'!J7>0,1,0)","v":0},{"$f":"IF('Team 11 - Unused'!N7=701,\"WON\",\"LOST\")","v":"LOST"},{"$f":"IF('Team 11 - Unused'!N7>0,1,0)","v":0},{"$f":"IF('Team 11 - Unused'!R7=701,\"WON\",\"LOST\")","v":"LOST"},{"$f":"IF('Team 11 - Unused'!R7>0,1,0)","v":0},{"$f":"IF('Team 11 - Unused'!V7=701,\"WON\",\"LOST\")","v":"LOST"},{"$f":"IF('Team 11 - Unused'!V7>0,1,0)","v":0},{"$f":"IF('Team 11 - Unused'!Z7=701,\"WON\",\"LOST\")","v":"LOST"},{"$f":"IF('Team 11 - Unused'!Z7>0,1,0)","v":0},{"$f":"IF('Team 11 - Unused'!AD7=701,\"WON\",\"LOST\")","v":"LOST"},{"$f":"IF('Team 11 - Unused'!AD7>0,1,0)","v":0},{"$f":"IF('Team 11 - Unused'!AH7=701,\"WON\",\"LOST\")","v":"LOST"},{"$f":"IF('Team 11 - Unused'!AH7>0,1,0)","v":0},{"$f":"IF('Team 11 - Unused'!AL7=701,\"WON\",\"LOST\")","v":"LOST"},{"$f":"IF('Team 11 - Unused'!AL7>0,1,0)","v":0},{"$f":"IF('Team 11 - Unused'!AP7=701,\"WON\",\"LOST\")","v":"LOST"},{"$f":"IF('Team 11 - Unused'!AP7>0,1,0)","v":0},{"$f":"IF('Team 11 - Unused'!AT7=701,\"WON\",\"LOST\")","v":"LOST"},{"$f":"IF('Team 11 - Unused'!AT7>0,1,0)","v":0},{"$f":"IF('Team 11 - Unused'!AX7=701,\"WON\",\"LOST\")","v":"LOST"},{"$f":"IF('Team 11 - Unused'!AX7>0,1,0)","v":0},{"$f":"IF('Team 11 - Unused'!BB7=701,\"WON\",\"LOST\")","v":"LOST"},{"$f":"IF('Team 11 - Unused'!BB7>0,1,0)","v":0},{"$f":"IF('Team 11 - Unused'!BF7=701,\"WON\",\"LOST\")","v":"LOST"},{"$f":"IF('Team 11 - Unused'!BF7>0,1,0)","v":0},{"$f":"IF('Team 11 - Unused'!BJ7=701,\"WON\",\"LOST\")","v":"LOST"},{"$f":"IF('Team 11 - Unused'!BJ7>0,1,0)","v":0},{"$f":"IF('Team 11 - Unused'!BN7=701,\"WON\",\"LOST\")","v":"LOST"},{"$f":"IF('Team 11 - Unused'!BN7>0,1,0)","v":0},{"$f":"IF('Team 11 - Unused'!BR7=701,\"WON\",\"LOST\")","v":"LOST"},{"$f":"IF('Team 11 - Unused'!BR7>0,1,0)","v":0},{"$f":"IF('Team 11 - Unused'!BV7=701,\"WON\",\"LOST\")","v":"LOST"},{"$f":"IF('Team 11 - Unused'!BV7>0,1,0)","v":0},{"$f":"IF('Team 11 - Unused'!BZ7=701,\"WON\",\"LOST\")","v":"LOST"},{"$f":"IF('Team 11 - Unused'!BZ7>0,1,0)","v":0},{"$f":"IF('Team 11 - Unused'!CD7=701,\"WON\",\"LOST\")","v":"LOST"},{"$f":"IF('Team 11 - Unused'!CD7>0,1,0)","v":0},{"$f":"IF('Team 11 - Unused'!CH7=701,\"WON\",\"LOST\")","v":"LOST"},{"$f":"IF('Team 11 - Unused'!CH7>0,1,0)","v":0}]
[null,{"$f":"IF('Team 11 - Unused'!B8=701,\"WON\",\"LOST\")","v":"LOST"},{"$f":"IF('Team 11 - Unused'!B8>0,1,0)","v":0},{"$f":"IF('Team 11 - Unused'!F8=701,\"WON\",\"LOST\")","v":"LOST"},{"$f":"IF('Team 11 - Unused'!F8>0,1,0)","v":0},{"$f":"IF('Team 11 - Unused'!J8=701,\"WON\",\"LOST\")","v":"LOST"},{"$f":"IF('Team 11 - Unused'!J8>0,1,0)","v":0},{"$f":"IF('Team 11 - Unused'!N8=701,\"WON\",\"LOST\")","v":"LOST"},{"$f":"IF('Team 11 - Unused'!N8>0,1,0)","v":0},{"$f":"IF('Team 11 - Unused'!R8=701,\"WON\",\"LOST\")","v":"LOST"},{"$f":"IF('Team 11 - Unused'!R8>0,1,0)","v":0},{"$f":"IF('Team 11 - Unused'!V8=701,\"WON\",\"LOST\")","v":"LOST"},{"$f":"IF('Team 11 - Unused'!V8>0,1,0)","v":0},{"$f":"IF('Team 11 - Unused'!Z8=701,\"WON\",\"LOST\")","v":"LOST"},{"$f":"IF('Team 11 - Unused'!Z8>0,1,0)","v":0},{"$f":"IF('Team 11 - Unused'!AD8=701,\"WON\",\"LOST\")","v":"LOST"},{"$f":"IF('Team 11 - Unused'!AD8>0,1,0)","v":0},{"$f":"IF('Team 11 - Unused'!AH8=701,\"WON\",\"LOST\")","v":"LOST"},{"$f":"IF('Team 11 - Unused'!AH8>0,1,0)","v":0},{"$f":"IF('Team 11 - Unused'!AL8=701,\"WON\",\"LOST\")","v":"LOST"},{"$f":"IF('Team 11 - Unused'!AL8>0,1,0)","v":0},{"$f":"IF('Team 11 - Unused'!AP8=701,\"WON\",\"LOST\")","v":"LOST"},{"$f":"IF('Team 11 - Unused'!AP8>0,1,0)","v":0},{"$f":"IF('Team 11 - Unused'!AT8=701,\"WON\",\"LOST\")","v":"LOST"},{"$f":"IF('Team 11 - Unused'!AT8>0,1,0)","v":0},{"$f":"IF('Team 11 - Unused'!AX8=701,\"WON\",\"LOST\")","v":"LOST"},{"$f":"IF('Team 11 - Unused'!AX8>0,1,0)","v":0},{"$f":"IF('Team 11 - Unused'!BB8=701,\"WON\",\"LOST\")","v":"LOST"},{"$f":"IF('Team 11 - Unused'!BB8>0,1,0)","v":0},{"$f":"IF('Team 11 - Unused'!BF8=701,\"WON\",\"LOST\")","v":"LOST"},{"$f":"IF('Team 11 - Unused'!BF8>0,1,0)","v":0},{"$f":"IF('Team 11 - Unused'!BJ8=701,\"WON\",\"LOST\")","v":"LOST"},{"$f":"IF('Team 11 - Unused'!BJ8>0,1,0)","v":0},{"$f":"IF('Team 11 - Unused'!BN8=701,\"WON\",\"LOST\")","v":"LOST"},{"$f":"IF('Team 11 - Unused'!BN8>0,1,0)","v":0},{"$f":"IF('Team 11 - Unused'!BR8=701,\"WON\",\"LOST\")","v":"LOST"},{"$f":"IF('Team 11 - Unused'!BR8>0,1,0)","v":0},{"$f":"IF('Team 11 - Unused'!BV8=701,\"WON\",\"LOST\")","v":"LOST"},{"$f":"IF('Team 11 - Unused'!BV8>0,1,0)","v":0},{"$f":"IF('Team 11 - Unused'!BZ8=701,\"WON\",\"LOST\")","v":"LOST"},{"$f":"IF('Team 11 - Unused'!BZ8>0,1,0)","v":0},{"$f":"IF('Team 11 - Unused'!CD8=701,\"WON\",\"LOST\")","v":"LOST"},{"$f":"IF('Team 11 - Unused'!CD8>0,1,0)","v":0},{"$f":"IF('Team 11 - Unused'!CH8=701,\"WON\",\"LOST\")","v":"LOST"},{"$f":"IF('Team 11 - Unused'!CH8>0,1,0)","v":0}]
[null,{"$f":"IF('Team 11 - Unused'!B9=701,\"WON\",\"LOST\")","v":"LOST"},{"$f":"IF('Team 11 - Unused'!B9>0,1,0)","v":0},{"$f":"IF('Team 11 - Unused'!F9=701,\"WON\",\"LOST\")","v":"LOST"},{"$f":"IF('Team 11 - Unused'!F9>0,1,0)","v":0},{"$f":"IF('Team 11 - Unused'!J9=701,\"WON\",\"LOST\")","v":"LOST"},{"$f":"IF('Team 11 - Unused'!J9>0,1,0)","v":0},{"$f":"IF('Team 11 - Unused'!N9=701,\"WON\",\"LOST\")","v":"LOST"},{"$f":"IF('Team 11 - Unused'!N9>0,1,0)","v":0},{"$f":"IF('Team 11 - Unused'!R9=701,\"WON\",\"LOST\")","v":"LOST"},{"$f":"IF('Team 11 - Unused'!R9>0,1,0)","v":0},{"$f":"IF('Team 11 - Unused'!V9=701,\"WON\",\"LOST\")","v":"LOST"},{"$f":"IF('Team 11 - Unused'!V9>0,1,0)","v":0},{"$f":"IF('Team 11 - Unused'!Z9=701,\"WON\",\"LOST\")","v":"LOST"},{"$f":"IF('Team 11 - Unused'!Z9>0,1,0)","v":0},{"$f":"IF('Team 11 - Unused'!AD9=701,\"WON\",\"LOST\")","v":"LOST"},{"$f":"IF('Team 11 - Unused'!AD9>0,1,0)","v":0},{"$f":"IF('Team 11 - Unused'!AH9=701,\"WON\",\"LOST\")","v":"LOST"},{"$f":"IF('Team 11 - Unused'!AH9>0,1,0)","v":0},{"$f":"IF('Team 11 - Unused'!AL9=701,\"WON\",\"LOST\")","v":"LOST"},{"$f":"IF('Team 11 - Unused'!AL9>0,1,0)","v":0},{"$f":"IF('Team 11 - Unused'!AP9=701,\"WON\",\"LOST\")","v":"LOST"},{"$f":"IF('Team 11 - Unused'!AP9>0,1,0)","v":0},{"$f":"IF('Team 11 - Unused'!AT9=701,\"WON\",\"LOST\")","v":"LOST"},{"$f":"IF('Team 11 - Unused'!AT9>0,1,0)","v":0},{"$f":"IF('Team 11 - Unused'!AX9=701,\"WON\",\"LOST\")","v":"LOST"},{"$f":"IF('Team 11 - Unused'!AX9>0,1,0)","v":0},{"$f":"IF('Team 11 - Unused'!BB9=701,\"WON\",\"LOST\")","v":"LOST"},{"$f":"IF('Team 11 - Unused'!BB9>0,1,0)","v":0},{"$f":"IF('Team 11 - Unused'!BF9=701,\"WON\",\"LOST\")","v":"LOST"},{"$f":"IF('Team 11 - Unused'!BF9>0,1,0)","v":0},{"$f":"IF('Team 11 - Unused'!BJ9=701,\"WON\",\"LOST\")","v":"LOST"},{"$f":"IF('Team 11 - Unused'!BJ9>0,1,0)","v":0},{"$f":"IF('Team 11 - Unused'!BN9=701,\"WON\",\"LOST\")","v":"LOST"},{"$f":"IF('Team 11 - Unused'!BN9>0,1,0)","v":0},{"$f":"IF('Team 11 - Unused'!BR9=701,\"WON\",\"LOST\")","v":"LOST"},{"$f":"IF('Team 11 - Unused'!BR9>0,1,0)","v":0},{"$f":"IF('Team 11 - Unused'!BV9=701,\"WON\",\"LOST\")","v":"LOST"},{"$f":"IF('Team 11 - Unused'!BV9>0,1,0)","v":0},{"$f":"IF('Team 11 - Unused'!BZ9=701,\"WON\",\"LOST\")","v":"LOST"},{"$f":"IF('Team 11 - Unused'!BZ9>0,1,0)","v":0},{"$f":"IF('Team 11 - Unused'!CD9=701,\"WON\",\"LOST\")","v":"LOST"},{"$f":"IF('Team 11 - Unused'!CD9>0,1,0)","v":0},{"$f":"IF('Team 11 - Unused'!CH9=701,\"WON\",\"LOST\")","v":"LOST"},{"$f":"IF('Team 11 - Unused'!CH9>0,1,0)","v":0}]
[null,{"$f":"IF('Team 11 - Unused'!B10=701,\"WON\",\"LOST\")","v":"LOST"},{"$f":"IF('Team 11 - Unused'!B10>0,1,0)","v":0},{"$f":"IF('Team 11 - Unused'!F10=701,\"WON\",\"LOST\")","v":"LOST"},{"$f":"IF('Team 11 - Unused'!F10>0,1,0)","v":0},{"$f":"IF('Team 11 - Unused'!J10=701,\"WON\",\"LOST\")","v":"LOST"},{"$f":"IF('Team 11 - Unused'!J10>0,1,0)","v":0},{"$f":"IF('Team 11 - Unused'!N10=701,\"WON\",\"LOST\")","v":"LOST"},{"$f":"IF('Team 11 - Unused'!N10>0,1,0)","v":0},{"$f":"IF('Team 11 - Unused'!R10=701,\"WON\",\"LOST\")","v":"LOST"},{"$f":"IF('Team 11 - Unused'!R10>0,1,0)","v":0},{"$f":"IF('Team 11 - Unused'!V10=701,\"WON\",\"LOST\")","v":"LOST"},{"$f":"IF('Team 11 - Unused'!V10>0,1,0)","v":0},{"$f":"IF('Team 11 - Unused'!Z10=701,\"WON\",\"LOST\")","v":"LOST"},{"$f":"IF('Team 11 - Unused'!Z10>0,1,0)","v":0},{"$f":"IF('Team 11 - Unused'!AD10=701,\"WON\",\"LOST\")","v":"LOST"},{"$f":"IF('Team 11 - Unused'!AD10>0,1,0)","v":0},{"$f":"IF('Team 11 - Unused'!AH10=701,\"WON\",\"LOST\")","v":"LOST"},{"$f":"IF('Team 11 - Unused'!AH10>0,1,0)","v":0},{"$f":"IF('Team 11 - Unused'!AL10=701,\"WON\",\"LOST\")","v":"LOST"},{"$f":"IF('Team 11 - Unused'!AL10>0,1,0)","v":0},{"$f":"IF('Team 11 - Unused'!AP10=701,\"WON\",\"LOST\")","v":"LOST"},{"$f":"IF('Team 11 - Unused'!AP10>0,1,0)","v":0},{"$f":"IF('Team 11 - Unused'!AT10=701,\"WON\",\"LOST\")","v":"LOST"},{"$f":"IF('Team 11 - Unused'!AT10>0,1,0)","v":0},{"$f":"IF('Team 11 - Unused'!AX10=701,\"WON\",\"LOST\")","v":"LOST"},{"$f":"IF('Team 11 - Unused'!AX10>0,1,0)","v":0},{"$f":"IF('Team 11 - Unused'!BB10=701,\"WON\",\"LOST\")","v":"LOST"},{"$f":"IF('Team 11 - Unused'!BB10>0,1,0)","v":0},{"$f":"IF('Team 11 - Unused'!BF10=701,\"WON\",\"LOST\")","v":"LOST"},{"$f":"IF('Team 11 - Unused'!BF10>0,1,0)","v":0},{"$f":"IF('Team 11 - Unused'!BJ10=701,\"WON\",\"LOST\")","v":"LOST"},{"$f":"IF('Team 11 - Unused'!BJ10>0,1,0)","v":0},{"$f":"IF('Team 11 - Unused'!BN10=701,\"WON\",\"LOST\")","v":"LOST"},{"$f":"IF('Team 11 - Unused'!BN10>0,1,0)","v":0},{"$f":"IF('Team 11 - Unused'!BR10=701,\"WON\",\"LOST\")","v":"LOST"},{"$f":"IF('Team 11 - Unused'!BR10>0,1,0)","v":0},{"$f":"IF('Team 11 - Unused'!BV10=701,\"WON\",\"LOST\")","v":"LOST"},{"$f":"IF('Team 11 - Unused'!BV10>0,1,0)","v":0},{"$f":"IF('Team 11 - Unused'!BZ10=701,\"WON\",\"LOST\")","v":"LOST"},{"$f":"IF('Team 11 - Unused'!BZ10>0,1,0)","v":0},{"$f":"IF('Team 11 - Unused'!CD10=701,\"WON\",\"LOST\")","v":"LOST"},{"$f":"IF('Team 11 - Unused'!CD10>0,1,0)","v":0},{"$f":"IF('Team 11 - Unused'!CH10=701,\"WON\",\"LOST\")","v":"LOST"},{"$f":"IF('Team 11 - Unused'!CH10>0,1,0)","v":0}]
[null,{"$f":"IF('Team 11 - Unused'!B11=701,\"WON\",\"LOST\")","v":"LOST"},{"$f":"IF('Team 11 - Unused'!B11>0,1,0)","v":0},{"$f":"IF('Team 11 - Unused'!F11=701,\"WON\",\"LOST\")","v":"LOST"},{"$f":"IF('Team 11 - Unused'!F11>0,1,0)","v":0},{"$f":"IF('Team 11 - Unused'!J11=701,\"WON\",\"LOST\")","v":"LOST"},{"$f":"IF('Team 11 - Unused'!J11>0,1,0)","v":0},{"$f":"IF('Team 11 - Unused'!N11=701,\"WON\",\"LOST\")","v":"LOST"},{"$f":"IF('Team 11 - Unused'!N11>0,1,0)","v":0},{"$f":"IF('Team 11 - Unused'!R11=701,\"WON\",\"LOST\")","v":"LOST"},{"$f":"IF('Team 11 - Unused'!R11>0,1,0)","v":0},{"$f":"IF('Team 11 - Unused'!V11=701,\"WON\",\"LOST\")","v":"LOST"},{"$f":"IF('Team 11 - Unused'!V11>0,1,0)","v":0},{"$f":"IF('Team 11 - Unused'!Z11=701,\"WON\",\"LOST\")","v":"LOST"},{"$f":"IF('Team 11 - Unused'!Z11>0,1,0)","v":0},{"$f":"IF('Team 11 - Unused'!AD11=701,\"WON\",\"LOST\")","v":"LOST"},{"$f":"IF('Team 11 - Unused'!AD11>0,1,0)","v":0},{"$f":"IF('Team 11 - Unused'!AH11=701,\"WON\",\"LOST\")","v":"LOST"},{"$f":"IF('Team 11 - Unused'!AH11>0,1,0)","v":0},{"$f":"IF('Team 11 - Unused'!AL11=701,\"WON\",\"LOST\")","v":"LOST"},{"$f":"IF('Team 11 - Unused'!AL11>0,1,0)","v":0},{"$f":"IF('Team 11 - Unused'!AP11=701,\"WON\",\"LOST\")","v":"LOST"},{"$f":"IF('Team 11 - Unused'!AP11>0,1,0)","v":0},{"$f":"IF('Team 11 - Unused'!AT11=701,\"WON\",\"LOST\")","v":"LOST"},{"$f":"IF('Team 11 - Unused'!AT11>0,1,0)","v":0},{"$f":"IF('Team 11 - Unused'!AX11=701,\"WON\",\"LOST\")","v":"LOST"},{"$f":"IF('Team 11 - Unused'!AX11>0,1,0)","v":0},{"$f":"IF('Team 11 - Unused'!BB11=701,\"WON\",\"LOST\")","v":"LOST"},{"$f":"IF('Team 11 - Unused'!BB11>0,1,0)","v":0},{"$f":"IF('Team 11 - Unused'!BF11=701,\"WON\",\"LOST\")","v":"LOST"},{"$f":"IF('Team 11 - Unused'!BF11>0,1,0)","v":0},{"$f":"IF('Team 11 - Unused'!BJ11=701,\"WON\",\"LOST\")","v":"LOST"},{"$f":"IF('Team 11 - Unused'!BJ11>0,1,0)","v":0},{"$f":"IF('Team 11 - Unused'!BN11=701,\"WON\",\"LOST\")","v":"LOST"},{"$f":"IF('Team 11 - Unused'!BN11>0,1,0)","v":0},{"$f":"IF('Team 11 - Unused'!BR11=701,\"WON\",\"LOST\")","v":"LOST"},{"$f":"IF('Team 11 - Unused'!BR11>0,1,0)","v":0},{"$f":"IF('Team 11 - Unused'!BV11=701,\"WON\",\"LOST\")","v":"LOST"},{"$f":"IF('Team 11 - Unused'!BV11>0,1,0)","v":0},{"$f":"IF('Team 11 - Unused'!BZ11=701,\"WON\",\"LOST\")","v":"LOST"},{"$f":"IF('Team 11 - Unused'!BZ11>0,1,0)","v":0},{"$f":"IF('Team 11 - Unused'!CD11=701,\"WON\",\"LOST\")","v":"LOST"},{"$f":"IF('Team 11 - Unused'!CD11>0,1,0)","v":0},{"$f":"IF('Team 11 - Unused'!CH11=701,\"WON\",\"LOST\")","v":"LOST"},{"$f":"IF('Team 11 - Unused'!CH11>0,1,0)","v":0}]
[null,{"$f":"IF('Team 11 - Unused'!B12=701,\"WON\",\"LOST\")","v":"LOST"},{"$f":"IF('Team 11 - Unused'!B12>0,1,0)","v":0},{"$f":"IF('Team 11 - Unused'!F12=701,\"WON\",\"LOST\")","v":"LOST"},{"$f":"IF('Team 11 - Unused'!F12>0,1,0)","v":0},{"$f":"IF('Team 11 - Unused'!J12=701,\"WON\",\"LOST\")","v":"LOST"},{"$f":"IF('Team 11 - Unused'!J12>0,1,0)","v":0},{"$f":"IF('Team 11 - Unused'!N12=701,\"WON\",\"LOST\")","v":"LOST"},{"$f":"IF('Team 11 - Unused'!N12>0,1,0)","v":0},{"$f":"IF('Team 11 - Unused'!R12=701,\"WON\",\"LOST\")","v":"LOST"},{"$f":"IF('Team 11 - Unused'!R12>0,1,0)","v":0},{"$f":"IF('Team 11 - Unused'!V12=701,\"WON\",\"LOST\")","v":"LOST"},{"$f":"IF('Team 11 - Unused'!V12>0,1,0)","v":0},{"$f":"IF('Team 11 - Unused'!Z12=701,\"WON\",\"LOST\")","v":"LOST"},{"$f":"IF('Team 11 - Unused'!Z12>0,1,0)","v":0},{"$f":"IF('Team 11 - Unused'!AD12=701,\"WON\",\"LOST\")","v":"LOST"},{"$f":"IF('Team 11 - Unused'!AD12>0,1,0)","v":0},{"$f":"IF('Team 11 - Unused'!AH12=701,\"WON\",\"LOST\")","v":"LOST"},{"$f":"IF('Team 11 - Unused'!AH12>0,1,0)","v":0},{"$f":"IF('Team 11 - Unused'!AL12=701,\"WON\",\"LOST\")","v":"LOST"},{"$f":"IF('Team 11 - Unused'!AL12>0,1,0)","v":0},{"$f":"IF('Team 11 - Unused'!AP12=701,\"WON\",\"LOST\")","v":"LOST"},{"$f":"IF('Team 11 - Unused'!AP12>0,1,0)","v":0},{"$f":"IF('Team 11 - Unused'!AT12=701,\"WON\",\"LOST\")","v":"LOST"},{"$f":"IF('Team 11 - Unused'!AT12>0,1,0)","v":0},{"$f":"IF('Team 11 - Unused'!AX12=701,\"WON\",\"LOST\")","v":"LOST"},{"$f":"IF('Team 11 - Unused'!AX12>0,1,0)","v":0},{"$f":"IF('Team 11 - Unused'!BB12=701,\"WON\",\"LOST\")","v":"LOST"},{"$f":"IF('Team 11 - Unused'!BB12>0,1,0)","v":0},{"$f":"IF('Team 11 - Unused'!BF12=701,\"WON\",\"LOST\")","v":"LOST"},{"$f":"IF('Team 11 - Unused'!BF12>0,1,0)","v":0},{"$f":"IF('Team 11 - Unused'!BJ12=701,\"WON\",\"LOST\")","v":"LOST"},{"$f":"IF('Team 11 - Unused'!BJ12>0,1,0)","v":0},{"$f":"IF('Team 11 - Unused'!BN12=701,\"WON\",\"LOST\")","v":"LOST"},{"$f":"IF('Team 11 - Unused'!BN12>0,1,0)","v":0},{"$f":"IF('Team 11 - Unused'!BR12=701,\"WON\",\"LOST\")","v":"LOST"},{"$f":"IF('Team 11 - Unused'!BR12>0,1,0)","v":0},{"$f":"IF('Team 11 - Unused'!BV12=701,\"WON\",\"LOST\")","v":"LOST"},{"$f":"IF('Team 11 - Unused'!BV12>0,1,0)","v":0},{"$f":"IF('Team 11 - Unused'!BZ12=701,\"WON\",\"LOST\")","v":"LOST"},{"$f":"IF('Team 11 - Unused'!BZ12>0,1,0)","v":0},{"$f":"IF('Team 11 - Unused'!CD12=701,\"WON\",\"LOST\")","v":"LOST"},{"$f":"IF('Team 11 - Unused'!CD12>0,1,0)","v":0},{"$f":"IF('Team 11 - Unused'!CH12=701,\"WON\",\"LOST\")","v":"LOST"},{"$f":"IF('Team 11 - Unused'!CH12>0,1,0)","v":0}]
[null,{"$f":"IF('Team 11 - Unused'!B13=701,\"WON\",\"LOST\")","v":"LOST"},{"$f":"IF('Team 11 - Unused'!B13>0,1,0)","v":0},{"$f":"IF('Team 11 - Unused'!F13=701,\"WON\",\"LOST\")","v":"LOST"},{"$f":"IF('Team 11 - Unused'!F13>0,1,0)","v":0},{"$f":"IF('Team 11 - Unused'!J13=701,\"WON\",\"LOST\")","v":"LOST"},{"$f":"IF('Team 11 - Unused'!J13>0,1,0)","v":0},{"$f":"IF('Team 11 - Unused'!N13=701,\"WON\",\"LOST\")","v":"LOST"},{"$f":"IF('Team 11 - Unused'!N13>0,1,0)","v":0},{"$f":"IF('Team 11 - Unused'!R13=701,\"WON\",\"LOST\")","v":"LOST"},{"$f":"IF('Team 11 - Unused'!R13>0,1,0)","v":0},{"$f":"IF('Team 11 - Unused'!V13=701,\"WON\",\"LOST\")","v":"LOST"},{"$f":"IF('Team 11 - Unused'!V13>0,1,0)","v":0},{"$f":"IF('Team 11 - Unused'!Z13=701,\"WON\",\"LOST\")","v":"LOST"},{"$f":"IF('Team 11 - Unused'!Z13>0,1,0)","v":0},{"$f":"IF('Team 11 - Unused'!AD13=701,\"WON\",\"LOST\")","v":"LOST"},{"$f":"IF('Team 11 - Unused'!AD13>0,1,0)","v":0},{"$f":"IF('Team 11 - Unused'!AH13=701,\"WON\",\"LOST\")","v":"LOST"},{"$f":"IF('Team 11 - Unused'!AH13>0,1,0)","v":0},{"$f":"IF('Team 11 - Unused'!AL13=701,\"WON\",\"LOST\")","v":"LOST"},{"$f":"IF('Team 11 - Unused'!AL13>0,1,0)","v":0},{"$f":"IF('Team 11 - Unused'!AP13=701,\"WON\",\"LOST\")","v":"LOST"},{"$f":"IF('Team 11 - Unused'!AP13>0,1,0)","v":0},{"$f":"IF('Team 11 - Unused'!AT13=701,\"WON\",\"LOST\")","v":"LOST"},{"$f":"IF('Team 11 - Unused'!AT13>0,1,0)","v":0},{"$f":"IF('Team 11 - Unused'!AX13=701,\"WON\",\"LOST\")","v":"LOST"},{"$f":"IF('Team 11 - Unused'!AX13>0,1,0)","v":0},{"$f":"IF('Team 11 - Unused'!BB13=701,\"WON\",\"LOST\")","v":"LOST"},{"$f":"IF('Team 11 - Unused'!BB13>0,1,0)","v":0},{"$f":"IF('Team 11 - Unused'!BF13=701,\"WON\",\"LOST\")","v":"LOST"},{"$f":"IF('Team 11 - Unused'!BF13>0,1,0)","v":0},{"$f":"IF('Team 11 - Unused'!BJ13=701,\"WON\",\"LOST\")","v":"LOST"},{"$f":"IF('Team 11 - Unused'!BJ13>0,1,0)","v":0},{"$f":"IF('Team 11 - Unused'!BN13=701,\"WON\",\"LOST\")","v":"LOST"},{"$f":"IF('Team 11 - Unused'!BN13>0,1,0)","v":0},{"$f":"IF('Team 11 - Unused'!BR13=701,\"WON\",\"LOST\")","v":"LOST"},{"$f":"IF('Team 11 - Unused'!BR13>0,1,0)","v":0},{"$f":"IF('Team 11 - Unused'!BV13=701,\"WON\",\"LOST\")","v":"LOST"},{"$f":"IF('Team 11 - Unused'!BV13>0,1,0)","v":0},{"$f":"IF('Team 11 - Unused'!BZ13=701,\"WON\",\"LOST\")","v":"LOST"},{"$f":"IF('Team 11 - Unused'!BZ13>0,1,0)","v":0},{"$f":"IF('Team 11 - Unused'!CD13=701,\"WON\",\"LOST\")","v":"LOST"},{"$f":"IF('Team 11 - Unused'!CD13>0,1,0)","v":0},{"$f":"IF('Team 11 - Unused'!CH13=701,\"WON\",\"LOST\")","v":"LOST"},{"$f":"IF('Team 11 - Unused'!CH13>0,1,0)","v":0}]
[null,{"$f":"IF('Team 11 - Unused'!B14=701,\"WON\",\"LOST\")","v":"LOST"},{"$f":"IF('Team 11 - Unused'!B14>0,1,0)","v":0},{"$f":"IF('Team 11 - Unused'!F14=701,\"WON\",\"LOST\")","v":"LOST"},{"$f":"IF('Team 11 - Unused'!F14>0,1,0)","v":0},{"$f":"IF('Team 11 - Unused'!J14=701,\"WON\",\"LOST\")","v":"LOST"},{"$f":"IF('Team 11 - Unused'!J14>0,1,0)","v":0},{"$f":"IF('Team 11 - Unused'!N14=701,\"WON\",\"LOST\")","v":"LOST"},{"$f":"IF('Team 11 - Unused'!N14>0,1,0)","v":0},{"$f":"IF('Team 11 - Unused'!R14=701,\"WON\",\"LOST\")","v":"LOST"},{"$f":"IF('Team 11 - Unused'!R14>0,1,0)","v":0},{"$f":"IF('Team 11 - Unused'!V14=701,\"WON\",\"LOST\")","v":"LOST"},{"$f":"IF('Team 11 - Unused'!V14>0,1,0)","v":0},{"$f":"IF('Team 11 - Unused'!Z14=701,\"WON\",\"LOST\")","v":"LOST"},{"$f":"IF('Team 11 - Unused'!Z14>0,1,0)","v":0},{"$f":"IF('Team 11 - Unused'!AD14=701,\"WON\",\"LOST\")","v":"LOST"},{"$f":"IF('Team 11 - Unused'!AD14>0,1,0)","v":0},{"$f":"IF('Team 11 - Unused'!AH14=701,\"WON\",\"LOST\")","v":"LOST"},{"$f":"IF('Team 11 - Unused'!AH14>0,1,0)","v":0},{"$f":"IF('Team 11 - Unused'!AL14=701,\"WON\",\"LOST\")","v":"LOST"},{"$f":"IF('Team 11 - Unused'!AL14>0,1,0)","v":0},{"$f":"IF('Team 11 - Unused'!AP14=701,\"WON\",\"LOST\")","v":"LOST"},{"$f":"IF('Team 11 - Unused'!AP14>0,1,0)","v":0},{"$f":"IF('Team 11 - Unused'!AT14=701,\"WON\",\"LOST\")","v":"LOST"},{"$f":"IF('Team 11 - Unused'!AT14>0,1,0)","v":0},{"$f":"IF('Team 11 - Unused'!AX14=701,\"WON\",\"LOST\")","v":"LOST"},{"$f":"IF('Team 11 - Unused'!AX14>0,1,0)","v":0},{"$f":"IF('Team 11 - Unused'!BB14=701,\"WON\",\"LOST\")","v":"LOST"},{"$f":"IF('Team 11 - Unused'!BB14>0,1,0)","v":0},{"$f":"IF('Team 11 - Unused'!BF14=701,\"WON\",\"LOST\")","v":"LOST"},{"$f":"IF('Team 11 - Unused'!BF14>0,1,0)","v":0},{"$f":"IF('Team 11 - Unused'!BJ14=701,\"WON\",\"LOST\")","v":"LOST"},{"$f":"IF('Team 11 - Unused'!BJ14>0,1,0)","v":0},{"$f":"IF('Team 11 - Unused'!BN14=701,\"WON\",\"LOST\")","v":"LOST"},{"$f":"IF('Team 11 - Unused'!BN14>0,1,0)","v":0},{"$f":"IF('Team 11 - Unused'!BR14=701,\"WON\",\"LOST\")","v":"LOST"},{"$f":"IF('Team 11 - Unused'!BR14>0,1,0)","v":0},{"$f":"IF('Team 11 - Unused'!BV14=701,\"WON\",\"LOST\")","v":"LOST"},{"$f":"IF('Team 11 - Unused'!BV14>0,1,0)","v":0},{"$f":"IF('Team 11 - Unused'!BZ14=701,\"WON\",\"LOST\")","v":"LOST"},{"$f":"IF('Team 11 - Unused'!BZ14>0,1,0)","v":0},{"$f":"IF('Team 11 - Unused'!CD14=701,\"WON\",\"LOST\")","v":"LOST"},{"$f":"IF('Team 11 - Unused'!CD14>0,1,0)","v":0},{"$f":"IF('Team 11 - Unused'!CH14=701,\"WON\",\"LOST\")","v":"LOST"},{"$f":"IF('Team 11 - Unused'!CH14>0,1,0)","v":0}]
[null,{"$f":"IF('Team 11 - Unused'!B3=\"\",0,(SUM(('Team 11 - Unused'!B3/'Team 11 - Unused'!C3)*3)))","v":0},null,{"$f":"IF('Team 11 - Unused'!F3=\"\",0,(SUM(('Team 11 - Unused'!F3/'Team 11 - Unused'!G3)*3)))","v":0},null,{"$f":"IF('Team 11 - Unused'!J3=\"\",0,(SUM(('Team 11 - Unused'!J3/'Team 11 - Unused'!K3)*3)))","v":0},null,{"$f":"IF('Team 11 - Unused'!N3=\"\",0,(SUM(('Team 11 - Unused'!N3/'Team 11 - Unused'!O3)*3)))","v":0},null,{"$f":"IF('Team 11 - Unused'!R3=\"\",0,(SUM(('Team 11 - Unused'!R3/'Team 11 - Unused'!S3)*3)))","v":0},null,{"$f":"IF('Team 11 - Unused'!V3=\"\",0,(SUM(('Team 11 - Unused'!V3/'Team 11 - Unused'!W3)*3)))","v":0},null,{"$f":"IF('Team 11 - Unused'!Z3=\"\",0,(SUM(('Team 11 - Unused'!Z3/'Team 11 - Unused'!AA3)*3)))","v":0},null,{"$f":"IF('Team 11 - Unused'!AD3=\"\",0,(SUM(('Team 11 - Unused'!AD3/'Team 11 - Unused'!AE3)*3)))","v":0},null,{"$f":"IF('Team 11 - Unused'!AH3=\"\",0,(SUM(('Team 11 - Unused'!AH3/'Team 11 - Unused'!AI3)*3)))","v":0},null,{"$f":"IF('Team 11 - Unused'!AL3=\"\",0,(SUM(('Team 11 - Unused'!AL3/'Team 11 - Unused'!AM3)*3)))","v":0},null,{"$f":"IF('Team 11 - Unused'!AP3=\"\",0,(SUM(('Team 11 - Unused'!AP3/'Team 11 - Unused'!AQ3)*3)))","v":0},null,{"$f":"IF('Team 11 - Unused'!AT3=\"\",0,(SUM(('Team 11 - Unused'!AT3/'Team 11 - Unused'!AU3)*3)))","v":0},null,{"$f":"IF('Team 11 - Unused'!AX3=\"\",0,(SUM(('Team 11 - Unused'!AX3/'Team 11 - Unused'!AY3)*3)))","v":0},null,{"$f":"IF('Team 11 - Unused'!BB3=\"\",0,(SUM(('Team 11 - Unused'!BB3/'Team 11 - Unused'!BC3)*3)))","v":0},null,{"$f":"IF('Team 11 - Unused'!BF3=\"\",0,(SUM(('Team 11 - Unused'!BF3/'Team 11 - Unused'!BG3)*3)))","v":0},null,{"$f":"IF('Team 11 - Unused'!BJ3=\"\",0,(SUM(('Team 11 - Unused'!BJ3/'Team 11 - Unused'!BK3)*3)))","v":0},null,{"$f":"IF('Team 11 - Unused'!BN3=\"\",0,(SUM(('Team 11 - Unused'!BN3/'Team 11 - Unused'!BO3)*3)))","v":0},null,{"$f":"IF('Team 11 - Unused'!BR3=\"\",0,(SUM(('Team 11 - Unused'!BR3/'Team 11 - Unused'!BS3)*3)))","v":0},null,{"$f":"IF('Team 11 - Unused'!BV3=\"\",0,(SUM(('Team 11 - Unused'!BV3/'Team 11 - Unused'!BW3)*3)))","v":0},null,{"$f":"IF('Team 11 - Unused'!BZ3=\"\",0,(SUM(('Team 11 - Unused'!BZ3/'Team 11 - Unused'!CA3)*3)))","v":0},null,{"$f":"IF('Team 11 - Unused'!CD3=\"\",0,(SUM(('Team 11 - Unused'!CD3/'Team 11 - Unused'!CE3)*3)))","v":0},null,{"$f":"IF('Team 11 - Unused'!CH3=\"\",0,(SUM(('Team 11 - Unused'!CH3/'Team 11 - Unused'!CI3)*3)))","v":0}]
[null,{"$f":"IF('Team 11 - Unused'!B4=\"\",0,(SUM(('Team 11 - Unused'!B4/'Team 11 - Unused'!C4)*3)))","v":0},null,{"$f":"IF('Team 11 - Unused'!F4=\"\",0,(SUM(('Team 11 - Unused'!F4/'Team 11 - Unused'!G4)*3)))","v":0},null,{"$f":"IF('Team 11 - Unused'!J4=\"\",0,(SUM(('Team 11 - Unused'!J4/'Team 11 - Unused'!K4)*3)))","v":0},null,{"$f":"IF('Team 11 - Unused'!N4=\"\",0,(SUM(('Team 11 - Unused'!N4/'Team 11 - Unused'!O4)*3)))","v":0},null,{"$f":"IF('Team 11 - Unused'!R4=\"\",0,(SUM(('Team 11 - Unused'!R4/'Team 11 - Unused'!S4)*3)))","v":0},null,{"$f":"IF('Team 11 - Unused'!V4=\"\",0,(SUM(('Team 11 - Unused'!V4/'Team 11 - Unused'!W4)*3)))","v":0},null,{"$f":"IF('Team 11 - Unused'!Z4=\"\",0,(SUM(('Team 11 - Unused'!Z4/'Team 11 - Unused'!AA4)*3)))","v":0},null,{"$f":"IF('Team 11 - Unused'!AD4=\"\",0,(SUM(('Team 11 - Unused'!AD4/'Team 11 - Unused'!AE4)*3)))","v":0},null,{"$f":"IF('Team 11 - Unused'!AH4=\"\",0,(SUM(('Team 11 - Unused'!AH4/'Team 11 - Unused'!AI4)*3)))","v":0},null,{"$f":"IF('Team 11 - Unused'!AL4=\"\",0,(SUM(('Team 11 - Unused'!AL4/'Team 11 - Unused'!AM4)*3)))","v":0},null,{"$f":"IF('Team 11 - Unused'!AP4=\"\",0,(SUM(('Team 11 - Unused'!AP4/'Team 11 - Unused'!AQ4)*3)))","v":0},null,{"$f":"IF('Team 11 - Unused'!AT4=\"\",0,(SUM(('Team 11 - Unused'!AT4/'Team 11 - Unused'!AU4)*3)))","v":0},null,{"$f":"IF('Team 11 - Unused'!AX4=\"\",0,(SUM(('Team 11 - Unused'!AX4/'Team 11 - Unused'!AY4)*3)))","v":0},null,{"$f":"IF('Team 11 - Unused'!BB4=\"\",0,(SUM(('Team 11 - Unused'!BB4/'Team 11 - Unused'!BC4)*3)))","v":0},null,{"$f":"IF('Team 11 - Unused'!BF4=\"\",0,(SUM(('Team 11 - Unused'!BF4/'Team 11 - Unused'!BG4)*3)))","v":0},null,{"$f":"IF('Team 11 - Unused'!BJ4=\"\",0,(SUM(('Team 11 - Unused'!BJ4/'Team 11 - Unused'!BK4)*3)))","v":0},null,{"$f":"IF('Team 11 - Unused'!BN4=\"\",0,(SUM(('Team 11 - Unused'!BN4/'Team 11 - Unused'!BO4)*3)))","v":0},null,{"$f":"IF('Team 11 - Unused'!BR4=\"\",0,(SUM(('Team 11 - Unused'!BR4/'Team 11 - Unused'!BS4)*3)))","v":0},null,{"$f":"IF('Team 11 - Unused'!BV4=\"\",0,(SUM(('Team 11 - Unused'!BV4/'Team 11 - Unused'!BW4)*3)))","v":0},null,{"$f":"IF('Team 11 - Unused'!BZ4=\"\",0,(SUM(('Team 11 - Unused'!BZ4/'Team 11 - Unused'!CA4)*3)))","v":0},null,{"$f":"IF('Team 11 - Unused'!CD4=\"\",0,(SUM(('Team 11 - Unused'!CD4/'Team 11 - Unused'!CE4)*3)))","v":0},null,{"$f":"IF('Team 11 - Unused'!CH4=\"\",0,(SUM(('Team 11 - Unused'!CH4/'Team 11 - Unused'!CI4)*3)))","v":0}]
[null,{"$f":"IF('Team 11 - Unused'!B5=\"\",0,(SUM(('Team 11 - Unused'!B5/'Team 11 - Unused'!C5)*3)))","v":0},null,{"$f":"IF('Team 11 - Unused'!F5=\"\",0,(SUM(('Team 11 - Unused'!F5/'Team 11 - Unused'!G5)*3)))","v":0},null,{"$f":"IF('Team 11 - Unused'!J5=\"\",0,(SUM(('Team 11 - Unused'!J5/'Team 11 - Unused'!K5)*3)))","v":0},null,{"$f":"IF('Team 11 - Unused'!N5=\"\",0,(SUM(('Team 11 - Unused'!N5/'Team 11 - Unused'!O5)*3)))","v":0},null,{"$f":"IF('Team 11 - Unused'!R5=\"\",0,(SUM(('Team 11 - Unused'!R5/'Team 11 - Unused'!S5)*3)))","v":0},null,{"$f":"IF('Team 11 - Unused'!V5=\"\",0,(SUM(('Team 11 - Unused'!V5/'Team 11 - Unused'!W5)*3)))","v":0},null,{"$f":"IF('Team 11 - Unused'!Z5=\"\",0,(SUM(('Team 11 - Unused'!Z5/'Team 11 - Unused'!AA5)*3)))","v":0},null,{"$f":"IF('Team 11 - Unused'!AD5=\"\",0,(SUM(('Team 11 - Unused'!AD5/'Team 11 - Unused'!AE5)*3)))","v":0},null,{"$f":"IF('Team 11 - Unused'!AH5=\"\",0,(SUM(('Team 11 - Unused'!AH5/'Team 11 - Unused'!AI5)*3)))","v":0},null,{"$f":"IF('Team 11 - Unused'!AL5=\"\",0,(SUM(('Team 11 - Unused'!AL5/'Team 11 - Unused'!AM5)*3)))","v":0},null,{"$f":"IF('Team 11 - Unused'!AP5=\"\",0,(SUM(('Team 11 - Unused'!AP5/'Team 11 - Unused'!AQ5)*3)))","v":0},null,{"$f":"IF('Team 11 - Unused'!AT5=\"\",0,(SUM(('Team 11 - Unused'!AT5/'Team 11 - Unused'!AU5)*3)))","v":0},null,{"$f":"IF('Team 11 - Unused'!AX5=\"\",0,(SUM(('Team 11 - Unused'!AX5/'Team 11 - Unused'!AY5)*3)))","v":0},null,{"$f":"IF('Team 11 - Unused'!BB5=\"\",0,(SUM(('Team 11 - Unused'!BB5/'Team 11 - Unused'!BC5)*3)))","v":0},null,{"$f":"IF('Team 11 - Unused'!BF5=\"\",0,(SUM(('Team 11 - Unused'!BF5/'Team 11 - Unused'!BG5)*3)))","v":0},null,{"$f":"IF('Team 11 - Unused'!BJ5=\"\",0,(SUM(('Team 11 - Unused'!BJ5/'Team 11 - Unused'!BK5)*3)))","v":0},null,{"$f":"IF('Team 11 - Unused'!BN5=\"\",0,(SUM(('Team 11 - Unused'!BN5/'Team 11 - Unused'!BO5)*3)))","v":0},null,{"$f":"IF('Team 11 - Unused'!BR5=\"\",0,(SUM(('Team 11 - Unused'!BR5/'Team 11 - Unused'!BS5)*3)))","v":0},null,{"$f":"IF('Team 11 - Unused'!BV5=\"\",0,(SUM(('Team 11 - Unused'!BV5/'Team 11 - Unused'!BW5)*3)))","v":0},null,{"$f":"IF('Team 11 - Unused'!BZ5=\"\",0,(SUM(('Team 11 - Unused'!BZ5/'Team 11 - Unused'!CA5)*3)))","v":0},null,{"$f":"IF('Team 11 - Unused'!CD5=\"\",0,(SUM(('Team 11 - Unused'!CD5/'Team 11 - Unused'!CE5)*3)))","v":0},null,{"$f":"IF('Team 11 - Unused'!CH5=\"\",0,(SUM(('Team 11 - Unused'!CH5/'Team 11 - Unused'!CI5)*3)))","v":0}]
[null,{"$f":"IF('Team 11 - Unused'!B6=\"\",0,(SUM(('Team 11 - Unused'!B6/'Team 11 - Unused'!C6)*3)))","v":0},null,{"$f":"IF('Team 11 - Unused'!F6=\"\",0,(SUM(('Team 11 - Unused'!F6/'Team 11 - Unused'!G6)*3)))","v":0},null,{"$f":"IF('Team 11 - Unused'!J6=\"\",0,(SUM(('Team 11 - Unused'!J6/'Team 11 - Unused'!K6)*3)))","v":0},null,{"$f":"IF('Team 11 - Unused'!N6=\"\",0,(SUM(('Team 11 - Unused'!N6/'Team 11 - Unused'!O6)*3)))","v":0},null,{"$f":"IF('Team 11 - Unused'!R6=\"\",0,(SUM(('Team 11 - Unused'!R6/'Team 11 - Unused'!S6)*3)))","v":0},null,{"$f":"IF('Team 11 - Unused'!V6=\"\",0,(SUM(('Team 11 - Unused'!V6/'Team 11 - Unused'!W6)*3)))","v":0},null,{"$f":"IF('Team 11 - Unused'!Z6=\"\",0,(SUM(('Team 11 - Unused'!Z6/'Team 11 - Unused'!AA6)*3)))","v":0},null,{"$f":"IF('Team 11 - Unused'!AD6=\"\",0,(SUM(('Team 11 - Unused'!AD6/'Team 11 - Unused'!AE6)*3)))","v":0},null,{"$f":"IF('Team 11 - Unused'!AH6=\"\",0,(SUM(('Team 11 - Unused'!AH6/'Team 11 - Unused'!AI6)*3)))","v":0},null,{"$f":"IF('Team 11 - Unused'!AL6=\"\",0,(SUM(('Team 11 - Unused'!AL6/'Team 11 - Unused'!AM6)*3)))","v":0},null,{"$f":"IF('Team 11 - Unused'!AP6=\"\",0,(SUM(('Team 11 - Unused'!AP6/'Team 11 - Unused'!AQ6)*3)))","v":0},null,{"$f":"IF('Team 11 - Unused'!AT6=\"\",0,(SUM(('Team 11 - Unused'!AT6/'Team 11 - Unused'!AU6)*3)))","v":0},null,{"$f":"IF('Team 11 - Unused'!AX6=\"\",0,(SUM(('Team 11 - Unused'!AX6/'Team 11 - Unused'!AY6)*3)))","v":0},null,{"$f":"IF('Team 11 - Unused'!BB6=\"\",0,(SUM(('Team 11 - Unused'!BB6/'Team 11 - Unused'!BC6)*3)))","v":0},null,{"$f":"IF('Team 11 - Unused'!BF6=\"\",0,(SUM(('Team 11 - Unused'!BF6/'Team 11 - Unused'!BG6)*3)))","v":0},null,{"$f":"IF('Team 11 - Unused'!BJ6=\"\",0,(SUM(('Team 11 - Unused'!BJ6/'Team 11 - Unused'!BK6)*3)))","v":0},null,{"$f":"IF('Team 11 - Unused'!BN6=\"\",0,(SUM(('Team 11 - Unused'!BN6/'Team 11 - Unused'!BO6)*3)))","v":0},null,{"$f":"IF('Team 11 - Unused'!BR6=\"\",0,(SUM(('Team 11 - Unused'!BR6/'Team 11 - Unused'!BS6)*3)))","v":0},null,{"$f":"IF('Team 11 - Unused'!BV6=\"\",0,(SUM(('Team 11 - Unused'!BV6/'Team 11 - Unused'!BW6)*3)))","v":0},null,{"$f":"IF('Team 11 - Unused'!BZ6=\"\",0,(SUM(('Team 11 - Unused'!BZ6/'Team 11 - Unused'!CA6)*3)))","v":0},null,{"$f":"IF('Team 11 - Unused'!CD6=\"\",0,(SUM(('Team 11 - Unused'!CD6/'Team 11 - Unused'!CE6)*3)))","v":0},null,{"$f":"IF('Team 11 - Unused'!CH6=\"\",0,(SUM(('Team 11 - Unused'!CH6/'Team 11 - Unused'!CI6)*3)))","v":0}]
[null,{"$f":"IF('Team 11 - Unused'!B7=\"\",0,(SUM(('Team 11 - Unused'!B7/'Team 11 - Unused'!C7)*3)))","v":0},null,{"$f":"IF('Team 11 - Unused'!F7=\"\",0,(SUM(('Team 11 - Unused'!F7/'Team 11 - Unused'!G7)*3)))","v":0},null,{"$f":"IF('Team 11 - Unused'!J7=\"\",0,(SUM(('Team 11 - Unused'!J7/'Team 11 - Unused'!K7)*3)))","v":0},null,{"$f":"IF('Team 11 - Unused'!N7=\"\",0,(SUM(('Team 11 - Unused'!N7/'Team 11 - Unused'!O7)*3)))","v":0},null,{"$f":"IF('Team 11 - Unused'!R7=\"\",0,(SUM(('Team 11 - Unused'!R7/'Team 11 - Unused'!S7)*3)))","v":0},null,{"$f":"IF('Team 11 - Unused'!V7=\"\",0,(SUM(('Team 11 - Unused'!V7/'Team 11 - Unused'!W7)*3)))","v":0},null,{"$f":"IF('Team 11 - Unused'!Z7=\"\",0,(SUM(('Team 11 - Unused'!Z7/'Team 11 - Unused'!AA7)*3)))","v":0},null,{"$f":"IF('Team 11 - Unused'!AD7=\"\",0,(SUM(('Team 11 - Unused'!AD7/'Team 11 - Unused'!AE7)*3)))","v":0},null,{"$f":"IF('Team 11 - Unused'!AH7=\"\",0,(SUM(('Team 11 - Unused'!AH7/'Team 11 - Unused'!AI7)*3)))","v":0},null,{"$f":"IF('Team 11 - Unused'!AL7=\"\",0,(SUM(('Team 11 - Unused'!AL7/'Team 11 - Unused'!AM7)*3)))","v":0},null,{"$f":"IF('Team 11 - Unused'!AP7=\"\",0,(SUM(('Team 11 - Unused'!AP7/'Team 11 - Unused'!AQ7)*3)))","v":0},null,{"$f":"IF('Team 11 - Unused'!AT7=\"\",0,(SUM(('Team 11 - Unused'!AT7/'Team 11 - Unused'!AU7)*3)))","v":0},null,{"$f":"IF('Team 11 - Unused'!AX7=\"\",0,(SUM(('Team 11 - Unused'!AX7/'Team 11 - Unused'!AY7)*3)))","v":0},null,{"$f":"IF('Team 11 - Unused'!BB7=\"\",0,(SUM(('Team 11 - Unused'!BB7/'Team 11 - Unused'!BC7)*3)))","v":0},null,{"$f":"IF('Team 11 - Unused'!BF7=\"\",0,(SUM(('Team 11 - Unused'!BF7/'Team 11 - Unused'!BG7)*3)))","v":0},null,{"$f":"IF('Team 11 - Unused'!BJ7=\"\",0,(SUM(('Team 11 - Unused'!BJ7/'Team 11 - Unused'!BK7)*3)))","v":0},null,{"$f":"IF('Team 11 - Unused'!BN7=\"\",0,(SUM(('Team 11 - Unused'!BN7/'Team 11 - Unused'!BO7)*3)))","v":0},null,{"$f":"IF('Team 11 - Unused'!BR7=\"\",0,(SUM(('Team 11 - Unused'!BR7/'Team 11 - Unused'!BS7)*3)))","v":0},null,{"$f":"IF('Team 11 - Unused'!BV7=\"\",0,(SUM(('Team 11 - Unused'!BV7/'Team 11 - Unused'!BW7)*3)))","v":0},null,{"$f":"IF('Team 11 - Unused'!BZ7=\"\",0,(SUM(('Team 11 - Unused'!BZ7/'Team 11 - Unused'!CA7)*3)))","v":0},null,{"$f":"IF('Team 11 - Unused'!CD7=\"\",0,(SUM(('Team 11 - Unused'!CD7/'Team 11 - Unused'!CE7)*3)))","v":0},null,{"$f":"IF('Team 11 - Unused'!CH7=\"\",0,(SUM(('Team 11 - Unused'!CH7/'Team 11 - Unused'!CI7)*3)))","v":0}]
[null,{"$f":"IF('Team 11 - Unused'!B8=\"\",0,(SUM(('Team 11 - Unused'!B8/'Team 11 - Unused'!C8)*3)))","v":0},null,{"$f":"IF('Team 11 - Unused'!F8=\"\",0,(SUM(('Team 11 - Unused'!F8/'Team 11 - Unused'!G8)*3)))","v":0},null,{"$f":"IF('Team 11 - Unused'!J8=\"\",0,(SUM(('Team 11 - Unused'!J8/'Team 11 - Unused'!K8)*3)))","v":0},null,{"$f":"IF('Team 11 - Unused'!N8=\"\",0,(SUM(('Team 11 - Unused'!N8/'Team 11 - Unused'!O8)*3)))","v":0},null,{"$f":"IF('Team 11 - Unused'!R8=\"\",0,(SUM(('Team 11 - Unused'!R8/'Team 11 - Unused'!S8)*3)))","v":0},null,{"$f":"IF('Team 11 - Unused'!V8=\"\",0,(SUM(('Team 11 - Unused'!V8/'Team 11 - Unused'!W8)*3)))","v":0},null,{"$f":"IF('Team 11 - Unused'!Z8=\"\",0,(SUM(('Team 11 - Unused'!Z8/'Team 11 - Unused'!AA8)*3)))","v":0},null,{"$f":"IF('Team 11 - Unused'!AD8=\"\",0,(SUM(('Team 11 - Unused'!AD8/'Team 11 - Unused'!AE8)*3)))","v":0},null,{"$f":"IF('Team 11 - Unused'!AH8=\"\",0,(SUM(('Team 11 - Unused'!AH8/'Team 11 - Unused'!AI8)*3)))","v":0},null,{"$f":"IF('Team 11 - Unused'!AL8=\"\",0,(SUM(('Team 11 - Unused'!AL8/'Team 11 - Unused'!AM8)*3)))","v":0},null,{"$f":"IF('Team 11 - Unused'!AP8=\"\",0,(SUM(('Team 11 - Unused'!AP8/'Team 11 - Unused'!AQ8)*3)))","v":0},null,{"$f":"IF('Team 11 - Unused'!AT8=\"\",0,(SUM(('Team 11 - Unused'!AT8/'Team 11 - Unused'!AU8)*3)))","v":0},null,{"$f":"IF('Team 11 - Unused'!AX8=\"\",0,(SUM(('Team 11 - Unused'!AX8/'Team 11 - Unused'!AY8)*3)))","v":0},null,{"$f":"IF('Team 11 - Unused'!BB8=\"\",0,(SUM(('Team 11 - Unused'!BB8/'Team 11 - Unused'!BC8)*3)))","v":0},null,{"$f":"IF('Team 11 - Unused'!BF8=\"\",0,(SUM(('Team 11 - Unused'!BF8/'Team 11 - Unused'!BG8)*3)))","v":0},null,{"$f":"IF('Team 11 - Unused'!BJ8=\"\",0,(SUM(('Team 11 - Unused'!BJ8/'Team 11 - Unused'!BK8)*3)))","v":0},null,{"$f":"IF('Team 11 - Unused'!BN8=\"\",0,(SUM(('Team 11 - Unused'!BN8/'Team 11 - Unused'!BO8)*3)))","v":0},null,{"$f":"IF('Team 11 - Unused'!BR8=\"\",0,(SUM(('Team 11 - Unused'!BR8/'Team 11 - Unused'!BS8)*3)))","v":0},null,{"$f":"IF('Team 11 - Unused'!BV8=\"\",0,(SUM(('Team 11 - Unused'!BV8/'Team 11 - Unused'!BW8)*3)))","v":0},null,{"$f":"IF('Team 11 - Unused'!BZ8=\"\",0,(SUM(('Team 11 - Unused'!BZ8/'Team 11 - Unused'!CA8)*3)))","v":0},null,{"$f":"IF('Team 11 - Unused'!CD8=\"\",0,(SUM(('Team 11 - Unused'!CD8/'Team 11 - Unused'!CE8)*3)))","v":0},null,{"$f":"IF('Team 11 - Unused'!CH8=\"\",0,(SUM(('Team 11 - Unused'!CH8/'Team 11 - Unused'!CI8)*3)))","v":0}]
[null,{"$f":"IF('Team 11 - Unused'!B9=\"\",0,(SUM(('Team 11 - Unused'!B9/'Team 11 - Unused'!C9)*3)))","v":0},null,{"$f":"IF('Team 11 - Unused'!F9=\"\",0,(SUM(('Team 11 - Unused'!F9/'Team 11 - Unused'!G9)*3)))","v":0},null,{"$f":"IF('Team 11 - Unused'!J9=\"\",0,(SUM(('Team 11 - Unused'!J9/'Team 11 - Unused'!K9)*3)))","v":0},null,{"$f":"IF('Team 11 - Unused'!N9=\"\",0,(SUM(('Team 11 - Unused'!N9/'Team 11 - Unused'!O9)*3)))","v":0},null,{"$f":"IF('Team 11 - Unused'!R9=\"\",0,(SUM(('Team 11 - Unused'!R9/'Team 11 - Unused'!S9)*3)))","v":0},null,{"$f":"IF('Team 11 - Unused'!V9=\"\",0,(SUM(('Team 11 - Unused'!V9/'Team 11 - Unused'!W9)*3)))","v":0},null,{"$f":"IF('Team 11 - Unused'!Z9=\"\",0,(SUM(('Team 11 - Unused'!Z9/'Team 11 - Unused'!AA9)*3)))","v":0},null,{"$f":"IF('Team 11 - Unused'!AD9=\"\",0,(SUM(('Team 11 - Unused'!AD9/'Team 11 - Unused'!AE9)*3)))","v":0},null,{"$f":"IF('Team 11 - Unused'!AH9=\"\",0,(SUM(('Team 11 - Unused'!AH9/'Team 11 - Unused'!AI9)*3)))","v":0},null,{"$f":"IF('Team 11 - Unused'!AL9=\"\",0,(SUM(('Team 11 - Unused'!AL9/'Team 11 - Unused'!AM9)*3)))","v":0},null,{"$f":"IF('Team 11 - Unused'!AP9=\"\",0,(SUM(('Team 11 - Unused'!AP9/'Team 11 - Unused'!AQ9)*3)))","v":0},null,{"$f":"IF('Team 11 - Unused'!AT9=\"\",0,(SUM(('Team 11 - Unused'!AT9/'Team 11 - Unused'!AU9)*3)))","v":0},null,{"$f":"IF('Team 11 - Unused'!AX9=\"\",0,(SUM(('Team 11 - Unused'!AX9/'Team 11 - Unused'!AY9)*3)))","v":0},null,{"$f":"IF('Team 11 - Unused'!BB9=\"\",0,(SUM(('Team 11 - Unused'!BB9/'Team 11 - Unused'!BC9)*3)))","v":0},null,{"$f":"IF('Team 11 - Unused'!BF9=\"\",0,(SUM(('Team 11 - Unused'!BF9/'Team 11 - Unused'!BG9)*3)))","v":0},null,{"$f":"IF('Team 11 - Unused'!BJ9=\"\",0,(SUM(('Team 11 - Unused'!BJ9/'Team 11 - Unused'!BK9)*3)))","v":0},null,{"$f":"IF('Team 11 - Unused'!BN9=\"\",0,(SUM(('Team 11 - Unused'!BN9/'Team 11 - Unused'!BO9)*3)))","v":0},null,{"$f":"IF('Team 11 - Unused'!BR9=\"\",0,(SUM(('Team 11 - Unused'!BR9/'Team 11 - Unused'!BS9)*3)))","v":0},null,{"$f":"IF('Team 11 - Unused'!BV9=\"\",0,(SUM(('Team 11 - Unused'!BV9/'Team 11 - Unused'!BW9)*3)))","v":0},null,{"$f":"IF('Team 11 - Unused'!BZ9=\"\",0,(SUM(('Team 11 - Unused'!BZ9/'Team 11 - Unused'!CA9)*3)))","v":0},null,{"$f":"IF('Team 11 - Unused'!CD9=\"\",0,(SUM(('Team 11 - Unused'!CD9/'Team 11 - Unused'!CE9)*3)))","v":0},null,{"$f":"IF('Team 11 - Unused'!CH9=\"\",0,(SUM(('Team 11 - Unused'!CH9/'Team 11 - Unused'!CI9)*3)))","v":0}]
[null,{"$f":"IF('Team 11 - Unused'!B10=\"\",0,(SUM(('Team 11 - Unused'!B10/'Team 11 - Unused'!C10)*3)))","v":0},null,{"$f":"IF('Team 11 - Unused'!F10=\"\",0,(SUM(('Team 11 - Unused'!F10/'Team 11 - Unused'!G10)*3)))","v":0},null,{"$f":"IF('Team 11 - Unused'!J10=\"\",0,(SUM(('Team 11 - Unused'!J10/'Team 11 - Unused'!K10)*3)))","v":0},null,{"$f":"IF('Team 11 - Unused'!N10=\"\",0,(SUM(('Team 11 - Unused'!N10/'Team 11 - Unused'!O10)*3)))","v":0},null,{"$f":"IF('Team 11 - Unused'!R10=\"\",0,(SUM(('Team 11 - Unused'!R10/'Team 11 - Unused'!S10)*3)))","v":0},null,{"$f":"IF('Team 11 - Unused'!V10=\"\",0,(SUM(('Team 11 - Unused'!V10/'Team 11 - Unused'!W10)*3)))","v":0},null,{"$f":"IF('Team 11 - Unused'!Z10=\"\",0,(SUM(('Team 11 - Unused'!Z10/'Team 11 - Unused'!AA10)*3)))","v":0},null,{"$f":"IF('Team 11 - Unused'!AD10=\"\",0,(SUM(('Team 11 - Unused'!AD10/'Team 11 - Unused'!AE10)*3)))","v":0},null,{"$f":"IF('Team 11 - Unused'!AH10=\"\",0,(SUM(('Team 11 - Unused'!AH10/'Team 11 - Unused'!AI10)*3)))","v":0},null,{"$f":"IF('Team 11 - Unused'!AL10=\"\",0,(SUM(('Team 11 - Unused'!AL10/'Team 11 - Unused'!AM10)*3)))","v":0},null,{"$f":"IF('Team 11 - Unused'!AP10=\"\",0,(SUM(('Team 11 - Unused'!AP10/'Team 11 - Unused'!AQ10)*3)))","v":0},null,{"$f":"IF('Team 11 - Unused'!AT10=\"\",0,(SUM(('Team 11 - Unused'!AT10/'Team 11 - Unused'!AU10)*3)))","v":0},null,{"$f":"IF('Team 11 - Unused'!AX10=\"\",0,(SUM(('Team 11 - Unused'!AX10/'Team 11 - Unused'!AY10)*3)))","v":0},null,{"$f":"IF('Team 11 - Unused'!BB10=\"\",0,(SUM(('Team 11 - Unused'!BB10/'Team 11 - Unused'!BC10)*3)))","v":0},null,{"$f":"IF('Team 11 - Unused'!BF10=\"\",0,(SUM(('Team 11 - Unused'!BF10/'Team 11 - Unused'!BG10)*3)))","v":0},null,{"$f":"IF('Team 11 - Unused'!BJ10=\"\",0,(SUM(('Team 11 - Unused'!BJ10/'Team 11 - Unused'!BK10)*3)))","v":0},null,{"$f":"IF('Team 11 - Unused'!BN10=\"\",0,(SUM(('Team 11 - Unused'!BN10/'Team 11 - Unused'!BO10)*3)))","v":0},null,{"$f":"IF('Team 11 - Unused'!BR10=\"\",0,(SUM(('Team 11 - Unused'!BR10/'Team 11 - Unused'!BS10)*3)))","v":0},null,{"$f":"IF('Team 11 - Unused'!BV10=\"\",0,(SUM(('Team 11 - Unused'!BV10/'Team 11 - Unused'!BW10)*3)))","v":0},null,{"$f":"IF('Team 11 - Unused'!BZ10=\"\",0,(SUM(('Team 11 - Unused'!BZ10/'Team 11 - Unused'!CA10)*3)))","v":0},null,{"$f":"IF('Team 11 - Unused'!CD10=\"\",0,(SUM(('Team 11 - Unused'!CD10/'Team 11 - Unused'!CE10)*3)))","v":0},null,{"$f":"IF('Team 11 - Unused'!CH10=\"\",0,(SUM(('Team 11 - Unused'!CH10/'Team 11 - Unused'!CI10)*3)))","v":0}]
[null,{"$f":"IF('Team 11 - Unused'!B11=\"\",0,(SUM(('Team 11 - Unused'!B11/'Team 11 - Unused'!C11)*3)))","v":0},null,{"$f":"IF('Team 11 - Unused'!F11=\"\",0,(SUM(('Team 11 - Unused'!F11/'Team 11 - Unused'!G11)*3)))","v":0},null,{"$f":"IF('Team 11 - Unused'!J11=\"\",0,(SUM(('Team 11 - Unused'!J11/'Team 11 - Unused'!K11)*3)))","v":0},null,{"$f":"IF('Team 11 - Unused'!N11=\"\",0,(SUM(('Team 11 - Unused'!N11/'Team 11 - Unused'!O11)*3)))","v":0},null,{"$f":"IF('Team 11 - Unused'!R11=\"\",0,(SUM(('Team 11 - Unused'!R11/'Team 11 - Unused'!S11)*3)))","v":0},null,{"$f":"IF('Team 11 - Unused'!V11=\"\",0,(SUM(('Team 11 - Unused'!V11/'Team 11 - Unused'!W11)*3)))","v":0},null,{"$f":"IF('Team 11 - Unused'!Z11=\"\",0,(SUM(('Team 11 - Unused'!Z11/'Team 11 - Unused'!AA11)*3)))","v":0},null,{"$f":"IF('Team 11 - Unused'!AD11=\"\",0,(SUM(('Team 11 - Unused'!AD11/'Team 11 - Unused'!AE11)*3)))","v":0},null,{"$f":"IF('Team 11 - Unused'!AH11=\"\",0,(SUM(('Team 11 - Unused'!AH11/'Team 11 - Unused'!AI11)*3)))","v":0},null,{"$f":"IF('Team 11 - Unused'!AL11=\"\",0,(SUM(('Team 11 - Unused'!AL11/'Team 11 - Unused'!AM11)*3)))","v":0},null,{"$f":"IF('Team 11 - Unused'!AP11=\"\",0,(SUM(('Team 11 - Unused'!AP11/'Team 11 - Unused'!AQ11)*3)))","v":0},null,{"$f":"IF('Team 11 - Unused'!AT11=\"\",0,(SUM(('Team 11 - Unused'!AT11/'Team 11 - Unused'!AU11)*3)))","v":0},null,{"$f":"IF('Team 11 - Unused'!AX11=\"\",0,(SUM(('Team 11 - Unused'!AX11/'Team 11 - Unused'!AY11)*3)))","v":0},null,{"$f":"IF('Team 11 - Unused'!BB11=\"\",0,(SUM(('Team 11 - Unused'!BB11/'Team 11 - Unused'!BC11)*3)))","v":0},null,{"$f":"IF('Team 11 - Unused'!BF11=\"\",0,(SUM(('Team 11 - Unused'!BF11/'Team 11 - Unused'!BG11)*3)))","v":0},null,{"$f":"IF('Team 11 - Unused'!BJ11=\"\",0,(SUM(('Team 11 - Unused'!BJ11/'Team 11 - Unused'!BK11)*3)))","v":0},null,{"$f":"IF('Team 11 - Unused'!BN11=\"\",0,(SUM(('Team 11 - Unused'!BN11/'Team 11 - Unused'!BO11)*3)))","v":0},null,{"$f":"IF('Team 11 - Unused'!BR11=\"\",0,(SUM(('Team 11 - Unused'!BR11/'Team 11 - Unused'!BS11)*3)))","v":0},null,{"$f":"IF('Team 11 - Unused'!BV11=\"\",0,(SUM(('Team 11 - Unused'!BV11/'Team 11 - Unused'!BW11)*3)))","v":0},null,{"$f":"IF('Team 11 - Unused'!BZ11=\"\",0,(SUM(('Team 11 - Unused'!BZ11/'Team 11 - Unused'!CA11)*3)))","v":0},null,{"$f":"IF('Team 11 - Unused'!CD11=\"\",0,(SUM(('Team 11 - Unused'!CD11/'Team 11 - Unused'!CE11)*3)))","v":0},null,{"$f":"IF('Team 11 - Unused'!CH11=\"\",0,(SUM(('Team 11 - Unused'!CH11/'Team 11 - Unused'!CI11)*3)))","v":0}]
[null,{"$f":"IF('Team 11 - Unused'!B12=\"\",0,(SUM(('Team 11 - Unused'!B12/'Team 11 - Unused'!C12)*3)))","v":0},null,{"$f":"IF('Team 11 - Unused'!F12=\"\",0,(SUM(('Team 11 - Unused'!F12/'Team 11 - Unused'!G12)*3)))","v":0},null,{"$f":"IF('Team 11 - Unused'!J12=\"\",0,(SUM(('Team 11 - Unused'!J12/'Team 11 - Unused'!K12)*3)))","v":0},null,{"$f":"IF('Team 11 - Unused'!N12=\"\",0,(SUM(('Team 11 - Unused'!N12/'Team 11 - Unused'!O12)*3)))","v":0},null,{"$f":"IF('Team 11 - Unused'!R12=\"\",0,(SUM(('Team 11 - Unused'!R12/'Team 11 - Unused'!S12)*3)))","v":0},null,{"$f":"IF('Team 11 - Unused'!V12=\"\",0,(SUM(('Team 11 - Unused'!V12/'Team 11 - Unused'!W12)*3)))","v":0},null,{"$f":"IF('Team 11 - Unused'!Z12=\"\",0,(SUM(('Team 11 - Unused'!Z12/'Team 11 - Unused'!AA12)*3)))","v":0},null,{"$f":"IF('Team 11 - Unused'!AD12=\"\",0,(SUM(('Team 11 - Unused'!AD12/'Team 11 - Unused'!AE12)*3)))","v":0},null,{"$f":"IF('Team 11 - Unused'!AH12=\"\",0,(SUM(('Team 11 - Unused'!AH12/'Team 11 - Unused'!AI12)*3)))","v":0},null,{"$f":"IF('Team 11 - Unused'!AL12=\"\",0,(SUM(('Team 11 - Unused'!AL12/'Team 11 - Unused'!AM12)*3)))","v":0},null,{"$f":"IF('Team 11 - Unused'!AP12=\"\",0,(SUM(('Team 11 - Unused'!AP12/'Team 11 - Unused'!AQ12)*3)))","v":0},null,{"$f":"IF('Team 11 - Unused'!AT12=\"\",0,(SUM(('Team 11 - Unused'!AT12/'Team 11 - Unused'!AU12)*3)))","v":0},null,{"$f":"IF('Team 11 - Unused'!AX12=\"\",0,(SUM(('Team 11 - Unused'!AX12/'Team 11 - Unused'!AY12)*3)))","v":0},null,{"$f":"IF('Team 11 - Unused'!BB12=\"\",0,(SUM(('Team 11 - Unused'!BB12/'Team 11 - Unused'!BC12)*3)))","v":0},null,{"$f":"IF('Team 11 - Unused'!BF12=\"\",0,(SUM(('Team 11 - Unused'!BF12/'Team 11 - Unused'!BG12)*3)))","v":0},null,{"$f":"IF('Team 11 - Unused'!BJ12=\"\",0,(SUM(('Team 11 - Unused'!BJ12/'Team 11 - Unused'!BK12)*3)))","v":0},null,{"$f":"IF('Team 11 - Unused'!BN12=\"\",0,(SUM(('Team 11 - Unused'!BN12/'Team 11 - Unused'!BO12)*3)))","v":0},null,{"$f":"IF('Team 11 - Unused'!BR12=\"\",0,(SUM(('Team 11 - Unused'!BR12/'Team 11 - Unused'!BS12)*3)))","v":0},null,{"$f":"IF('Team 11 - Unused'!BV12=\"\",0,(SUM(('Team 11 - Unused'!BV12/'Team 11 - Unused'!BW12)*3)))","v":0},null,{"$f":"IF('Team 11 - Unused'!BZ12=\"\",0,(SUM(('Team 11 - Unused'!BZ12/'Team 11 - Unused'!CA12)*3)))","v":0},null,{"$f":"IF('Team 11 - Unused'!CD12=\"\",0,(SUM(('Team 11 - Unused'!CD12/'Team 11 - Unused'!CE12)*3)))","v":0},null,{"$f":"IF('Team 11 - Unused'!CH12=\"\",0,(SUM(('Team 11 - Unused'!CH12/'Team 11 - Unused'!CI12)*3)))","v":0}]
[null,{"$f":"IF('Team 11 - Unused'!B13=\"\",0,(SUM(('Team 11 - Unused'!B13/'Team 11 - Unused'!C13)*3)))","v":0},null,{"$f":"IF('Team 11 - Unused'!F13=\"\",0,(SUM(('Team 11 - Unused'!F13/'Team 11 - Unused'!G13)*3)))","v":0},null,{"$f":"IF('Team 11 - Unused'!J13=\"\",0,(SUM(('Team 11 - Unused'!J13/'Team 11 - Unused'!K13)*3)))","v":0},null,{"$f":"IF('Team 11 - Unused'!N13=\"\",0,(SUM(('Team 11 - Unused'!N13/'Team 11 - Unused'!O13)*3)))","v":0},null,{"$f":"IF('Team 11 - Unused'!R13=\"\",0,(SUM(('Team 11 - Unused'!R13/'Team 11 - Unused'!S13)*3)))","v":0},null,{"$f":"IF('Team 11 - Unused'!V13=\"\",0,(SUM(('Team 11 - Unused'!V13/'Team 11 - Unused'!W13)*3)))","v":0},null,{"$f":"IF('Team 11 - Unused'!Z13=\"\",0,(SUM(('Team 11 - Unused'!Z13/'Team 11 - Unused'!AA13)*3)))","v":0},null,{"$f":"IF('Team 11 - Unused'!AD13=\"\",0,(SUM(('Team 11 - Unused'!AD13/'Team 11 - Unused'!AE13)*3)))","v":0},null,{"$f":"IF('Team 11 - Unused'!AH13=\"\",0,(SUM(('Team 11 - Unused'!AH13/'Team 11 - Unused'!AI13)*3)))","v":0},null,{"$f":"IF('Team 11 - Unused'!AL13=\"\",0,(SUM(('Team 11 - Unused'!AL13/'Team 11 - Unused'!AM13)*3)))","v":0},null,{"$f":"IF('Team 11 - Unused'!AP13=\"\",0,(SUM(('Team 11 - Unused'!AP13/'Team 11 - Unused'!AQ13)*3)))","v":0},null,{"$f":"IF('Team 11 - Unused'!AT13=\"\",0,(SUM(('Team 11 - Unused'!AT13/'Team 11 - Unused'!AU13)*3)))","v":0},null,{"$f":"IF('Team 11 - Unused'!AX13=\"\",0,(SUM(('Team 11 - Unused'!AX13/'Team 11 - Unused'!AY13)*3)))","v":0},null,{"$f":"IF('Team 11 - Unused'!BB13=\"\",0,(SUM(('Team 11 - Unused'!BB13/'Team 11 - Unused'!BC13)*3)))","v":0},null,{"$f":"IF('Team 11 - Unused'!BF13=\"\",0,(SUM(('Team 11 - Unused'!BF13/'Team 11 - Unused'!BG13)*3)))","v":0},null,{"$f":"IF('Team 11 - Unused'!BJ13=\"\",0,(SUM(('Team 11 - Unused'!BJ13/'Team 11 - Unused'!BK13)*3)))","v":0},null,{"$f":"IF('Team 11 - Unused'!BN13=\"\",0,(SUM(('Team 11 - Unused'!BN13/'Team 11 - Unused'!BO13)*3)))","v":0},null,{"$f":"IF('Team 11 - Unused'!BR13=\"\",0,(SUM(('Team 11 - Unused'!BR13/'Team 11 - Unused'!BS13)*3)))","v":0},null,{"$f":"IF('Team 11 - Unused'!BV13=\"\",0,(SUM(('Team 11 - Unused'!BV13/'Team 11 - Unused'!BW13)*3)))","v":0},null,{"$f":"IF('Team 11 - Unused'!BZ13=\"\",0,(SUM(('Team 11 - Unused'!BZ13/'Team 11 - Unused'!CA13)*3)))","v":0},null,{"$f":"IF('Team 11 - Unused'!CD13=\"\",0,(SUM(('Team 11 - Unused'!CD13/'Team 11 - Unused'!CE13)*3)))","v":0},null,{"$f":"IF('Team 11 - Unused'!CH13=\"\",0,(SUM(('Team 11 - Unused'!CH13/'Team 11 - Unused'!CI13)*3)))","v":0}]
[null,{"$f":"IF('Team 11 - Unused'!B14=\"\",0,(SUM(('Team 11 - Unused'!B14/'Team 11 - Unused'!C14)*3)))","v":0},null,{"$f":"IF('Team 11 - Unused'!F14=\"\",0,(SUM(('Team 11 - Unused'!F14/'Team 11 - Unused'!G14)*3)))","v":0},null,{"$f":"IF('Team 11 - Unused'!J14=\"\",0,(SUM(('Team 11 - Unused'!J14/'Team 11 - Unused'!K14)*3)))","v":0},null,{"$f":"IF('Team 11 - Unused'!N14=\"\",0,(SUM(('Team 11 - Unused'!N14/'Team 11 - Unused'!O14)*3)))","v":0},null,{"$f":"IF('Team 11 - Unused'!R14=\"\",0,(SUM(('Team 11 - Unused'!R14/'Team 11 - Unused'!S14)*3)))","v":0},null,{"$f":"IF('Team 11 - Unused'!V14=\"\",0,(SUM(('Team 11 - Unused'!V14/'Team 11 - Unused'!W14)*3)))","v":0},null,{"$f":"IF('Team 11 - Unused'!Z14=\"\",0,(SUM(('Team 11 - Unused'!Z14/'Team 11 - Unused'!AA14)*3)))","v":0},null,{"$f":"IF('Team 11 - Unused'!AD14=\"\",0,(SUM(('Team 11 - Unused'!AD14/'Team 11 - Unused'!AE14)*3)))","v":0},null,{"$f":"IF('Team 11 - Unused'!AH14=\"\",0,(SUM(('Team 11 - Unused'!AH14/'Team 11 - Unused'!AI14)*3)))","v":0},null,{"$f":"IF('Team 11 - Unused'!AL14=\"\",0,(SUM(('Team 11 - Unused'!AL14/'Team 11 - Unused'!AM14)*3)))","v":0},null,{"$f":"IF('Team 11 - Unused'!AP14=\"\",0,(SUM(('Team 11 - Unused'!AP14/'Team 11 - Unused'!AQ14)*3)))","v":0},null,{"$f":"IF('Team 11 - Unused'!AT14=\"\",0,(SUM(('Team 11 - Unused'!AT14/'Team 11 - Unused'!AU14)*3)))","v":0},null,{"$f":"IF('Team 11 - Unused'!AX14=\"\",0,(SUM(('Team 11 - Unused'!AX14/'Team 11 - Unused'!AY14)*3)))","v":0},null,{"$f":"IF('Team 11 - Unused'!BB14=\"\",0,(SUM(('Team 11 - Unused'!BB14/'Team 11 - Unused'!BC14)*3)))","v":0},null,{"$f":"IF('Team 11 - Unused'!BF14=\"\",0,(SUM(('Team 11 - Unused'!BF14/'Team 11 - Unused'!BG14)*3)))","v":0},null,{"$f":"IF('Team 11 - Unused'!BJ14=\"\",0,(SUM(('Team 11 - Unused'!BJ14/'Team 11 - Unused'!BK14)*3)))","v":0},null,{"$f":"IF('Team 11 - Unused'!BN14=\"\",0,(SUM(('Team 11 - Unused'!BN14/'Team 11 - Unused'!BO14)*3)))","v":0},null,{"$f":"IF('Team 11 - Unused'!BR14=\"\",0,(SUM(('Team 11 - Unused'!BR14/'Team 11 - Unused'!BS14)*3)))","v":0},null,{"$f":"IF('Team 11 - Unused'!BV14=\"\",0,(SUM(('Team 11 - Unused'!BV14/'Team 11 - Unused'!BW14)*3)))","v":0},null,{"$f":"IF('Team 11 - Unused'!BZ14=\"\",0,(SUM(('Team 11 - Unused'!BZ14/'Team 11 - Unused'!CA14)*3)))","v":0},null,{"$f":"IF('Team 11 - Unused'!CD14=\"\",0,(SUM(('Team 11 - Unused'!CD14/'Team 11 - Unused'!CE14)*3)))","v":0},null,{"$f":"IF('Team 11 - Unused'!CH14=\"\",0,(SUM(('Team 11 - Unused'!CH14/'Team 11 - Unused'!CI14)*3)))","v":0}]
[]
["GOLDEN LION 'A'","11/09/2006\nV\nRAFA 'A' (A)"]
[null,"W/L","AVG","W/L","AVG","W/L","AVG","W/L","AVG","W/L","AVG","W/L","AVG","W/L","AVG","W/L","AVG","W/L","AVG","W/L","AVG","W/L","AVG","W/L","AVG","W/L","AVG","W/L","AVG","W/L","AVG","W/L","AVG","W/L","AVG","W/L","AVG","W/L","AVG","W/L","AVG","W/L","AVG","W/L","AVG"]
[{"$f":"'CRICKET CLUB'!A3","v":"Pete Wilkinson"},{"$f":"IF(C96=1,B96,\"\")","v":""},{"$f":"IF(B108>0,B108,\"\")","v":""},{"$f":"IF(E96=1,D96,\"\")","v":""},{"$f":"IF(D108>0,D108,\"\")","v":""},{"$f":"IF(G96=1,F96,\"\")","v":""},{"$f":"IF(F108>0,F108,\"\")","v":""},{"$f":"IF(I96=1,H96,\"\")","v":""},{"$f":"IF(H108>0,H108,\"\")","v":""},{"$f":"IF(K96=1,J96,\"\")","v":""},{"$f":"IF(J108>0,J108,\"\")","v":""},{"$f":"IF(M96=1,L96,\"\")","v":""},{"$f":"IF(L108>0,L108,\"\")","v":""},{"$f":"IF(O96=1,N96,\"\")","v":""},{"$f":"IF(N108>0,N108,\"\")","v":""},{"$f":"IF(Q96=1,P96,\"\")","v":""},{"$f":"IF(P108>0,P108,\"\")","v":""},{"$f":"IF(S96=1,R96,\"\")","v":""},{"$f":"IF(R108>0,R108,\"\")","v":""},{"$f":"IF(U96=1,T96,\"\")","v":""},{"$f":"IF(T108>0,T108,\"\")","v":""},{"$f":"IF(W96=1,V96,\"\")","v":""},{"$f":"IF(V108>0,V108,\"\")","v":""},{"$f":"IF(Y96=1,X96,\"\")","v":""},{"$f":"IF(X108>0,X108,\"\")","v":""},{"$f":"IF(AA96=1,Z96,\"\")","v":""},{"$f":"IF(Z108>0,Z108,\"\")","v":""},{"$f":"IF(AC96=1,AB96,\"\")","v":""},{"$f":"IF(AB108>0,AB108,\"\")","v":""},{"$f":"IF(AE96=1,AD96,\"\")","v":""},{"$f":"IF(AD108>0,AD108,\"\")","v":""},{"$f":"IF(AG96=1,AF96,\"\")","v":""},{"$f":"IF(AF108>0,AF108,\"\")","v":""},{"$f":"IF(AI96=1,AH96,\"\")","v":""},{"$f":"IF(AH108>0,AH108,\"\")","v":""},{"$f":"IF(AK96=1,AJ96,\"\")","v":""},{"$f":"IF(AJ108>0,AJ108,\"\")","v":""},{"$f":"IF(AM96=1,AL96,\"\")","v":""},{"$f":"IF(AL108>0,AL108,\"\")","v":""},{"$f":"IF(AO96=1,AN96,\"\")","v":""},{"$f":"IF(AN108>0,AN108,\"\")","v":""},{"$f":"IF(AQ96=1,AP96,\"\")","v":""},{"$f":"IF(AP108>0,AP108,\"\")","v":""},{"$f":"IF(AS96=1,AR96,\"\")","v":""},{"$f":"IF(AR108>0,AR108,\"\")","v":""}]
[{"$f":"'CRICKET CLUB'!A4","v":"Dan Buxton"},{"$f":"IF(C97=1,B97,\"\")","v":"WON"},{"$f":"IF(B109>0,B109,\"\")","v":60.085714285714289},{"$f":"IF(E97=1,D97,\"\")","v":"LOST"},{"$f":"IF(D109>0,D109,\"\")","v":41.117647058823529},{"$f":"IF(G97=1,F97,\"\")","v":"WON"},{"$f":"IF(F109>0,F109,\"\")","v":45.717391304347828},{"$f":"IF(I97=1,H97,\"\")","v":""},{"$f":"IF(H109>0,H109,\"\")","v":""},{"$f":"IF(K97=1,J97,\"\")","v":"LOST"},{"$f":"IF(J109>0,J109,\"\")","v":48.416666666666671},{"$f":"IF(M97=1,L97,\"\")","v":"WON"},{"$f":"IF(L109>0,L109,\"\")","v":41.235294117647058},{"$f":"IF(O97=1,N97,\"\")","v":"WON"},{"$f":"IF(N109>0,N109,\"\")","v":42.918367346938773},{"$f":"IF(Q97=1,P97,\"\")","v":"LOST"},{"$f":"IF(P109>0,P109,\"\")","v":53.307692307692307},{"$f":"IF(S97=1,R97,\"\")","v":"LOST"},{"$f":"IF(R109>0,R109,\"\")","v":49.7},{"$f":"IF(U97=1,T97,\"\")","v":"LOST"},{"$f":"IF(T109>0,T109,\"\")","v":42.733333333333334},{"$f":"IF(W97=1,V97,\"\")","v":"WON"},{"$f":"IF(V109>0,V109,\"\")","v":56.837837837837839},{"$f":"IF(Y97=1,X97,\"\")","v":"LOST"},{"$f":"IF(X109>0,X109,\"\")","v":43.8},{"$f":"IF(AA97=1,Z97,\"\")","v":""},{"$f":"IF(Z109>0,Z109,\"\")","v":""},{"$f":"IF(AC97=1,AB97,\"\")","v":""},{"$f":"IF(AB109>0,AB109,\"\")","v":""},{"$f":"IF(AE97=1,AD97,\"\")","v":""},{"$f":"IF(AD109>0,AD109,\"\")","v":""},{"$f":"IF(AG97=1,AF97,\"\")","v":"WON"},{"$f":"IF(AF109>0,AF109,\"\")","v":45.717391304347828},{"$f":"IF(AI97=1,AH97,\"\")","v":"LOST"},{"$f":"IF(AH109>0,AH109,\"\")","v":36.684210526315788},{"$f":"IF(AK97=1,AJ97,\"\")","v":"LOST"},{"$f":"IF(AJ109>0,AJ109,\"\")","v":47.837837837837839},{"$f":"IF(AM97=1,AL97,\"\")","v":""},{"$f":"IF(AL109>0,AL109,\"\")","v":""},{"$f":"IF(AO97=1,AN97,\"\")","v":""},{"$f":"IF(AN109>0,AN109,\"\")","v":""},{"$f":"IF(AQ97=1,AP97,\"\")","v":""},{"$f":"IF(AP109>0,AP109,\"\")","v":""},{"$f":"IF(AS97=1,AR97,\"\")","v":""},{"$f":"IF(AR109>0,AR109,\"\")","v":""}]
[{"$f":"'CRICKET CLUB'!A5","v":"Chris Wayman"},"","","","","","","","","","","LOST",32.571428571428569,"WON",43.8125,"LOST",47.076923076923073,"","","","","","","","","","","LOST",43.6875,"WON",53.92307692307692,"","","","","LOST",40.0625,"","","","","","","",""]
[{"$f":"'CRICKET CLUB'!A6","v":"Phil Wayman"},"","","","","","","","","","","","","","","","","","","","","","","","","","","","","","","","","","","","","","","","","","","",""]
[{"$f":"'CRICKET CLUB'!A7","v":"Mike Wayman"},"WON",77.888888888888886,"WON",51.292682926829272,"","","","","WON",84.12,"","","WON",39.679245283018872,"LOST",46.2,"LOST",61.3,"WON",58.416666666666664,"WON",72.517241379310349,"LOST",63.36363636363636,"","","WON",61.852941176470587,"WON",47.795454545454547,"WON",35.049999999999997,"WON",56.837837837837839,"","","","","","","","","",""]
[{"$f":"'CRICKET CLUB'!A8","v":"Chris Garsed"},"WON",63.727272727272727,"WON",63.727272727272727,"LOST",85.625,"","","WON",80.884615384615387,"","","","","WON",75.107142857142861,"WON",67.838709677419359,"WON",110.68421052631578,"WON",58.416666666666664,"WON",70.099999999999994,"","","WON",77.888888888888886,"WON",77.888888888888886,"WON",80.884615384615387,"WON",91.434782608695656,"WON",63.727272727272727,"","","","","","","",""]
[{"$f":"'CRICKET CLUB'!A9","v":"George Webb"},"WON",58.416666666666664,"LOST",49.5,"WON",55.34210526315789,"","","WON",51.292682926829272,"WON",55.34210526315789,"WON",77.888888888888886,"WON",63.727272727272727,"LOST",54.083333333333336,"WON",46.733333333333334,"LOST",50.846153846153847,"WON",56.837837837837839,"","","WON",65.71875,"WON",65.71875,"WON",67.838709677419359,"WON",58.416666666666664,"WON",65.71875,"","","","","","","",""]
[{"$f":"'CRICKET CLUB'!A10","v":"Bob Berry"},"","","","","","","","","","","","","","","","","","","","","","","","","","","","","","","","","","","","","","","","","","","",""]
[{"$f":"'CRICKET CLUB'!A11","v":"Howard Ward"},"WON",52.574999999999996,"WON",63.727272727272727,"WON",72.517241379310349,"","","WON",51.292682926829272,"LOST",42.599999999999994,"","","","","","","","","","","","","","","","","","","","","","","","","","","","","","","",""]
[{"$f":"'CRICKET CLUB'!A12","v":"Mel Paylor"},"","","","","LOST",37.111111111111114,"","","","","LOST",36.368421052631575,"WON",53.92307692307692,"WON",41.235294117647058,"LOST",60.900000000000006,"WON",37.553571428571431,"LOST",43.5625,"WON",52.574999999999996,"","","WON",50.071428571428569,"WON",36.89473684210526,"WON",55.34210526315789,"WON",67.838709677419359,"LOST",46.166666666666671,"","","","","","","",""]
[{"$f":"'CRICKET CLUB'!A13","v":"George Kay"},"LOST",38.833333333333336,"LOST",52.38461538461538,"LOST",62.333333333333336,"","","LOST",52.846153846153854,"WON",46.733333333333334,"WON",61.852941176470587,"","","WON",61.852941176470587,"WON",47.795454545454547,"LOST",55.75,"WON",58.416666666666664,"","","WON",55.34210526315789,"WON",75.107142857142861,"WON",56.837837837837839,"WON",67.838709677419359,"WON",56.837837837837839,"","","","","","","",""]
[{"$f":"'CRICKET CLUB'!A14","v":"Ben Jack"},"","","","","","","","","","","","","","","","","","","","","","","","","","","","","","","","","","","","","","","","","","","",""]
[]
["GOLDEN LION A",{"$f":"IF('CRICKET CLUB'!B3=701,\"WON\",\"LOST\")","v":"LOST"},{"$f":"IF('CRICKET CLUB'!B3>0,1,0)","v":0},{"$f":"IF('CRICKET CLUB'!F3=701,\"WON\",\"LOST\")","v":"LOST"},{"$f":"IF('CRICKET CLUB'!F3>0,1,0)","v":0},{"$f":"IF('CRICKET CLUB'!J3=701,\"WON\",\"LOST\")","v":"LOST"},{"$f":"IF('CRICKET CLUB'!J3>0,1,0)","v":0},{"$f":"IF('CRICKET CLUB'!N3=701,\"WON\",\"LOST\")","v":"LOST"},{"$f":"IF('CRICKET CLUB'!N3>0,1,0)","v":0},{"$f":"IF('CRICKET CLUB'!R3=701,\"WON\",\"LOST\")","v":"LOST"},{"$f":"IF('CRICKET CLUB'!R3>0,1,0)","v":0},{"$f":"IF('CRICKET CLUB'!V3=701,\"WON\",\"LOST\")","v":"LOST"},{"$f":"IF('CRICKET CLUB'!V3>0,1,0)","v":0},{"$f":"IF('CRICKET CLUB'!Z3=701,\"WON\",\"LOST\")","v":"LOST"},{"$f":"IF('CRICKET CLUB'!Z3>0,1,0)","v":0},{"$f":"IF('CRICKET CLUB'!AD3=701,\"WON\",\"LOST\")","v":"LOST"},{"$f":"IF('CRICKET CLUB'!AD3>0,1,0)","v":0},{"$f":"IF('CRICKET CLUB'!AH3=701,\"WON\",\"LOST\")","v":"LOST"},{"$f":"IF('CRICKET CLUB'!AH3>0,1,0)","v":0},{"$f":"IF('CRICKET CLUB'!AL3=701,\"WON\",\"LOST\")","v":"LOST"},{"$f":"IF('CRICKET CLUB'!AL3>0,1,0)","v":0},{"$f":"IF('CRICKET CLUB'!AP3=701,\"WON\",\"LOST\")","v":"LOST"},{"$f":"IF('CRICKET CLUB'!AP3>0,1,0)","v":0},{"$f":"IF('CRICKET CLUB'!AT3=701,\"WON\",\"LOST\")","v":"LOST"},{"$f":"IF('CRICKET CLUB'!AT3>0,1,0)","v":0},{"$f":"IF('CRICKET CLUB'!AX3=701,\"WON\",\"LOST\")","v":"LOST"},{"$f":"IF('CRICKET CLUB'!AX3>0,1,0)","v":0},{"$f":"IF('CRICKET CLUB'!BB3=701,\"WON\",\"LOST\")","v":"LOST"},{"$f":"IF('CRICKET CLUB'!BB3>0,1,0)","v":0},{"$f":"IF('CRICKET CLUB'!BF3=701,\"WON\",\"LOST\")","v":"LOST"},{"$f":"IF('CRICKET CLUB'!BF3>0,1,0)","v":0},{"$f":"IF('CRICKET CLUB'!BJ3=701,\"WON\",\"LOST\")","v":"LOST"},{"$f":"IF('CRICKET CLUB'!BJ3>0,1,0)","v":0},{"$f":"IF('CRICKET CLUB'!BN3=701,\"WON\",\"LOST\")","v":"LOST"},{"$f":"IF('CRICKET CLUB'!BN3>0,1,0)","v":0},{"$f":"IF('CRICKET CLUB'!BR3=701,\"WON\",\"LOST\")","v":"LOST"},{"$f":"IF('CRICKET CLUB'!BR3>0,1,0)","v":0},{"$f":"IF('CRICKET CLUB'!BV3=701,\"WON\",\"LOST\")","v":"LOST"},{"$f":"IF('CRICKET CLUB'!BV3>0,1,0)","v":0},{"$f":"IF('CRICKET CLUB'!BZ3=701,\"WON\",\"LOST\")","v":"LOST"},{"$f":"IF('CRICKET CLUB'!BZ3>0,1,0)","v":0},{"$f":"IF('CRICKET CLUB'!CD3=701,\"WON\",\"LOST\")","v":"LOST"},{"$f":"IF('CRICKET CLUB'!CD3>0,1,0)","v":0},{"$f":"IF('CRICKET CLUB'!CH3=701,\"WON\",\"LOST\")","v":"LOST"},{"$f":"IF('CRICKET CLUB'!CH3>0,1,0)","v":0}]
[null,{"$f":"IF('CRICKET CLUB'!B4=701,\"WON\",\"LOST\")","v":"WON"},{"$f":"IF('CRICKET CLUB'!B4>0,1,0)","v":1},{"$f":"IF('CRICKET CLUB'!F4=701,\"WON\",\"LOST\")","v":"LOST"},{"$f":"IF('CRICKET CLUB'!F4>0,1,0)","v":1},{"$f":"IF('CRICKET CLUB'!J4=701,\"WON\",\"LOST\")","v":"WON"},{"$f":"IF('CRICKET CLUB'!J4>0,1,0)","v":1},{"$f":"IF('CRICKET CLUB'!N4=701,\"WON\",\"LOST\")","v":"LOST"},{"$f":"IF('CRICKET CLUB'!N4>0,1,0)","v":0},{"$f":"IF('CRICKET CLUB'!R4=701,\"WON\",\"LOST\")","v":"LOST"},{"$f":"IF('CRICKET CLUB'!R4>0,1,0)","v":1},{"$f":"IF('CRICKET CLUB'!V4=701,\"WON\",\"LOST\")","v":"WON"},{"$f":"IF('CRICKET CLUB'!V4>0,1,0)","v":1},{"$f":"IF('CRICKET CLUB'!Z4=701,\"WON\",\"LOST\")","v":"WON"},{"$f":"IF('CRICKET CLUB'!Z4>0,1,0)","v":1},{"$f":"IF('CRICKET CLUB'!AD4=701,\"WON\",\"LOST\")","v":"LOST"},{"$f":"IF('CRICKET CLUB'!AD4>0,1,0)","v":1},{"$f":"IF('CRICKET CLUB'!AH4=701,\"WON\",\"LOST\")","v":"LOST"},{"$f":"IF('CRICKET CLUB'!AH4>0,1,0)","v":1},{"$f":"IF('CRICKET CLUB'!AL4=701,\"WON\",\"LOST\")","v":"LOST"},{"$f":"IF('CRICKET CLUB'!AL4>0,1,0)","v":1},{"$f":"IF('CRICKET CLUB'!AP4=701,\"WON\",\"LOST\")","v":"WON"},{"$f":"IF('CRICKET CLUB'!AP4>0,1,0)","v":1},{"$f":"IF('CRICKET CLUB'!AT4=701,\"WON\",\"LOST\")","v":"LOST"},{"$f":"IF('CRICKET CLUB'!AT4>0,1,0)","v":1},{"$f":"IF('CRICKET CLUB'!AX4=701,\"WON\",\"LOST\")","v":"LOST"},{"$f":"IF('CRICKET CLUB'!AX4>0,1,0)","v":0},{"$f":"IF('CRICKET CLUB'!BB4=701,\"WON\",\"LOST\")","v":"LOST"},{"$f":"IF('CRICKET CLUB'!BB4>0,1,0)","v":0},{"$f":"IF('CRICKET CLUB'!BF4=701,\"WON\",\"LOST\")","v":"LOST"},{"$f":"IF('CRICKET CLUB'!BF4>0,1,0)","v":0},{"$f":"IF('CRICKET CLUB'!BJ4=701,\"WON\",\"LOST\")","v":"WON"},{"$f":"IF('CRICKET CLUB'!BJ4>0,1,0)","v":1},{"$f":"IF('CRICKET CLUB'!BN4=701,\"WON\",\"LOST\")","v":"LOST"},{"$f":"IF('CRICKET CLUB'!BN4>0,1,0)","v":1},{"$f":"IF('CRICKET CLUB'!BR4=701,\"WON\",\"LOST\")","v":"LOST"},{"$f":"IF('CRICKET CLUB'!BR4>0,1,0)","v":1},{"$f":"IF('CRICKET CLUB'!BV4=701,\"WON\",\"LOST\")","v":"LOST"},{"$f":"IF('CRICKET CLUB'!BV4>0,1,0)","v":0},{"$f":"IF('CRICKET CLUB'!BZ4=701,\"WON\",\"LOST\")","v":"LOST"},{"$f":"IF('CRICKET CLUB'!BZ4>0,1,0)","v":0},{"$f":"IF('CRICKET CLUB'!CD4=701,\"WON\",\"LOST\")","v":"LOST"},{"$f":"IF('CRICKET CLUB'!CD4>0,1,0)","v":0},{"$f":"IF('CRICKET CLUB'!CH4=701,\"WON\",\"LOST\")","v":"LOST"},{"$f":"IF('CRICKET CLUB'!CH4>0,1,0)","v":0}]
[null,{"$f":"IF('CRICKET CLUB'!B5=701,\"WON\",\"LOST\")","v":"LOST"},{"$f":"IF('CRICKET CLUB'!B5>0,1,0)","v":0},{"$f":"IF('CRICKET CLUB'!F5=701,\"WON\",\"LOST\")","v":"LOST"},{"$f":"IF('CRICKET CLUB'!F5>0,1,0)","v":0},{"$f":"IF('CRICKET CLUB'!J5=701,\"WON\",\"LOST\")","v":"LOST"},{"$f":"IF('CRICKET CLUB'!J5>0,1,0)","v":0},{"$f":"IF('CRICKET CLUB'!N5=701,\"WON\",\"LOST\")","v":"LOST"},{"$f":"IF('CRICKET CLUB'!N5>0,1,0)","v":0},{"$f":"IF('CRICKET CLUB'!R5=701,\"WON\",\"LOST\")","v":"LOST"},{"$f":"IF('CRICKET CLUB'!R5>0,1,0)","v":0},{"$f":"IF('CRICKET CLUB'!V5=701,\"WON\",\"LOST\")","v":"LOST"},{"$f":"IF('CRICKET CLUB'!V5>0,1,0)","v":1},{"$f":"IF('CRICKET CLUB'!Z5=701,\"WON\",\"LOST\")","v":"WON"},{"$f":"IF('CRICKET CLUB'!Z5>0,1,0)","v":1},{"$f":"IF('CRICKET CLUB'!AD5=701,\"WON\",\"LOST\")","v":"LOST"},{"$f":"IF('CRICKET CLUB'!AD5>0,1,0)","v":1},{"$f":"IF('CRICKET CLUB'!AH5=701,\"WON\",\"LOST\")","v":"LOST"},{"$f":"IF('CRICKET CLUB'!AH5>0,1,0)","v":0},{"$f":"IF('CRICKET CLUB'!AL5=701,\"WON\",\"LOST\")","v":"LOST"},{"$f":"IF('CRICKET CLUB'!AL5>0,1,0)","v":0},{"$f":"IF('CRICKET CLUB'!AP5=701,\"WON\",\"LOST\")","v":"LOST"},{"$f":"IF('CRICKET CLUB'!AP5>0,1,0)","v":0},{"$f":"IF('CRICKET CLUB'!AT5=701,\"WON\",\"LOST\")","v":"LOST"},{"$f":"IF('CRICKET CLUB'!AT5>0,1,0)","v":0},{"$f":"IF('CRICKET CLUB'!AX5=701,\"WON\",\"LOST\")","v":"LOST"},{"$f":"IF('CRICKET CLUB'!AX5>0,1,0)","v":0},{"$f":"IF('CRICKET CLUB'!BB5=701,\"WON\",\"LOST\")","v":"LOST"},{"$f":"IF('CRICKET CLUB'!BB5>0,1,0)","v":1},{"$f":"IF('CRICKET CLUB'!BF5=701,\"WON\",\"LOST\")","v":"WON"},{"$f":"IF('CRICKET CLUB'!BF5>0,1,0)","v":1},{"$f":"IF('CRICKET CLUB'!BJ5=701,\"WON\",\"LOST\")","v":"LOST"},{"$f":"IF('CRICKET CLUB'!BJ5>0,1,0)","v":0},{"$f":"IF('CRICKET CLUB'!BN5=701,\"WON\",\"LOST\")","v":"LOST"},{"$f":"IF('CRICKET CLUB'!BN5>0,1,0)","v":0},{"$f":"IF('CRICKET CLUB'!BR5=701,\"WON\",\"LOST\")","v":"LOST"},{"$f":"IF('CRICKET CLUB'!BR5>0,1,0)","v":1},{"$f":"IF('CRICKET CLUB'!BV5=701,\"WON\",\"LOST\")","v":"LOST"},{"$f":"IF('CRICKET CLUB'!BV5>0,1,0)","v":0},{"$f":"IF('CRICKET CLUB'!BZ5=701,\"WON\",\"LOST\")","v":"LOST"},{"$f":"IF('CRICKET CLUB'!BZ5>0,1,0)","v":0},{"$f":"IF('CRICKET CLUB'!CD5=701,\"WON\",\"LOST\")","v":"LOST"},{"$f":"IF('CRICKET CLUB'!CD5>0,1,0)","v":0},{"$f":"IF('CRICKET CLUB'!CH5=701,\"WON\",\"LOST\")","v":"LOST"},{"$f":"IF('CRICKET CLUB'!CH5>0,1,0)","v":0}]
[null,{"$f":"IF('CRICKET CLUB'!B6=701,\"WON\",\"LOST\")","v":"LOST"},{"$f":"IF('CRICKET CLUB'!B6>0,1,0)","v":0},{"$f":"IF('CRICKET CLUB'!F6=701,\"WON\",\"LOST\")","v":"LOST"},{"$f":"IF('CRICKET CLUB'!F6>0,1,0)","v":0},{"$f":"IF('CRICKET CLUB'!J6=701,\"WON\",\"LOST\")","v":"LOST"},{"$f":"IF('CRICKET CLUB'!J6>0,1,0)","v":0},{"$f":"IF('CRICKET CLUB'!N6=701,\"WON\",\"LOST\")","v":"LOST"},{"$f":"IF('CRICKET CLUB'!N6>0,1,0)","v":0},{"$f":"IF('CRICKET CLUB'!R6=701,\"WON\",\"LOST\")","v":"LOST"},{"$f":"IF('CRICKET CLUB'!R6>0,1,0)","v":0},{"$f":"IF('CRICKET CLUB'!V6=701,\"WON\",\"LOST\")","v":"LOST"},{"$f":"IF('CRICKET CLUB'!V6>0,1,0)","v":0},{"$f":"IF('CRICKET CLUB'!Z6=701,\"WON\",\"LOST\")","v":"LOST"},{"$f":"IF('CRICKET CLUB'!Z6>0,1,0)","v":0},{"$f":"IF('CRICKET CLUB'!AD6=701,\"WON\",\"LOST\")","v":"LOST"},{"$f":"IF('CRICKET CLUB'!AD6>0,1,0)","v":0},{"$f":"IF('CRICKET CLUB'!AH6=701,\"WON\",\"LOST\")","v":"LOST"},{"$f":"IF('CRICKET CLUB'!AH6>0,1,0)","v":0},{"$f":"IF('CRICKET CLUB'!AL6=701,\"WON\",\"LOST\")","v":"LOST"},{"$f":"IF('CRICKET CLUB'!AL6>0,1,0)","v":0},{"$f":"IF('CRICKET CLUB'!AP6=701,\"WON\",\"LOST\")","v":"LOST"},{"$f":"IF('CRICKET CLUB'!AP6>0,1,0)","v":0},{"$f":"IF('CRICKET CLUB'!AT6=701,\"WON\",\"LOST\")","v":"LOST"},{"$f":"IF('CRICKET CLUB'!AT6>0,1,0)","v":0},{"$f":"IF('CRICKET CLUB'!AX6=701,\"WON\",\"LOST\")","v":"LOST"},{"$f":"IF('CRICKET CLUB'!AX6>0,1,0)","v":0},{"$f":"IF('CRICKET CLUB'!BB6=701,\"WON\",\"LOST\")","v":"LOST"},{"$f":"IF('CRICKET CLUB'!BB6>0,1,0)","v":0},{"$f":"IF('CRICKET CLUB'!BF6=701,\"WON\",\"LOST\")","v":"LOST"},{"$f":"IF('CRICKET CLUB'!BF6>0,1,0)","v":0},{"$f":"IF('CRICKET CLUB'!BJ6=701,\"WON\",\"LOST\")","v":"LOST"},{"$f":"IF('CRICKET CLUB'!BJ6>0,1,0)","v":0},{"$f":"IF('CRICKET CLUB'!BN6=701,\"WON\",\"LOST\")","v":"LOST"},{"$f":"IF('CRICKET CLUB'!BN6>0,1,0)","v":0},{"$f":"IF('CRICKET CLUB'!BR6=701,\"WON\",\"LOST\")","v":"LOST"},{"$f":"IF('CRICKET CLUB'!BR6>0,1,0)","v":0},{"$f":"IF('CRICKET CLUB'!BV6=701,\"WON\",\"LOST\")","v":"LOST"},{"$f":"IF('CRICKET CLUB'!BV6>0,1,0)","v":0},{"$f":"IF('CRICKET CLUB'!BZ6=701,\"WON\",\"LOST\")","v":"LOST"},{"$f":"IF('CRICKET CLUB'!BZ6>0,1,0)","v":0},{"$f":"IF('CRICKET CLUB'!CD6=701,\"WON\",\"LOST\")","v":"LOST"},{"$f":"IF('CRICKET CLUB'!CD6>0,1,0)","v":0},{"$f":"IF('CRICKET CLUB'!CH6=701,\"WON\",\"LOST\")","v":"LOST"},{"$f":"IF('CRICKET CLUB'!CH6>0,1,0)","v":0}]
[null,{"$f":"IF('CRICKET CLUB'!B7=701,\"WON\",\"LOST\")","v":"WON"},{"$f":"IF('CRICKET CLUB'!B7>0,1,0)","v":1},{"$f":"IF('CRICKET CLUB'!F7=701,\"WON\",\"LOST\")","v":"WON"},{"$f":"IF('CRICKET CLUB'!F7>0,1,0)","v":1},{"$f":"IF('CRICKET CLUB'!J7=701,\"WON\",\"LOST\")","v":"LOST"},{"$f":"IF('CRICKET CLUB'!J7>0,1,0)","v":0},{"$f":"IF('CRICKET CLUB'!N7=701,\"WON\",\"LOST\")","v":"LOST"},{"$f":"IF('CRICKET CLUB'!N7>0,1,0)","v":0},{"$f":"IF('CRICKET CLUB'!R7=701,\"WON\",\"LOST\")","v":"WON"},{"$f":"IF('CRICKET CLUB'!R7>0,1,0)","v":1},{"$f":"IF('CRICKET CLUB'!V7=701,\"WON\",\"LOST\")","v":"LOST"},{"$f":"IF('CRICKET CLUB'!V7>0,1,0)","v":0},{"$f":"IF('CRICKET CLUB'!Z7=701,\"WON\",\"LOST\")","v":"WON"},{"$f":"IF('CRICKET CLUB'!Z7>0,1,0)","v":1},{"$f":"IF('CRICKET CLUB'!AD7=701,\"WON\",\"LOST\")","v":"LOST"},{"$f":"IF('CRICKET CLUB'!AD7>0,1,0)","v":1},{"$f":"IF('CRICKET CLUB'!AH7=701,\"WON\",\"LOST\")","v":"LOST"},{"$f":"IF('CRICKET CLUB'!AH7>0,1,0)","v":1},{"$f":"IF('CRICKET CLUB'!AL7=701,\"WON\",\"LOST\")","v":"WON"},{"$f":"IF('CRICKET CLUB'!AL7>0,1,0)","v":1},{"$f":"IF('CRICKET CLUB'!AP7=701,\"WON\",\"LOST\")","v":"WON"},{"$f":"IF('CRICKET CLUB'!AP7>0,1,0)","v":1},{"$f":"IF('CRICKET CLUB'!AT7=701,\"WON\",\"LOST\")","v":"LOST"},{"$f":"IF('CRICKET CLUB'!AT7>0,1,0)","v":1},{"$f":"IF('CRICKET CLUB'!AX7=701,\"WON\",\"LOST\")","v":"LOST"},{"$f":"IF('CRICKET CLUB'!AX7>0,1,0)","v":0},{"$f":"IF('CRICKET CLUB'!BB7=701,\"WON\",\"LOST\")","v":"WON"},{"$f":"IF('CRICKET CLUB'!BB7>0,1,0)","v":1},{"$f":"IF('CRICKET CLUB'!BF7=701,\"WON\",\"LOST\")","v":"WON"},{"$f":"IF('CRICKET CLUB'!BF7>0,1,0)","v":1},{"$f":"IF('CRICKET CLUB'!BJ7=701,\"WON\",\"LOST\")","v":"WON"},{"$f":"IF('CRICKET CLUB'!BJ7>0,1,0)","v":1},{"$f":"IF('CRICKET CLUB'!BN7=701,\"WON\",\"LOST\")","v":"WON"},{"$f":"IF('CRICKET CLUB'!BN7>0,1,0)","v":1},{"$f":"IF('CRICKET CLUB'!BR7=701,\"WON\",\"LOST\")","v":"LOST"},{"$f":"IF('CRICKET CLUB'!BR7>0,1,0)","v":0},{"$f":"IF('CRICKET CLUB'!BV7=701,\"WON\",\"LOST\")","v":"LOST"},{"$f":"IF('CRICKET CLUB'!BV7>0,1,0)","v":0},{"$f":"IF('CRICKET CLUB'!BZ7=701,\"WON\",\"LOST\")","v":"LOST"},{"$f":"IF('CRICKET CLUB'!BZ7>0,1,0)","v":0},{"$f":"IF('CRICKET CLUB'!CD7=701,\"WON\",\"LOST\")","v":"LOST"},{"$f":"IF('CRICKET CLUB'!CD7>0,1,0)","v":0},{"$f":"IF('CRICKET CLUB'!CH7=701,\"WON\",\"LOST\")","v":"LOST"},{"$f":"IF('CRICKET CLUB'!CH7>0,1,0)","v":0}]
[null,{"$f":"IF('CRICKET CLUB'!B8=701,\"WON\",\"LOST\")","v":"WON"},{"$f":"IF('CRICKET CLUB'!B8>0,1,0)","v":1},{"$f":"IF('CRICKET CLUB'!F8=701,\"WON\",\"LOST\")","v":"WON"},{"$f":"IF('CRICKET CLUB'!F8>0,1,0)","v":1},{"$f":"IF('CRICKET CLUB'!J8=701,\"WON\",\"LOST\")","v":"LOST"},{"$f":"IF('CRICKET CLUB'!J8>0,1,0)","v":1},{"$f":"IF('CRICKET CLUB'!N8=701,\"WON\",\"LOST\")","v":"LOST"},{"$f":"IF('CRICKET CLUB'!N8>0,1,0)","v":0},{"$f":"IF('CRICKET CLUB'!R8=701,\"WON\",\"LOST\")","v":"WON"},{"$f":"IF('CRICKET CLUB'!R8>0,1,0)","v":1},{"$f":"IF('CRICKET CLUB'!V8=701,\"WON\",\"LOST\")","v":"LOST"},{"$f":"IF('CRICKET CLUB'!V8>0,1,0)","v":0},{"$f":"IF('CRICKET CLUB'!Z8=701,\"WON\",\"LOST\")","v":"LOST"},{"$f":"IF('CRICKET CLUB'!Z8>0,1,0)","v":0},{"$f":"IF('CRICKET CLUB'!AD8=701,\"WON\",\"LOST\")","v":"WON"},{"$f":"IF('CRICKET CLUB'!AD8>0,1,0)","v":1},{"$f":"IF('CRICKET CLUB'!AH8=701,\"WON\",\"LOST\")","v":"WON"},{"$f":"IF('CRICKET CLUB'!AH8>0,1,0)","v":1},{"$f":"IF('CRICKET CLUB'!AL8=701,\"WON\",\"LOST\")","v":"WON"},{"$f":"IF('CRICKET CLUB'!AL8>0,1,0)","v":1},{"$f":"IF('CRICKET CLUB'!AP8=701,\"WON\",\"LOST\")","v":"WON"},{"$f":"IF('CRICKET CLUB'!AP8>0,1,0)","v":1},{"$f":"IF('CRICKET CLUB'!AT8=701,\"WON\",\"LOST\")","v":"WON"},{"$f":"IF('CRICKET CLUB'!AT8>0,1,0)","v":1},{"$f":"IF('CRICKET CLUB'!AX8=701,\"WON\",\"LOST\")","v":"LOST"},{"$f":"IF('CRICKET CLUB'!AX8>0,1,0)","v":0},{"$f":"IF('CRICKET CLUB'!BB8=701,\"WON\",\"LOST\")","v":"WON"},{"$f":"IF('CRICKET CLUB'!BB8>0,1,0)","v":1},{"$f":"IF('CRICKET CLUB'!BF8=701,\"WON\",\"LOST\")","v":"WON"},{"$f":"IF('CRICKET CLUB'!BF8>0,1,0)","v":1},{"$f":"IF('CRICKET CLUB'!BJ8=701,\"WON\",\"LOST\")","v":"WON"},{"$f":"IF('CRICKET CLUB'!BJ8>0,1,0)","v":1},{"$f":"IF('CRICKET CLUB'!BN8=701,\"WON\",\"LOST\")","v":"WON"},{"$f":"IF('CRICKET CLUB'!BN8>0,1,0)","v":1},{"$f":"IF('CRICKET CLUB'!BR8=701,\"WON\",\"LOST\")","v":"WON"},{"$f":"IF('CRICKET CLUB'!BR8>0,1,0)","v":1},{"$f":"IF('CRICKET CLUB'!BV8=701,\"WON\",\"LOST\")","v":"LOST"},{"$f":"IF('CRICKET CLUB'!BV8>0,1,0)","v":0},{"$f":"IF('CRICKET CLUB'!BZ8=701,\"WON\",\"LOST\")","v":"LOST"},{"$f":"IF('CRICKET CLUB'!BZ8>0,1,0)","v":0},{"$f":"IF('CRICKET CLUB'!CD8=701,\"WON\",\"LOST\")","v":"LOST"},{"$f":"IF('CRICKET CLUB'!CD8>0,1,0)","v":0},{"$f":"IF('CRICKET CLUB'!CH8=701,\"WON\",\"LOST\")","v":"LOST"},{"$f":"IF('CRICKET CLUB'!CH8>0,1,0)","v":0}]
[null,{"$f":"IF('CRICKET CLUB'!B9=701,\"WON\",\"LOST\")","v":"WON"},{"$f":"IF('CRICKET CLUB'!B9>0,1,0)","v":1},{"$f":"IF('CRICKET CLUB'!F9=701,\"WON\",\"LOST\")","v":"LOST"},{"$f":"IF('CRICKET CLUB'!F9>0,1,0)","v":1},{"$f":"IF('CRICKET CLUB'!J9=701,\"WON\",\"LOST\")","v":"WON"},{"$f":"IF('CRICKET CLUB'!J9>0,1,0)","v":1},{"$f":"IF('CRICKET CLUB'!N9=701,\"WON\",\"LOST\")","v":"LOST"},{"$f":"IF('CRICKET CLUB'!N9>0,1,0)","v":0},{"$f":"IF('CRICKET CLUB'!R9=701,\"WON\",\"LOST\")","v":"WON"},{"$f":"IF('CRICKET CLUB'!R9>0,1,0)","v":1},{"$f":"IF('CRICKET CLUB'!V9=701,\"WON\",\"LOST\")","v":"WON"},{"$f":"IF('CRICKET CLUB'!V9>0,1,0)","v":1},{"$f":"IF('CRICKET CLUB'!Z9=701,\"WON\",\"LOST\")","v":"WON"},{"$f":"IF('CRICKET CLUB'!Z9>0,1,0)","v":1},{"$f":"IF('CRICKET CLUB'!AD9=701,\"WON\",\"LOST\")","v":"WON"},{"$f":"IF('CRICKET CLUB'!AD9>0,1,0)","v":1},{"$f":"IF('CRICKET CLUB'!AH9=701,\"WON\",\"LOST\")","v":"LOST"},{"$f":"IF('CRICKET CLUB'!AH9>0,1,0)","v":1},{"$f":"IF('CRICKET CLUB'!AL9=701,\"WON\",\"LOST\")","v":"WON"},{"$f":"IF('CRICKET CLUB'!AL9>0,1,0)","v":1},{"$f":"IF('CRICKET CLUB'!AP9=701,\"WON\",\"LOST\")","v":"LOST"},{"$f":"IF('CRICKET CLUB'!AP9>0,1,0)","v":1},{"$f":"IF('CRICKET CLUB'!AT9=701,\"WON\",\"LOST\")","v":"WON"},{"$f":"IF('CRICKET CLUB'!AT9>0,1,0)","v":1},{"$f":"IF('CRICKET CLUB'!AX9=701,\"WON\",\"LOST\")","v":"LOST"},{"$f":"IF('CRICKET CLUB'!AX9>0,1,0)","v":0},{"$f":"IF('CRICKET CLUB'!BB9=701,\"WON\",\"LOST\")","v":"WON"},{"$f":"IF('CRICKET CLUB'!BB9>0,1,0)","v":1},{"$f":"IF('CRICKET CLUB'!BF9=701,\"WON\",\"LOST\")","v":"WON"},{"$f":"IF('CRICKET CLUB'!BF9>0,1,0)","v":1},{"$f":"IF('CRICKET CLUB'!BJ9=701,\"WON\",\"LOST\")","v":"WON"},{"$f":"IF('CRICKET CLUB'!BJ9>0,1,0)","v":1},{"$f":"IF('CRICKET CLUB'!BN9=701,\"WON\",\"LOST\")","v":"WON"},{"$f":"IF('CRICKET CLUB'!BN9>0,1,0)","v":1},{"$f":"IF('CRICKET CLUB'!BR9=701,\"WON\",\"LOST\")","v":"WON"},{"$f":"IF('CRICKET CLUB'!BR9>0,1,0)","v":1},{"$f":"IF('CRICKET CLUB'!BV9=701,\"WON\",\"LOST\")","v":"LOST"},{"$f":"IF('CRICKET CLUB'!BV9>0,1,0)","v":0},{"$f":"IF('CRICKET CLUB'!BZ9=701,\"WON\",\"LOST\")","v":"LOST"},{"$f":"IF('CRICKET CLUB'!BZ9>0,1,0)","v":0},{"$f":"IF('CRICKET CLUB'!CD9=701,\"WON\",\"LOST\")","v":"LOST"},{"$f":"IF('CRICKET CLUB'!CD9>0,1,0)","v":0},{"$f":"IF('CRICKET CLUB'!CH9=701,\"WON\",\"LOST\")","v":"LOST"},{"$f":"IF('CRICKET CLUB'!CH9>0,1,0)","v":0}]
[null,{"$f":"IF('CRICKET CLUB'!B10=701,\"WON\",\"LOST\")","v":"LOST"},{"$f":"IF('CRICKET CLUB'!B10>0,1,0)","v":0},{"$f":"IF('CRICKET CLUB'!F10=701,\"WON\",\"LOST\")","v":"LOST"},{"$f":"IF('CRICKET CLUB'!F10>0,1,0)","v":0},{"$f":"IF('CRICKET CLUB'!J10=701,\"WON\",\"LOST\")","v":"LOST"},{"$f":"IF('CRICKET CLUB'!J10>0,1,0)","v":0},{"$f":"IF('CRICKET CLUB'!N10=701,\"WON\",\"LOST\")","v":"LOST"},{"$f":"IF('CRICKET CLUB'!N10>0,1,0)","v":0},{"$f":"IF('CRICKET CLUB'!R10=701,\"WON\",\"LOST\")","v":"LOST"},{"$f":"IF('CRICKET CLUB'!R10>0,1,0)","v":0},{"$f":"IF('CRICKET CLUB'!V10=701,\"WON\",\"LOST\")","v":"LOST"},{"$f":"IF('CRICKET CLUB'!V10>0,1,0)","v":0},{"$f":"IF('CRICKET CLUB'!Z10=701,\"WON\",\"LOST\")","v":"LOST"},{"$f":"IF('CRICKET CLUB'!Z10>0,1,0)","v":0},{"$f":"IF('CRICKET CLUB'!AD10=701,\"WON\",\"LOST\")","v":"LOST"},{"$f":"IF('CRICKET CLUB'!AD10>0,1,0)","v":0},{"$f":"IF('CRICKET CLUB'!AH10=701,\"WON\",\"LOST\")","v":"LOST"},{"$f":"IF('CRICKET CLUB'!AH10>0,1,0)","v":0},{"$f":"IF('CRICKET CLUB'!AL10=701,\"WON\",\"LOST\")","v":"LOST"},{"$f":"IF('CRICKET CLUB'!AL10>0,1,0)","v":0},{"$f":"IF('CRICKET CLUB'!AP10=701,\"WON\",\"LOST\")","v":"LOST"},{"$f":"IF('CRICKET CLUB'!AP10>0,1,0)","v":0},{"$f":"IF('CRICKET CLUB'!AT10=701,\"WON\",\"LOST\")","v":"LOST"},{"$f":"IF('CRICKET CLUB'!AT10>0,1,0)","v":0},{"$f":"IF('CRICKET CLUB'!AX10=701,\"WON\",\"LOST\")","v":"LOST"},{"$f":"IF('CRICKET CLUB'!AX10>0,1,0)","v":0},{"$f":"IF('CRICKET CLUB'!BB10=701,\"WON\",\"LOST\")","v":"LOST"},{"$f":"IF('CRICKET CLUB'!BB10>0,1,0)","v":0},{"$f":"IF('CRICKET CLUB'!BF10=701,\"WON\",\"LOST\")","v":"LOST"},{"$f":"IF('CRICKET CLUB'!BF10>0,1,0)","v":0},{"$f":"IF('CRICKET CLUB'!BJ10=701,\"WON\",\"LOST\")","v":"LOST"},{"$f":"IF('CRICKET CLUB'!BJ10>0,1,0)","v":0},{"$f":"IF('CRICKET CLUB'!BN10=701,\"WON\",\"LOST\")","v":"LOST"},{"$f":"IF('CRICKET CLUB'!BN10>0,1,0)","v":0},{"$f":"IF('CRICKET CLUB'!BR10=701,\"WON\",\"LOST\")","v":"LOST"},{"$f":"IF('CRICKET CLUB'!BR10>0,1,0)","v":0},{"$f":"IF('CRICKET CLUB'!BV10=701,\"WON\",\"LOST\")","v":"LOST"},{"$f":"IF('CRICKET CLUB'!BV10>0,1,0)","v":0},{"$f":"IF('CRICKET CLUB'!BZ10=701,\"WON\",\"LOST\")","v":"LOST"},{"$f":"IF('CRICKET CLUB'!BZ10>0,1,0)","v":0},{"$f":"IF('CRICKET CLUB'!CD10=701,\"WON\",\"LOST\")","v":"LOST"},{"$f":"IF('CRICKET CLUB'!CD10>0,1,0)","v":0},{"$f":"IF('CRICKET CLUB'!CH10=701,\"WON\",\"LOST\")","v":"LOST"},{"$f":"IF('CRICKET CLUB'!CH10>0,1,0)","v":0}]
[null,{"$f":"IF('CRICKET CLUB'!B11=701,\"WON\",\"LOST\")","v":"WON"},{"$f":"IF('CRICKET CLUB'!B11>0,1,0)","v":1},{"$f":"IF('CRICKET CLUB'!F11=701,\"WON\",\"LOST\")","v":"WON"},{"$f":"IF('CRICKET CLUB'!F11>0,1,0)","v":1},{"$f":"IF('CRICKET CLUB'!J11=701,\"WON\",\"LOST\")","v":"WON"},{"$f":"IF('CRICKET CLUB'!J11>0,1,0)","v":1},{"$f":"IF('CRICKET CLUB'!N11=701,\"WON\",\"LOST\")","v":"LOST"},{"$f":"IF('CRICKET CLUB'!N11>0,1,0)","v":0},{"$f":"IF('CRICKET CLUB'!R11=701,\"WON\",\"LOST\")","v":"WON"},{"$f":"IF('CRICKET CLUB'!R11>0,1,0)","v":1},{"$f":"IF('CRICKET CLUB'!V11=701,\"WON\",\"LOST\")","v":"LOST"},{"$f":"IF('CRICKET CLUB'!V11>0,1,0)","v":1},{"$f":"IF('CRICKET CLUB'!Z11=701,\"WON\",\"LOST\")","v":"LOST"},{"$f":"IF('CRICKET CLUB'!Z11>0,1,0)","v":0},{"$f":"IF('CRICKET CLUB'!AD11=701,\"WON\",\"LOST\")","v":"LOST"},{"$f":"IF('CRICKET CLUB'!AD11>0,1,0)","v":0},{"$f":"IF('CRICKET CLUB'!AH11=701,\"WON\",\"LOST\")","v":"LOST"},{"$f":"IF('CRICKET CLUB'!AH11>0,1,0)","v":0},{"$f":"IF('CRICKET CLUB'!AL11=701,\"WON\",\"LOST\")","v":"LOST"},{"$f":"IF('CRICKET CLUB'!AL11>0,1,0)","v":0},{"$f":"IF('CRICKET CLUB'!AP11=701,\"WON\",\"LOST\")","v":"LOST"},{"$f":"IF('CRICKET CLUB'!AP11>0,1,0)","v":0},{"$f":"IF('CRICKET CLUB'!AT11=701,\"WON\",\"LOST\")","v":"LOST"},{"$f":"IF('CRICKET CLUB'!AT11>0,1,0)","v":0},{"$f":"IF('CRICKET CLUB'!AX11=701,\"WON\",\"LOST\")","v":"LOST"},{"$f":"IF('CRICKET CLUB'!AX11>0,1,0)","v":0},{"$f":"IF('CRICKET CLUB'!BB11=701,\"WON\",\"LOST\")","v":"LOST"},{"$f":"IF('CRICKET CLUB'!BB11>0,1,0)","v":0},{"$f":"IF('CRICKET CLUB'!BF11=701,\"WON\",\"LOST\")","v":"LOST"},{"$f":"IF('CRICKET CLUB'!BF11>0,1,0)","v":0},{"$f":"IF('CRICKET CLUB'!BJ11=701,\"WON\",\"LOST\")","v":"LOST"},{"$f":"IF('CRICKET CLUB'!BJ11>0,1,0)","v":0},{"$f":"IF('CRICKET CLUB'!BN11=701,\"WON\",\"LOST\")","v":"LOST"},{"$f":"IF('CRICKET CLUB'!BN11>0,1,0)","v":0},{"$f":"IF('CRICKET CLUB'!BR11=701,\"WON\",\"LOST\")","v":"LOST"},{"$f":"IF('CRICKET CLUB'!BR11>0,1,0)","v":0},{"$f":"IF('CRICKET CLUB'!BV11=701,\"WON\",\"LOST\")","v":"LOST"},{"$f":"IF('CRICKET CLUB'!BV11>0,1,0)","v":0},{"$f":"IF('CRICKET CLUB'!BZ11=701,\"WON\",\"LOST\")","v":"LOST"},{"$f":"IF('CRICKET CLUB'!BZ11>0,1,0)","v":0},{"$f":"IF('CRICKET CLUB'!CD11=701,\"WON\",\"LOST\")","v":"LOST"},{"$f":"IF('CRICKET CLUB'!CD11>0,1,0)","v":0},{"$f":"IF('CRICKET CLUB'!CH11=701,\"WON\",\"LOST\")","v":"LOST"},{"$f":"IF('CRICKET CLUB'!CH11>0,1,0)","v":0}]
[null,{"$f":"IF('CRICKET CLUB'!B12=701,\"WON\",\"LOST\")","v":"LOST"},{"$f":"IF('CRICKET CLUB'!B12>0,1,0)","v":0},{"$f":"IF('CRICKET CLUB'!F12=701,\"WON\",\"LOST\")","v":"LOST"},{"$f":"IF('CRICKET CLUB'!F12>0,1,0)","v":0},{"$f":"IF('CRICKET CLUB'!J12=701,\"WON\",\"LOST\")","v":"LOST"},{"$f":"IF('CRICKET CLUB'!J12>0,1,0)","v":1},{"$f":"IF('CRICKET CLUB'!N12=701,\"WON\",\"LOST\")","v":"LOST"},{"$f":"IF('CRICKET CLUB'!N12>0,1,0)","v":0},{"$f":"IF('CRICKET CLUB'!R12=701,\"WON\",\"LOST\")","v":"LOST"},{"$f":"IF('CRICKET CLUB'!R12>0,1,0)","v":0},{"$f":"IF('CRICKET CLUB'!V12=701,\"WON\",\"LOST\")","v":"LOST"},{"$f":"IF('CRICKET CLUB'!V12>0,1,0)","v":1},{"$f":"IF('CRICKET CLUB'!Z12=701,\"WON\",\"LOST\")","v":"WON"},{"$f":"IF('CRICKET CLUB'!Z12>0,1,0)","v":1},{"$f":"IF('CRICKET CLUB'!AD12=701,\"WON\",\"LOST\")","v":"WON"},{"$f":"IF('CRICKET CLUB'!AD12>0,1,0)","v":1},{"$f":"IF('CRICKET CLUB'!AH12=701,\"WON\",\"LOST\")","v":"LOST"},{"$f":"IF('CRICKET CLUB'!AH12>0,1,0)","v":1},{"$f":"IF('CRICKET CLUB'!AL12=701,\"WON\",\"LOST\")","v":"WON"},{"$f":"IF('CRICKET CLUB'!AL12>0,1,0)","v":1},{"$f":"IF('CRICKET CLUB'!AP12=701,\"WON\",\"LOST\")","v":"LOST"},{"$f":"IF('CRICKET CLUB'!AP12>0,1,0)","v":1},{"$f":"IF('CRICKET CLUB'!AT12=701,\"WON\",\"LOST\")","v":"WON"},{"$f":"IF('CRICKET CLUB'!AT12>0,1,0)","v":1},{"$f":"IF('CRICKET CLUB'!AX12=701,\"WON\",\"LOST\")","v":"LOST"},{"$f":"IF('CRICKET CLUB'!AX12>0,1,0)","v":0},{"$f":"IF('CRICKET CLUB'!BB12=701,\"WON\",\"LOST\")","v":"WON"},{"$f":"IF('CRICKET CLUB'!BB12>0,1,0)","v":1},{"$f":"IF('CRICKET CLUB'!BF12=701,\"WON\",\"LOST\")","v":"WON"},{"$f":"IF('CRICKET CLUB'!BF12>0,1,0)","v":1},{"$f":"IF('CRICKET CLUB'!BJ12=701,\"WON\",\"LOST\")","v":"WON"},{"$f":"IF('CRICKET CLUB'!BJ12>0,1,0)","v":1},{"$f":"IF('CRICKET CLUB'!BN12=701,\"WON\",\"LOST\")","v":"WON"},{"$f":"IF('CRICKET CLUB'!BN12>0,1,0)","v":1},{"$f":"IF('CRICKET CLUB'!BR12=701,\"WON\",\"LOST\")","v":"LOST"},{"$f":"IF('CRICKET CLUB'!BR12>0,1,0)","v":1},{"$f":"IF('CRICKET CLUB'!BV12=701,\"WON\",\"LOST\")","v":"LOST"},{"$f":"IF('CRICKET CLUB'!BV12>0,1,0)","v":0},{"$f":"IF('CRICKET CLUB'!BZ12=701,\"WON\",\"LOST\")","v":"LOST"},{"$f":"IF('CRICKET CLUB'!BZ12>0,1,0)","v":0},{"$f":"IF('CRICKET CLUB'!CD12=701,\"WON\",\"LOST\")","v":"LOST"},{"$f":"IF('CRICKET CLUB'!CD12>0,1,0)","v":0},{"$f":"IF('CRICKET CLUB'!CH12=701,\"WON\",\"LOST\")","v":"LOST"},{"$f":"IF('CRICKET CLUB'!CH12>0,1,0)","v":0}]
[null,{"$f":"IF('CRICKET CLUB'!B13=701,\"WON\",\"LOST\")","v":"LOST"},{"$f":"IF('CRICKET CLUB'!B13>0,1,0)","v":1},{"$f":"IF('CRICKET CLUB'!F13=701,\"WON\",\"LOST\")","v":"LOST"},{"$f":"IF('CRICKET CLUB'!F13>0,1,0)","v":1},{"$f":"IF('CRICKET CLUB'!J13=701,\"WON\",\"LOST\")","v":"LOST"},{"$f":"IF('CRICKET CLUB'!J13>0,1,0)","v":1},{"$f":"IF('CRICKET CLUB'!N13=701,\"WON\",\"LOST\")","v":"LOST"},{"$f":"IF('CRICKET CLUB'!N13>0,1,0)","v":0},{"$f":"IF('CRICKET CLUB'!R13=701,\"WON\",\"LOST\")","v":"LOST"},{"$f":"IF('CRICKET CLUB'!R13>0,1,0)","v":1},{"$f":"IF('CRICKET CLUB'!V13=701,\"WON\",\"LOST\")","v":"WON"},{"$f":"IF('CRICKET CLUB'!V13>0,1,0)","v":1},{"$f":"IF('CRICKET CLUB'!Z13=701,\"WON\",\"LOST\")","v":"WON"},{"$f":"IF('CRICKET CLUB'!Z13>0,1,0)","v":1},{"$f":"IF('CRICKET CLUB'!AD13=701,\"WON\",\"LOST\")","v":"LOST"},{"$f":"IF('CRICKET CLUB'!AD13>0,1,0)","v":0},{"$f":"IF('CRICKET CLUB'!AH13=701,\"WON\",\"LOST\")","v":"WON"},{"$f":"IF('CRICKET CLUB'!AH13>0,1,0)","v":1},{"$f":"IF('CRICKET CLUB'!AL13=701,\"WON\",\"LOST\")","v":"WON"},{"$f":"IF('CRICKET CLUB'!AL13>0,1,0)","v":1},{"$f":"IF('CRICKET CLUB'!AP13=701,\"WON\",\"LOST\")","v":"LOST"},{"$f":"IF('CRICKET CLUB'!AP13>0,1,0)","v":1},{"$f":"IF('CRICKET CLUB'!AT13=701,\"WON\",\"LOST\")","v":"WON"},{"$f":"IF('CRICKET CLUB'!AT13>0,1,0)","v":1},{"$f":"IF('CRICKET CLUB'!AX13=701,\"WON\",\"LOST\")","v":"LOST"},{"$f":"IF('CRICKET CLUB'!AX13>0,1,0)","v":0},{"$f":"IF('CRICKET CLUB'!BB13=701,\"WON\",\"LOST\")","v":"WON"},{"$f":"IF('CRICKET CLUB'!BB13>0,1,0)","v":1},{"$f":"IF('CRICKET CLUB'!BF13=701,\"WON\",\"LOST\")","v":"WON"},{"$f":"IF('CRICKET CLUB'!BF13>0,1,0)","v":1},{"$f":"IF('CRICKET CLUB'!BJ13=701,\"WON\",\"LOST\")","v":"WON"},{"$f":"IF('CRICKET CLUB'!BJ13>0,1,0)","v":1},{"$f":"IF('CRICKET CLUB'!BN13=701,\"WON\",\"LOST\")","v":"WON"},{"$f":"IF('CRICKET CLUB'!BN13>0,1,0)","v":1},{"$f":"IF('CRICKET CLUB'!BR13=701,\"WON\",\"LOST\")","v":"WON"},{"$f":"IF('CRICKET CLUB'!BR13>0,1,0)","v":1},{"$f":"IF('CRICKET CLUB'!BV13=701,\"WON\",\"LOST\")","v":"LOST"},{"$f":"IF('CRICKET CLUB'!BV13>0,1,0)","v":0},{"$f":"IF('CRICKET CLUB'!BZ13=701,\"WON\",\"LOST\")","v":"LOST"},{"$f":"IF('CRICKET CLUB'!BZ13>0,1,0)","v":0},{"$f":"IF('CRICKET CLUB'!CD13=701,\"WON\",\"LOST\")","v":"LOST"},{"$f":"IF('CRICKET CLUB'!CD13>0,1,0)","v":0},{"$f":"IF('CRICKET CLUB'!CH13=701,\"WON\",\"LOST\")","v":"LOST"},{"$f":"IF('CRICKET CLUB'!CH13>0,1,0)","v":0}]
[null,{"$f":"IF('CRICKET CLUB'!B14=701,\"WON\",\"LOST\")","v":"LOST"},{"$f":"IF('CRICKET CLUB'!B14>0,1,0)","v":0},{"$f":"IF('CRICKET CLUB'!F14=701,\"WON\",\"LOST\")","v":"LOST"},{"$f":"IF('CRICKET CLUB'!F14>0,1,0)","v":0},{"$f":"IF('CRICKET CLUB'!J14=701,\"WON\",\"LOST\")","v":"LOST"},{"$f":"IF('CRICKET CLUB'!J14>0,1,0)","v":0},{"$f":"IF('CRICKET CLUB'!N14=701,\"WON\",\"LOST\")","v":"LOST"},{"$f":"IF('CRICKET CLUB'!N14>0,1,0)","v":0},{"$f":"IF('CRICKET CLUB'!R14=701,\"WON\",\"LOST\")","v":"LOST"},{"$f":"IF('CRICKET CLUB'!R14>0,1,0)","v":0},{"$f":"IF('CRICKET CLUB'!V14=701,\"WON\",\"LOST\")","v":"LOST"},{"$f":"IF('CRICKET CLUB'!V14>0,1,0)","v":0},{"$f":"IF('CRICKET CLUB'!Z14=701,\"WON\",\"LOST\")","v":"LOST"},{"$f":"IF('CRICKET CLUB'!Z14>0,1,0)","v":0},{"$f":"IF('CRICKET CLUB'!AD14=701,\"WON\",\"LOST\")","v":"LOST"},{"$f":"IF('CRICKET CLUB'!AD14>0,1,0)","v":0},{"$f":"IF('CRICKET CLUB'!AH14=701,\"WON\",\"LOST\")","v":"LOST"},{"$f":"IF('CRICKET CLUB'!AH14>0,1,0)","v":0},{"$f":"IF('CRICKET CLUB'!AL14=701,\"WON\",\"LOST\")","v":"LOST"},{"$f":"IF('CRICKET CLUB'!AL14>0,1,0)","v":0},{"$f":"IF('CRICKET CLUB'!AP14=701,\"WON\",\"LOST\")","v":"LOST"},{"$f":"IF('CRICKET CLUB'!AP14>0,1,0)","v":0},{"$f":"IF('CRICKET CLUB'!AT14=701,\"WON\",\"LOST\")","v":"LOST"},{"$f":"IF('CRICKET CLUB'!AT14>0,1,0)","v":0},{"$f":"IF('CRICKET CLUB'!AX14=701,\"WON\",\"LOST\")","v":"LOST"},{"$f":"IF('CRICKET CLUB'!AX14>0,1,0)","v":0},{"$f":"IF('CRICKET CLUB'!BB14=701,\"WON\",\"LOST\")","v":"LOST"},{"$f":"IF('CRICKET CLUB'!BB14>0,1,0)","v":0},{"$f":"IF('CRICKET CLUB'!BF14=701,\"WON\",\"LOST\")","v":"LOST"},{"$f":"IF('CRICKET CLUB'!BF14>0,1,0)","v":0},{"$f":"IF('CRICKET CLUB'!BJ14=701,\"WON\",\"LOST\")","v":"LOST"},{"$f":"IF('CRICKET CLUB'!BJ14>0,1,0)","v":0},{"$f":"IF('CRICKET CLUB'!BN14=701,\"WON\",\"LOST\")","v":"LOST"},{"$f":"IF('CRICKET CLUB'!BN14>0,1,0)","v":0},{"$f":"IF('CRICKET CLUB'!BR14=701,\"WON\",\"LOST\")","v":"LOST"},{"$f":"IF('CRICKET CLUB'!BR14>0,1,0)","v":0},{"$f":"IF('CRICKET CLUB'!BV14=701,\"WON\",\"LOST\")","v":"LOST"},{"$f":"IF('CRICKET CLUB'!BV14>0,1,0)","v":0},{"$f":"IF('CRICKET CLUB'!BZ14=701,\"WON\",\"LOST\")","v":"LOST"},{"$f":"IF('CRICKET CLUB'!BZ14>0,1,0)","v":0},{"$f":"IF('CRICKET CLUB'!CD14=701,\"WON\",\"LOST\")","v":"LOST"},{"$f":"IF('CRICKET CLUB'!CD14>0,1,0)","v":0},{"$f":"IF('CRICKET CLUB'!CH14=701,\"WON\",\"LOST\")","v":"LOST"},{"$f":"IF('CRICKET CLUB'!CH14>0,1,0)","v":0}]
[null,{"$f":"IF('CRICKET CLUB'!B3=\"\",0,(SUM(('CRICKET CLUB'!B3/'CRICKET CLUB'!C3)*3)))","v":0},null,{"$f":"IF('CRICKET CLUB'!F3=\"\",0,(SUM(('CRICKET CLUB'!F3/'CRICKET CLUB'!G3)*3)))","v":0},null,{"$f":"IF('CRICKET CLUB'!J3=\"\",0,(SUM(('CRICKET CLUB'!J3/'CRICKET CLUB'!K3)*3)))","v":0},null,{"$f":"IF('CRICKET CLUB'!N3=\"\",0,(SUM(('CRICKET CLUB'!N3/'CRICKET CLUB'!O3)*3)))","v":0},null,{"$f":"IF('CRICKET CLUB'!R3=\"\",0,(SUM(('CRICKET CLUB'!R3/'CRICKET CLUB'!S3)*3)))","v":0},null,{"$f":"IF('CRICKET CLUB'!V3=\"\",0,(SUM(('CRICKET CLUB'!V3/'CRICKET CLUB'!W3)*3)))","v":0},null,{"$f":"IF('CRICKET CLUB'!Z3=\"\",0,(SUM(('CRICKET CLUB'!Z3/'CRICKET CLUB'!AA3)*3)))","v":0},null,{"$f":"IF('CRICKET CLUB'!AD3=\"\",0,(SUM(('CRICKET CLUB'!AD3/'CRICKET CLUB'!AE3)*3)))","v":0},null,{"$f":"IF('CRICKET CLUB'!AH3=\"\",0,(SUM(('CRICKET CLUB'!AH3/'CRICKET CLUB'!AI3)*3)))","v":0},null,{"$f":"IF('CRICKET CLUB'!AL3=\"\",0,(SUM(('CRICKET CLUB'!AL3/'CRICKET CLUB'!AM3)*3)))","v":0},null,{"$f":"IF('CRICKET CLUB'!AP3=\"\",0,(SUM(('CRICKET CLUB'!AP3/'CRICKET CLUB'!AQ3)*3)))","v":0},null,{"$f":"IF('CRICKET CLUB'!AT3=\"\",0,(SUM(('CRICKET CLUB'!AT3/'CRICKET CLUB'!AU3)*3)))","v":0},null,{"$f":"IF('CRICKET CLUB'!AX3=\"\",0,(SUM(('CRICKET CLUB'!AX3/'CRICKET CLUB'!AY3)*3)))","v":0},null,{"$f":"IF('CRICKET CLUB'!BB3=\"\",0,(SUM(('CRICKET CLUB'!BB3/'CRICKET CLUB'!BC3)*3)))","v":0},null,{"$f":"IF('CRICKET CLUB'!BF3=\"\",0,(SUM(('CRICKET CLUB'!BF3/'CRICKET CLUB'!BG3)*3)))","v":0},null,{"$f":"IF('CRICKET CLUB'!BJ3=\"\",0,(SUM(('CRICKET CLUB'!BJ3/'CRICKET CLUB'!BK3)*3)))","v":0},null,{"$f":"IF('CRICKET CLUB'!BN3=\"\",0,(SUM(('CRICKET CLUB'!BN3/'CRICKET CLUB'!BO3)*3)))","v":0},null,{"$f":"IF('CRICKET CLUB'!BR3=\"\",0,(SUM(('CRICKET CLUB'!BR3/'CRICKET CLUB'!BS3)*3)))","v":0},null,{"$f":"IF('CRICKET CLUB'!BV3=\"\",0,(SUM(('CRICKET CLUB'!BV3/'CRICKET CLUB'!BW3)*3)))","v":0},null,{"$f":"IF('CRICKET CLUB'!BZ3=\"\",0,(SUM(('CRICKET CLUB'!BZ3/'CRICKET CLUB'!CA3)*3)))","v":0},null,{"$f":"IF('CRICKET CLUB'!CD3=\"\",0,(SUM(('CRICKET CLUB'!CD3/'CRICKET CLUB'!CE3)*3)))","v":0},null,{"$f":"IF('CRICKET CLUB'!CH3=\"\",0,(SUM(('CRICKET CLUB'!CH3/'CRICKET CLUB'!CI3)*3)))","v":0}]
[null,{"$f":"IF('CRICKET CLUB'!B4=\"\",0,(SUM(('CRICKET CLUB'!B4/'CRICKET CLUB'!C4)*3)))","v":60.085714285714289},null,{"$f":"IF('CRICKET CLUB'!F4=\"\",0,(SUM(('CRICKET CLUB'!F4/'CRICKET CLUB'!G4)*3)))","v":41.117647058823529},null,{"$f":"IF('CRICKET CLUB'!J4=\"\",0,(SUM(('CRICKET CLUB'!J4/'CRICKET CLUB'!K4)*3)))","v":45.717391304347828},null,{"$f":"IF('CRICKET CLUB'!N4=\"\",0,(SUM(('CRICKET CLUB'!N4/'CRICKET CLUB'!O4)*3)))","v":0},null,{"$f":"IF('CRICKET CLUB'!R4=\"\",0,(SUM(('CRICKET CLUB'!R4/'CRICKET CLUB'!S4)*3)))","v":48.416666666666671},null,{"$f":"IF('CRICKET CLUB'!V4=\"\",0,(SUM(('CRICKET CLUB'!V4/'CRICKET CLUB'!W4)*3)))","v":41.235294117647058},null,{"$f":"IF('CRICKET CLUB'!Z4=\"\",0,(SUM(('CRICKET CLUB'!Z4/'CRICKET CLUB'!AA4)*3)))","v":42.918367346938773},null,{"$f":"IF('CRICKET CLUB'!AD4=\"\",0,(SUM(('CRICKET CLUB'!AD4/'CRICKET CLUB'!AE4)*3)))","v":53.307692307692307},null,{"$f":"IF('CRICKET CLUB'!AH4=\"\",0,(SUM(('CRICKET CLUB'!AH4/'CRICKET CLUB'!AI4)*3)))","v":49.7},null,{"$f":"IF('CRICKET CLUB'!AL4=\"\",0,(SUM(('CRICKET CLUB'!AL4/'CRICKET CLUB'!AM4)*3)))","v":42.733333333333334},null,{"$f":"IF('CRICKET CLUB'!AP4=\"\",0,(SUM(('CRICKET CLUB'!AP4/'CRICKET CLUB'!AQ4)*3)))","v":56.837837837837839},null,{"$f":"IF('CRICKET CLUB'!AT4=\"\",0,(SUM(('CRICKET CLUB'!AT4/'CRICKET CLUB'!AU4)*3)))","v":43.8},null,{"$f":"IF('CRICKET CLUB'!AX4=\"\",0,(SUM(('CRICKET CLUB'!AX4/'CRICKET CLUB'!AY4)*3)))","v":0},null,{"$f":"IF('CRICKET CLUB'!BB4=\"\",0,(SUM(('CRICKET CLUB'!BB4/'CRICKET CLUB'!BC4)*3)))","v":0},null,{"$f":"IF('CRICKET CLUB'!BF4=\"\",0,(SUM(('CRICKET CLUB'!BF4/'CRICKET CLUB'!BG4)*3)))","v":0},null,{"$f":"IF('CRICKET CLUB'!BJ4=\"\",0,(SUM(('CRICKET CLUB'!BJ4/'CRICKET CLUB'!BK4)*3)))","v":45.717391304347828},null,{"$f":"IF('CRICKET CLUB'!BN4=\"\",0,(SUM(('CRICKET CLUB'!BN4/'CRICKET CLUB'!BO4)*3)))","v":36.684210526315788},null,{"$f":"IF('CRICKET CLUB'!BR4=\"\",0,(SUM(('CRICKET CLUB'!BR4/'CRICKET CLUB'!BS4)*3)))","v":47.837837837837839},null,{"$f":"IF('CRICKET CLUB'!BV4=\"\",0,(SUM(('CRICKET CLUB'!BV4/'CRICKET CLUB'!BW4)*3)))","v":0},null,{"$f":"IF('CRICKET CLUB'!BZ4=\"\",0,(SUM(('CRICKET CLUB'!BZ4/'CRICKET CLUB'!CA4)*3)))","v":0},null,{"$f":"IF('CRICKET CLUB'!CD4=\"\",0,(SUM(('CRICKET CLUB'!CD4/'CRICKET CLUB'!CE4)*3)))","v":0},null,{"$f":"IF('CRICKET CLUB'!CH4=\"\",0,(SUM(('CRICKET CLUB'!CH4/'CRICKET CLUB'!CI4)*3)))","v":0}]
[null,{"$f":"IF('CRICKET CLUB'!B5=\"\",0,(SUM(('CRICKET CLUB'!B5/'CRICKET CLUB'!C5)*3)))","v":0},null,{"$f":"IF('CRICKET CLUB'!F5=\"\",0,(SUM(('CRICKET CLUB'!F5/'CRICKET CLUB'!G5)*3)))","v":0},null,{"$f":"IF('CRICKET CLUB'!J5=\"\",0,(SUM(('CRICKET CLUB'!J5/'CRICKET CLUB'!K5)*3)))","v":0},null,{"$f":"IF('CRICKET CLUB'!N5=\"\",0,(SUM(('CRICKET CLUB'!N5/'CRICKET CLUB'!O5)*3)))","v":0},null,{"$f":"IF('CRICKET CLUB'!R5=\"\",0,(SUM(('CRICKET CLUB'!R5/'CRICKET CLUB'!S5)*3)))","v":0},null,{"$f":"IF('CRICKET CLUB'!V5=\"\",0,(SUM(('CRICKET CLUB'!V5/'CRICKET CLUB'!W5)*3)))","v":32.571428571428569},null,{"$f":"IF('CRICKET CLUB'!Z5=\"\",0,(SUM(('CRICKET CLUB'!Z5/'CRICKET CLUB'!AA5)*3)))","v":43.8125},null,{"$f":"IF('CRICKET CLUB'!AD5=\"\",0,(SUM(('CRICKET CLUB'!AD5/'CRICKET CLUB'!AE5)*3)))","v":47.076923076923073},null,{"$f":"IF('CRICKET CLUB'!AH5=\"\",0,(SUM(('CRICKET CLUB'!AH5/'CRICKET CLUB'!AI5)*3)))","v":0},null,{"$f":"IF('CRICKET CLUB'!AL5=\"\",0,(SUM(('CRICKET CLUB'!AL5/'CRICKET CLUB'!AM5)*3)))","v":0},null,{"$f":"IF('CRICKET CLUB'!AP5=\"\",0,(SUM(('CRICKET CLUB'!AP5/'CRICKET CLUB'!AQ5)*3)))","v":0},null,{"$f":"IF('CRICKET CLUB'!AT5=\"\",0,(SUM(('CRICKET CLUB'!AT5/'CRICKET CLUB'!AU5)*3)))","v":0},null,{"$f":"IF('CRICKET CLUB'!AX5=\"\",0,(SUM(('CRICKET CLUB'!AX5/'CRICKET CLUB'!AY5)*3)))","v":0},null,{"$f":"IF('CRICKET CLUB'!BB5=\"\",0,(SUM(('CRICKET CLUB'!BB5/'CRICKET CLUB'!BC5)*3)))","v":43.6875},null,{"$f":"IF('CRICKET CLUB'!BF5=\"\",0,(SUM(('CRICKET CLUB'!BF5/'CRICKET CLUB'!BG5)*3)))","v":53.92307692307692},null,{"$f":"IF('CRICKET CLUB'!BJ5=\"\",0,(SUM(('CRICKET CLUB'!BJ5/'CRICKET CLUB'!BK5)*3)))","v":0},null,{"$f":"IF('CRICKET CLUB'!BN5=\"\",0,(SUM(('CRICKET CLUB'!BN5/'CRICKET CLUB'!BO5)*3)))","v":0},null,{"$f":"IF('CRICKET CLUB'!BR5=\"\",0,(SUM(('CRICKET CLUB'!BR5/'CRICKET CLUB'!BS5)*3)))","v":40.0625},null,{"$f":"IF('CRICKET CLUB'!BV5=\"\",0,(SUM(('CRICKET CLUB'!BV5/'CRICKET CLUB'!BW5)*3)))","v":0},null,{"$f":"IF('CRICKET CLUB'!BZ5=\"\",0,(SUM(('CRICKET CLUB'!BZ5/'CRICKET CLUB'!CA5)*3)))","v":0},null,{"$f":"IF('CRICKET CLUB'!CD5=\"\",0,(SUM(('CRICKET CLUB'!CD5/'CRICKET CLUB'!CE5)*3)))","v":0},null,{"$f":"IF('CRICKET CLUB'!CH5=\"\",0,(SUM(('CRICKET CLUB'!CH5/'CRICKET CLUB'!CI5)*3)))","v":0}]
[null,{"$f":"IF('CRICKET CLUB'!B6=\"\",0,(SUM(('CRICKET CLUB'!B6/'CRICKET CLUB'!C6)*3)))","v":0},null,{"$f":"IF('CRICKET CLUB'!F6=\"\",0,(SUM(('CRICKET CLUB'!F6/'CRICKET CLUB'!G6)*3)))","v":0},null,{"$f":"IF('CRICKET CLUB'!J6=\"\",0,(SUM(('CRICKET CLUB'!J6/'CRICKET CLUB'!K6)*3)))","v":0},null,{"$f":"IF('CRICKET CLUB'!N6=\"\",0,(SUM(('CRICKET CLUB'!N6/'CRICKET CLUB'!O6)*3)))","v":0},null,{"$f":"IF('CRICKET CLUB'!R6=\"\",0,(SUM(('CRICKET CLUB'!R6/'CRICKET CLUB'!S6)*3)))","v":0},null,{"$f":"IF('CRICKET CLUB'!V6=\"\",0,(SUM(('CRICKET CLUB'!V6/'CRICKET CLUB'!W6)*3)))","v":0},null,{"$f":"IF('CRICKET CLUB'!Z6=\"\",0,(SUM(('CRICKET CLUB'!Z6/'CRICKET CLUB'!AA6)*3)))","v":0},null,{"$f":"IF('CRICKET CLUB'!AD6=\"\",0,(SUM(('CRICKET CLUB'!AD6/'CRICKET CLUB'!AE6)*3)))","v":0},null,{"$f":"IF('CRICKET CLUB'!AH6=\"\",0,(SUM(('CRICKET CLUB'!AH6/'CRICKET CLUB'!AI6)*3)))","v":0},null,{"$f":"IF('CRICKET CLUB'!AL6=\"\",0,(SUM(('CRICKET CLUB'!AL6/'CRICKET CLUB'!AM6)*3)))","v":0},null,{"$f":"IF('CRICKET CLUB'!AP6=\"\",0,(SUM(('CRICKET CLUB'!AP6/'CRICKET CLUB'!AQ6)*3)))","v":0},null,{"$f":"IF('CRICKET CLUB'!AT6=\"\",0,(SUM(('CRICKET CLUB'!AT6/'CRICKET CLUB'!AU6)*3)))","v":0},null,{"$f":"IF('CRICKET CLUB'!AX6=\"\",0,(SUM(('CRICKET CLUB'!AX6/'CRICKET CLUB'!AY6)*3)))","v":0},null,{"$f":"IF('CRICKET CLUB'!BB6=\"\",0,(SUM(('CRICKET CLUB'!BB6/'CRICKET CLUB'!BC6)*3)))","v":0},null,{"$f":"IF('CRICKET CLUB'!BF6=\"\",0,(SUM(('CRICKET CLUB'!BF6/'CRICKET CLUB'!BG6)*3)))","v":0},null,{"$f":"IF('CRICKET CLUB'!BJ6=\"\",0,(SUM(('CRICKET CLUB'!BJ6/'CRICKET CLUB'!BK6)*3)))","v":0},null,{"$f":"IF('CRICKET CLUB'!BN6=\"\",0,(SUM(('CRICKET CLUB'!BN6/'CRICKET CLUB'!BO6)*3)))","v":0},null,{"$f":"IF('CRICKET CLUB'!BR6=\"\",0,(SUM(('CRICKET CLUB'!BR6/'CRICKET CLUB'!BS6)*3)))","v":0},null,{"$f":"IF('CRICKET CLUB'!BV6=\"\",0,(SUM(('CRICKET CLUB'!BV6/'CRICKET CLUB'!BW6)*3)))","v":0},null,{"$f":"IF('CRICKET CLUB'!BZ6=\"\",0,(SUM(('CRICKET CLUB'!BZ6/'CRICKET CLUB'!CA6)*3)))","v":0},null,{"$f":"IF('CRICKET CLUB'!CD6=\"\",0,(SUM(('CRICKET CLUB'!CD6/'CRICKET CLUB'!CE6)*3)))","v":0},null,{"$f":"IF('CRICKET CLUB'!CH6=\"\",0,(SUM(('CRICKET CLUB'!CH6/'CRICKET CLUB'!CI6)*3)))","v":0}]
[null,{"$f":"IF('CRICKET CLUB'!B7=\"\",0,(SUM(('CRICKET CLUB'!B7/'CRICKET CLUB'!C7)*3)))","v":77.888888888888886},null,{"$f":"IF('CRICKET CLUB'!F7=\"\",0,(SUM(('CRICKET CLUB'!F7/'CRICKET CLUB'!G7)*3)))","v":51.292682926829272},null,{"$f":"IF('CRICKET CLUB'!J7=\"\",0,(SUM(('CRICKET CLUB'!J7/'CRICKET CLUB'!K7)*3)))","v":0},null,{"$f":"IF('CRICKET CLUB'!N7=\"\",0,(SUM(('CRICKET CLUB'!N7/'CRICKET CLUB'!O7)*3)))","v":0},null,{"$f":"IF('CRICKET CLUB'!R7=\"\",0,(SUM(('CRICKET CLUB'!R7/'CRICKET CLUB'!S7)*3)))","v":84.12},null,{"$f":"IF('CRICKET CLUB'!V7=\"\",0,(SUM(('CRICKET CLUB'!V7/'CRICKET CLUB'!W7)*3)))","v":0},null,{"$f":"IF('CRICKET CLUB'!Z7=\"\",0,(SUM(('CRICKET CLUB'!Z7/'CRICKET CLUB'!AA7)*3)))","v":39.679245283018872},null,{"$f":"IF('CRICKET CLUB'!AD7=\"\",0,(SUM(('CRICKET CLUB'!AD7/'CRICKET CLUB'!AE7)*3)))","v":46.2},null,{"$f":"IF('CRICKET CLUB'!AH7=\"\",0,(SUM(('CRICKET CLUB'!AH7/'CRICKET CLUB'!AI7)*3)))","v":61.3},null,{"$f":"IF('CRICKET CLUB'!AL7=\"\",0,(SUM(('CRICKET CLUB'!AL7/'CRICKET CLUB'!AM7)*3)))","v":58.416666666666664},null,{"$f":"IF('CRICKET CLUB'!AP7=\"\",0,(SUM(('CRICKET CLUB'!AP7/'CRICKET CLUB'!AQ7)*3)))","v":72.517241379310349},null,{"$f":"IF('CRICKET CLUB'!AT7=\"\",0,(SUM(('CRICKET CLUB'!AT7/'CRICKET CLUB'!AU7)*3)))","v":63.36363636363636},null,{"$f":"IF('CRICKET CLUB'!AX7=\"\",0,(SUM(('CRICKET CLUB'!AX7/'CRICKET CLUB'!AY7)*3)))","v":0},null,{"$f":"IF('CRICKET CLUB'!BB7=\"\",0,(SUM(('CRICKET CLUB'!BB7/'CRICKET CLUB'!BC7)*3)))","v":61.852941176470587},null,{"$f":"IF('CRICKET CLUB'!BF7=\"\",0,(SUM(('CRICKET CLUB'!BF7/'CRICKET CLUB'!BG7)*3)))","v":47.795454545454547},null,{"$f":"IF('CRICKET CLUB'!BJ7=\"\",0,(SUM(('CRICKET CLUB'!BJ7/'CRICKET CLUB'!BK7)*3)))","v":35.049999999999997},null,{"$f":"IF('CRICKET CLUB'!BN7=\"\",0,(SUM(('CRICKET CLUB'!BN7/'CRICKET CLUB'!BO7)*3)))","v":56.837837837837839},null,{"$f":"IF('CRICKET CLUB'!BR7=\"\",0,(SUM(('CRICKET CLUB'!BR7/'CRICKET CLUB'!BS7)*3)))","v":0},null,{"$f":"IF('CRICKET CLUB'!BV7=\"\",0,(SUM(('CRICKET CLUB'!BV7/'CRICKET CLUB'!BW7)*3)))","v":0},null,{"$f":"IF('CRICKET CLUB'!BZ7=\"\",0,(SUM(('CRICKET CLUB'!BZ7/'CRICKET CLUB'!CA7)*3)))","v":0},null,{"$f":"IF('CRICKET CLUB'!CD7=\"\",0,(SUM(('CRICKET CLUB'!CD7/'CRICKET CLUB'!CE7)*3)))","v":0},null,{"$f":"IF('CRICKET CLUB'!CH7=\"\",0,(SUM(('CRICKET CLUB'!CH7/'CRICKET CLUB'!CI7)*3)))","v":0}]
[null,{"$f":"IF('CRICKET CLUB'!B8=\"\",0,(SUM(('CRICKET CLUB'!B8/'CRICKET CLUB'!C8)*3)))","v":63.727272727272727},null,{"$f":"IF('CRICKET CLUB'!F8=\"\",0,(SUM(('CRICKET CLUB'!F8/'CRICKET CLUB'!G8)*3)))","v":63.727272727272727},null,{"$f":"IF('CRICKET CLUB'!J8=\"\",0,(SUM(('CRICKET CLUB'!J8/'CRICKET CLUB'!K8)*3)))","v":85.625},null,{"$f":"IF('CRICKET CLUB'!N8=\"\",0,(SUM(('CRICKET CLUB'!N8/'CRICKET CLUB'!O8)*3)))","v":0},null,{"$f":"IF('CRICKET CLUB'!R8=\"\",0,(SUM(('CRICKET CLUB'!R8/'CRICKET CLUB'!S8)*3)))","v":80.884615384615387},null,{"$f":"IF('CRICKET CLUB'!V8=\"\",0,(SUM(('CRICKET CLUB'!V8/'CRICKET CLUB'!W8)*3)))","v":0},null,{"$f":"IF('CRICKET CLUB'!Z8=\"\",0,(SUM(('CRICKET CLUB'!Z8/'CRICKET CLUB'!AA8)*3)))","v":0},null,{"$f":"IF('CRICKET CLUB'!AD8=\"\",0,(SUM(('CRICKET CLUB'!AD8/'CRICKET CLUB'!AE8)*3)))","v":75.107142857142861},null,{"$f":"IF('CRICKET CLUB'!AH8=\"\",0,(SUM(('CRICKET CLUB'!AH8/'CRICKET CLUB'!AI8)*3)))","v":67.838709677419359},null,{"$f":"IF('CRICKET CLUB'!AL8=\"\",0,(SUM(('CRICKET CLUB'!AL8/'CRICKET CLUB'!AM8)*3)))","v":110.68421052631578},null,{"$f":"IF('CRICKET CLUB'!AP8=\"\",0,(SUM(('CRICKET CLUB'!AP8/'CRICKET CLUB'!AQ8)*3)))","v":58.416666666666664},null,{"$f":"IF('CRICKET CLUB'!AT8=\"\",0,(SUM(('CRICKET CLUB'!AT8/'CRICKET CLUB'!AU8)*3)))","v":70.099999999999994},null,{"$f":"IF('CRICKET CLUB'!AX8=\"\",0,(SUM(('CRICKET CLUB'!AX8/'CRICKET CLUB'!AY8)*3)))","v":0},null,{"$f":"IF('CRICKET CLUB'!BB8=\"\",0,(SUM(('CRICKET CLUB'!BB8/'CRICKET CLUB'!BC8)*3)))","v":77.888888888888886},null,{"$f":"IF('CRICKET CLUB'!BF8=\"\",0,(SUM(('CRICKET CLUB'!BF8/'CRICKET CLUB'!BG8)*3)))","v":77.888888888888886},null,{"$f":"IF('CRICKET CLUB'!BJ8=\"\",0,(SUM(('CRICKET CLUB'!BJ8/'CRICKET CLUB'!BK8)*3)))","v":80.884615384615387},null,{"$f":"IF('CRICKET CLUB'!BN8=\"\",0,(SUM(('CRICKET CLUB'!BN8/'CRICKET CLUB'!BO8)*3)))","v":91.434782608695656},null,{"$f":"IF('CRICKET CLUB'!BR8=\"\",0,(SUM(('CRICKET CLUB'!BR8/'CRICKET CLUB'!BS8)*3)))","v":63.727272727272727},null,{"$f":"IF('CRICKET CLUB'!BV8=\"\",0,(SUM(('CRICKET CLUB'!BV8/'CRICKET CLUB'!BW8)*3)))","v":0},null,{"$f":"IF('CRICKET CLUB'!BZ8=\"\",0,(SUM(('CRICKET CLUB'!BZ8/'CRICKET CLUB'!CA8)*3)))","v":0},null,{"$f":"IF('CRICKET CLUB'!CD8=\"\",0,(SUM(('CRICKET CLUB'!CD8/'CRICKET CLUB'!CE8)*3)))","v":0},null,{"$f":"IF('CRICKET CLUB'!CH8=\"\",0,(SUM(('CRICKET CLUB'!CH8/'CRICKET CLUB'!CI8)*3)))","v":0}]
[null,{"$f":"IF('CRICKET CLUB'!B9=\"\",0,(SUM(('CRICKET CLUB'!B9/'CRICKET CLUB'!C9)*3)))","v":58.416666666666664},null,{"$f":"IF('CRICKET CLUB'!F9=\"\",0,(SUM(('CRICKET CLUB'!F9/'CRICKET CLUB'!G9)*3)))","v":49.5},null,{"$f":"IF('CRICKET CLUB'!J9=\"\",0,(SUM(('CRICKET CLUB'!J9/'CRICKET CLUB'!K9)*3)))","v":55.34210526315789},null,{"$f":"IF('CRICKET CLUB'!N9=\"\",0,(SUM(('CRICKET CLUB'!N9/'CRICKET CLUB'!O9)*3)))","v":0},null,{"$f":"IF('CRICKET CLUB'!R9=\"\",0,(SUM(('CRICKET CLUB'!R9/'CRICKET CLUB'!S9)*3)))","v":51.292682926829272},null,{"$f":"IF('CRICKET CLUB'!V9=\"\",0,(SUM(('CRICKET CLUB'!V9/'CRICKET CLUB'!W9)*3)))","v":55.34210526315789},null,{"$f":"IF('CRICKET CLUB'!Z9=\"\",0,(SUM(('CRICKET CLUB'!Z9/'CRICKET CLUB'!AA9)*3)))","v":77.888888888888886},null,{"$f":"IF('CRICKET CLUB'!AD9=\"\",0,(SUM(('CRICKET CLUB'!AD9/'CRICKET CLUB'!AE9)*3)))","v":63.727272727272727},null,{"$f":"IF('CRICKET CLUB'!AH9=\"\",0,(SUM(('CRICKET CLUB'!AH9/'CRICKET CLUB'!AI9)*3)))","v":54.083333333333336},null,{"$f":"IF('CRICKET CLUB'!AL9=\"\",0,(SUM(('CRICKET CLUB'!AL9/'CRICKET CLUB'!AM9)*3)))","v":46.733333333333334},null,{"$f":"IF('CRICKET CLUB'!AP9=\"\",0,(SUM(('CRICKET CLUB'!AP9/'CRICKET CLUB'!AQ9)*3)))","v":50.846153846153847},null,{"$f":"IF('CRICKET CLUB'!AT9=\"\",0,(SUM(('CRICKET CLUB'!AT9/'CRICKET CLUB'!AU9)*3)))","v":56.837837837837839},null,{"$f":"IF('CRICKET CLUB'!AX9=\"\",0,(SUM(('CRICKET CLUB'!AX9/'CRICKET CLUB'!AY9)*3)))","v":0},null,{"$f":"IF('CRICKET CLUB'!BB9=\"\",0,(SUM(('CRICKET CLUB'!BB9/'CRICKET CLUB'!BC9)*3)))","v":65.71875},null,{"$f":"IF('CRICKET CLUB'!BF9=\"\",0,(SUM(('CRICKET CLUB'!BF9/'CRICKET CLUB'!BG9)*3)))","v":65.71875},null,{"$f":"IF('CRICKET CLUB'!BJ9=\"\",0,(SUM(('CRICKET CLUB'!BJ9/'CRICKET CLUB'!BK9)*3)))","v":67.838709677419359},null,{"$f":"IF('CRICKET CLUB'!BN9=\"\",0,(SUM(('CRICKET CLUB'!BN9/'CRICKET CLUB'!BO9)*3)))","v":58.416666666666664},null,{"$f":"IF('CRICKET CLUB'!BR9=\"\",0,(SUM(('CRICKET CLUB'!BR9/'CRICKET CLUB'!BS9)*3)))","v":65.71875},null,{"$f":"IF('CRICKET CLUB'!BV9=\"\",0,(SUM(('CRICKET CLUB'!BV9/'CRICKET CLUB'!BW9)*3)))","v":0},null,{"$f":"IF('CRICKET CLUB'!BZ9=\"\",0,(SUM(('CRICKET CLUB'!BZ9/'CRICKET CLUB'!CA9)*3)))","v":0},null,{"$f":"IF('CRICKET CLUB'!CD9=\"\",0,(SUM(('CRICKET CLUB'!CD9/'CRICKET CLUB'!CE9)*3)))","v":0},null,{"$f":"IF('CRICKET CLUB'!CH9=\"\",0,(SUM(('CRICKET CLUB'!CH9/'CRICKET CLUB'!CI9)*3)))","v":0}]
[null,{"$f":"IF('CRICKET CLUB'!B10=\"\",0,(SUM(('CRICKET CLUB'!B10/'CRICKET CLUB'!C10)*3)))","v":0},null,{"$f":"IF('CRICKET CLUB'!F10=\"\",0,(SUM(('CRICKET CLUB'!F10/'CRICKET CLUB'!G10)*3)))","v":0},null,{"$f":"IF('CRICKET CLUB'!J10=\"\",0,(SUM(('CRICKET CLUB'!J10/'CRICKET CLUB'!K10)*3)))","v":0},null,{"$f":"IF('CRICKET CLUB'!N10=\"\",0,(SUM(('CRICKET CLUB'!N10/'CRICKET CLUB'!O10)*3)))","v":0},null,{"$f":"IF('CRICKET CLUB'!R10=\"\",0,(SUM(('CRICKET CLUB'!R10/'CRICKET CLUB'!S10)*3)))","v":0},null,{"$f":"IF('CRICKET CLUB'!V10=\"\",0,(SUM(('CRICKET CLUB'!V10/'CRICKET CLUB'!W10)*3)))","v":0},null,{"$f":"IF('CRICKET CLUB'!Z10=\"\",0,(SUM(('CRICKET CLUB'!Z10/'CRICKET CLUB'!AA10)*3)))","v":0},null,{"$f":"IF('CRICKET CLUB'!AD10=\"\",0,(SUM(('CRICKET CLUB'!AD10/'CRICKET CLUB'!AE10)*3)))","v":0},null,{"$f":"IF('CRICKET CLUB'!AH10=\"\",0,(SUM(('CRICKET CLUB'!AH10/'CRICKET CLUB'!AI10)*3)))","v":0},null,{"$f":"IF('CRICKET CLUB'!AL10=\"\",0,(SUM(('CRICKET CLUB'!AL10/'CRICKET CLUB'!AM10)*3)))","v":0},null,{"$f":"IF('CRICKET CLUB'!AP10=\"\",0,(SUM(('CRICKET CLUB'!AP10/'CRICKET CLUB'!AQ10)*3)))","v":0},null,{"$f":"IF('CRICKET CLUB'!AT10=\"\",0,(SUM(('CRICKET CLUB'!AT10/'CRICKET CLUB'!AU10)*3)))","v":0},null,{"$f":"IF('CRICKET CLUB'!AX10=\"\",0,(SUM(('CRICKET CLUB'!AX10/'CRICKET CLUB'!AY10)*3)))","v":0},null,{"$f":"IF('CRICKET CLUB'!BB10=\"\",0,(SUM(('CRICKET CLUB'!BB10/'CRICKET CLUB'!BC10)*3)))","v":0},null,{"$f":"IF('CRICKET CLUB'!BF10=\"\",0,(SUM(('CRICKET CLUB'!BF10/'CRICKET CLUB'!BG10)*3)))","v":0},null,{"$f":"IF('CRICKET CLUB'!BJ10=\"\",0,(SUM(('CRICKET CLUB'!BJ10/'CRICKET CLUB'!BK10)*3)))","v":0},null,{"$f":"IF('CRICKET CLUB'!BN10=\"\",0,(SUM(('CRICKET CLUB'!BN10/'CRICKET CLUB'!BO10)*3)))","v":0},null,{"$f":"IF('CRICKET CLUB'!BR10=\"\",0,(SUM(('CRICKET CLUB'!BR10/'CRICKET CLUB'!BS10)*3)))","v":0},null,{"$f":"IF('CRICKET CLUB'!BV10=\"\",0,(SUM(('CRICKET CLUB'!BV10/'CRICKET CLUB'!BW10)*3)))","v":0},null,{"$f":"IF('CRICKET CLUB'!BZ10=\"\",0,(SUM(('CRICKET CLUB'!BZ10/'CRICKET CLUB'!CA10)*3)))","v":0},null,{"$f":"IF('CRICKET CLUB'!CD10=\"\",0,(SUM(('CRICKET CLUB'!CD10/'CRICKET CLUB'!CE10)*3)))","v":0},null,{"$f":"IF('CRICKET CLUB'!CH10=\"\",0,(SUM(('CRICKET CLUB'!CH10/'CRICKET CLUB'!CI10)*3)))","v":0}]
[null,{"$f":"IF('CRICKET CLUB'!B11=\"\",0,(SUM(('CRICKET CLUB'!B11/'CRICKET CLUB'!C11)*3)))","v":52.574999999999996},null,{"$f":"IF('CRICKET CLUB'!F11=\"\",0,(SUM(('CRICKET CLUB'!F11/'CRICKET CLUB'!G11)*3)))","v":63.727272727272727},null,{"$f":"IF('CRICKET CLUB'!J11=\"\",0,(SUM(('CRICKET CLUB'!J11/'CRICKET CLUB'!K11)*3)))","v":72.517241379310349},null,{"$f":"IF('CRICKET CLUB'!N11=\"\",0,(SUM(('CRICKET CLUB'!N11/'CRICKET CLUB'!O11)*3)))","v":0},null,{"$f":"IF('CRICKET CLUB'!R11=\"\",0,(SUM(('CRICKET CLUB'!R11/'CRICKET CLUB'!S11)*3)))","v":51.292682926829272},null,{"$f":"IF('CRICKET CLUB'!V11=\"\",0,(SUM(('CRICKET CLUB'!V11/'CRICKET CLUB'!W11)*3)))","v":42.599999999999994},null,{"$f":"IF('CRICKET CLUB'!Z11=\"\",0,(SUM(('CRICKET CLUB'!Z11/'CRICKET CLUB'!AA11)*3)))","v":0},null,{"$f":"IF('CRICKET CLUB'!AD11=\"\",0,(SUM(('CRICKET CLUB'!AD11/'CRICKET CLUB'!AE11)*3)))","v":0},null,{"$f":"IF('CRICKET CLUB'!AH11=\"\",0,(SUM(('CRICKET CLUB'!AH11/'CRICKET CLUB'!AI11)*3)))","v":0},null,{"$f":"IF('CRICKET CLUB'!AL11=\"\",0,(SUM(('CRICKET CLUB'!AL11/'CRICKET CLUB'!AM11)*3)))","v":0},null,{"$f":"IF('CRICKET CLUB'!AP11=\"\",0,(SUM(('CRICKET CLUB'!AP11/'CRICKET CLUB'!AQ11)*3)))","v":0},null,{"$f":"IF('CRICKET CLUB'!AT11=\"\",0,(SUM(('CRICKET CLUB'!AT11/'CRICKET CLUB'!AU11)*3)))","v":0},null,{"$f":"IF('CRICKET CLUB'!AX11=\"\",0,(SUM(('CRICKET CLUB'!AX11/'CRICKET CLUB'!AY11)*3)))","v":0},null,{"$f":"IF('CRICKET CLUB'!BB11=\"\",0,(SUM(('CRICKET CLUB'!BB11/'CRICKET CLUB'!BC11)*3)))","v":0},null,{"$f":"IF('CRICKET CLUB'!BF11=\"\",0,(SUM(('CRICKET CLUB'!BF11/'CRICKET CLUB'!BG11)*3)))","v":0},null,{"$f":"IF('CRICKET CLUB'!BJ11=\"\",0,(SUM(('CRICKET CLUB'!BJ11/'CRICKET CLUB'!BK11)*3)))","v":0},null,{"$f":"IF('CRICKET CLUB'!BN11=\"\",0,(SUM(('CRICKET CLUB'!BN11/'CRICKET CLUB'!BO11)*3)))","v":0},null,{"$f":"IF('CRICKET CLUB'!BR11=\"\",0,(SUM(('CRICKET CLUB'!BR11/'CRICKET CLUB'!BS11)*3)))","v":0},null,{"$f":"IF('CRICKET CLUB'!BV11=\"\",0,(SUM(('CRICKET CLUB'!BV11/'CRICKET CLUB'!BW11)*3)))","v":0},null,{"$f":"IF('CRICKET CLUB'!BZ11=\"\",0,(SUM(('CRICKET CLUB'!BZ11/'CRICKET CLUB'!CA11)*3)))","v":0},null,{"$f":"IF('CRICKET CLUB'!CD11=\"\",0,(SUM(('CRICKET CLUB'!CD11/'CRICKET CLUB'!CE11)*3)))","v":0},null,{"$f":"IF('CRICKET CLUB'!CH11=\"\",0,(SUM(('CRICKET CLUB'!CH11/'CRICKET CLUB'!CI11)*3)))","v":0}]
[null,{"$f":"IF('CRICKET CLUB'!B12=\"\",0,(SUM(('CRICKET CLUB'!B12/'CRICKET CLUB'!C12)*3)))","v":0},null,{"$f":"IF('CRICKET CLUB'!F12=\"\",0,(SUM(('CRICKET CLUB'!F12/'CRICKET CLUB'!G12)*3)))","v":0},null,{"$f":"IF('CRICKET CLUB'!J12=\"\",0,(SUM(('CRICKET CLUB'!J12/'CRICKET CLUB'!K12)*3)))","v":37.111111111111114},null,{"$f":"IF('CRICKET CLUB'!N12=\"\",0,(SUM(('CRICKET CLUB'!N12/'CRICKET CLUB'!O12)*3)))","v":0},null,{"$f":"IF('CRICKET CLUB'!R12=\"\",0,(SUM(('CRICKET CLUB'!R12/'CRICKET CLUB'!S12)*3)))","v":0},null,{"$f":"IF('CRICKET CLUB'!V12=\"\",0,(SUM(('CRICKET CLUB'!V12/'CRICKET CLUB'!W12)*3)))","v":36.368421052631575},null,{"$f":"IF('CRICKET CLUB'!Z12=\"\",0,(SUM(('CRICKET CLUB'!Z12/'CRICKET CLUB'!AA12)*3)))","v":53.92307692307692},null,{"$f":"IF('CRICKET CLUB'!AD12=\"\",0,(SUM(('CRICKET CLUB'!AD12/'CRICKET CLUB'!AE12)*3)))","v":41.235294117647058},null,{"$f":"IF('CRICKET CLUB'!AH12=\"\",0,(SUM(('CRICKET CLUB'!AH12/'CRICKET CLUB'!AI12)*3)))","v":60.900000000000006},null,{"$f":"IF('CRICKET CLUB'!AL12=\"\",0,(SUM(('CRICKET CLUB'!AL12/'CRICKET CLUB'!AM12)*3)))","v":37.553571428571431},null,{"$f":"IF('CRICKET CLUB'!AP12=\"\",0,(SUM(('CRICKET CLUB'!AP12/'CRICKET CLUB'!AQ12)*3)))","v":43.5625},null,{"$f":"IF('CRICKET CLUB'!AT12=\"\",0,(SUM(('CRICKET CLUB'!AT12/'CRICKET CLUB'!AU12)*3)))","v":52.574999999999996},null,{"$f":"IF('CRICKET CLUB'!AX12=\"\",0,(SUM(('CRICKET CLUB'!AX12/'CRICKET CLUB'!AY12)*3)))","v":0},null,{"$f":"IF('CRICKET CLUB'!BB12=\"\",0,(SUM(('CRICKET CLUB'!BB12/'CRICKET CLUB'!BC12)*3)))","v":50.071428571428569},null,{"$f":"IF('CRICKET CLUB'!BF12=\"\",0,(SUM(('CRICKET CLUB'!BF12/'CRICKET CLUB'!BG12)*3)))","v":36.89473684210526},null,{"$f":"IF('CRICKET CLUB'!BJ12=\"\",0,(SUM(('CRICKET CLUB'!BJ12/'CRICKET CLUB'!BK12)*3)))","v":55.34210526315789},null,{"$f":"IF('CRICKET CLUB'!BN12=\"\",0,(SUM(('CRICKET CLUB'!BN12/'CRICKET CLUB'!BO12)*3)))","v":67.838709677419359},null,{"$f":"IF('CRICKET CLUB'!BR12=\"\",0,(SUM(('CRICKET CLUB'!BR12/'CRICKET CLUB'!BS12)*3)))","v":46.166666666666671},null,{"$f":"IF('CRICKET CLUB'!BV12=\"\",0,(SUM(('CRICKET CLUB'!BV12/'CRICKET CLUB'!BW12)*3)))","v":0},null,{"$f":"IF('CRICKET CLUB'!BZ12=\"\",0,(SUM(('CRICKET CLUB'!BZ12/'CRICKET CLUB'!CA12)*3)))","v":0},null,{"$f":"IF('CRICKET CLUB'!CD12=\"\",0,(SUM(('CRICKET CLUB'!CD12/'CRICKET CLUB'!CE12)*3)))","v":0},null,{"$f":"IF('CRICKET CLUB'!CH12=\"\",0,(SUM(('CRICKET CLUB'!CH12/'CRICKET CLUB'!CI12)*3)))","v":0}]
[null,{"$f":"IF('CRICKET CLUB'!B13=\"\",0,(SUM(('CRICKET CLUB'!B13/'CRICKET CLUB'!C13)*3)))","v":38.833333333333336},null,{"$f":"IF('CRICKET CLUB'!F13=\"\",0,(SUM(('CRICKET CLUB'!F13/'CRICKET CLUB'!G13)*3)))","v":52.38461538461538},null,{"$f":"IF('CRICKET CLUB'!J13=\"\",0,(SUM(('CRICKET CLUB'!J13/'CRICKET CLUB'!K13)*3)))","v":62.333333333333336},null,{"$f":"IF('CRICKET CLUB'!N13=\"\",0,(SUM(('CRICKET CLUB'!N13/'CRICKET CLUB'!O13)*3)))","v":0},null,{"$f":"IF('CRICKET CLUB'!R13=\"\",0,(SUM(('CRICKET CLUB'!R13/'CRICKET CLUB'!S13)*3)))","v":52.846153846153854},null,{"$f":"IF('CRICKET CLUB'!V13=\"\",0,(SUM(('CRICKET CLUB'!V13/'CRICKET CLUB'!W13)*3)))","v":46.733333333333334},null,{"$f":"IF('CRICKET CLUB'!Z13=\"\",0,(SUM(('CRICKET CLUB'!Z13/'CRICKET CLUB'!AA13)*3)))","v":61.852941176470587},null,{"$f":"IF('CRICKET CLUB'!AD13=\"\",0,(SUM(('CRICKET CLUB'!AD13/'CRICKET CLUB'!AE13)*3)))","v":0},null,{"$f":"IF('CRICKET CLUB'!AH13=\"\",0,(SUM(('CRICKET CLUB'!AH13/'CRICKET CLUB'!AI13)*3)))","v":61.852941176470587},null,{"$f":"IF('CRICKET CLUB'!AL13=\"\",0,(SUM(('CRICKET CLUB'!AL13/'CRICKET CLUB'!AM13)*3)))","v":47.795454545454547},null,{"$f":"IF('CRICKET CLUB'!AP13=\"\",0,(SUM(('CRICKET CLUB'!AP13/'CRICKET CLUB'!AQ13)*3)))","v":55.75},null,{"$f":"IF('CRICKET CLUB'!AT13=\"\",0,(SUM(('CRICKET CLUB'!AT13/'CRICKET CLUB'!AU13)*3)))","v":58.416666666666664},null,{"$f":"IF('CRICKET CLUB'!AX13=\"\",0,(SUM(('CRICKET CLUB'!AX13/'CRICKET CLUB'!AY13)*3)))","v":0},null,{"$f":"IF('CRICKET CLUB'!BB13=\"\",0,(SUM(('CRICKET CLUB'!BB13/'CRICKET CLUB'!BC13)*3)))","v":55.34210526315789},null,{"$f":"IF('CRICKET CLUB'!BF13=\"\",0,(SUM(('CRICKET CLUB'!BF13/'CRICKET CLUB'!BG13)*3)))","v":75.107142857142861},null,{"$f":"IF('CRICKET CLUB'!BJ13=\"\",0,(SUM(('CRICKET CLUB'!BJ13/'CRICKET CLUB'!BK13)*3)))","v":56.837837837837839},null,{"$f":"IF('CRICKET CLUB'!BN13=\"\",0,(SUM(('CRICKET CLUB'!BN13/'CRICKET CLUB'!BO13)*3)))","v":67.838709677419359},null,{"$f":"IF('CRICKET CLUB'!BR13=\"\",0,(SUM(('CRICKET CLUB'!BR13/'CRICKET CLUB'!BS13)*3)))","v":56.837837837837839},null,{"$f":"IF('CRICKET CLUB'!BV13=\"\",0,(SUM(('CRICKET CLUB'!BV13/'CRICKET CLUB'!BW13)*3)))","v":0},null,{"$f":"IF('CRICKET CLUB'!BZ13=\"\",0,(SUM(('CRICKET CLUB'!BZ13/'CRICKET CLUB'!CA13)*3)))","v":0},null,{"$f":"IF('CRICKET CLUB'!CD13=\"\",0,(SUM(('CRICKET CLUB'!CD13/'CRICKET CLUB'!CE13)*3)))","v":0},null,{"$f":"IF('CRICKET CLUB'!CH13=\"\",0,(SUM(('CRICKET CLUB'!CH13/'CRICKET CLUB'!CI13)*3)))","v":0}]
[null,{"$f":"IF('CRICKET CLUB'!B14=\"\",0,(SUM(('CRICKET CLUB'!B14/'CRICKET CLUB'!C14)*3)))","v":0},null,{"$f":"IF('CRICKET CLUB'!F14=\"\",0,(SUM(('CRICKET CLUB'!F14/'CRICKET CLUB'!G14)*3)))","v":0},null,{"$f":"IF('CRICKET CLUB'!J14=\"\",0,(SUM(('CRICKET CLUB'!J14/'CRICKET CLUB'!K14)*3)))","v":0},null,{"$f":"IF('CRICKET CLUB'!N14=\"\",0,(SUM(('CRICKET CLUB'!N14/'CRICKET CLUB'!O14)*3)))","v":0},null,{"$f":"IF('CRICKET CLUB'!R14=\"\",0,(SUM(('CRICKET CLUB'!R14/'CRICKET CLUB'!S14)*3)))","v":0},null,{"$f":"IF('CRICKET CLUB'!V14=\"\",0,(SUM(('CRICKET CLUB'!V14/'CRICKET CLUB'!W14)*3)))","v":0},null,{"$f":"IF('CRICKET CLUB'!Z14=\"\",0,(SUM(('CRICKET CLUB'!Z14/'CRICKET CLUB'!AA14)*3)))","v":0},null,{"$f":"IF('CRICKET CLUB'!AD14=\"\",0,(SUM(('CRICKET CLUB'!AD14/'CRICKET CLUB'!AE14)*3)))","v":0},null,{"$f":"IF('CRICKET CLUB'!AH14=\"\",0,(SUM(('CRICKET CLUB'!AH14/'CRICKET CLUB'!AI14)*3)))","v":0},null,{"$f":"IF('CRICKET CLUB'!AL14=\"\",0,(SUM(('CRICKET CLUB'!AL14/'CRICKET CLUB'!AM14)*3)))","v":0},null,{"$f":"IF('CRICKET CLUB'!AP14=\"\",0,(SUM(('CRICKET CLUB'!AP14/'CRICKET CLUB'!AQ14)*3)))","v":0},null,{"$f":"IF('CRICKET CLUB'!AT14=\"\",0,(SUM(('CRICKET CLUB'!AT14/'CRICKET CLUB'!AU14)*3)))","v":0},null,{"$f":"IF('CRICKET CLUB'!AX14=\"\",0,(SUM(('CRICKET CLUB'!AX14/'CRICKET CLUB'!AY14)*3)))","v":0},null,{"$f":"IF('CRICKET CLUB'!BB14=\"\",0,(SUM(('CRICKET CLUB'!BB14/'CRICKET CLUB'!BC14)*3)))","v":0},null,{"$f":"IF('CRICKET CLUB'!BF14=\"\",0,(SUM(('CRICKET CLUB'!BF14/'CRICKET CLUB'!BG14)*3)))","v":0},null,{"$f":"IF('CRICKET CLUB'!BJ14=\"\",0,(SUM(('CRICKET CLUB'!BJ14/'CRICKET CLUB'!BK14)*3)))","v":0},null,{"$f":"IF('CRICKET CLUB'!BN14=\"\",0,(SUM(('CRICKET CLUB'!BN14/'CRICKET CLUB'!BO14)*3)))","v":0},null,{"$f":"IF('CRICKET CLUB'!BR14=\"\",0,(SUM(('CRICKET CLUB'!BR14/'CRICKET CLUB'!BS14)*3)))","v":0},null,{"$f":"IF('CRICKET CLUB'!BV14=\"\",0,(SUM(('CRICKET CLUB'!BV14/'CRICKET CLUB'!BW14)*3)))","v":0},null,{"$f":"IF('CRICKET CLUB'!BZ14=\"\",0,(SUM(('CRICKET CLUB'!BZ14/'CRICKET CLUB'!CA14)*3)))","v":0},null,{"$f":"IF('CRICKET CLUB'!CD14=\"\",0,(SUM(('CRICKET CLUB'!CD14/'CRICKET CLUB'!CE14)*3)))","v":0},null,{"$f":"IF('CRICKET CLUB'!CH14=\"\",0,(SUM(('CRICKET CLUB'!CH14/'CRICKET CLUB'!CI14)*3)))","v":0}]
[]
["GOLDEN LION B","11/09/2006\nV\nRAFA 'A' (A)"]
[null,"W/L","AVG","W/L","AVG","W/L","AVG","W/L","AVG","W/L","AVG","W/L","AVG","W/L","AVG","W/L","AVG","W/L","AVG","W/L","AVG","W/L","AVG","W/L","AVG","W/L","AVG","W/L","AVG","W/L","AVG","W/L","AVG","W/L","AVG","W/L","AVG","W/L","AVG","W/L","AVG","W/L","AVG","W/L","AVG"]
[{"$f":"CROWN!A3","v":"Mark Outram"},{"$f":"IF(C136=1,B136,\"\")","v":"LOST"},{"$f":"IF(B148>0,B148,\"\")","v":62.63636363636364},{"$f":"IF(E136=1,D136,\"\")","v":"WON"},{"$f":"IF(D148>0,D148,\"\")","v":50.071428571428569},{"$f":"IF(G136=1,F136,\"\")","v":""},{"$f":"IF(F148>0,F148,\"\")","v":""},{"$f":"IF(I136=1,H136,\"\")","v":"WON"},{"$f":"IF(H148>0,H148,\"\")","v":70.099999999999994},{"$f":"IF(K136=1,J136,\"\")","v":"LOST"},{"$f":"IF(J148>0,J148,\"\")","v":36.631578947368425},{"$f":"IF(M136=1,L136,\"\")","v":"LOST"},{"$f":"IF(L148>0,L148,\"\")","v":52.166666666666671},{"$f":"IF(O136=1,N136,\"\")","v":"LOST"},{"$f":"IF(N148>0,N148,\"\")","v":46.416666666666664},{"$f":"IF(Q136=1,P136,\"\")","v":"LOST"},{"$f":"IF(P148>0,P148,\"\")","v":37.636363636363633},{"$f":"IF(S136=1,R136,\"\")","v":"WON"},{"$f":"IF(R148>0,R148,\"\")","v":56.837837837837839},{"$f":"IF(U136=1,T136,\"\")","v":"WON"},{"$f":"IF(T148>0,T148,\"\")","v":51.292682926829272},{"$f":"IF(W136=1,V136,\"\")","v":"WON"},{"$f":"IF(V148>0,V148,\"\")","v":55.34210526315789},{"$f":"IF(Y136=1,X136,\"\")","v":""},{"$f":"IF(X148>0,X148,\"\")","v":""},{"$f":"IF(AA136=1,Z136,\"\")","v":"LOST"},{"$f":"IF(Z148>0,Z148,\"\")","v":44.142857142857139},{"$f":"IF(AC136=1,AB136,\"\")","v":"LOST"},{"$f":"IF(AB148>0,AB148,\"\")","v":43.333333333333336},{"$f":"IF(AE136=1,AD136,\"\")","v":"WON"},{"$f":"IF(AD148>0,AD148,\"\")","v":55.34210526315789},{"$f":"IF(AG136=1,AF136,\"\")","v":"LOST"},{"$f":"IF(AF148>0,AF148,\"\")","v":44.92307692307692},{"$f":"IF(AI136=1,AH136,\"\")","v":"LOST"},{"$f":"IF(AH148>0,AH148,\"\")","v":51.181818181818187},{"$f":"IF(AK136=1,AJ136,\"\")","v":"LOST"},{"$f":"IF(AJ148>0,AJ148,\"\")","v":62.63636363636364},{"$f":"IF(AM136=1,AL136,\"\")","v":""},{"$f":"IF(AL148>0,AL148,\"\")","v":""},{"$f":"IF(AO136=1,AN136,\"\")","v":""},{"$f":"IF(AN148>0,AN148,\"\")","v":""},{"$f":"IF(AQ136=1,AP136,\"\")","v":""},{"$f":"IF(AP148>0,AP148,\"\")","v":""},{"$f":"IF(AS136=1,AR136,\"\")","v":""},{"$f":"IF(AR148>0,AR148,\"\")","v":""}]
[{"$f":"CROWN!A4","v":"Dave Thornton"},{"$f":"IF(C137=1,B137,\"\")","v":""},{"$f":"IF(B149>0,B149,\"\")","v":""},{"$f":"IF(E137=1,D137,\"\")","v":"LOST"},{"$f":"IF(D149>0,D149,\"\")","v":50.470588235294116},{"$f":"IF(G137=1,F137,\"\")","v":""},{"$f":"IF(F149>0,F149,\"\")","v":""},{"$f":"IF(I137=1,H137,\"\")","v":""},{"$f":"IF(H149>0,H149,\"\")","v":""},{"$f":"IF(K137=1,J137,\"\")","v":"LOST"},{"$f":"IF(J149>0,J149,\"\")","v":38.722222222222221},{"$f":"IF(M137=1,L137,\"\")","v":"LOST"},{"$f":"IF(L149>0,L149,\"\")","v":44.18181818181818},{"$f":"IF(O137=1,N137,\"\")","v":""},{"$f":"IF(N149>0,N149,\"\")","v":""},{"$f":"IF(Q137=1,P137,\"\")","v":""},{"$f":"IF(P149>0,P149,\"\")","v":""},{"$f":"IF(S137=1,R137,\"\")","v":""},{"$f":"IF(R149>0,R149,\"\")","v":""},{"$f":"IF(U137=1,T137,\"\")","v":""},{"$f":"IF(T149>0,T149,\"\")","v":""},{"$f":"IF(W137=1,V137,\"\")","v":""},{"$f":"IF(V149>0,V149,\"\")","v":""},{"$f":"IF(Y137=1,X137,\"\")","v":""},{"$f":"IF(X149>0,X149,\"\")","v":""},{"$f":"IF(AA137=1,Z137,\"\")","v":"LOST"},{"$f":"IF(Z149>0,Z149,\"\")","v":49.357142857142861},{"$f":"IF(AC137=1,AB137,\"\")","v":"LOST"},{"$f":"IF(AB149>0,AB149,\"\")","v":40.941176470588232},{"$f":"IF(AE137=1,AD137,\"\")","v":""},{"$f":"IF(AD149>0,AD149,\"\")","v":""},{"$f":"IF(AG137=1,AF137,\"\")","v":""},{"$f":"IF(AF149>0,AF149,\"\")","v":""},{"$f":"IF(AI137=1,AH137,\"\")","v":""},{"$f":"IF(AH149>0,AH149,\"\")","v":""},{"$f":"IF(AK137=1,AJ137,\"\")","v":"WON"},{"$f":"IF(AJ149>0,AJ149,\"\")","v":35.644067796610166},{"$f":"IF(AM137=1,AL137,\"\")","v":""},{"$f":"IF(AL149>0,AL149,\"\")","v":""},{"$f":"IF(AO137=1,AN137,\"\")","v":""},{"$f":"IF(AN149>0,AN149,\"\")","v":""},{"$f":"IF(AQ137=1,AP137,\"\")","v":""},{"$f":"IF(AP149>0,AP149,\"\")","v":""},{"$f":"IF(AS137=1,AR137,\"\")","v":""},{"$f":"IF(AR149>0,AR149,\"\")","v":""}]
[{"$f":"CROWN!A5","v":"Dean Wakeling  "},"LOST",46.333333333333336,"","","","","WON",36.89473684210526,"","","","","LOST",41,"LOST",33.888888888888886,"","","LOST",24.900000000000002,"","","","","","","","","LOST",36.266666666666666,"LOST",35.92307692307692,"LOST",38.615384615384613,"","","","","","","","","",""]
[{"$f":"CROWN!A6","v":"David Langthorne"},"LOST",38.055555555555557,"LOST",33,"","","LOST",44.066666666666663,"WON",63.727272727272727,"WON",63.727272727272727,"LOST",34.705882352941174,"LOST",45.81818181818182,"LOST",50.707317073170728,"LOST",43.866666666666667,"LOST",50.699999999999996,"","","LOST",47.615384615384613,"WON",46.733333333333334,"WON",42.06,"LOST",36.299999999999997,"LOST",29.857142857142858,"LOST",44.769230769230774,"","","","","","","",""]
[{"$f":"CROWN!A7","v":"Tony Bell"},"","","","","","","","","","","","","","","","","","","","","","","","","","","","","","","","","","","","","","","","","","","",""]
[{"$f":"CROWN!A8","v":"Chris Cockerline"},"WON",38.944444444444443,"WON",36.258620689655174,"","","LOST",46.857142857142854,"LOST",51,"WON",43.8125,"LOST",44.63636363636364,"LOST",43.4,"LOST",46.166666666666671,"","","LOST",38.92307692307692,"","","LOST",47.214285714285708,"LOST",40.0625,"LOST",45.133333333333333,"LOST",44.75,"LOST",40.636363636363633,"WON",33.38095238095238,"","","","","","","",""]
[{"$f":"CROWN!A9","v":"Mark Natttrass"},"LOST",46.153846153846153,"LOST",46.25,"","","LOST",39.538461538461533,"WON",41.235294117647058,"WON",44.744680851063826,"LOST",33.777777777777779,"LOST",33.846153846153847,"LOST",25.882352941176471,"LOST",42.153846153846153,"LOST",42.63636363636364,"","","WON",46.733333333333334,"LOST",34.799999999999997,"LOST",43.6875,"LOST",36.631578947368425,"LOST",35.277777777777779,"LOST",39.666666666666664,"","","","","","","",""]
[{"$f":"CROWN!A10","v":"Phil Teare"},"LOST",48.692307692307693,"LOST",47.333333333333336,"","","LOST",49.642857142857139,"WON",52.574999999999996,"LOST",50.166666666666664,"LOST",46.777777777777779,"WON",53.92307692307692,"WON",45.717391304347828,"LOST",46.06666666666667,"WON",56.837837837837839,"","","LOST",66.555555555555557,"WON",36.258620689655174,"WON",48.906976744186039,"LOST",44.6,"LOST",51.36363636363636,"LOST",43.846153846153847,"","","","","","","",""]
[{"$f":"CROWN!A11","v":"Richard Salton"},"","","","","","","","","","","","","","","","","","","LOST",38.111111111111114,"","","","","","","","","","","","","","","","","","","","","","","",""]
[{"$f":"CROWN!A12","v":"Shaun Raynor"},"","","","","","","","","","","","","","","","","","","","","","","","","","","","","","","","","","","","","","","","","","","",""]
[{"$f":"CROWN!A13","v":"Adam Carter"},"","","","","","","","","","","","","","","","","","","","","","","","","","","","","","","","","","","","","","","","","","","",""]
[{"$f":"CROWN!A14","v":"Tim Bowman"},"","","","","","","","","","","","","","","","","","","","","","","","","","","","","","","","","","","","","","","","","","","",""]
[]
["GOLDEN LION B",{"$f":"IF(CROWN!B3=701,\"WON\",\"LOST\")","v":"LOST"},{"$f":"IF(CROWN!B3>0,1,0)","v":1},{"$f":"IF(CROWN!F3=701,\"WON\",\"LOST\")","v":"WON"},{"$f":"IF(CROWN!F3>0,1,0)","v":1},{"$f":"IF(CROWN!J3=701,\"WON\",\"LOST\")","v":"LOST"},{"$f":"IF(CROWN!J3>0,1,0)","v":0},{"$f":"IF(CROWN!N3=701,\"WON\",\"LOST\")","v":"WON"},{"$f":"IF(CROWN!N3>0,1,0)","v":1},{"$f":"IF(CROWN!R3=701,\"WON\",\"LOST\")","v":"LOST"},{"$f":"IF(CROWN!R3>0,1,0)","v":1},{"$f":"IF(CROWN!V3=701,\"WON\",\"LOST\")","v":"LOST"},{"$f":"IF(CROWN!V3>0,1,0)","v":1},{"$f":"IF(CROWN!Z3=701,\"WON\",\"LOST\")","v":"LOST"},{"$f":"IF(CROWN!Z3>0,1,0)","v":1},{"$f":"IF(CROWN!AD3=701,\"WON\",\"LOST\")","v":"LOST"},{"$f":"IF(CROWN!AD3>0,1,0)","v":1},{"$f":"IF(CROWN!AH3=701,\"WON\",\"LOST\")","v":"WON"},{"$f":"IF(CROWN!AH3>0,1,0)","v":1},{"$f":"IF(CROWN!AL3=701,\"WON\",\"LOST\")","v":"WON"},{"$f":"IF(CROWN!AL3>0,1,0)","v":1},{"$f":"IF(CROWN!AP3=701,\"WON\",\"LOST\")","v":"WON"},{"$f":"IF(CROWN!AP3>0,1,0)","v":1},{"$f":"IF(CROWN!AT3=701,\"WON\",\"LOST\")","v":"LOST"},{"$f":"IF(CROWN!AT3>0,1,0)","v":0},{"$f":"IF(CROWN!AX3=701,\"WON\",\"LOST\")","v":"LOST"},{"$f":"IF(CROWN!AX3>0,1,0)","v":1},{"$f":"IF(CROWN!BB3=701,\"WON\",\"LOST\")","v":"LOST"},{"$f":"IF(CROWN!BB3>0,1,0)","v":1},{"$f":"IF(CROWN!BF3=701,\"WON\",\"LOST\")","v":"WON"},{"$f":"IF(CROWN!BF3>0,1,0)","v":1},{"$f":"IF(CROWN!BJ3=701,\"WON\",\"LOST\")","v":"LOST"},{"$f":"IF(CROWN!BJ3>0,1,0)","v":1},{"$f":"IF(CROWN!BN3=701,\"WON\",\"LOST\")","v":"LOST"},{"$f":"IF(CROWN!BN3>0,1,0)","v":1},{"$f":"IF(CROWN!BR3=701,\"WON\",\"LOST\")","v":"LOST"},{"$f":"IF(CROWN!BR3>0,1,0)","v":1},{"$f":"IF(CROWN!BV3=701,\"WON\",\"LOST\")","v":"LOST"},{"$f":"IF(CROWN!BV3>0,1,0)","v":0},{"$f":"IF(CROWN!BZ3=701,\"WON\",\"LOST\")","v":"LOST"},{"$f":"IF(CROWN!BZ3>0,1,0)","v":0},{"$f":"IF(CROWN!CD3=701,\"WON\",\"LOST\")","v":"LOST"},{"$f":"IF(CROWN!CD3>0,1,0)","v":0},{"$f":"IF(CROWN!CH3=701,\"WON\",\"LOST\")","v":"LOST"},{"$f":"IF(CROWN!CH3>0,1,0)","v":0}]
[null,{"$f":"IF(CROWN!B4=701,\"WON\",\"LOST\")","v":"LOST"},{"$f":"IF(CROWN!B4>0,1,0)","v":0},{"$f":"IF(CROWN!F4=701,\"WON\",\"LOST\")","v":"LOST"},{"$f":"IF(CROWN!F4>0,1,0)","v":1},{"$f":"IF(CROWN!J4=701,\"WON\",\"LOST\")","v":"LOST"},{"$f":"IF(CROWN!J4>0,1,0)","v":0},{"$f":"IF(CROWN!N4=701,\"WON\",\"LOST\")","v":"LOST"},{"$f":"IF(CROWN!N4>0,1,0)","v":0},{"$f":"IF(CROWN!R4=701,\"WON\",\"LOST\")","v":"LOST"},{"$f":"IF(CROWN!R4>0,1,0)","v":1},{"$f":"IF(CROWN!V4=701,\"WON\",\"LOST\")","v":"LOST"},{"$f":"IF(CROWN!V4>0,1,0)","v":1},{"$f":"IF(CROWN!Z4=701,\"WON\",\"LOST\")","v":"LOST"},{"$f":"IF(CROWN!Z4>0,1,0)","v":0},{"$f":"IF(CROWN!AD4=701,\"WON\",\"LOST\")","v":"LOST"},{"$f":"IF(CROWN!AD4>0,1,0)","v":0},{"$f":"IF(CROWN!AH4=701,\"WON\",\"LOST\")","v":"LOST"},{"$f":"IF(CROWN!AH4>0,1,0)","v":0},{"$f":"IF(CROWN!AL4=701,\"WON\",\"LOST\")","v":"LOST"},{"$f":"IF(CROWN!AL4>0,1,0)","v":0},{"$f":"IF(CROWN!AP4=701,\"WON\",\"LOST\")","v":"LOST"},{"$f":"IF(CROWN!AP4>0,1,0)","v":0},{"$f":"IF(CROWN!AT4=701,\"WON\",\"LOST\")","v":"LOST"},{"$f":"IF(CROWN!AT4>0,1,0)","v":0},{"$f":"IF(CROWN!AX4=701,\"WON\",\"LOST\")","v":"LOST"},{"$f":"IF(CROWN!AX4>0,1,0)","v":1},{"$f":"IF(CROWN!BB4=701,\"WON\",\"LOST\")","v":"LOST"},{"$f":"IF(CROWN!BB4>0,1,0)","v":1},{"$f":"IF(CROWN!BF4=701,\"WON\",\"LOST\")","v":"LOST"},{"$f":"IF(CROWN!BF4>0,1,0)","v":0},{"$f":"IF(CROWN!BJ4=701,\"WON\",\"LOST\")","v":"LOST"},{"$f":"IF(CROWN!BJ4>0,1,0)","v":0},{"$f":"IF(CROWN!BN4=701,\"WON\",\"LOST\")","v":"LOST"},{"$f":"IF(CROWN!BN4>0,1,0)","v":0},{"$f":"IF(CROWN!BR4=701,\"WON\",\"LOST\")","v":"WON"},{"$f":"IF(CROWN!BR4>0,1,0)","v":1},{"$f":"IF(CROWN!BV4=701,\"WON\",\"LOST\")","v":"LOST"},{"$f":"IF(CROWN!BV4>0,1,0)","v":0},{"$f":"IF(CROWN!BZ4=701,\"WON\",\"LOST\")","v":"LOST"},{"$f":"IF(CROWN!BZ4>0,1,0)","v":0},{"$f":"IF(CROWN!CD4=701,\"WON\",\"LOST\")","v":"LOST"},{"$f":"IF(CROWN!CD4>0,1,0)","v":0},{"$f":"IF(CROWN!CH4=701,\"WON\",\"LOST\")","v":"LOST"},{"$f":"IF(CROWN!CH4>0,1,0)","v":0}]
[null,{"$f":"IF(CROWN!B5=701,\"WON\",\"LOST\")","v":"LOST"},{"$f":"IF(CROWN!B5>0,1,0)","v":1},{"$f":"IF(CROWN!F5=701,\"WON\",\"LOST\")","v":"LOST"},{"$f":"IF(CROWN!F5>0,1,0)","v":0},{"$f":"IF(CROWN!J5=701,\"WON\",\"LOST\")","v":"LOST"},{"$f":"IF(CROWN!J5>0,1,0)","v":0},{"$f":"IF(CROWN!N5=701,\"WON\",\"LOST\")","v":"WON"},{"$f":"IF(CROWN!N5>0,1,0)","v":1},{"$f":"IF(CROWN!R5=701,\"WON\",\"LOST\")","v":"LOST"},{"$f":"IF(CROWN!R5>0,1,0)","v":0},{"$f":"IF(CROWN!V5=701,\"WON\",\"LOST\")","v":"LOST"},{"$f":"IF(CROWN!V5>0,1,0)","v":0},{"$f":"IF(CROWN!Z5=701,\"WON\",\"LOST\")","v":"LOST"},{"$f":"IF(CROWN!Z5>0,1,0)","v":1},{"$f":"IF(CROWN!AD5=701,\"WON\",\"LOST\")","v":"LOST"},{"$f":"IF(CROWN!AD5>0,1,0)","v":1},{"$f":"IF(CROWN!AH5=701,\"WON\",\"LOST\")","v":"LOST"},{"$f":"IF(CROWN!AH5>0,1,0)","v":0},{"$f":"IF(CROWN!AL5=701,\"WON\",\"LOST\")","v":"LOST"},{"$f":"IF(CROWN!AL5>0,1,0)","v":1},{"$f":"IF(CROWN!AP5=701,\"WON\",\"LOST\")","v":"LOST"},{"$f":"IF(CROWN!AP5>0,1,0)","v":0},{"$f":"IF(CROWN!AT5=701,\"WON\",\"LOST\")","v":"LOST"},{"$f":"IF(CROWN!AT5>0,1,0)","v":0},{"$f":"IF(CROWN!AX5=701,\"WON\",\"LOST\")","v":"LOST"},{"$f":"IF(CROWN!AX5>0,1,0)","v":0},{"$f":"IF(CROWN!BB5=701,\"WON\",\"LOST\")","v":"LOST"},{"$f":"IF(CROWN!BB5>0,1,0)","v":0},{"$f":"IF(CROWN!BF5=701,\"WON\",\"LOST\")","v":"LOST"},{"$f":"IF(CROWN!BF5>0,1,0)","v":1},{"$f":"IF(CROWN!BJ5=701,\"WON\",\"LOST\")","v":"LOST"},{"$f":"IF(CROWN!BJ5>0,1,0)","v":1},{"$f":"IF(CROWN!BN5=701,\"WON\",\"LOST\")","v":"LOST"},{"$f":"IF(CROWN!BN5>0,1,0)","v":1},{"$f":"IF(CROWN!BR5=701,\"WON\",\"LOST\")","v":"LOST"},{"$f":"IF(CROWN!BR5>0,1,0)","v":0},{"$f":"IF(CROWN!BV5=701,\"WON\",\"LOST\")","v":"LOST"},{"$f":"IF(CROWN!BV5>0,1,0)","v":0},{"$f":"IF(CROWN!BZ5=701,\"WON\",\"LOST\")","v":"LOST"},{"$f":"IF(CROWN!BZ5>0,1,0)","v":0},{"$f":"IF(CROWN!CD5=701,\"WON\",\"LOST\")","v":"LOST"},{"$f":"IF(CROWN!CD5>0,1,0)","v":0},{"$f":"IF(CROWN!CH5=701,\"WON\",\"LOST\")","v":"LOST"},{"$f":"IF(CROWN!CH5>0,1,0)","v":0}]
[null,{"$f":"IF(CROWN!B6=701,\"WON\",\"LOST\")","v":"LOST"},{"$f":"IF(CROWN!B6>0,1,0)","v":1},{"$f":"IF(CROWN!F6=701,\"WON\",\"LOST\")","v":"LOST"},{"$f":"IF(CROWN!F6>0,1,0)","v":1},{"$f":"IF(CROWN!J6=701,\"WON\",\"LOST\")","v":"LOST"},{"$f":"IF(CROWN!J6>0,1,0)","v":0},{"$f":"IF(CROWN!N6=701,\"WON\",\"LOST\")","v":"LOST"},{"$f":"IF(CROWN!N6>0,1,0)","v":1},{"$f":"IF(CROWN!R6=701,\"WON\",\"LOST\")","v":"WON"},{"$f":"IF(CROWN!R6>0,1,0)","v":1},{"$f":"IF(CROWN!V6=701,\"WON\",\"LOST\")","v":"WON"},{"$f":"IF(CROWN!V6>0,1,0)","v":1},{"$f":"IF(CROWN!Z6=701,\"WON\",\"LOST\")","v":"LOST"},{"$f":"IF(CROWN!Z6>0,1,0)","v":1},{"$f":"IF(CROWN!AD6=701,\"WON\",\"LOST\")","v":"LOST"},{"$f":"IF(CROWN!AD6>0,1,0)","v":1},{"$f":"IF(CROWN!AH6=701,\"WON\",\"LOST\")","v":"LOST"},{"$f":"IF(CROWN!AH6>0,1,0)","v":1},{"$f":"IF(CROWN!AL6=701,\"WON\",\"LOST\")","v":"LOST"},{"$f":"IF(CROWN!AL6>0,1,0)","v":1},{"$f":"IF(CROWN!AP6=701,\"WON\",\"LOST\")","v":"LOST"},{"$f":"IF(CROWN!AP6>0,1,0)","v":1},{"$f":"IF(CROWN!AT6=701,\"WON\",\"LOST\")","v":"LOST"},{"$f":"IF(CROWN!AT6>0,1,0)","v":0},{"$f":"IF(CROWN!AX6=701,\"WON\",\"LOST\")","v":"LOST"},{"$f":"IF(CROWN!AX6>0,1,0)","v":1},{"$f":"IF(CROWN!BB6=701,\"WON\",\"LOST\")","v":"WON"},{"$f":"IF(CROWN!BB6>0,1,0)","v":1},{"$f":"IF(CROWN!BF6=701,\"WON\",\"LOST\")","v":"WON"},{"$f":"IF(CROWN!BF6>0,1,0)","v":1},{"$f":"IF(CROWN!BJ6=701,\"WON\",\"LOST\")","v":"LOST"},{"$f":"IF(CROWN!BJ6>0,1,0)","v":1},{"$f":"IF(CROWN!BN6=701,\"WON\",\"LOST\")","v":"LOST"},{"$f":"IF(CROWN!BN6>0,1,0)","v":1},{"$f":"IF(CROWN!BR6=701,\"WON\",\"LOST\")","v":"LOST"},{"$f":"IF(CROWN!BR6>0,1,0)","v":1},{"$f":"IF(CROWN!BV6=701,\"WON\",\"LOST\")","v":"LOST"},{"$f":"IF(CROWN!BV6>0,1,0)","v":0},{"$f":"IF(CROWN!BZ6=701,\"WON\",\"LOST\")","v":"LOST"},{"$f":"IF(CROWN!BZ6>0,1,0)","v":0},{"$f":"IF(CROWN!CD6=701,\"WON\",\"LOST\")","v":"LOST"},{"$f":"IF(CROWN!CD6>0,1,0)","v":0},{"$f":"IF(CROWN!CH6=701,\"WON\",\"LOST\")","v":"LOST"},{"$f":"IF(CROWN!CH6>0,1,0)","v":0}]
[null,{"$f":"IF(CROWN!B7=701,\"WON\",\"LOST\")","v":"LOST"},{"$f":"IF(CROWN!B7>0,1,0)","v":0},{"$f":"IF(CROWN!F7=701,\"WON\",\"LOST\")","v":"LOST"},{"$f":"IF(CROWN!F7>0,1,0)","v":0},{"$f":"IF(CROWN!J7=701,\"WON\",\"LOST\")","v":"LOST"},{"$f":"IF(CROWN!J7>0,1,0)","v":0},{"$f":"IF(CROWN!N7=701,\"WON\",\"LOST\")","v":"LOST"},{"$f":"IF(CROWN!N7>0,1,0)","v":0},{"$f":"IF(CROWN!R7=701,\"WON\",\"LOST\")","v":"LOST"},{"$f":"IF(CROWN!R7>0,1,0)","v":0},{"$f":"IF(CROWN!V7=701,\"WON\",\"LOST\")","v":"LOST"},{"$f":"IF(CROWN!V7>0,1,0)","v":0},{"$f":"IF(CROWN!Z7=701,\"WON\",\"LOST\")","v":"LOST"},{"$f":"IF(CROWN!Z7>0,1,0)","v":0},{"$f":"IF(CROWN!AD7=701,\"WON\",\"LOST\")","v":"LOST"},{"$f":"IF(CROWN!AD7>0,1,0)","v":0},{"$f":"IF(CROWN!AH7=701,\"WON\",\"LOST\")","v":"LOST"},{"$f":"IF(CROWN!AH7>0,1,0)","v":0},{"$f":"IF(CROWN!AL7=701,\"WON\",\"LOST\")","v":"LOST"},{"$f":"IF(CROWN!AL7>0,1,0)","v":0},{"$f":"IF(CROWN!AP7=701,\"WON\",\"LOST\")","v":"LOST"},{"$f":"IF(CROWN!AP7>0,1,0)","v":0},{"$f":"IF(CROWN!AT7=701,\"WON\",\"LOST\")","v":"LOST"},{"$f":"IF(CROWN!AT7>0,1,0)","v":0},{"$f":"IF(CROWN!AX7=701,\"WON\",\"LOST\")","v":"LOST"},{"$f":"IF(CROWN!AX7>0,1,0)","v":0},{"$f":"IF(CROWN!BB7=701,\"WON\",\"LOST\")","v":"LOST"},{"$f":"IF(CROWN!BB7>0,1,0)","v":0},{"$f":"IF(CROWN!BF7=701,\"WON\",\"LOST\")","v":"LOST"},{"$f":"IF(CROWN!BF7>0,1,0)","v":0},{"$f":"IF(CROWN!BJ7=701,\"WON\",\"LOST\")","v":"LOST"},{"$f":"IF(CROWN!BJ7>0,1,0)","v":0},{"$f":"IF(CROWN!BN7=701,\"WON\",\"LOST\")","v":"LOST"},{"$f":"IF(CROWN!BN7>0,1,0)","v":0},{"$f":"IF(CROWN!BR7=701,\"WON\",\"LOST\")","v":"LOST"},{"$f":"IF(CROWN!BR7>0,1,0)","v":0},{"$f":"IF(CROWN!BV7=701,\"WON\",\"LOST\")","v":"LOST"},{"$f":"IF(CROWN!BV7>0,1,0)","v":0},{"$f":"IF(CROWN!BZ7=701,\"WON\",\"LOST\")","v":"LOST"},{"$f":"IF(CROWN!BZ7>0,1,0)","v":0},{"$f":"IF(CROWN!CD7=701,\"WON\",\"LOST\")","v":"LOST"},{"$f":"IF(CROWN!CD7>0,1,0)","v":0},{"$f":"IF(CROWN!CH7=701,\"WON\",\"LOST\")","v":"LOST"},{"$f":"IF(CROWN!CH7>0,1,0)","v":0}]
[null,{"$f":"IF(CROWN!B8=701,\"WON\",\"LOST\")","v":"WON"},{"$f":"IF(CROWN!B8>0,1,0)","v":1},{"$f":"IF(CROWN!F8=701,\"WON\",\"LOST\")","v":"WON"},{"$f":"IF(CROWN!F8>0,1,0)","v":1},{"$f":"IF(CROWN!J8=701,\"WON\",\"LOST\")","v":"LOST"},{"$f":"IF(CROWN!J8>0,1,0)","v":0},{"$f":"IF(CROWN!N8=701,\"WON\",\"LOST\")","v":"LOST"},{"$f":"IF(CROWN!N8>0,1,0)","v":1},{"$f":"IF(CROWN!R8=701,\"WON\",\"LOST\")","v":"LOST"},{"$f":"IF(CROWN!R8>0,1,0)","v":1},{"$f":"IF(CROWN!V8=701,\"WON\",\"LOST\")","v":"WON"},{"$f":"IF(CROWN!V8>0,1,0)","v":1},{"$f":"IF(CROWN!Z8=701,\"WON\",\"LOST\")","v":"LOST"},{"$f":"IF(CROWN!Z8>0,1,0)","v":1},{"$f":"IF(CROWN!AD8=701,\"WON\",\"LOST\")","v":"LOST"},{"$f":"IF(CROWN!AD8>0,1,0)","v":1},{"$f":"IF(CROWN!AH8=701,\"WON\",\"LOST\")","v":"LOST"},{"$f":"IF(CROWN!AH8>0,1,0)","v":1},{"$f":"IF(CROWN!AL8=701,\"WON\",\"LOST\")","v":"LOST"},{"$f":"IF(CROWN!AL8>0,1,0)","v":0},{"$f":"IF(CROWN!AP8=701,\"WON\",\"LOST\")","v":"LOST"},{"$f":"IF(CROWN!AP8>0,1,0)","v":1},{"$f":"IF(CROWN!AT8=701,\"WON\",\"LOST\")","v":"LOST"},{"$f":"IF(CROWN!AT8>0,1,0)","v":0},{"$f":"IF(CROWN!AX8=701,\"WON\",\"LOST\")","v":"LOST"},{"$f":"IF(CROWN!AX8>0,1,0)","v":1},{"$f":"IF(CROWN!BB8=701,\"WON\",\"LOST\")","v":"LOST"},{"$f":"IF(CROWN!BB8>0,1,0)","v":1},{"$f":"IF(CROWN!BF8=701,\"WON\",\"LOST\")","v":"LOST"},{"$f":"IF(CROWN!BF8>0,1,0)","v":1},{"$f":"IF(CROWN!BJ8=701,\"WON\",\"LOST\")","v":"LOST"},{"$f":"IF(CROWN!BJ8>0,1,0)","v":1},{"$f":"IF(CROWN!BN8=701,\"WON\",\"LOST\")","v":"LOST"},{"$f":"IF(CROWN!BN8>0,1,0)","v":1},{"$f":"IF(CROWN!BR8=701,\"WON\",\"LOST\")","v":"WON"},{"$f":"IF(CROWN!BR8>0,1,0)","v":1},{"$f":"IF(CROWN!BV8=701,\"WON\",\"LOST\")","v":"LOST"},{"$f":"IF(CROWN!BV8>0,1,0)","v":0},{"$f":"IF(CROWN!BZ8=701,\"WON\",\"LOST\")","v":"LOST"},{"$f":"IF(CROWN!BZ8>0,1,0)","v":0},{"$f":"IF(CROWN!CD8=701,\"WON\",\"LOST\")","v":"LOST"},{"$f":"IF(CROWN!CD8>0,1,0)","v":0},{"$f":"IF(CROWN!CH8=701,\"WON\",\"LOST\")","v":"LOST"},{"$f":"IF(CROWN!CH8>0,1,0)","v":0}]
[null,{"$f":"IF(CROWN!B9=701,\"WON\",\"LOST\")","v":"LOST"},{"$f":"IF(CROWN!B9>0,1,0)","v":1},{"$f":"IF(CROWN!F9=701,\"WON\",\"LOST\")","v":"LOST"},{"$f":"IF(CROWN!F9>0,1,0)","v":1},{"$f":"IF(CROWN!J9=701,\"WON\",\"LOST\")","v":"LOST"},{"$f":"IF(CROWN!J9>0,1,0)","v":0},{"$f":"IF(CROWN!N9=701,\"WON\",\"LOST\")","v":"LOST"},{"$f":"IF(CROWN!N9>0,1,0)","v":1},{"$f":"IF(CROWN!R9=701,\"WON\",\"LOST\")","v":"WON"},{"$f":"IF(CROWN!R9>0,1,0)","v":1},{"$f":"IF(CROWN!V9=701,\"WON\",\"LOST\")","v":"WON"},{"$f":"IF(CROWN!V9>0,1,0)","v":1},{"$f":"IF(CROWN!Z9=701,\"WON\",\"LOST\")","v":"LOST"},{"$f":"IF(CROWN!Z9>0,1,0)","v":1},{"$f":"IF(CROWN!AD9=701,\"WON\",\"LOST\")","v":"LOST"},{"$f":"IF(CROWN!AD9>0,1,0)","v":1},{"$f":"IF(CROWN!AH9=701,\"WON\",\"LOST\")","v":"LOST"},{"$f":"IF(CROWN!AH9>0,1,0)","v":1},{"$f":"IF(CROWN!AL9=701,\"WON\",\"LOST\")","v":"LOST"},{"$f":"IF(CROWN!AL9>0,1,0)","v":1},{"$f":"IF(CROWN!AP9=701,\"WON\",\"LOST\")","v":"LOST"},{"$f":"IF(CROWN!AP9>0,1,0)","v":1},{"$f":"IF(CROWN!AT9=701,\"WON\",\"LOST\")","v":"LOST"},{"$f":"IF(CROWN!AT9>0,1,0)","v":0},{"$f":"IF(CROWN!AX9=701,\"WON\",\"LOST\")","v":"WON"},{"$f":"IF(CROWN!AX9>0,1,0)","v":1},{"$f":"IF(CROWN!BB9=701,\"WON\",\"LOST\")","v":"LOST"},{"$f":"IF(CROWN!BB9>0,1,0)","v":1},{"$f":"IF(CROWN!BF9=701,\"WON\",\"LOST\")","v":"LOST"},{"$f":"IF(CROWN!BF9>0,1,0)","v":1},{"$f":"IF(CROWN!BJ9=701,\"WON\",\"LOST\")","v":"LOST"},{"$f":"IF(CROWN!BJ9>0,1,0)","v":1},{"$f":"IF(CROWN!BN9=701,\"WON\",\"LOST\")","v":"LOST"},{"$f":"IF(CROWN!BN9>0,1,0)","v":1},{"$f":"IF(CROWN!BR9=701,\"WON\",\"LOST\")","v":"LOST"},{"$f":"IF(CROWN!BR9>0,1,0)","v":1},{"$f":"IF(CROWN!BV9=701,\"WON\",\"LOST\")","v":"LOST"},{"$f":"IF(CROWN!BV9>0,1,0)","v":0},{"$f":"IF(CROWN!BZ9=701,\"WON\",\"LOST\")","v":"LOST"},{"$f":"IF(CROWN!BZ9>0,1,0)","v":0},{"$f":"IF(CROWN!CD9=701,\"WON\",\"LOST\")","v":"LOST"},{"$f":"IF(CROWN!CD9>0,1,0)","v":0},{"$f":"IF(CROWN!CH9=701,\"WON\",\"LOST\")","v":"LOST"},{"$f":"IF(CROWN!CH9>0,1,0)","v":0}]
[null,{"$f":"IF(CROWN!B10=701,\"WON\",\"LOST\")","v":"LOST"},{"$f":"IF(CROWN!B10>0,1,0)","v":1},{"$f":"IF(CROWN!F10=701,\"WON\",\"LOST\")","v":"LOST"},{"$f":"IF(CROWN!F10>0,1,0)","v":1},{"$f":"IF(CROWN!J10=701,\"WON\",\"LOST\")","v":"LOST"},{"$f":"IF(CROWN!J10>0,1,0)","v":0},{"$f":"IF(CROWN!N10=701,\"WON\",\"LOST\")","v":"LOST"},{"$f":"IF(CROWN!N10>0,1,0)","v":1},{"$f":"IF(CROWN!R10=701,\"WON\",\"LOST\")","v":"WON"},{"$f":"IF(CROWN!R10>0,1,0)","v":1},{"$f":"IF(CROWN!V10=701,\"WON\",\"LOST\")","v":"LOST"},{"$f":"IF(CROWN!V10>0,1,0)","v":1},{"$f":"IF(CROWN!Z10=701,\"WON\",\"LOST\")","v":"LOST"},{"$f":"IF(CROWN!Z10>0,1,0)","v":1},{"$f":"IF(CROWN!AD10=701,\"WON\",\"LOST\")","v":"WON"},{"$f":"IF(CROWN!AD10>0,1,0)","v":1},{"$f":"IF(CROWN!AH10=701,\"WON\",\"LOST\")","v":"WON"},{"$f":"IF(CROWN!AH10>0,1,0)","v":1},{"$f":"IF(CROWN!AL10=701,\"WON\",\"LOST\")","v":"LOST"},{"$f":"IF(CROWN!AL10>0,1,0)","v":1},{"$f":"IF(CROWN!AP10=701,\"WON\",\"LOST\")","v":"WON"},{"$f":"IF(CROWN!AP10>0,1,0)","v":1},{"$f":"IF(CROWN!AT10=701,\"WON\",\"LOST\")","v":"LOST"},{"$f":"IF(CROWN!AT10>0,1,0)","v":0},{"$f":"IF(CROWN!AX10=701,\"WON\",\"LOST\")","v":"LOST"},{"$f":"IF(CROWN!AX10>0,1,0)","v":1},{"$f":"IF(CROWN!BB10=701,\"WON\",\"LOST\")","v":"WON"},{"$f":"IF(CROWN!BB10>0,1,0)","v":1},{"$f":"IF(CROWN!BF10=701,\"WON\",\"LOST\")","v":"WON"},{"$f":"IF(CROWN!BF10>0,1,0)","v":1},{"$f":"IF(CROWN!BJ10=701,\"WON\",\"LOST\")","v":"LOST"},{"$f":"IF(CROWN!BJ10>0,1,0)","v":1},{"$f":"IF(CROWN!BN10=701,\"WON\",\"LOST\")","v":"LOST"},{"$f":"IF(CROWN!BN10>0,1,0)","v":1},{"$f":"IF(CROWN!BR10=701,\"WON\",\"LOST\")","v":"LOST"},{"$f":"IF(CROWN!BR10>0,1,0)","v":1},{"$f":"IF(CROWN!BV10=701,\"WON\",\"LOST\")","v":"LOST"},{"$f":"IF(CROWN!BV10>0,1,0)","v":0},{"$f":"IF(CROWN!BZ10=701,\"WON\",\"LOST\")","v":"LOST"},{"$f":"IF(CROWN!BZ10>0,1,0)","v":0},{"$f":"IF(CROWN!CD10=701,\"WON\",\"LOST\")","v":"LOST"},{"$f":"IF(CROWN!CD10>0,1,0)","v":0},{"$f":"IF(CROWN!CH10=701,\"WON\",\"LOST\")","v":"LOST"},{"$f":"IF(CROWN!CH10>0,1,0)","v":0}]
[null,{"$f":"IF(CROWN!B11=701,\"WON\",\"LOST\")","v":"LOST"},{"$f":"IF(CROWN!B11>0,1,0)","v":0},{"$f":"IF(CROWN!F11=701,\"WON\",\"LOST\")","v":"LOST"},{"$f":"IF(CROWN!F11>0,1,0)","v":0},{"$f":"IF(CROWN!J11=701,\"WON\",\"LOST\")","v":"LOST"},{"$f":"IF(CROWN!J11>0,1,0)","v":0},{"$f":"IF(CROWN!N11=701,\"WON\",\"LOST\")","v":"LOST"},{"$f":"IF(CROWN!N11>0,1,0)","v":0},{"$f":"IF(CROWN!R11=701,\"WON\",\"LOST\")","v":"LOST"},{"$f":"IF(CROWN!R11>0,1,0)","v":0},{"$f":"IF(CROWN!V11=701,\"WON\",\"LOST\")","v":"LOST"},{"$f":"IF(CROWN!V11>0,1,0)","v":0},{"$f":"IF(CROWN!Z11=701,\"WON\",\"LOST\")","v":"LOST"},{"$f":"IF(CROWN!Z11>0,1,0)","v":0},{"$f":"IF(CROWN!AD11=701,\"WON\",\"LOST\")","v":"LOST"},{"$f":"IF(CROWN!AD11>0,1,0)","v":0},{"$f":"IF(CROWN!AH11=701,\"WON\",\"LOST\")","v":"LOST"},{"$f":"IF(CROWN!AH11>0,1,0)","v":0},{"$f":"IF(CROWN!AL11=701,\"WON\",\"LOST\")","v":"LOST"},{"$f":"IF(CROWN!AL11>0,1,0)","v":1},{"$f":"IF(CROWN!AP11=701,\"WON\",\"LOST\")","v":"LOST"},{"$f":"IF(CROWN!AP11>0,1,0)","v":0},{"$f":"IF(CROWN!AT11=701,\"WON\",\"LOST\")","v":"LOST"},{"$f":"IF(CROWN!AT11>0,1,0)","v":0},{"$f":"IF(CROWN!AX11=701,\"WON\",\"LOST\")","v":"LOST"},{"$f":"IF(CROWN!AX11>0,1,0)","v":0},{"$f":"IF(CROWN!BB11=701,\"WON\",\"LOST\")","v":"LOST"},{"$f":"IF(CROWN!BB11>0,1,0)","v":0},{"$f":"IF(CROWN!BF11=701,\"WON\",\"LOST\")","v":"LOST"},{"$f":"IF(CROWN!BF11>0,1,0)","v":0},{"$f":"IF(CROWN!BJ11=701,\"WON\",\"LOST\")","v":"LOST"},{"$f":"IF(CROWN!BJ11>0,1,0)","v":0},{"$f":"IF(CROWN!BN11=701,\"WON\",\"LOST\")","v":"LOST"},{"$f":"IF(CROWN!BN11>0,1,0)","v":0},{"$f":"IF(CROWN!BR11=701,\"WON\",\"LOST\")","v":"LOST"},{"$f":"IF(CROWN!BR11>0,1,0)","v":0},{"$f":"IF(CROWN!BV11=701,\"WON\",\"LOST\")","v":"LOST"},{"$f":"IF(CROWN!BV11>0,1,0)","v":0},{"$f":"IF(CROWN!BZ11=701,\"WON\",\"LOST\")","v":"LOST"},{"$f":"IF(CROWN!BZ11>0,1,0)","v":0},{"$f":"IF(CROWN!CD11=701,\"WON\",\"LOST\")","v":"LOST"},{"$f":"IF(CROWN!CD11>0,1,0)","v":0},{"$f":"IF(CROWN!CH11=701,\"WON\",\"LOST\")","v":"LOST"},{"$f":"IF(CROWN!CH11>0,1,0)","v":0}]
[null,{"$f":"IF(CROWN!B12=701,\"WON\",\"LOST\")","v":"LOST"},{"$f":"IF(CROWN!B12>0,1,0)","v":0},{"$f":"IF(CROWN!F12=701,\"WON\",\"LOST\")","v":"LOST"},{"$f":"IF(CROWN!F12>0,1,0)","v":0},{"$f":"IF(CROWN!J12=701,\"WON\",\"LOST\")","v":"LOST"},{"$f":"IF(CROWN!J12>0,1,0)","v":0},{"$f":"IF(CROWN!N12=701,\"WON\",\"LOST\")","v":"LOST"},{"$f":"IF(CROWN!N12>0,1,0)","v":0},{"$f":"IF(CROWN!R12=701,\"WON\",\"LOST\")","v":"LOST"},{"$f":"IF(CROWN!R12>0,1,0)","v":0},{"$f":"IF(CROWN!V12=701,\"WON\",\"LOST\")","v":"LOST"},{"$f":"IF(CROWN!V12>0,1,0)","v":0},{"$f":"IF(CROWN!Z12=701,\"WON\",\"LOST\")","v":"LOST"},{"$f":"IF(CROWN!Z12>0,1,0)","v":0},{"$f":"IF(CROWN!AD12=701,\"WON\",\"LOST\")","v":"LOST"},{"$f":"IF(CROWN!AD12>0,1,0)","v":0},{"$f":"IF(CROWN!AH12=701,\"WON\",\"LOST\")","v":"LOST"},{"$f":"IF(CROWN!AH12>0,1,0)","v":0},{"$f":"IF(CROWN!AL12=701,\"WON\",\"LOST\")","v":"LOST"},{"$f":"IF(CROWN!AL12>0,1,0)","v":0},{"$f":"IF(CROWN!AP12=701,\"WON\",\"LOST\")","v":"LOST"},{"$f":"IF(CROWN!AP12>0,1,0)","v":0},{"$f":"IF(CROWN!AT12=701,\"WON\",\"LOST\")","v":"LOST"},{"$f":"IF(CROWN!AT12>0,1,0)","v":0},{"$f":"IF(CROWN!AX12=701,\"WON\",\"LOST\")","v":"LOST"},{"$f":"IF(CROWN!AX12>0,1,0)","v":0},{"$f":"IF(CROWN!BB12=701,\"WON\",\"LOST\")","v":"LOST"},{"$f":"IF(CROWN!BB12>0,1,0)","v":0},{"$f":"IF(CROWN!BF12=701,\"WON\",\"LOST\")","v":"LOST"},{"$f":"IF(CROWN!BF12>0,1,0)","v":0},{"$f":"IF(CROWN!BJ12=701,\"WON\",\"LOST\")","v":"LOST"},{"$f":"IF(CROWN!BJ12>0,1,0)","v":0},{"$f":"IF(CROWN!BN12=701,\"WON\",\"LOST\")","v":"LOST"},{"$f":"IF(CROWN!BN12>0,1,0)","v":0},{"$f":"IF(CROWN!BR12=701,\"WON\",\"LOST\")","v":"LOST"},{"$f":"IF(CROWN!BR12>0,1,0)","v":0},{"$f":"IF(CROWN!BV12=701,\"WON\",\"LOST\")","v":"LOST"},{"$f":"IF(CROWN!BV12>0,1,0)","v":0},{"$f":"IF(CROWN!BZ12=701,\"WON\",\"LOST\")","v":"LOST"},{"$f":"IF(CROWN!BZ12>0,1,0)","v":0},{"$f":"IF(CROWN!CD12=701,\"WON\",\"LOST\")","v":"LOST"},{"$f":"IF(CROWN!CD12>0,1,0)","v":0},{"$f":"IF(CROWN!CH12=701,\"WON\",\"LOST\")","v":"LOST"},{"$f":"IF(CROWN!CH12>0,1,0)","v":0}]
[null,{"$f":"IF(CROWN!B13=701,\"WON\",\"LOST\")","v":"LOST"},{"$f":"IF(CROWN!B13>0,1,0)","v":0},{"$f":"IF(CROWN!F13=701,\"WON\",\"LOST\")","v":"LOST"},{"$f":"IF(CROWN!F13>0,1,0)","v":0},{"$f":"IF(CROWN!J13=701,\"WON\",\"LOST\")","v":"LOST"},{"$f":"IF(CROWN!J13>0,1,0)","v":0},{"$f":"IF(CROWN!N13=701,\"WON\",\"LOST\")","v":"LOST"},{"$f":"IF(CROWN!N13>0,1,0)","v":0},{"$f":"IF(CROWN!R13=701,\"WON\",\"LOST\")","v":"LOST"},{"$f":"IF(CROWN!R13>0,1,0)","v":0},{"$f":"IF(CROWN!V13=701,\"WON\",\"LOST\")","v":"LOST"},{"$f":"IF(CROWN!V13>0,1,0)","v":0},{"$f":"IF(CROWN!Z13=701,\"WON\",\"LOST\")","v":"LOST"},{"$f":"IF(CROWN!Z13>0,1,0)","v":0},{"$f":"IF(CROWN!AD13=701,\"WON\",\"LOST\")","v":"LOST"},{"$f":"IF(CROWN!AD13>0,1,0)","v":0},{"$f":"IF(CROWN!AH13=701,\"WON\",\"LOST\")","v":"LOST"},{"$f":"IF(CROWN!AH13>0,1,0)","v":0},{"$f":"IF(CROWN!AL13=701,\"WON\",\"LOST\")","v":"LOST"},{"$f":"IF(CROWN!AL13>0,1,0)","v":0},{"$f":"IF(CROWN!AP13=701,\"WON\",\"LOST\")","v":"LOST"},{"$f":"IF(CROWN!AP13>0,1,0)","v":0},{"$f":"IF(CROWN!AT13=701,\"WON\",\"LOST\")","v":"LOST"},{"$f":"IF(CROWN!AT13>0,1,0)","v":0},{"$f":"IF(CROWN!AX13=701,\"WON\",\"LOST\")","v":"LOST"},{"$f":"IF(CROWN!AX13>0,1,0)","v":0},{"$f":"IF(CROWN!BB13=701,\"WON\",\"LOST\")","v":"LOST"},{"$f":"IF(CROWN!BB13>0,1,0)","v":0},{"$f":"IF(CROWN!BF13=701,\"WON\",\"LOST\")","v":"LOST"},{"$f":"IF(CROWN!BF13>0,1,0)","v":0},{"$f":"IF(CROWN!BJ13=701,\"WON\",\"LOST\")","v":"LOST"},{"$f":"IF(CROWN!BJ13>0,1,0)","v":0},{"$f":"IF(CROWN!BN13=701,\"WON\",\"LOST\")","v":"LOST"},{"$f":"IF(CROWN!BN13>0,1,0)","v":0},{"$f":"IF(CROWN!BR13=701,\"WON\",\"LOST\")","v":"LOST"},{"$f":"IF(CROWN!BR13>0,1,0)","v":0},{"$f":"IF(CROWN!BV13=701,\"WON\",\"LOST\")","v":"LOST"},{"$f":"IF(CROWN!BV13>0,1,0)","v":0},{"$f":"IF(CROWN!BZ13=701,\"WON\",\"LOST\")","v":"LOST"},{"$f":"IF(CROWN!BZ13>0,1,0)","v":0},{"$f":"IF(CROWN!CD13=701,\"WON\",\"LOST\")","v":"LOST"},{"$f":"IF(CROWN!CD13>0,1,0)","v":0},{"$f":"IF(CROWN!CH13=701,\"WON\",\"LOST\")","v":"LOST"},{"$f":"IF(CROWN!CH13>0,1,0)","v":0}]
[null,{"$f":"IF(CROWN!B14=701,\"WON\",\"LOST\")","v":"LOST"},{"$f":"IF(CROWN!B14>0,1,0)","v":0},{"$f":"IF(CROWN!F14=701,\"WON\",\"LOST\")","v":"LOST"},{"$f":"IF(CROWN!F14>0,1,0)","v":0},{"$f":"IF(CROWN!J14=701,\"WON\",\"LOST\")","v":"LOST"},{"$f":"IF(CROWN!J14>0,1,0)","v":0},{"$f":"IF(CROWN!N14=701,\"WON\",\"LOST\")","v":"LOST"},{"$f":"IF(CROWN!N14>0,1,0)","v":0},{"$f":"IF(CROWN!R14=701,\"WON\",\"LOST\")","v":"LOST"},{"$f":"IF(CROWN!R14>0,1,0)","v":0},{"$f":"IF(CROWN!V14=701,\"WON\",\"LOST\")","v":"LOST"},{"$f":"IF(CROWN!V14>0,1,0)","v":0},{"$f":"IF(CROWN!Z14=701,\"WON\",\"LOST\")","v":"LOST"},{"$f":"IF(CROWN!Z14>0,1,0)","v":0},{"$f":"IF(CROWN!AD14=701,\"WON\",\"LOST\")","v":"LOST"},{"$f":"IF(CROWN!AD14>0,1,0)","v":0},{"$f":"IF(CROWN!AH14=701,\"WON\",\"LOST\")","v":"LOST"},{"$f":"IF(CROWN!AH14>0,1,0)","v":0},{"$f":"IF(CROWN!AL14=701,\"WON\",\"LOST\")","v":"LOST"},{"$f":"IF(CROWN!AL14>0,1,0)","v":0},{"$f":"IF(CROWN!AP14=701,\"WON\",\"LOST\")","v":"LOST"},{"$f":"IF(CROWN!AP14>0,1,0)","v":0},{"$f":"IF(CROWN!AT14=701,\"WON\",\"LOST\")","v":"LOST"},{"$f":"IF(CROWN!AT14>0,1,0)","v":0},{"$f":"IF(CROWN!AX14=701,\"WON\",\"LOST\")","v":"LOST"},{"$f":"IF(CROWN!AX14>0,1,0)","v":0},{"$f":"IF(CROWN!BB14=701,\"WON\",\"LOST\")","v":"LOST"},{"$f":"IF(CROWN!BB14>0,1,0)","v":0},{"$f":"IF(CROWN!BF14=701,\"WON\",\"LOST\")","v":"LOST"},{"$f":"IF(CROWN!BF14>0,1,0)","v":0},{"$f":"IF(CROWN!BJ14=701,\"WON\",\"LOST\")","v":"LOST"},{"$f":"IF(CROWN!BJ14>0,1,0)","v":0},{"$f":"IF(CROWN!BN14=701,\"WON\",\"LOST\")","v":"LOST"},{"$f":"IF(CROWN!BN14>0,1,0)","v":0},{"$f":"IF(CROWN!BR14=701,\"WON\",\"LOST\")","v":"LOST"},{"$f":"IF(CROWN!BR14>0,1,0)","v":0},{"$f":"IF(CROWN!BV14=701,\"WON\",\"LOST\")","v":"LOST"},{"$f":"IF(CROWN!BV14>0,1,0)","v":0},{"$f":"IF(CROWN!BZ14=701,\"WON\",\"LOST\")","v":"LOST"},{"$f":"IF(CROWN!BZ14>0,1,0)","v":0},{"$f":"IF(CROWN!CD14=701,\"WON\",\"LOST\")","v":"LOST"},{"$f":"IF(CROWN!CD14>0,1,0)","v":0},{"$f":"IF(CROWN!CH14=701,\"WON\",\"LOST\")","v":"LOST"},{"$f":"IF(CROWN!CH14>0,1,0)","v":0}]
[null,{"$f":"IF(CROWN!B3=\"\",0,(SUM((CROWN!B3/CROWN!C3)*3)))","v":62.63636363636364},null,{"$f":"IF(CROWN!F3=\"\",0,(SUM((CROWN!F3/CROWN!G3)*3)))","v":50.071428571428569},null,{"$f":"IF(CROWN!J3=\"\",0,(SUM((CROWN!J3/CROWN!K3)*3)))","v":0},null,{"$f":"IF(CROWN!N3=\"\",0,(SUM((CROWN!N3/CROWN!O3)*3)))","v":70.099999999999994},null,{"$f":"IF(CROWN!R3=\"\",0,(SUM((CROWN!R3/CROWN!S3)*3)))","v":36.631578947368425},null,{"$f":"IF(CROWN!V3=\"\",0,(SUM((CROWN!V3/CROWN!W3)*3)))","v":52.166666666666671},null,{"$f":"IF(CROWN!Z3=\"\",0,(SUM((CROWN!Z3/CROWN!AA3)*3)))","v":46.416666666666664},null,{"$f":"IF(CROWN!AD3=\"\",0,(SUM((CROWN!AD3/CROWN!AE3)*3)))","v":37.636363636363633},null,{"$f":"IF(CROWN!AH3=\"\",0,(SUM((CROWN!AH3/CROWN!AI3)*3)))","v":56.837837837837839},null,{"$f":"IF(CROWN!AL3=\"\",0,(SUM((CROWN!AL3/CROWN!AM3)*3)))","v":51.292682926829272},null,{"$f":"IF(CROWN!AP3=\"\",0,(SUM((CROWN!AP3/CROWN!AQ3)*3)))","v":55.34210526315789},null,{"$f":"IF(CROWN!AT3=\"\",0,(SUM((CROWN!AT3/CROWN!AU3)*3)))","v":0},null,{"$f":"IF(CROWN!AX3=\"\",0,(SUM((CROWN!AX3/CROWN!AY3)*3)))","v":44.142857142857139},null,{"$f":"IF(CROWN!BB3=\"\",0,(SUM((CROWN!BB3/CROWN!BC3)*3)))","v":43.333333333333336},null,{"$f":"IF(CROWN!BF3=\"\",0,(SUM((CROWN!BF3/CROWN!BG3)*3)))","v":55.34210526315789},null,{"$f":"IF(CROWN!BJ3=\"\",0,(SUM((CROWN!BJ3/CROWN!BK3)*3)))","v":44.92307692307692},null,{"$f":"IF(CROWN!BN3=\"\",0,(SUM((CROWN!BN3/CROWN!BO3)*3)))","v":51.181818181818187},null,{"$f":"IF(CROWN!BR3=\"\",0,(SUM((CROWN!BR3/CROWN!BS3)*3)))","v":62.63636363636364},null,{"$f":"IF(CROWN!BV3=\"\",0,(SUM((CROWN!BV3/CROWN!BW3)*3)))","v":0},null,{"$f":"IF(CROWN!BZ3=\"\",0,(SUM((CROWN!BZ3/CROWN!CA3)*3)))","v":0},null,{"$f":"IF(CROWN!CD3=\"\",0,(SUM((CROWN!CD3/CROWN!CE3)*3)))","v":0},null,{"$f":"IF(CROWN!CH3=\"\",0,(SUM((CROWN!CH3/CROWN!CI3)*3)))","v":0}]
[null,{"$f":"IF(CROWN!B4=\"\",0,(SUM((CROWN!B4/CROWN!C4)*3)))","v":0},null,{"$f":"IF(CROWN!F4=\"\",0,(SUM((CROWN!F4/CROWN!G4)*3)))","v":50.470588235294116},null,{"$f":"IF(CROWN!J4=\"\",0,(SUM((CROWN!J4/CROWN!K4)*3)))","v":0},null,{"$f":"IF(CROWN!N4=\"\",0,(SUM((CROWN!N4/CROWN!O4)*3)))","v":0},null,{"$f":"IF(CROWN!R4=\"\",0,(SUM((CROWN!R4/CROWN!S4)*3)))","v":38.722222222222221},null,{"$f":"IF(CROWN!V4=\"\",0,(SUM((CROWN!V4/CROWN!W4)*3)))","v":44.18181818181818},null,{"$f":"IF(CROWN!Z4=\"\",0,(SUM((CROWN!Z4/CROWN!AA4)*3)))","v":0},null,{"$f":"IF(CROWN!AD4=\"\",0,(SUM((CROWN!AD4/CROWN!AE4)*3)))","v":0},null,{"$f":"IF(CROWN!AH4=\"\",0,(SUM((CROWN!AH4/CROWN!AI4)*3)))","v":0},null,{"$f":"IF(CROWN!AL4=\"\",0,(SUM((CROWN!AL4/CROWN!AM4)*3)))","v":0},null,{"$f":"IF(CROWN!AP4=\"\",0,(SUM((CROWN!AP4/CROWN!AQ4)*3)))","v":0},null,{"$f":"IF(CROWN!AT4=\"\",0,(SUM((CROWN!AT4/CROWN!AU4)*3)))","v":0},null,{"$f":"IF(CROWN!AX4=\"\",0,(SUM((CROWN!AX4/CROWN!AY4)*3)))","v":49.357142857142861},null,{"$f":"IF(CROWN!BB4=\"\",0,(SUM((CROWN!BB4/CROWN!BC4)*3)))","v":40.941176470588232},null,{"$f":"IF(CROWN!BF4=\"\",0,(SUM((CROWN!BF4/CROWN!BG4)*3)))","v":0},null,{"$f":"IF(CROWN!BJ4=\"\",0,(SUM((CROWN!BJ4/CROWN!BK4)*3)))","v":0},null,{"$f":"IF(CROWN!BN4=\"\",0,(SUM((CROWN!BN4/CROWN!BO4)*3)))","v":0},null,{"$f":"IF(CROWN!BR4=\"\",0,(SUM((CROWN!BR4/CROWN!BS4)*3)))","v":35.644067796610166},null,{"$f":"IF(CROWN!BV4=\"\",0,(SUM((CROWN!BV4/CROWN!BW4)*3)))","v":0},null,{"$f":"IF(CROWN!BZ4=\"\",0,(SUM((CROWN!BZ4/CROWN!CA4)*3)))","v":0},null,{"$f":"IF(CROWN!CD4=\"\",0,(SUM((CROWN!CD4/CROWN!CE4)*3)))","v":0},null,{"$f":"IF(CROWN!CH4=\"\",0,(SUM((CROWN!CH4/CROWN!CI4)*3)))","v":0}]
[null,{"$f":"IF(CROWN!B5=\"\",0,(SUM((CROWN!B5/CROWN!C5)*3)))","v":46.333333333333336},null,{"$f":"IF(CROWN!F5=\"\",0,(SUM((CROWN!F5/CROWN!G5)*3)))","v":0},null,{"$f":"IF(CROWN!J5=\"\",0,(SUM((CROWN!J5/CROWN!K5)*3)))","v":0},null,{"$f":"IF(CROWN!N5=\"\",0,(SUM((CROWN!N5/CROWN!O5)*3)))","v":36.89473684210526},null,{"$f":"IF(CROWN!R5=\"\",0,(SUM((CROWN!R5/CROWN!S5)*3)))","v":0},null,{"$f":"IF(CROWN!V5=\"\",0,(SUM((CROWN!V5/CROWN!W5)*3)))","v":0},null,{"$f":"IF(CROWN!Z5=\"\",0,(SUM((CROWN!Z5/CROWN!AA5)*3)))","v":41},null,{"$f":"IF(CROWN!AD5=\"\",0,(SUM((CROWN!AD5/CROWN!AE5)*3)))","v":33.888888888888886},null,{"$f":"IF(CROWN!AH5=\"\",0,(SUM((CROWN!AH5/CROWN!AI5)*3)))","v":0},null,{"$f":"IF(CROWN!AL5=\"\",0,(SUM((CROWN!AL5/CROWN!AM5)*3)))","v":24.900000000000002},null,{"$f":"IF(CROWN!AP5=\"\",0,(SUM((CROWN!AP5/CROWN!AQ5)*3)))","v":0},null,{"$f":"IF(CROWN!AT5=\"\",0,(SUM((CROWN!AT5/CROWN!AU5)*3)))","v":0},null,{"$f":"IF(CROWN!AX5=\"\",0,(SUM((CROWN!AX5/CROWN!AY5)*3)))","v":0},null,{"$f":"IF(CROWN!BB5=\"\",0,(SUM((CROWN!BB5/CROWN!BC5)*3)))","v":0},null,{"$f":"IF(CROWN!BF5=\"\",0,(SUM((CROWN!BF5/CROWN!BG5)*3)))","v":36.266666666666666},null,{"$f":"IF(CROWN!BJ5=\"\",0,(SUM((CROWN!BJ5/CROWN!BK5)*3)))","v":35.92307692307692},null,{"$f":"IF(CROWN!BN5=\"\",0,(SUM((CROWN!BN5/CROWN!BO5)*3)))","v":38.615384615384613},null,{"$f":"IF(CROWN!BR5=\"\",0,(SUM((CROWN!BR5/CROWN!BS5)*3)))","v":0},null,{"$f":"IF(CROWN!BV5=\"\",0,(SUM((CROWN!BV5/CROWN!BW5)*3)))","v":0},null,{"$f":"IF(CROWN!BZ5=\"\",0,(SUM((CROWN!BZ5/CROWN!CA5)*3)))","v":0},null,{"$f":"IF(CROWN!CD5=\"\",0,(SUM((CROWN!CD5/CROWN!CE5)*3)))","v":0},null,{"$f":"IF(CROWN!CH5=\"\",0,(SUM((CROWN!CH5/CROWN!CI5)*3)))","v":0}]
[null,{"$f":"IF(CROWN!B6=\"\",0,(SUM((CROWN!B6/CROWN!C6)*3)))","v":38.055555555555557},null,{"$f":"IF(CROWN!F6=\"\",0,(SUM((CROWN!F6/CROWN!G6)*3)))","v":33},null,{"$f":"IF(CROWN!J6=\"\",0,(SUM((CROWN!J6/CROWN!K6)*3)))","v":0},null,{"$f":"IF(CROWN!N6=\"\",0,(SUM((CROWN!N6/CROWN!O6)*3)))","v":44.066666666666663},null,{"$f":"IF(CROWN!R6=\"\",0,(SUM((CROWN!R6/CROWN!S6)*3)))","v":63.727272727272727},null,{"$f":"IF(CROWN!V6=\"\",0,(SUM((CROWN!V6/CROWN!W6)*3)))","v":63.727272727272727},null,{"$f":"IF(CROWN!Z6=\"\",0,(SUM((CROWN!Z6/CROWN!AA6)*3)))","v":34.705882352941174},null,{"$f":"IF(CROWN!AD6=\"\",0,(SUM((CROWN!AD6/CROWN!AE6)*3)))","v":45.81818181818182},null,{"$f":"IF(CROWN!AH6=\"\",0,(SUM((CROWN!AH6/CROWN!AI6)*3)))","v":50.707317073170728},null,{"$f":"IF(CROWN!AL6=\"\",0,(SUM((CROWN!AL6/CROWN!AM6)*3)))","v":43.866666666666667},null,{"$f":"IF(CROWN!AP6=\"\",0,(SUM((CROWN!AP6/CROWN!AQ6)*3)))","v":50.699999999999996},null,{"$f":"IF(CROWN!AT6=\"\",0,(SUM((CROWN!AT6/CROWN!AU6)*3)))","v":0},null,{"$f":"IF(CROWN!AX6=\"\",0,(SUM((CROWN!AX6/CROWN!AY6)*3)))","v":47.615384615384613},null,{"$f":"IF(CROWN!BB6=\"\",0,(SUM((CROWN!BB6/CROWN!BC6)*3)))","v":46.733333333333334},null,{"$f":"IF(CROWN!BF6=\"\",0,(SUM((CROWN!BF6/CROWN!BG6)*3)))","v":42.06},null,{"$f":"IF(CROWN!BJ6=\"\",0,(SUM((CROWN!BJ6/CROWN!BK6)*3)))","v":36.299999999999997},null,{"$f":"IF(CROWN!BN6=\"\",0,(SUM((CROWN!BN6/CROWN!BO6)*3)))","v":29.857142857142858},null,{"$f":"IF(CROWN!BR6=\"\",0,(SUM((CROWN!BR6/CROWN!BS6)*3)))","v":44.769230769230774},null,{"$f":"IF(CROWN!BV6=\"\",0,(SUM((CROWN!BV6/CROWN!BW6)*3)))","v":0},null,{"$f":"IF(CROWN!BZ6=\"\",0,(SUM((CROWN!BZ6/CROWN!CA6)*3)))","v":0},null,{"$f":"IF(CROWN!CD6=\"\",0,(SUM((CROWN!CD6/CROWN!CE6)*3)))","v":0},null,{"$f":"IF(CROWN!CH6=\"\",0,(SUM((CROWN!CH6/CROWN!CI6)*3)))","v":0}]
[null,{"$f":"IF(CROWN!B7=\"\",0,(SUM((CROWN!B7/CROWN!C7)*3)))","v":0},null,{"$f":"IF(CROWN!F7=\"\",0,(SUM((CROWN!F7/CROWN!G7)*3)))","v":0},null,{"$f":"IF(CROWN!J7=\"\",0,(SUM((CROWN!J7/CROWN!K7)*3)))","v":0},null,{"$f":"IF(CROWN!N7=\"\",0,(SUM((CROWN!N7/CROWN!O7)*3)))","v":0},null,{"$f":"IF(CROWN!R7=\"\",0,(SUM((CROWN!R7/CROWN!S7)*3)))","v":0},null,{"$f":"IF(CROWN!V7=\"\",0,(SUM((CROWN!V7/CROWN!W7)*3)))","v":0},null,{"$f":"IF(CROWN!Z7=\"\",0,(SUM((CROWN!Z7/CROWN!AA7)*3)))","v":0},null,{"$f":"IF(CROWN!AD7=\"\",0,(SUM((CROWN!AD7/CROWN!AE7)*3)))","v":0},null,{"$f":"IF(CROWN!AH7=\"\",0,(SUM((CROWN!AH7/CROWN!AI7)*3)))","v":0},null,{"$f":"IF(CROWN!AL7=\"\",0,(SUM((CROWN!AL7/CROWN!AM7)*3)))","v":0},null,{"$f":"IF(CROWN!AP7=\"\",0,(SUM((CROWN!AP7/CROWN!AQ7)*3)))","v":0},null,{"$f":"IF(CROWN!AT7=\"\",0,(SUM((CROWN!AT7/CROWN!AU7)*3)))","v":0},null,{"$f":"IF(CROWN!AX7=\"\",0,(SUM((CROWN!AX7/CROWN!AY7)*3)))","v":0},null,{"$f":"IF(CROWN!BB7=\"\",0,(SUM((CROWN!BB7/CROWN!BC7)*3)))","v":0},null,{"$f":"IF(CROWN!BF7=\"\",0,(SUM((CROWN!BF7/CROWN!BG7)*3)))","v":0},null,{"$f":"IF(CROWN!BJ7=\"\",0,(SUM((CROWN!BJ7/CROWN!BK7)*3)))","v":0},null,{"$f":"IF(CROWN!BN7=\"\",0,(SUM((CROWN!BN7/CROWN!BO7)*3)))","v":0},null,{"$f":"IF(CROWN!BR7=\"\",0,(SUM((CROWN!BR7/CROWN!BS7)*3)))","v":0},null,{"$f":"IF(CROWN!BV7=\"\",0,(SUM((CROWN!BV7/CROWN!BW7)*3)))","v":0},null,{"$f":"IF(CROWN!BZ7=\"\",0,(SUM((CROWN!BZ7/CROWN!CA7)*3)))","v":0},null,{"$f":"IF(CROWN!CD7=\"\",0,(SUM((CROWN!CD7/CROWN!CE7)*3)))","v":0},null,{"$f":"IF(CROWN!CH7=\"\",0,(SUM((CROWN!CH7/CROWN!CI7)*3)))","v":0}]
[null,{"$f":"IF(CROWN!B8=\"\",0,(SUM((CROWN!B8/CROWN!C8)*3)))","v":38.944444444444443},null,{"$f":"IF(CROWN!F8=\"\",0,(SUM((CROWN!F8/CROWN!G8)*3)))","v":36.258620689655174},null,{"$f":"IF(CROWN!J8=\"\",0,(SUM((CROWN!J8/CROWN!K8)*3)))","v":0},null,{"$f":"IF(CROWN!N8=\"\",0,(SUM((CROWN!N8/CROWN!O8)*3)))","v":46.857142857142854},null,{"$f":"IF(CROWN!R8=\"\",0,(SUM((CROWN!R8/CROWN!S8)*3)))","v":51},null,{"$f":"IF(CROWN!V8=\"\",0,(SUM((CROWN!V8/CROWN!W8)*3)))","v":43.8125},null,{"$f":"IF(CROWN!Z8=\"\",0,(SUM((CROWN!Z8/CROWN!AA8)*3)))","v":44.63636363636364},null,{"$f":"IF(CROWN!AD8=\"\",0,(SUM((CROWN!AD8/CROWN!AE8)*3)))","v":43.4},null,{"$f":"IF(CROWN!AH8=\"\",0,(SUM((CROWN!AH8/CROWN!AI8)*3)))","v":46.166666666666671},null,{"$f":"IF(CROWN!AL8=\"\",0,(SUM((CROWN!AL8/CROWN!AM8)*3)))","v":0},null,{"$f":"IF(CROWN!AP8=\"\",0,(SUM((CROWN!AP8/CROWN!AQ8)*3)))","v":38.92307692307692},null,{"$f":"IF(CROWN!AT8=\"\",0,(SUM((CROWN!AT8/CROWN!AU8)*3)))","v":0},null,{"$f":"IF(CROWN!AX8=\"\",0,(SUM((CROWN!AX8/CROWN!AY8)*3)))","v":47.214285714285708},null,{"$f":"IF(CROWN!BB8=\"\",0,(SUM((CROWN!BB8/CROWN!BC8)*3)))","v":40.0625},null,{"$f":"IF(CROWN!BF8=\"\",0,(SUM((CROWN!BF8/CROWN!BG8)*3)))","v":45.133333333333333},null,{"$f":"IF(CROWN!BJ8=\"\",0,(SUM((CROWN!BJ8/CROWN!BK8)*3)))","v":44.75},null,{"$f":"IF(CROWN!BN8=\"\",0,(SUM((CROWN!BN8/CROWN!BO8)*3)))","v":40.636363636363633},null,{"$f":"IF(CROWN!BR8=\"\",0,(SUM((CROWN!BR8/CROWN!BS8)*3)))","v":33.38095238095238},null,{"$f":"IF(CROWN!BV8=\"\",0,(SUM((CROWN!BV8/CROWN!BW8)*3)))","v":0},null,{"$f":"IF(CROWN!BZ8=\"\",0,(SUM((CROWN!BZ8/CROWN!CA8)*3)))","v":0},null,{"$f":"IF(CROWN!CD8=\"\",0,(SUM((CROWN!CD8/CROWN!CE8)*3)))","v":0},null,{"$f":"IF(CROWN!CH8=\"\",0,(SUM((CROWN!CH8/CROWN!CI8)*3)))","v":0}]
[null,{"$f":"IF(CROWN!B9=\"\",0,(SUM((CROWN!B9/CROWN!C9)*3)))","v":46.153846153846153},null,{"$f":"IF(CROWN!F9=\"\",0,(SUM((CROWN!F9/CROWN!G9)*3)))","v":46.25},null,{"$f":"IF(CROWN!J9=\"\",0,(SUM((CROWN!J9/CROWN!K9)*3)))","v":0},null,{"$f":"IF(CROWN!N9=\"\",0,(SUM((CROWN!N9/CROWN!O9)*3)))","v":39.538461538461533},null,{"$f":"IF(CROWN!R9=\"\",0,(SUM((CROWN!R9/CROWN!S9)*3)))","v":41.235294117647058},null,{"$f":"IF(CROWN!V9=\"\",0,(SUM((CROWN!V9/CROWN!W9)*3)))","v":44.744680851063826},null,{"$f":"IF(CROWN!Z9=\"\",0,(SUM((CROWN!Z9/CROWN!AA9)*3)))","v":33.777777777777779},null,{"$f":"IF(CROWN!AD9=\"\",0,(SUM((CROWN!AD9/CROWN!AE9)*3)))","v":33.846153846153847},null,{"$f":"IF(CROWN!AH9=\"\",0,(SUM((CROWN!AH9/CROWN!AI9)*3)))","v":25.882352941176471},null,{"$f":"IF(CROWN!AL9=\"\",0,(SUM((CROWN!AL9/CROWN!AM9)*3)))","v":42.153846153846153},null,{"$f":"IF(CROWN!AP9=\"\",0,(SUM((CROWN!AP9/CROWN!AQ9)*3)))","v":42.63636363636364},null,{"$f":"IF(CROWN!AT9=\"\",0,(SUM((CROWN!AT9/CROWN!AU9)*3)))","v":0},null,{"$f":"IF(CROWN!AX9=\"\",0,(SUM((CROWN!AX9/CROWN!AY9)*3)))","v":46.733333333333334},null,{"$f":"IF(CROWN!BB9=\"\",0,(SUM((CROWN!BB9/CROWN!BC9)*3)))","v":34.799999999999997},null,{"$f":"IF(CROWN!BF9=\"\",0,(SUM((CROWN!BF9/CROWN!BG9)*3)))","v":43.6875},null,{"$f":"IF(CROWN!BJ9=\"\",0,(SUM((CROWN!BJ9/CROWN!BK9)*3)))","v":36.631578947368425},null,{"$f":"IF(CROWN!BN9=\"\",0,(SUM((CROWN!BN9/CROWN!BO9)*3)))","v":35.277777777777779},null,{"$f":"IF(CROWN!BR9=\"\",0,(SUM((CROWN!BR9/CROWN!BS9)*3)))","v":39.666666666666664},null,{"$f":"IF(CROWN!BV9=\"\",0,(SUM((CROWN!BV9/CROWN!BW9)*3)))","v":0},null,{"$f":"IF(CROWN!BZ9=\"\",0,(SUM((CROWN!BZ9/CROWN!CA9)*3)))","v":0},null,{"$f":"IF(CROWN!CD9=\"\",0,(SUM((CROWN!CD9/CROWN!CE9)*3)))","v":0},null,{"$f":"IF(CROWN!CH9=\"\",0,(SUM((CROWN!CH9/CROWN!CI9)*3)))","v":0}]
[null,{"$f":"IF(CROWN!B10=\"\",0,(SUM((CROWN!B10/CROWN!C10)*3)))","v":48.692307692307693},null,{"$f":"IF(CROWN!F10=\"\",0,(SUM((CROWN!F10/CROWN!G10)*3)))","v":47.333333333333336},null,{"$f":"IF(CROWN!J10=\"\",0,(SUM((CROWN!J10/CROWN!K10)*3)))","v":0},null,{"$f":"IF(CROWN!N10=\"\",0,(SUM((CROWN!N10/CROWN!O10)*3)))","v":49.642857142857139},null,{"$f":"IF(CROWN!R10=\"\",0,(SUM((CROWN!R10/CROWN!S10)*3)))","v":52.574999999999996},null,{"$f":"IF(CROWN!V10=\"\",0,(SUM((CROWN!V10/CROWN!W10)*3)))","v":50.166666666666664},null,{"$f":"IF(CROWN!Z10=\"\",0,(SUM((CROWN!Z10/CROWN!AA10)*3)))","v":46.777777777777779},null,{"$f":"IF(CROWN!AD10=\"\",0,(SUM((CROWN!AD10/CROWN!AE10)*3)))","v":53.92307692307692},null,{"$f":"IF(CROWN!AH10=\"\",0,(SUM((CROWN!AH10/CROWN!AI10)*3)))","v":45.717391304347828},null,{"$f":"IF(CROWN!AL10=\"\",0,(SUM((CROWN!AL10/CROWN!AM10)*3)))","v":46.06666666666667},null,{"$f":"IF(CROWN!AP10=\"\",0,(SUM((CROWN!AP10/CROWN!AQ10)*3)))","v":56.837837837837839},null,{"$f":"IF(CROWN!AT10=\"\",0,(SUM((CROWN!AT10/CROWN!AU10)*3)))","v":0},null,{"$f":"IF(CROWN!AX10=\"\",0,(SUM((CROWN!AX10/CROWN!AY10)*3)))","v":66.555555555555557},null,{"$f":"IF(CROWN!BB10=\"\",0,(SUM((CROWN!BB10/CROWN!BC10)*3)))","v":36.258620689655174},null,{"$f":"IF(CROWN!BF10=\"\",0,(SUM((CROWN!BF10/CROWN!BG10)*3)))","v":48.906976744186039},null,{"$f":"IF(CROWN!BJ10=\"\",0,(SUM((CROWN!BJ10/CROWN!BK10)*3)))","v":44.6},null,{"$f":"IF(CROWN!BN10=\"\",0,(SUM((CROWN!BN10/CROWN!BO10)*3)))","v":51.36363636363636},null,{"$f":"IF(CROWN!BR10=\"\",0,(SUM((CROWN!BR10/CROWN!BS10)*3)))","v":43.846153846153847},null,{"$f":"IF(CROWN!BV10=\"\",0,(SUM((CROWN!BV10/CROWN!BW10)*3)))","v":0},null,{"$f":"IF(CROWN!BZ10=\"\",0,(SUM((CROWN!BZ10/CROWN!CA10)*3)))","v":0},null,{"$f":"IF(CROWN!CD10=\"\",0,(SUM((CROWN!CD10/CROWN!CE10)*3)))","v":0},null,{"$f":"IF(CROWN!CH10=\"\",0,(SUM((CROWN!CH10/CROWN!CI10)*3)))","v":0}]
[null,{"$f":"IF(CROWN!B11=\"\",0,(SUM((CROWN!B11/CROWN!C11)*3)))","v":0},null,{"$f":"IF(CROWN!F11=\"\",0,(SUM((CROWN!F11/CROWN!G11)*3)))","v":0},null,{"$f":"IF(CROWN!J11=\"\",0,(SUM((CROWN!J11/CROWN!K11)*3)))","v":0},null,{"$f":"IF(CROWN!N11=\"\",0,(SUM((CROWN!N11/CROWN!O11)*3)))","v":0},null,{"$f":"IF(CROWN!R11=\"\",0,(SUM((CROWN!R11/CROWN!S11)*3)))","v":0},null,{"$f":"IF(CROWN!V11=\"\",0,(SUM((CROWN!V11/CROWN!W11)*3)))","v":0},null,{"$f":"IF(CROWN!Z11=\"\",0,(SUM((CROWN!Z11/CROWN!AA11)*3)))","v":0},null,{"$f":"IF(CROWN!AD11=\"\",0,(SUM((CROWN!AD11/CROWN!AE11)*3)))","v":0},null,{"$f":"IF(CROWN!AH11=\"\",0,(SUM((CROWN!AH11/CROWN!AI11)*3)))","v":0},null,{"$f":"IF(CROWN!AL11=\"\",0,(SUM((CROWN!AL11/CROWN!AM11)*3)))","v":38.111111111111114},null,{"$f":"IF(CROWN!AP11=\"\",0,(SUM((CROWN!AP11/CROWN!AQ11)*3)))","v":0},null,{"$f":"IF(CROWN!AT11=\"\",0,(SUM((CROWN!AT11/CROWN!AU11)*3)))","v":0},null,{"$f":"IF(CROWN!AX11=\"\",0,(SUM((CROWN!AX11/CROWN!AY11)*3)))","v":0},null,{"$f":"IF(CROWN!BB11=\"\",0,(SUM((CROWN!BB11/CROWN!BC11)*3)))","v":0},null,{"$f":"IF(CROWN!BF11=\"\",0,(SUM((CROWN!BF11/CROWN!BG11)*3)))","v":0},null,{"$f":"IF(CROWN!BJ11=\"\",0,(SUM((CROWN!BJ11/CROWN!BK11)*3)))","v":0},null,{"$f":"IF(CROWN!BN11=\"\",0,(SUM((CROWN!BN11/CROWN!BO11)*3)))","v":0},null,{"$f":"IF(CROWN!BR11=\"\",0,(SUM((CROWN!BR11/CROWN!BS11)*3)))","v":0},null,{"$f":"IF(CROWN!BV11=\"\",0,(SUM((CROWN!BV11/CROWN!BW11)*3)))","v":0},null,{"$f":"IF(CROWN!BZ11=\"\",0,(SUM((CROWN!BZ11/CROWN!CA11)*3)))","v":0},null,{"$f":"IF(CROWN!CD11=\"\",0,(SUM((CROWN!CD11/CROWN!CE11)*3)))","v":0},null,{"$f":"IF(CROWN!CH11=\"\",0,(SUM((CROWN!CH11/CROWN!CI11)*3)))","v":0}]
[null,{"$f":"IF(CROWN!B12=\"\",0,(SUM((CROWN!B12/CROWN!C12)*3)))","v":0},null,{"$f":"IF(CROWN!F12=\"\",0,(SUM((CROWN!F12/CROWN!G12)*3)))","v":0},null,{"$f":"IF(CROWN!J12=\"\",0,(SUM((CROWN!J12/CROWN!K12)*3)))","v":0},null,{"$f":"IF(CROWN!N12=\"\",0,(SUM((CROWN!N12/CROWN!O12)*3)))","v":0},null,{"$f":"IF(CROWN!R12=\"\",0,(SUM((CROWN!R12/CROWN!S12)*3)))","v":0},null,{"$f":"IF(CROWN!V12=\"\",0,(SUM((CROWN!V12/CROWN!W12)*3)))","v":0},null,{"$f":"IF(CROWN!Z12=\"\",0,(SUM((CROWN!Z12/CROWN!AA12)*3)))","v":0},null,{"$f":"IF(CROWN!AD12=\"\",0,(SUM((CROWN!AD12/CROWN!AE12)*3)))","v":0},null,{"$f":"IF(CROWN!AH12=\"\",0,(SUM((CROWN!AH12/CROWN!AI12)*3)))","v":0},null,{"$f":"IF(CROWN!AL12=\"\",0,(SUM((CROWN!AL12/CROWN!AM12)*3)))","v":0},null,{"$f":"IF(CROWN!AP12=\"\",0,(SUM((CROWN!AP12/CROWN!AQ12)*3)))","v":0},null,{"$f":"IF(CROWN!AT12=\"\",0,(SUM((CROWN!AT12/CROWN!AU12)*3)))","v":0},null,{"$f":"IF(CROWN!AX12=\"\",0,(SUM((CROWN!AX12/CROWN!AY12)*3)))","v":0},null,{"$f":"IF(CROWN!BB12=\"\",0,(SUM((CROWN!BB12/CROWN!BC12)*3)))","v":0},null,{"$f":"IF(CROWN!BF12=\"\",0,(SUM((CROWN!BF12/CROWN!BG12)*3)))","v":0},null,{"$f":"IF(CROWN!BJ12=\"\",0,(SUM((CROWN!BJ12/CROWN!BK12)*3)))","v":0},null,{"$f":"IF(CROWN!BN12=\"\",0,(SUM((CROWN!BN12/CROWN!BO12)*3)))","v":0},null,{"$f":"IF(CROWN!BR12=\"\",0,(SUM((CROWN!BR12/CROWN!BS12)*3)))","v":0},null,{"$f":"IF(CROWN!BV12=\"\",0,(SUM((CROWN!BV12/CROWN!BW12)*3)))","v":0},null,{"$f":"IF(CROWN!BZ12=\"\",0,(SUM((CROWN!BZ12/CROWN!CA12)*3)))","v":0},null,{"$f":"IF(CROWN!CD12=\"\",0,(SUM((CROWN!CD12/CROWN!CE12)*3)))","v":0},null,{"$f":"IF(CROWN!CH12=\"\",0,(SUM((CROWN!CH12/CROWN!CI12)*3)))","v":0}]
[null,{"$f":"IF(CROWN!B13=\"\",0,(SUM((CROWN!B13/CROWN!C13)*3)))","v":0},null,{"$f":"IF(CROWN!F13=\"\",0,(SUM((CROWN!F13/CROWN!G13)*3)))","v":0},null,{"$f":"IF(CROWN!J13=\"\",0,(SUM((CROWN!J13/CROWN!K13)*3)))","v":0},null,{"$f":"IF(CROWN!N13=\"\",0,(SUM((CROWN!N13/CROWN!O13)*3)))","v":0},null,{"$f":"IF(CROWN!R13=\"\",0,(SUM((CROWN!R13/CROWN!S13)*3)))","v":0},null,{"$f":"IF(CROWN!V13=\"\",0,(SUM((CROWN!V13/CROWN!W13)*3)))","v":0},null,{"$f":"IF(CROWN!Z13=\"\",0,(SUM((CROWN!Z13/CROWN!AA13)*3)))","v":0},null,{"$f":"IF(CROWN!AD13=\"\",0,(SUM((CROWN!AD13/CROWN!AE13)*3)))","v":0},null,{"$f":"IF(CROWN!AH13=\"\",0,(SUM((CROWN!AH13/CROWN!AI13)*3)))","v":0},null,{"$f":"IF(CROWN!AL13=\"\",0,(SUM((CROWN!AL13/CROWN!AM13)*3)))","v":0},null,{"$f":"IF(CROWN!AP13=\"\",0,(SUM((CROWN!AP13/CROWN!AQ13)*3)))","v":0},null,{"$f":"IF(CROWN!AT13=\"\",0,(SUM((CROWN!AT13/CROWN!AU13)*3)))","v":0},null,{"$f":"IF(CROWN!AX13=\"\",0,(SUM((CROWN!AX13/CROWN!AY13)*3)))","v":0},null,{"$f":"IF(CROWN!BB13=\"\",0,(SUM((CROWN!BB13/CROWN!BC13)*3)))","v":0},null,{"$f":"IF(CROWN!BF13=\"\",0,(SUM((CROWN!BF13/CROWN!BG13)*3)))","v":0},null,{"$f":"IF(CROWN!BJ13=\"\",0,(SUM((CROWN!BJ13/CROWN!BK13)*3)))","v":0},null,{"$f":"IF(CROWN!BN13=\"\",0,(SUM((CROWN!BN13/CROWN!BO13)*3)))","v":0},null,{"$f":"IF(CROWN!BR13=\"\",0,(SUM((CROWN!BR13/CROWN!BS13)*3)))","v":0},null,{"$f":"IF(CROWN!BV13=\"\",0,(SUM((CROWN!BV13/CROWN!BW13)*3)))","v":0},null,{"$f":"IF(CROWN!BZ13=\"\",0,(SUM((CROWN!BZ13/CROWN!CA13)*3)))","v":0},null,{"$f":"IF(CROWN!CD13=\"\",0,(SUM((CROWN!CD13/CROWN!CE13)*3)))","v":0},null,{"$f":"IF(CROWN!CH13=\"\",0,(SUM((CROWN!CH13/CROWN!CI13)*3)))","v":0}]
[null,{"$f":"IF(CROWN!B14=\"\",0,(SUM((CROWN!B14/CROWN!C14)*3)))","v":0},null,{"$f":"IF(CROWN!F14=\"\",0,(SUM((CROWN!F14/CROWN!G14)*3)))","v":0},null,{"$f":"IF(CROWN!J14=\"\",0,(SUM((CROWN!J14/CROWN!K14)*3)))","v":0},null,{"$f":"IF(CROWN!N14=\"\",0,(SUM((CROWN!N14/CROWN!O14)*3)))","v":0},null,{"$f":"IF(CROWN!R14=\"\",0,(SUM((CROWN!R14/CROWN!S14)*3)))","v":0},null,{"$f":"IF(CROWN!V14=\"\",0,(SUM((CROWN!V14/CROWN!W14)*3)))","v":0},null,{"$f":"IF(CROWN!Z14=\"\",0,(SUM((CROWN!Z14/CROWN!AA14)*3)))","v":0},null,{"$f":"IF(CROWN!AD14=\"\",0,(SUM((CROWN!AD14/CROWN!AE14)*3)))","v":0},null,{"$f":"IF(CROWN!AH14=\"\",0,(SUM((CROWN!AH14/CROWN!AI14)*3)))","v":0},null,{"$f":"IF(CROWN!AL14=\"\",0,(SUM((CROWN!AL14/CROWN!AM14)*3)))","v":0},null,{"$f":"IF(CROWN!AP14=\"\",0,(SUM((CROWN!AP14/CROWN!AQ14)*3)))","v":0},null,{"$f":"IF(CROWN!AT14=\"\",0,(SUM((CROWN!AT14/CROWN!AU14)*3)))","v":0},null,{"$f":"IF(CROWN!AX14=\"\",0,(SUM((CROWN!AX14/CROWN!AY14)*3)))","v":0},null,{"$f":"IF(CROWN!BB14=\"\",0,(SUM((CROWN!BB14/CROWN!BC14)*3)))","v":0},null,{"$f":"IF(CROWN!BF14=\"\",0,(SUM((CROWN!BF14/CROWN!BG14)*3)))","v":0},null,{"$f":"IF(CROWN!BJ14=\"\",0,(SUM((CROWN!BJ14/CROWN!BK14)*3)))","v":0},null,{"$f":"IF(CROWN!BN14=\"\",0,(SUM((CROWN!BN14/CROWN!BO14)*3)))","v":0},null,{"$f":"IF(CROWN!BR14=\"\",0,(SUM((CROWN!BR14/CROWN!BS14)*3)))","v":0},null,{"$f":"IF(CROWN!BV14=\"\",0,(SUM((CROWN!BV14/CROWN!BW14)*3)))","v":0},null,{"$f":"IF(CROWN!BZ14=\"\",0,(SUM((CROWN!BZ14/CROWN!CA14)*3)))","v":0},null,{"$f":"IF(CROWN!CD14=\"\",0,(SUM((CROWN!CD14/CROWN!CE14)*3)))","v":0},null,{"$f":"IF(CROWN!CH14=\"\",0,(SUM((CROWN!CH14/CROWN!CI14)*3)))","v":0}]
[]
["NAGS HEAD","11/09/2006\nV\nRAFA 'A' (A)"]
[null,"W/L","AVG","W/L","AVG","W/L","AVG","W/L","AVG","W/L","AVG","W/L","AVG","W/L","AVG","W/L","AVG","W/L","AVG","W/L","AVG","W/L","AVG","W/L","AVG","W/L","AVG","W/L","AVG","W/L","AVG","W/L","AVG","W/L","AVG","W/L","AVG","W/L","AVG","W/L","AVG","W/L","AVG","W/L","AVG"]
[{"$f":"'NAGS HEAD \"B\"'!A3","v":"Andy Johnson"},{"$f":"IF(C176=1,B176,\"\")","v":"LOST"},{"$f":"IF(B188>0,B188,\"\")","v":44.846153846153847},{"$f":"IF(E176=1,D176,\"\")","v":"WON"},{"$f":"IF(D188>0,D188,\"\")","v":51.292682926829272},{"$f":"IF(G176=1,F176,\"\")","v":"WON"},{"$f":"IF(F188>0,F188,\"\")","v":47.795454545454547},{"$f":"IF(I176=1,H176,\"\")","v":"LOST"},{"$f":"IF(H188>0,H188,\"\")","v":42.384615384615387},{"$f":"IF(K176=1,J176,\"\")","v":"WON"},{"$f":"IF(J188>0,J188,\"\")","v":47.795454545454547},{"$f":"IF(M176=1,L176,\"\")","v":"WON"},{"$f":"IF(L188>0,L188,\"\")","v":55.34210526315789},{"$f":"IF(O176=1,N176,\"\")","v":"LOST"},{"$f":"IF(N188>0,N188,\"\")","v":53.222222222222221},{"$f":"IF(Q176=1,P176,\"\")","v":"LOST"},{"$f":"IF(P188>0,P188,\"\")","v":43.6},{"$f":"IF(S176=1,R176,\"\")","v":""},{"$f":"IF(R188>0,R188,\"\")","v":""},{"$f":"IF(U176=1,T176,\"\")","v":"LOST"},{"$f":"IF(T188>0,T188,\"\")","v":60.81818181818182},{"$f":"IF(W176=1,V176,\"\")","v":"WON"},{"$f":"IF(V188>0,V188,\"\")","v":63.727272727272727},{"$f":"IF(Y176=1,X176,\"\")","v":"WON"},{"$f":"IF(X188>0,X188,\"\")","v":65.71875},{"$f":"IF(AA176=1,Z176,\"\")","v":"WON"},{"$f":"IF(Z188>0,Z188,\"\")","v":52.574999999999996},{"$f":"IF(AC176=1,AB176,\"\")","v":"LOST"},{"$f":"IF(AB188>0,AB188,\"\")","v":46.07692307692308},{"$f":"IF(AE176=1,AD176,\"\")","v":""},{"$f":"IF(AD188>0,AD188,\"\")","v":""},{"$f":"IF(AG176=1,AF176,\"\")","v":"LOST"},{"$f":"IF(AF188>0,AF188,\"\")","v":53.307692307692307},{"$f":"IF(AI176=1,AH176,\"\")","v":"LOST"},{"$f":"IF(AH188>0,AH188,\"\")","v":53.272727272727273},{"$f":"IF(AK176=1,AJ176,\"\")","v":""},{"$f":"IF(AJ188>0,AJ188,\"\")","v":""},{"$f":"IF(AM176=1,AL176,\"\")","v":""},{"$f":"IF(AL188>0,AL188,\"\")","v":""},{"$f":"IF(AO176=1,AN176,\"\")","v":""},{"$f":"IF(AN188>0,AN188,\"\")","v":""},{"$f":"IF(AQ176=1,AP176,\"\")","v":""},{"$f":"IF(AP188>0,AP188,\"\")","v":""},{"$f":"IF(AS176=1,AR176,\"\")","v":""},{"$f":"IF(AR188>0,AR188,\"\")","v":""}]
[{"$f":"'NAGS HEAD \"B\"'!A4","v":"Andy Haw"},{"$f":"IF(C177=1,B177,\"\")","v":"LOST"},{"$f":"IF(B189>0,B189,\"\")","v":42.8125},{"$f":"IF(E177=1,D177,\"\")","v":"LOST"},{"$f":"IF(D189>0,D189,\"\")","v":45.666666666666664},{"$f":"IF(G177=1,F177,\"\")","v":"LOST"},{"$f":"IF(F189>0,F189,\"\")","v":41.625},{"$f":"IF(I177=1,H177,\"\")","v":"WON"},{"$f":"IF(H189>0,H189,\"\")","v":41.235294117647058},{"$f":"IF(K177=1,J177,\"\")","v":"WON"},{"$f":"IF(J189>0,J189,\"\")","v":43.8125},{"$f":"IF(M177=1,L177,\"\")","v":"LOST"},{"$f":"IF(L189>0,L189,\"\")","v":39},{"$f":"IF(O177=1,N177,\"\")","v":""},{"$f":"IF(N189>0,N189,\"\")","v":""},{"$f":"IF(Q177=1,P177,\"\")","v":"LOST"},{"$f":"IF(P189>0,P189,\"\")","v":34.111111111111114},{"$f":"IF(S177=1,R177,\"\")","v":""},{"$f":"IF(R189>0,R189,\"\")","v":""},{"$f":"IF(U177=1,T177,\"\")","v":"LOST"},{"$f":"IF(T189>0,T189,\"\")","v":49.357142857142861},{"$f":"IF(W177=1,V177,\"\")","v":"WON"},{"$f":"IF(V189>0,V189,\"\")","v":51.292682926829272},{"$f":"IF(Y177=1,X177,\"\")","v":"LOST"},{"$f":"IF(X189>0,X189,\"\")","v":52.692307692307693},{"$f":"IF(AA177=1,Z177,\"\")","v":"WON"},{"$f":"IF(Z189>0,Z189,\"\")","v":35.644067796610166},{"$f":"IF(AC177=1,AB177,\"\")","v":"LOST"},{"$f":"IF(AB189>0,AB189,\"\")","v":39.454545454545453},{"$f":"IF(AE177=1,AD177,\"\")","v":"LOST"},{"$f":"IF(AD189>0,AD189,\"\")","v":46.333333333333336},{"$f":"IF(AG177=1,AF177,\"\")","v":"LOST"},{"$f":"IF(AF189>0,AF189,\"\")","v":56.909090909090907},{"$f":"IF(AI177=1,AH177,\"\")","v":"WON"},{"$f":"IF(AH189>0,AH189,\"\")","v":36.258620689655174},{"$f":"IF(AK177=1,AJ177,\"\")","v":""},{"$f":"IF(AJ189>0,AJ189,\"\")","v":""},{"$f":"IF(AM177=1,AL177,\"\")","v":""},{"$f":"IF(AL189>0,AL189,\"\")","v":""},{"$f":"IF(AO177=1,AN177,\"\")","v":""},{"$f":"IF(AN189>0,AN189,\"\")","v":""},{"$f":"IF(AQ177=1,AP177,\"\")","v":""},{"$f":"IF(AP189>0,AP189,\"\")","v":""},{"$f":"IF(AS177=1,AR177,\"\")","v":""},{"$f":"IF(AR189>0,AR189,\"\")","v":""}]
[{"$f":"'NAGS HEAD \"B\"'!A5","v":"Steve Atkinson"},"WON",47.795454545454547,"","","","","","","WON",48.906976744186039,"LOST",46.6,"LOST",45.083333333333336,"WON",50.071428571428569,"","","LOST",56.272727272727273,"LOST",48.928571428571431,"LOST",48.5,"LOST",30.304347826086953,"","","LOST",43.5625,"LOST",45.066666666666663,"LOST",49.083333333333329,"","","","","","","","","",""]
[{"$f":"'NAGS HEAD \"B\"'!A6","v":"Gaz Lumley"},"LOST",52.38461538461538,"LOST",48.25,"LOST",42.5625,"","","LOST",46,"WON",56.837837837837839,"LOST",41.214285714285708,"","","","","","","LOST",35.857142857142861,"WON",42.918367346938773,"","","LOST",52.800000000000004,"WON",45.717391304347828,"","","","","","","","","","","","","",""]
[{"$f":"'NAGS HEAD \"B\"'!A7","v":"Dave Crilly"},"LOST",45.692307692307693,"LOST",55.75,"LOST",44.733333333333334,"WON",56.837837837837839,"LOST",38.555555555555557,"","","LOST",37.299999999999997,"WON",52.574999999999996,"","","LOST",38.166666666666664,"LOST",44.6,"WON",60.085714285714289,"WON",45.717391304347828,"LOST",49.071428571428569,"LOST",44.916666666666664,"LOST",66.100000000000009,"LOST",55.083333333333329,"","","","","","","","","",""]
[{"$f":"'NAGS HEAD \"B\"'!A8","v":"Steve Cooke"},"WON",41.235294117647058,"WON",43.8125,"LOST",46.466666666666669,"LOST",39.352941176470587,"WON",46.733333333333334,"WON",60.085714285714289,"LOST",49.571428571428577,"WON",47.795454545454547,"","","LOST",51.666666666666664,"WON",56.837837837837839,"","","","","LOST",47.333333333333336,"","","LOST",43.769230769230766,"LOST",48.300000000000004,"","","","","","","","","",""]
[{"$f":"'NAGS HEAD \"B\"'!A9","v":"Jake Doherty"},"","","LOST",43.6875,"","","","","","","","","","","","","","","","","","","","","","","","","","","","","","","","","","","","","","","",""]
[{"$f":"'NAGS HEAD \"B\"'!A10","v":"Steve Gibb"},"","","","","","","","","","","","","","","","","","","","","","","","","","","","","","","","","","","","","","","","","","","",""]
[{"$f":"'NAGS HEAD \"B\"'!A11","v":"Stuart Truman"},"","","","","LOST",45.800000000000004,"WON",34.475409836065573,"","","LOST",40.133333333333333,"LOST",36.699999999999996,"LOST",37.875,"","","LOST",54.583333333333329,"","","LOST",47.846153846153847,"LOST",33,"","","WON",42.06,"","","","","","","","","","","","","",""]
[{"$f":"'NAGS HEAD \"B\"'!A12","v":"Kenny Kerringan"},"","","","","","","","","","","","","","","","","","","","","","","","","LOST",47.5,"LOST",51.545454545454547,"WON",43.8125,"LOST",49.307692307692307,"LOST",52.875,"","","","","","","","","",""]
[{"$f":"'NAGS HEAD \"B\"'!A13","v":0},"","","","","","","","","","","","","","","","","","","","","","","","","","","","","","","","","","","","","","","","","","","",""]
[{"$f":"'NAGS HEAD \"B\"'!A14","v":0},"","","","","","","","","","","","","","","","","","","","","","","","","","","","","","","","","","","","","","","","","","","",""]
[]
["NAGS HEAD",{"$f":"IF('NAGS HEAD \"B\"'!B3=701,\"WON\",\"LOST\")","v":"LOST"},{"$f":"IF('NAGS HEAD \"B\"'!B3>0,1,0)","v":1},{"$f":"IF('NAGS HEAD \"B\"'!F3=701,\"WON\",\"LOST\")","v":"WON"},{"$f":"IF('NAGS HEAD \"B\"'!F3>0,1,0)","v":1},{"$f":"IF('NAGS HEAD \"B\"'!J3=701,\"WON\",\"LOST\")","v":"WON"},{"$f":"IF('NAGS HEAD \"B\"'!J3>0,1,0)","v":1},{"$f":"IF('NAGS HEAD \"B\"'!N3=701,\"WON\",\"LOST\")","v":"LOST"},{"$f":"IF('NAGS HEAD \"B\"'!N3>0,1,0)","v":1},{"$f":"IF('NAGS HEAD \"B\"'!R3=701,\"WON\",\"LOST\")","v":"WON"},{"$f":"IF('NAGS HEAD \"B\"'!R3>0,1,0)","v":1},{"$f":"IF('NAGS HEAD \"B\"'!V3=701,\"WON\",\"LOST\")","v":"WON"},{"$f":"IF('NAGS HEAD \"B\"'!V3>0,1,0)","v":1},{"$f":"IF('NAGS HEAD \"B\"'!Z3=701,\"WON\",\"LOST\")","v":"LOST"},{"$f":"IF('NAGS HEAD \"B\"'!Z3>0,1,0)","v":1},{"$f":"IF('NAGS HEAD \"B\"'!AD3=701,\"WON\",\"LOST\")","v":"LOST"},{"$f":"IF('NAGS HEAD \"B\"'!AD3>0,1,0)","v":1},{"$f":"IF('NAGS HEAD \"B\"'!AH3=701,\"WON\",\"LOST\")","v":"LOST"},{"$f":"IF('NAGS HEAD \"B\"'!AH3>0,1,0)","v":0},{"$f":"IF('NAGS HEAD \"B\"'!AL3=701,\"WON\",\"LOST\")","v":"LOST"},{"$f":"IF('NAGS HEAD \"B\"'!AL3>0,1,0)","v":1},{"$f":"IF('NAGS HEAD \"B\"'!AP3=701,\"WON\",\"LOST\")","v":"WON"},{"$f":"IF('NAGS HEAD \"B\"'!AP3>0,1,0)","v":1},{"$f":"IF('NAGS HEAD \"B\"'!AT3=701,\"WON\",\"LOST\")","v":"WON"},{"$f":"IF('NAGS HEAD \"B\"'!AT3>0,1,0)","v":1},{"$f":"IF('NAGS HEAD \"B\"'!AX3=701,\"WON\",\"LOST\")","v":"WON"},{"$f":"IF('NAGS HEAD \"B\"'!AX3>0,1,0)","v":1},{"$f":"IF('NAGS HEAD \"B\"'!BB3=701,\"WON\",\"LOST\")","v":"LOST"},{"$f":"IF('NAGS HEAD \"B\"'!BB3>0,1,0)","v":1},{"$f":"IF('NAGS HEAD \"B\"'!BF3=701,\"WON\",\"LOST\")","v":"LOST"},{"$f":"IF('NAGS HEAD \"B\"'!BF3>0,1,0)","v":0},{"$f":"IF('NAGS HEAD \"B\"'!BJ3=701,\"WON\",\"LOST\")","v":"LOST"},{"$f":"IF('NAGS HEAD \"B\"'!BJ3>0,1,0)","v":1},{"$f":"IF('NAGS HEAD \"B\"'!BN3=701,\"WON\",\"LOST\")","v":"LOST"},{"$f":"IF('NAGS HEAD \"B\"'!BN3>0,1,0)","v":1},{"$f":"IF('NAGS HEAD \"B\"'!BR3=701,\"WON\",\"LOST\")","v":"LOST"},{"$f":"IF('NAGS HEAD \"B\"'!BR3>0,1,0)","v":0},{"$f":"IF('NAGS HEAD \"B\"'!BV3=701,\"WON\",\"LOST\")","v":"LOST"},{"$f":"IF('NAGS HEAD \"B\"'!BV3>0,1,0)","v":0},{"$f":"IF('NAGS HEAD \"B\"'!BZ3=701,\"WON\",\"LOST\")","v":"LOST"},{"$f":"IF('NAGS HEAD \"B\"'!BZ3>0,1,0)","v":0},{"$f":"IF('NAGS HEAD \"B\"'!CD3=701,\"WON\",\"LOST\")","v":"LOST"},{"$f":"IF('NAGS HEAD \"B\"'!CD3>0,1,0)","v":0},{"$f":"IF('NAGS HEAD \"B\"'!CH3=701,\"WON\",\"LOST\")","v":"LOST"},{"$f":"IF('NAGS HEAD \"B\"'!CH3>0,1,0)","v":0}]
[null,{"$f":"IF('NAGS HEAD \"B\"'!B4=701,\"WON\",\"LOST\")","v":"LOST"},{"$f":"IF('NAGS HEAD \"B\"'!B4>0,1,0)","v":1},{"$f":"IF('NAGS HEAD \"B\"'!F4=701,\"WON\",\"LOST\")","v":"LOST"},{"$f":"IF('NAGS HEAD \"B\"'!F4>0,1,0)","v":1},{"$f":"IF('NAGS HEAD \"B\"'!J4=701,\"WON\",\"LOST\")","v":"LOST"},{"$f":"IF('NAGS HEAD \"B\"'!J4>0,1,0)","v":1},{"$f":"IF('NAGS HEAD \"B\"'!N4=701,\"WON\",\"LOST\")","v":"WON"},{"$f":"IF('NAGS HEAD \"B\"'!N4>0,1,0)","v":1},{"$f":"IF('NAGS HEAD \"B\"'!R4=701,\"WON\",\"LOST\")","v":"WON"},{"$f":"IF('NAGS HEAD \"B\"'!R4>0,1,0)","v":1},{"$f":"IF('NAGS HEAD \"B\"'!V4=701,\"WON\",\"LOST\")","v":"LOST"},{"$f":"IF('NAGS HEAD \"B\"'!V4>0,1,0)","v":1},{"$f":"IF('NAGS HEAD \"B\"'!Z4=701,\"WON\",\"LOST\")","v":"LOST"},{"$f":"IF('NAGS HEAD \"B\"'!Z4>0,1,0)","v":0},{"$f":"IF('NAGS HEAD \"B\"'!AD4=701,\"WON\",\"LOST\")","v":"LOST"},{"$f":"IF('NAGS HEAD \"B\"'!AD4>0,1,0)","v":1},{"$f":"IF('NAGS HEAD \"B\"'!AH4=701,\"WON\",\"LOST\")","v":"LOST"},{"$f":"IF('NAGS HEAD \"B\"'!AH4>0,1,0)","v":0},{"$f":"IF('NAGS HEAD \"B\"'!AL4=701,\"WON\",\"LOST\")","v":"LOST"},{"$f":"IF('NAGS HEAD \"B\"'!AL4>0,1,0)","v":1},{"$f":"IF('NAGS HEAD \"B\"'!AP4=701,\"WON\",\"LOST\")","v":"WON"},{"$f":"IF('NAGS HEAD \"B\"'!AP4>0,1,0)","v":1},{"$f":"IF('NAGS HEAD \"B\"'!AT4=701,\"WON\",\"LOST\")","v":"LOST"},{"$f":"IF('NAGS HEAD \"B\"'!AT4>0,1,0)","v":1},{"$f":"IF('NAGS HEAD \"B\"'!AX4=701,\"WON\",\"LOST\")","v":"WON"},{"$f":"IF('NAGS HEAD \"B\"'!AX4>0,1,0)","v":1},{"$f":"IF('NAGS HEAD \"B\"'!BB4=701,\"WON\",\"LOST\")","v":"LOST"},{"$f":"IF('NAGS HEAD \"B\"'!BB4>0,1,0)","v":1},{"$f":"IF('NAGS HEAD \"B\"'!BF4=701,\"WON\",\"LOST\")","v":"LOST"},{"$f":"IF('NAGS HEAD \"B\"'!BF4>0,1,0)","v":1},{"$f":"IF('NAGS HEAD \"B\"'!BJ4=701,\"WON\",\"LOST\")","v":"LOST"},{"$f":"IF('NAGS HEAD \"B\"'!BJ4>0,1,0)","v":1},{"$f":"IF('NAGS HEAD \"B\"'!BN4=701,\"WON\",\"LOST\")","v":"WON"},{"$f":"IF('NAGS HEAD \"B\"'!BN4>0,1,0)","v":1},{"$f":"IF('NAGS HEAD \"B\"'!BR4=701,\"WON\",\"LOST\")","v":"LOST"},{"$f":"IF('NAGS HEAD \"B\"'!BR4>0,1,0)","v":0},{"$f":"IF('NAGS HEAD \"B\"'!BV4=701,\"WON\",\"LOST\")","v":"LOST"},{"$f":"IF('NAGS HEAD \"B\"'!BV4>0,1,0)","v":0},{"$f":"IF('NAGS HEAD \"B\"'!BZ4=701,\"WON\",\"LOST\")","v":"LOST"},{"$f":"IF('NAGS HEAD \"B\"'!BZ4>0,1,0)","v":0},{"$f":"IF('NAGS HEAD \"B\"'!CD4=701,\"WON\",\"LOST\")","v":"LOST"},{"$f":"IF('NAGS HEAD \"B\"'!CD4>0,1,0)","v":0},{"$f":"IF('NAGS HEAD \"B\"'!CH4=701,\"WON\",\"LOST\")","v":"LOST"},{"$f":"IF('NAGS HEAD \"B\"'!CH4>0,1,0)","v":0}]
[null,{"$f":"IF('NAGS HEAD \"B\"'!B5=701,\"WON\",\"LOST\")","v":"WON"},{"$f":"IF('NAGS HEAD \"B\"'!B5>0,1,0)","v":1},{"$f":"IF('NAGS HEAD \"B\"'!F5=701,\"WON\",\"LOST\")","v":"LOST"},{"$f":"IF('NAGS HEAD \"B\"'!F5>0,1,0)","v":0},{"$f":"IF('NAGS HEAD \"B\"'!J5=701,\"WON\",\"LOST\")","v":"LOST"},{"$f":"IF('NAGS HEAD \"B\"'!J5>0,1,0)","v":0},{"$f":"IF('NAGS HEAD \"B\"'!N5=701,\"WON\",\"LOST\")","v":"LOST"},{"$f":"IF('NAGS HEAD \"B\"'!N5>0,1,0)","v":0},{"$f":"IF('NAGS HEAD \"B\"'!R5=701,\"WON\",\"LOST\")","v":"WON"},{"$f":"IF('NAGS HEAD \"B\"'!R5>0,1,0)","v":1},{"$f":"IF('NAGS HEAD \"B\"'!V5=701,\"WON\",\"LOST\")","v":"LOST"},{"$f":"IF('NAGS HEAD \"B\"'!V5>0,1,0)","v":1},{"$f":"IF('NAGS HEAD \"B\"'!Z5=701,\"WON\",\"LOST\")","v":"LOST"},{"$f":"IF('NAGS HEAD \"B\"'!Z5>0,1,0)","v":1},{"$f":"IF('NAGS HEAD \"B\"'!AD5=701,\"WON\",\"LOST\")","v":"WON"},{"$f":"IF('NAGS HEAD \"B\"'!AD5>0,1,0)","v":1},{"$f":"IF('NAGS HEAD \"B\"'!AH5=701,\"WON\",\"LOST\")","v":"LOST"},{"$f":"IF('NAGS HEAD \"B\"'!AH5>0,1,0)","v":0},{"$f":"IF('NAGS HEAD \"B\"'!AL5=701,\"WON\",\"LOST\")","v":"LOST"},{"$f":"IF('NAGS HEAD \"B\"'!AL5>0,1,0)","v":1},{"$f":"IF('NAGS HEAD \"B\"'!AP5=701,\"WON\",\"LOST\")","v":"LOST"},{"$f":"IF('NAGS HEAD \"B\"'!AP5>0,1,0)","v":1},{"$f":"IF('NAGS HEAD \"B\"'!AT5=701,\"WON\",\"LOST\")","v":"LOST"},{"$f":"IF('NAGS HEAD \"B\"'!AT5>0,1,0)","v":1},{"$f":"IF('NAGS HEAD \"B\"'!AX5=701,\"WON\",\"LOST\")","v":"LOST"},{"$f":"IF('NAGS HEAD \"B\"'!AX5>0,1,0)","v":1},{"$f":"IF('NAGS HEAD \"B\"'!BB5=701,\"WON\",\"LOST\")","v":"LOST"},{"$f":"IF('NAGS HEAD \"B\"'!BB5>0,1,0)","v":0},{"$f":"IF('NAGS HEAD \"B\"'!BF5=701,\"WON\",\"LOST\")","v":"LOST"},{"$f":"IF('NAGS HEAD \"B\"'!BF5>0,1,0)","v":1},{"$f":"IF('NAGS HEAD \"B\"'!BJ5=701,\"WON\",\"LOST\")","v":"LOST"},{"$f":"IF('NAGS HEAD \"B\"'!BJ5>0,1,0)","v":1},{"$f":"IF('NAGS HEAD \"B\"'!BN5=701,\"WON\",\"LOST\")","v":"LOST"},{"$f":"IF('NAGS HEAD \"B\"'!BN5>0,1,0)","v":1},{"$f":"IF('NAGS HEAD \"B\"'!BR5=701,\"WON\",\"LOST\")","v":"LOST"},{"$f":"IF('NAGS HEAD \"B\"'!BR5>0,1,0)","v":0},{"$f":"IF('NAGS HEAD \"B\"'!BV5=701,\"WON\",\"LOST\")","v":"LOST"},{"$f":"IF('NAGS HEAD \"B\"'!BV5>0,1,0)","v":0},{"$f":"IF('NAGS HEAD \"B\"'!BZ5=701,\"WON\",\"LOST\")","v":"LOST"},{"$f":"IF('NAGS HEAD \"B\"'!BZ5>0,1,0)","v":0},{"$f":"IF('NAGS HEAD \"B\"'!CD5=701,\"WON\",\"LOST\")","v":"LOST"},{"$f":"IF('NAGS HEAD \"B\"'!CD5>0,1,0)","v":0},{"$f":"IF('NAGS HEAD \"B\"'!CH5=701,\"WON\",\"LOST\")","v":"LOST"},{"$f":"IF('NAGS HEAD \"B\"'!CH5>0,1,0)","v":0}]
[null,{"$f":"IF('NAGS HEAD \"B\"'!B6=701,\"WON\",\"LOST\")","v":"LOST"},{"$f":"IF('NAGS HEAD \"B\"'!B6>0,1,0)","v":1},{"$f":"IF('NAGS HEAD \"B\"'!F6=701,\"WON\",\"LOST\")","v":"LOST"},{"$f":"IF('NAGS HEAD \"B\"'!F6>0,1,0)","v":1},{"$f":"IF('NAGS HEAD \"B\"'!J6=701,\"WON\",\"LOST\")","v":"LOST"},{"$f":"IF('NAGS HEAD \"B\"'!J6>0,1,0)","v":1},{"$f":"IF('NAGS HEAD \"B\"'!N6=701,\"WON\",\"LOST\")","v":"LOST"},{"$f":"IF('NAGS HEAD \"B\"'!N6>0,1,0)","v":0},{"$f":"IF('NAGS HEAD \"B\"'!R6=701,\"WON\",\"LOST\")","v":"LOST"},{"$f":"IF('NAGS HEAD \"B\"'!R6>0,1,0)","v":1},{"$f":"IF('NAGS HEAD \"B\"'!V6=701,\"WON\",\"LOST\")","v":"WON"},{"$f":"IF('NAGS HEAD \"B\"'!V6>0,1,0)","v":1},{"$f":"IF('NAGS HEAD \"B\"'!Z6=701,\"WON\",\"LOST\")","v":"LOST"},{"$f":"IF('NAGS HEAD \"B\"'!Z6>0,1,0)","v":1},{"$f":"IF('NAGS HEAD \"B\"'!AD6=701,\"WON\",\"LOST\")","v":"LOST"},{"$f":"IF('NAGS HEAD \"B\"'!AD6>0,1,0)","v":0},{"$f":"IF('NAGS HEAD \"B\"'!AH6=701,\"WON\",\"LOST\")","v":"LOST"},{"$f":"IF('NAGS HEAD \"B\"'!AH6>0,1,0)","v":0},{"$f":"IF('NAGS HEAD \"B\"'!AL6=701,\"WON\",\"LOST\")","v":"LOST"},{"$f":"IF('NAGS HEAD \"B\"'!AL6>0,1,0)","v":0},{"$f":"IF('NAGS HEAD \"B\"'!AP6=701,\"WON\",\"LOST\")","v":"LOST"},{"$f":"IF('NAGS HEAD \"B\"'!AP6>0,1,0)","v":1},{"$f":"IF('NAGS HEAD \"B\"'!AT6=701,\"WON\",\"LOST\")","v":"WON"},{"$f":"IF('NAGS HEAD \"B\"'!AT6>0,1,0)","v":1},{"$f":"IF('NAGS HEAD \"B\"'!AX6=701,\"WON\",\"LOST\")","v":"LOST"},{"$f":"IF('NAGS HEAD \"B\"'!AX6>0,1,0)","v":0},{"$f":"IF('NAGS HEAD \"B\"'!BB6=701,\"WON\",\"LOST\")","v":"LOST"},{"$f":"IF('NAGS HEAD \"B\"'!BB6>0,1,0)","v":1},{"$f":"IF('NAGS HEAD \"B\"'!BF6=701,\"WON\",\"LOST\")","v":"WON"},{"$f":"IF('NAGS HEAD \"B\"'!BF6>0,1,0)","v":1},{"$f":"IF('NAGS HEAD \"B\"'!BJ6=701,\"WON\",\"LOST\")","v":"LOST"},{"$f":"IF('NAGS HEAD \"B\"'!BJ6>0,1,0)","v":0},{"$f":"IF('NAGS HEAD \"B\"'!BN6=701,\"WON\",\"LOST\")","v":"LOST"},{"$f":"IF('NAGS HEAD \"B\"'!BN6>0,1,0)","v":0},{"$f":"IF('NAGS HEAD \"B\"'!BR6=701,\"WON\",\"LOST\")","v":"LOST"},{"$f":"IF('NAGS HEAD \"B\"'!BR6>0,1,0)","v":0},{"$f":"IF('NAGS HEAD \"B\"'!BV6=701,\"WON\",\"LOST\")","v":"LOST"},{"$f":"IF('NAGS HEAD \"B\"'!BV6>0,1,0)","v":0},{"$f":"IF('NAGS HEAD \"B\"'!BZ6=701,\"WON\",\"LOST\")","v":"LOST"},{"$f":"IF('NAGS HEAD \"B\"'!BZ6>0,1,0)","v":0},{"$f":"IF('NAGS HEAD \"B\"'!CD6=701,\"WON\",\"LOST\")","v":"LOST"},{"$f":"IF('NAGS HEAD \"B\"'!CD6>0,1,0)","v":0},{"$f":"IF('NAGS HEAD \"B\"'!CH6=701,\"WON\",\"LOST\")","v":"LOST"},{"$f":"IF('NAGS HEAD \"B\"'!CH6>0,1,0)","v":0}]
[null,{"$f":"IF('NAGS HEAD \"B\"'!B7=701,\"WON\",\"LOST\")","v":"LOST"},{"$f":"IF('NAGS HEAD \"B\"'!B7>0,1,0)","v":1},{"$f":"IF('NAGS HEAD \"B\"'!F7=701,\"WON\",\"LOST\")","v":"LOST"},{"$f":"IF('NAGS HEAD \"B\"'!F7>0,1,0)","v":1},{"$f":"IF('NAGS HEAD \"B\"'!J7=701,\"WON\",\"LOST\")","v":"LOST"},{"$f":"IF('NAGS HEAD \"B\"'!J7>0,1,0)","v":1},{"$f":"IF('NAGS HEAD \"B\"'!N7=701,\"WON\",\"LOST\")","v":"WON"},{"$f":"IF('NAGS HEAD \"B\"'!N7>0,1,0)","v":1},{"$f":"IF('NAGS HEAD \"B\"'!R7=701,\"WON\",\"LOST\")","v":"LOST"},{"$f":"IF('NAGS HEAD \"B\"'!R7>0,1,0)","v":1},{"$f":"IF('NAGS HEAD \"B\"'!V7=701,\"WON\",\"LOST\")","v":"LOST"},{"$f":"IF('NAGS HEAD \"B\"'!V7>0,1,0)","v":0},{"$f":"IF('NAGS HEAD \"B\"'!Z7=701,\"WON\",\"LOST\")","v":"LOST"},{"$f":"IF('NAGS HEAD \"B\"'!Z7>0,1,0)","v":1},{"$f":"IF('NAGS HEAD \"B\"'!AD7=701,\"WON\",\"LOST\")","v":"WON"},{"$f":"IF('NAGS HEAD \"B\"'!AD7>0,1,0)","v":1},{"$f":"IF('NAGS HEAD \"B\"'!AH7=701,\"WON\",\"LOST\")","v":"LOST"},{"$f":"IF('NAGS HEAD \"B\"'!AH7>0,1,0)","v":0},{"$f":"IF('NAGS HEAD \"B\"'!AL7=701,\"WON\",\"LOST\")","v":"LOST"},{"$f":"IF('NAGS HEAD \"B\"'!AL7>0,1,0)","v":1},{"$f":"IF('NAGS HEAD \"B\"'!AP7=701,\"WON\",\"LOST\")","v":"LOST"},{"$f":"IF('NAGS HEAD \"B\"'!AP7>0,1,0)","v":1},{"$f":"IF('NAGS HEAD \"B\"'!AT7=701,\"WON\",\"LOST\")","v":"WON"},{"$f":"IF('NAGS HEAD \"B\"'!AT7>0,1,0)","v":1},{"$f":"IF('NAGS HEAD \"B\"'!AX7=701,\"WON\",\"LOST\")","v":"WON"},{"$f":"IF('NAGS HEAD \"B\"'!AX7>0,1,0)","v":1},{"$f":"IF('NAGS HEAD \"B\"'!BB7=701,\"WON\",\"LOST\")","v":"LOST"},{"$f":"IF('NAGS HEAD \"B\"'!BB7>0,1,0)","v":1},{"$f":"IF('NAGS HEAD \"B\"'!BF7=701,\"WON\",\"LOST\")","v":"LOST"},{"$f":"IF('NAGS HEAD \"B\"'!BF7>0,1,0)","v":1},{"$f":"IF('NAGS HEAD \"B\"'!BJ7=701,\"WON\",\"LOST\")","v":"LOST"},{"$f":"IF('NAGS HEAD \"B\"'!BJ7>0,1,0)","v":1},{"$f":"IF('NAGS HEAD \"B\"'!BN7=701,\"WON\",\"LOST\")","v":"LOST"},{"$f":"IF('NAGS HEAD \"B\"'!BN7>0,1,0)","v":1},{"$f":"IF('NAGS HEAD \"B\"'!BR7=701,\"WON\",\"LOST\")","v":"LOST"},{"$f":"IF('NAGS HEAD \"B\"'!BR7>0,1,0)","v":0},{"$f":"IF('NAGS HEAD \"B\"'!BV7=701,\"WON\",\"LOST\")","v":"LOST"},{"$f":"IF('NAGS HEAD \"B\"'!BV7>0,1,0)","v":0},{"$f":"IF('NAGS HEAD \"B\"'!BZ7=701,\"WON\",\"LOST\")","v":"LOST"},{"$f":"IF('NAGS HEAD \"B\"'!BZ7>0,1,0)","v":0},{"$f":"IF('NAGS HEAD \"B\"'!CD7=701,\"WON\",\"LOST\")","v":"LOST"},{"$f":"IF('NAGS HEAD \"B\"'!CD7>0,1,0)","v":0},{"$f":"IF('NAGS HEAD \"B\"'!CH7=701,\"WON\",\"LOST\")","v":"LOST"},{"$f":"IF('NAGS HEAD \"B\"'!CH7>0,1,0)","v":0}]
[null,{"$f":"IF('NAGS HEAD \"B\"'!B8=701,\"WON\",\"LOST\")","v":"WON"},{"$f":"IF('NAGS HEAD \"B\"'!B8>0,1,0)","v":1},{"$f":"IF('NAGS HEAD \"B\"'!F8=701,\"WON\",\"LOST\")","v":"WON"},{"$f":"IF('NAGS HEAD \"B\"'!F8>0,1,0)","v":1},{"$f":"IF('NAGS HEAD \"B\"'!J8=701,\"WON\",\"LOST\")","v":"LOST"},{"$f":"IF('NAGS HEAD \"B\"'!J8>0,1,0)","v":1},{"$f":"IF('NAGS HEAD \"B\"'!N8=701,\"WON\",\"LOST\")","v":"LOST"},{"$f":"IF('NAGS HEAD \"B\"'!N8>0,1,0)","v":1},{"$f":"IF('NAGS HEAD \"B\"'!R8=701,\"WON\",\"LOST\")","v":"WON"},{"$f":"IF('NAGS HEAD \"B\"'!R8>0,1,0)","v":1},{"$f":"IF('NAGS HEAD \"B\"'!V8=701,\"WON\",\"LOST\")","v":"WON"},{"$f":"IF('NAGS HEAD \"B\"'!V8>0,1,0)","v":1},{"$f":"IF('NAGS HEAD \"B\"'!Z8=701,\"WON\",\"LOST\")","v":"LOST"},{"$f":"IF('NAGS HEAD \"B\"'!Z8>0,1,0)","v":1},{"$f":"IF('NAGS HEAD \"B\"'!AD8=701,\"WON\",\"LOST\")","v":"WON"},{"$f":"IF('NAGS HEAD \"B\"'!AD8>0,1,0)","v":1},{"$f":"IF('NAGS HEAD \"B\"'!AH8=701,\"WON\",\"LOST\")","v":"LOST"},{"$f":"IF('NAGS HEAD \"B\"'!AH8>0,1,0)","v":0},{"$f":"IF('NAGS HEAD \"B\"'!AL8=701,\"WON\",\"LOST\")","v":"LOST"},{"$f":"IF('NAGS HEAD \"B\"'!AL8>0,1,0)","v":1},{"$f":"IF('NAGS HEAD \"B\"'!AP8=701,\"WON\",\"LOST\")","v":"WON"},{"$f":"IF('NAGS HEAD \"B\"'!AP8>0,1,0)","v":1},{"$f":"IF('NAGS HEAD \"B\"'!AT8=701,\"WON\",\"LOST\")","v":"LOST"},{"$f":"IF('NAGS HEAD \"B\"'!AT8>0,1,0)","v":0},{"$f":"IF('NAGS HEAD \"B\"'!AX8=701,\"WON\",\"LOST\")","v":"LOST"},{"$f":"IF('NAGS HEAD \"B\"'!AX8>0,1,0)","v":0},{"$f":"IF('NAGS HEAD \"B\"'!BB8=701,\"WON\",\"LOST\")","v":"LOST"},{"$f":"IF('NAGS HEAD \"B\"'!BB8>0,1,0)","v":1},{"$f":"IF('NAGS HEAD \"B\"'!BF8=701,\"WON\",\"LOST\")","v":"LOST"},{"$f":"IF('NAGS HEAD \"B\"'!BF8>0,1,0)","v":0},{"$f":"IF('NAGS HEAD \"B\"'!BJ8=701,\"WON\",\"LOST\")","v":"LOST"},{"$f":"IF('NAGS HEAD \"B\"'!BJ8>0,1,0)","v":1},{"$f":"IF('NAGS HEAD \"B\"'!BN8=701,\"WON\",\"LOST\")","v":"LOST"},{"$f":"IF('NAGS HEAD \"B\"'!BN8>0,1,0)","v":1},{"$f":"IF('NAGS HEAD \"B\"'!BR8=701,\"WON\",\"LOST\")","v":"LOST"},{"$f":"IF('NAGS HEAD \"B\"'!BR8>0,1,0)","v":0},{"$f":"IF('NAGS HEAD \"B\"'!BV8=701,\"WON\",\"LOST\")","v":"LOST"},{"$f":"IF('NAGS HEAD \"B\"'!BV8>0,1,0)","v":0},{"$f":"IF('NAGS HEAD \"B\"'!BZ8=701,\"WON\",\"LOST\")","v":"LOST"},{"$f":"IF('NAGS HEAD \"B\"'!BZ8>0,1,0)","v":0},{"$f":"IF('NAGS HEAD \"B\"'!CD8=701,\"WON\",\"LOST\")","v":"LOST"},{"$f":"IF('NAGS HEAD \"B\"'!CD8>0,1,0)","v":0},{"$f":"IF('NAGS HEAD \"B\"'!CH8=701,\"WON\",\"LOST\")","v":"LOST"},{"$f":"IF('NAGS HEAD \"B\"'!CH8>0,1,0)","v":0}]
[null,{"$f":"IF('NAGS HEAD \"B\"'!B9=701,\"WON\",\"LOST\")","v":"LOST"},{"$f":"IF('NAGS HEAD \"B\"'!B9>0,1,0)","v":0},{"$f":"IF('NAGS HEAD \"B\"'!F9=701,\"WON\",\"LOST\")","v":"LOST"},{"$f":"IF('NAGS HEAD \"B\"'!F9>0,1,0)","v":1},{"$f":"IF('NAGS HEAD \"B\"'!J9=701,\"WON\",\"LOST\")","v":"LOST"},{"$f":"IF('NAGS HEAD \"B\"'!J9>0,1,0)","v":0},{"$f":"IF('NAGS HEAD \"B\"'!N9=701,\"WON\",\"LOST\")","v":"LOST"},{"$f":"IF('NAGS HEAD \"B\"'!N9>0,1,0)","v":0},{"$f":"IF('NAGS HEAD \"B\"'!R9=701,\"WON\",\"LOST\")","v":"LOST"},{"$f":"IF('NAGS HEAD \"B\"'!R9>0,1,0)","v":0},{"$f":"IF('NAGS HEAD \"B\"'!V9=701,\"WON\",\"LOST\")","v":"LOST"},{"$f":"IF('NAGS HEAD \"B\"'!V9>0,1,0)","v":0},{"$f":"IF('NAGS HEAD \"B\"'!Z9=701,\"WON\",\"LOST\")","v":"LOST"},{"$f":"IF('NAGS HEAD \"B\"'!Z9>0,1,0)","v":0},{"$f":"IF('NAGS HEAD \"B\"'!AD9=701,\"WON\",\"LOST\")","v":"LOST"},{"$f":"IF('NAGS HEAD \"B\"'!AD9>0,1,0)","v":0},{"$f":"IF('NAGS HEAD \"B\"'!AH9=701,\"WON\",\"LOST\")","v":"LOST"},{"$f":"IF('NAGS HEAD \"B\"'!AH9>0,1,0)","v":0},{"$f":"IF('NAGS HEAD \"B\"'!AL9=701,\"WON\",\"LOST\")","v":"LOST"},{"$f":"IF('NAGS HEAD \"B\"'!AL9>0,1,0)","v":0},{"$f":"IF('NAGS HEAD \"B\"'!AP9=701,\"WON\",\"LOST\")","v":"LOST"},{"$f":"IF('NAGS HEAD \"B\"'!AP9>0,1,0)","v":0},{"$f":"IF('NAGS HEAD \"B\"'!AT9=701,\"WON\",\"LOST\")","v":"LOST"},{"$f":"IF('NAGS HEAD \"B\"'!AT9>0,1,0)","v":0},{"$f":"IF('NAGS HEAD \"B\"'!AX9=701,\"WON\",\"LOST\")","v":"LOST"},{"$f":"IF('NAGS HEAD \"B\"'!AX9>0,1,0)","v":0},{"$f":"IF('NAGS HEAD \"B\"'!BB9=701,\"WON\",\"LOST\")","v":"LOST"},{"$f":"IF('NAGS HEAD \"B\"'!BB9>0,1,0)","v":0},{"$f":"IF('NAGS HEAD \"B\"'!BF9=701,\"WON\",\"LOST\")","v":"LOST"},{"$f":"IF('NAGS HEAD \"B\"'!BF9>0,1,0)","v":0},{"$f":"IF('NAGS HEAD \"B\"'!BJ9=701,\"WON\",\"LOST\")","v":"LOST"},{"$f":"IF('NAGS HEAD \"B\"'!BJ9>0,1,0)","v":0},{"$f":"IF('NAGS HEAD \"B\"'!BN9=701,\"WON\",\"LOST\")","v":"LOST"},{"$f":"IF('NAGS HEAD \"B\"'!BN9>0,1,0)","v":0},{"$f":"IF('NAGS HEAD \"B\"'!BR9=701,\"WON\",\"LOST\")","v":"LOST"},{"$f":"IF('NAGS HEAD \"B\"'!BR9>0,1,0)","v":0},{"$f":"IF('NAGS HEAD \"B\"'!BV9=701,\"WON\",\"LOST\")","v":"LOST"},{"$f":"IF('NAGS HEAD \"B\"'!BV9>0,1,0)","v":0},{"$f":"IF('NAGS HEAD \"B\"'!BZ9=701,\"WON\",\"LOST\")","v":"LOST"},{"$f":"IF('NAGS HEAD \"B\"'!BZ9>0,1,0)","v":0},{"$f":"IF('NAGS HEAD \"B\"'!CD9=701,\"WON\",\"LOST\")","v":"LOST"},{"$f":"IF('NAGS HEAD \"B\"'!CD9>0,1,0)","v":0},{"$f":"IF('NAGS HEAD \"B\"'!CH9=701,\"WON\",\"LOST\")","v":"LOST"},{"$f":"IF('NAGS HEAD \"B\"'!CH9>0,1,0)","v":0}]
[null,{"$f":"IF('NAGS HEAD \"B\"'!B10=701,\"WON\",\"LOST\")","v":"LOST"},{"$f":"IF('NAGS HEAD \"B\"'!B10>0,1,0)","v":0},{"$f":"IF('NAGS HEAD \"B\"'!F10=701,\"WON\",\"LOST\")","v":"LOST"},{"$f":"IF('NAGS HEAD \"B\"'!F10>0,1,0)","v":0},{"$f":"IF('NAGS HEAD \"B\"'!J10=701,\"WON\",\"LOST\")","v":"LOST"},{"$f":"IF('NAGS HEAD \"B\"'!J10>0,1,0)","v":0},{"$f":"IF('NAGS HEAD \"B\"'!N10=701,\"WON\",\"LOST\")","v":"LOST"},{"$f":"IF('NAGS HEAD \"B\"'!N10>0,1,0)","v":0},{"$f":"IF('NAGS HEAD \"B\"'!R10=701,\"WON\",\"LOST\")","v":"LOST"},{"$f":"IF('NAGS HEAD \"B\"'!R10>0,1,0)","v":0},{"$f":"IF('NAGS HEAD \"B\"'!V10=701,\"WON\",\"LOST\")","v":"LOST"},{"$f":"IF('NAGS HEAD \"B\"'!V10>0,1,0)","v":0},{"$f":"IF('NAGS HEAD \"B\"'!Z10=701,\"WON\",\"LOST\")","v":"LOST"},{"$f":"IF('NAGS HEAD \"B\"'!Z10>0,1,0)","v":0},{"$f":"IF('NAGS HEAD \"B\"'!AD10=701,\"WON\",\"LOST\")","v":"LOST"},{"$f":"IF('NAGS HEAD \"B\"'!AD10>0,1,0)","v":0},{"$f":"IF('NAGS HEAD \"B\"'!AH10=701,\"WON\",\"LOST\")","v":"LOST"},{"$f":"IF('NAGS HEAD \"B\"'!AH10>0,1,0)","v":0},{"$f":"IF('NAGS HEAD \"B\"'!AL10=701,\"WON\",\"LOST\")","v":"LOST"},{"$f":"IF('NAGS HEAD \"B\"'!AL10>0,1,0)","v":0},{"$f":"IF('NAGS HEAD \"B\"'!AP10=701,\"WON\",\"LOST\")","v":"LOST"},{"$f":"IF('NAGS HEAD \"B\"'!AP10>0,1,0)","v":0},{"$f":"IF('NAGS HEAD \"B\"'!AT10=701,\"WON\",\"LOST\")","v":"LOST"},{"$f":"IF('NAGS HEAD \"B\"'!AT10>0,1,0)","v":0},{"$f":"IF('NAGS HEAD \"B\"'!AX10=701,\"WON\",\"LOST\")","v":"LOST"},{"$f":"IF('NAGS HEAD \"B\"'!AX10>0,1,0)","v":0},{"$f":"IF('NAGS HEAD \"B\"'!BB10=701,\"WON\",\"LOST\")","v":"LOST"},{"$f":"IF('NAGS HEAD \"B\"'!BB10>0,1,0)","v":0},{"$f":"IF('NAGS HEAD \"B\"'!BF10=701,\"WON\",\"LOST\")","v":"LOST"},{"$f":"IF('NAGS HEAD \"B\"'!BF10>0,1,0)","v":0},{"$f":"IF('NAGS HEAD \"B\"'!BJ10=701,\"WON\",\"LOST\")","v":"LOST"},{"$f":"IF('NAGS HEAD \"B\"'!BJ10>0,1,0)","v":0},{"$f":"IF('NAGS HEAD \"B\"'!BN10=701,\"WON\",\"LOST\")","v":"LOST"},{"$f":"IF('NAGS HEAD \"B\"'!BN10>0,1,0)","v":0},{"$f":"IF('NAGS HEAD \"B\"'!BR10=701,\"WON\",\"LOST\")","v":"LOST"},{"$f":"IF('NAGS HEAD \"B\"'!BR10>0,1,0)","v":0},{"$f":"IF('NAGS HEAD \"B\"'!BV10=701,\"WON\",\"LOST\")","v":"LOST"},{"$f":"IF('NAGS HEAD \"B\"'!BV10>0,1,0)","v":0},{"$f":"IF('NAGS HEAD \"B\"'!BZ10=701,\"WON\",\"LOST\")","v":"LOST"},{"$f":"IF('NAGS HEAD \"B\"'!BZ10>0,1,0)","v":0},{"$f":"IF('NAGS HEAD \"B\"'!CD10=701,\"WON\",\"LOST\")","v":"LOST"},{"$f":"IF('NAGS HEAD \"B\"'!CD10>0,1,0)","v":0},{"$f":"IF('NAGS HEAD \"B\"'!CH10=701,\"WON\",\"LOST\")","v":"LOST"},{"$f":"IF('NAGS HEAD \"B\"'!CH10>0,1,0)","v":0}]
[null,{"$f":"IF('NAGS HEAD \"B\"'!B11=701,\"WON\",\"LOST\")","v":"LOST"},{"$f":"IF('NAGS HEAD \"B\"'!B11>0,1,0)","v":0},{"$f":"IF('NAGS HEAD \"B\"'!F11=701,\"WON\",\"LOST\")","v":"LOST"},{"$f":"IF('NAGS HEAD \"B\"'!F11>0,1,0)","v":0},{"$f":"IF('NAGS HEAD \"B\"'!J11=701,\"WON\",\"LOST\")","v":"LOST"},{"$f":"IF('NAGS HEAD \"B\"'!J11>0,1,0)","v":1},{"$f":"IF('NAGS HEAD \"B\"'!N11=701,\"WON\",\"LOST\")","v":"WON"},{"$f":"IF('NAGS HEAD \"B\"'!N11>0,1,0)","v":1},{"$f":"IF('NAGS HEAD \"B\"'!R11=701,\"WON\",\"LOST\")","v":"LOST"},{"$f":"IF('NAGS HEAD \"B\"'!R11>0,1,0)","v":0},{"$f":"IF('NAGS HEAD \"B\"'!V11=701,\"WON\",\"LOST\")","v":"LOST"},{"$f":"IF('NAGS HEAD \"B\"'!V11>0,1,0)","v":1},{"$f":"IF('NAGS HEAD \"B\"'!Z11=701,\"WON\",\"LOST\")","v":"LOST"},{"$f":"IF('NAGS HEAD \"B\"'!Z11>0,1,0)","v":1},{"$f":"IF('NAGS HEAD \"B\"'!AD11=701,\"WON\",\"LOST\")","v":"LOST"},{"$f":"IF('NAGS HEAD \"B\"'!AD11>0,1,0)","v":1},{"$f":"IF('NAGS HEAD \"B\"'!AH11=701,\"WON\",\"LOST\")","v":"LOST"},{"$f":"IF('NAGS HEAD \"B\"'!AH11>0,1,0)","v":0},{"$f":"IF('NAGS HEAD \"B\"'!AL11=701,\"WON\",\"LOST\")","v":"LOST"},{"$f":"IF('NAGS HEAD \"B\"'!AL11>0,1,0)","v":1},{"$f":"IF('NAGS HEAD \"B\"'!AP11=701,\"WON\",\"LOST\")","v":"LOST"},{"$f":"IF('NAGS HEAD \"B\"'!AP11>0,1,0)","v":0},{"$f":"IF('NAGS HEAD \"B\"'!AT11=701,\"WON\",\"LOST\")","v":"LOST"},{"$f":"IF('NAGS HEAD \"B\"'!AT11>0,1,0)","v":1},{"$f":"IF('NAGS HEAD \"B\"'!AX11=701,\"WON\",\"LOST\")","v":"LOST"},{"$f":"IF('NAGS HEAD \"B\"'!AX11>0,1,0)","v":1},{"$f":"IF('NAGS HEAD \"B\"'!BB11=701,\"WON\",\"LOST\")","v":"LOST"},{"$f":"IF('NAGS HEAD \"B\"'!BB11>0,1,0)","v":0},{"$f":"IF('NAGS HEAD \"B\"'!BF11=701,\"WON\",\"LOST\")","v":"WON"},{"$f":"IF('NAGS HEAD \"B\"'!BF11>0,1,0)","v":1},{"$f":"IF('NAGS HEAD \"B\"'!BJ11=701,\"WON\",\"LOST\")","v":"LOST"},{"$f":"IF('NAGS HEAD \"B\"'!BJ11>0,1,0)","v":0},{"$f":"IF('NAGS HEAD \"B\"'!BN11=701,\"WON\",\"LOST\")","v":"LOST"},{"$f":"IF('NAGS HEAD \"B\"'!BN11>0,1,0)","v":0},{"$f":"IF('NAGS HEAD \"B\"'!BR11=701,\"WON\",\"LOST\")","v":"LOST"},{"$f":"IF('NAGS HEAD \"B\"'!BR11>0,1,0)","v":0},{"$f":"IF('NAGS HEAD \"B\"'!BV11=701,\"WON\",\"LOST\")","v":"LOST"},{"$f":"IF('NAGS HEAD \"B\"'!BV11>0,1,0)","v":0},{"$f":"IF('NAGS HEAD \"B\"'!BZ11=701,\"WON\",\"LOST\")","v":"LOST"},{"$f":"IF('NAGS HEAD \"B\"'!BZ11>0,1,0)","v":0},{"$f":"IF('NAGS HEAD \"B\"'!CD11=701,\"WON\",\"LOST\")","v":"LOST"},{"$f":"IF('NAGS HEAD \"B\"'!CD11>0,1,0)","v":0},{"$f":"IF('NAGS HEAD \"B\"'!CH11=701,\"WON\",\"LOST\")","v":"LOST"},{"$f":"IF('NAGS HEAD \"B\"'!CH11>0,1,0)","v":0}]
[null,{"$f":"IF('NAGS HEAD \"B\"'!B12=701,\"WON\",\"LOST\")","v":"LOST"},{"$f":"IF('NAGS HEAD \"B\"'!B12>0,1,0)","v":0},{"$f":"IF('NAGS HEAD \"B\"'!F12=701,\"WON\",\"LOST\")","v":"LOST"},{"$f":"IF('NAGS HEAD \"B\"'!F12>0,1,0)","v":0},{"$f":"IF('NAGS HEAD \"B\"'!J12=701,\"WON\",\"LOST\")","v":"LOST"},{"$f":"IF('NAGS HEAD \"B\"'!J12>0,1,0)","v":0},{"$f":"IF('NAGS HEAD \"B\"'!N12=701,\"WON\",\"LOST\")","v":"LOST"},{"$f":"IF('NAGS HEAD \"B\"'!N12>0,1,0)","v":0},{"$f":"IF('NAGS HEAD \"B\"'!R12=701,\"WON\",\"LOST\")","v":"LOST"},{"$f":"IF('NAGS HEAD \"B\"'!R12>0,1,0)","v":0},{"$f":"IF('NAGS HEAD \"B\"'!V12=701,\"WON\",\"LOST\")","v":"LOST"},{"$f":"IF('NAGS HEAD \"B\"'!V12>0,1,0)","v":0},{"$f":"IF('NAGS HEAD \"B\"'!Z12=701,\"WON\",\"LOST\")","v":"LOST"},{"$f":"IF('NAGS HEAD \"B\"'!Z12>0,1,0)","v":0},{"$f":"IF('NAGS HEAD \"B\"'!AD12=701,\"WON\",\"LOST\")","v":"LOST"},{"$f":"IF('NAGS HEAD \"B\"'!AD12>0,1,0)","v":0},{"$f":"IF('NAGS HEAD \"B\"'!AH12=701,\"WON\",\"LOST\")","v":"LOST"},{"$f":"IF('NAGS HEAD \"B\"'!AH12>0,1,0)","v":0},{"$f":"IF('NAGS HEAD \"B\"'!AL12=701,\"WON\",\"LOST\")","v":"LOST"},{"$f":"IF('NAGS HEAD \"B\"'!AL12>0,1,0)","v":0},{"$f":"IF('NAGS HEAD \"B\"'!AP12=701,\"WON\",\"LOST\")","v":"LOST"},{"$f":"IF('NAGS HEAD \"B\"'!AP12>0,1,0)","v":0},{"$f":"IF('NAGS HEAD \"B\"'!AT12=701,\"WON\",\"LOST\")","v":"LOST"},{"$f":"IF('NAGS HEAD \"B\"'!AT12>0,1,0)","v":0},{"$f":"IF('NAGS HEAD \"B\"'!AX12=701,\"WON\",\"LOST\")","v":"LOST"},{"$f":"IF('NAGS HEAD \"B\"'!AX12>0,1,0)","v":1},{"$f":"IF('NAGS HEAD \"B\"'!BB12=701,\"WON\",\"LOST\")","v":"LOST"},{"$f":"IF('NAGS HEAD \"B\"'!BB12>0,1,0)","v":1},{"$f":"IF('NAGS HEAD \"B\"'!BF12=701,\"WON\",\"LOST\")","v":"WON"},{"$f":"IF('NAGS HEAD \"B\"'!BF12>0,1,0)","v":1},{"$f":"IF('NAGS HEAD \"B\"'!BJ12=701,\"WON\",\"LOST\")","v":"LOST"},{"$f":"IF('NAGS HEAD \"B\"'!BJ12>0,1,0)","v":1},{"$f":"IF('NAGS HEAD \"B\"'!BN12=701,\"WON\",\"LOST\")","v":"LOST"},{"$f":"IF('NAGS HEAD \"B\"'!BN12>0,1,0)","v":1},{"$f":"IF('NAGS HEAD \"B\"'!BR12=701,\"WON\",\"LOST\")","v":"LOST"},{"$f":"IF('NAGS HEAD \"B\"'!BR12>0,1,0)","v":0},{"$f":"IF('NAGS HEAD \"B\"'!BV12=701,\"WON\",\"LOST\")","v":"LOST"},{"$f":"IF('NAGS HEAD \"B\"'!BV12>0,1,0)","v":0},{"$f":"IF('NAGS HEAD \"B\"'!BZ12=701,\"WON\",\"LOST\")","v":"LOST"},{"$f":"IF('NAGS HEAD \"B\"'!BZ12>0,1,0)","v":0},{"$f":"IF('NAGS HEAD \"B\"'!CD12=701,\"WON\",\"LOST\")","v":"LOST"},{"$f":"IF('NAGS HEAD \"B\"'!CD12>0,1,0)","v":0},{"$f":"IF('NAGS HEAD \"B\"'!CH12=701,\"WON\",\"LOST\")","v":"LOST"},{"$f":"IF('NAGS HEAD \"B\"'!CH12>0,1,0)","v":0}]
[null,{"$f":"IF('NAGS HEAD \"B\"'!B13=701,\"WON\",\"LOST\")","v":"LOST"},{"$f":"IF('NAGS HEAD \"B\"'!B13>0,1,0)","v":0},{"$f":"IF('NAGS HEAD \"B\"'!F13=701,\"WON\",\"LOST\")","v":"LOST"},{"$f":"IF('NAGS HEAD \"B\"'!F13>0,1,0)","v":0},{"$f":"IF('NAGS HEAD \"B\"'!J13=701,\"WON\",\"LOST\")","v":"LOST"},{"$f":"IF('NAGS HEAD \"B\"'!J13>0,1,0)","v":0},{"$f":"IF('NAGS HEAD \"B\"'!N13=701,\"WON\",\"LOST\")","v":"LOST"},{"$f":"IF('NAGS HEAD \"B\"'!N13>0,1,0)","v":0},{"$f":"IF('NAGS HEAD \"B\"'!R13=701,\"WON\",\"LOST\")","v":"LOST"},{"$f":"IF('NAGS HEAD \"B\"'!R13>0,1,0)","v":0},{"$f":"IF('NAGS HEAD \"B\"'!V13=701,\"WON\",\"LOST\")","v":"LOST"},{"$f":"IF('NAGS HEAD \"B\"'!V13>0,1,0)","v":0},{"$f":"IF('NAGS HEAD \"B\"'!Z13=701,\"WON\",\"LOST\")","v":"LOST"},{"$f":"IF('NAGS HEAD \"B\"'!Z13>0,1,0)","v":0},{"$f":"IF('NAGS HEAD \"B\"'!AD13=701,\"WON\",\"LOST\")","v":"LOST"},{"$f":"IF('NAGS HEAD \"B\"'!AD13>0,1,0)","v":0},{"$f":"IF('NAGS HEAD \"B\"'!AH13=701,\"WON\",\"LOST\")","v":"LOST"},{"$f":"IF('NAGS HEAD \"B\"'!AH13>0,1,0)","v":0},{"$f":"IF('NAGS HEAD \"B\"'!AL13=701,\"WON\",\"LOST\")","v":"LOST"},{"$f":"IF('NAGS HEAD \"B\"'!AL13>0,1,0)","v":0},{"$f":"IF('NAGS HEAD \"B\"'!AP13=701,\"WON\",\"LOST\")","v":"LOST"},{"$f":"IF('NAGS HEAD \"B\"'!AP13>0,1,0)","v":0},{"$f":"IF('NAGS HEAD \"B\"'!AT13=701,\"WON\",\"LOST\")","v":"LOST"},{"$f":"IF('NAGS HEAD \"B\"'!AT13>0,1,0)","v":0},{"$f":"IF('NAGS HEAD \"B\"'!AX13=701,\"WON\",\"LOST\")","v":"LOST"},{"$f":"IF('NAGS HEAD \"B\"'!AX13>0,1,0)","v":0},{"$f":"IF('NAGS HEAD \"B\"'!BB13=701,\"WON\",\"LOST\")","v":"LOST"},{"$f":"IF('NAGS HEAD \"B\"'!BB13>0,1,0)","v":0},{"$f":"IF('NAGS HEAD \"B\"'!BF13=701,\"WON\",\"LOST\")","v":"LOST"},{"$f":"IF('NAGS HEAD \"B\"'!BF13>0,1,0)","v":0},{"$f":"IF('NAGS HEAD \"B\"'!BJ13=701,\"WON\",\"LOST\")","v":"LOST"},{"$f":"IF('NAGS HEAD \"B\"'!BJ13>0,1,0)","v":0},{"$f":"IF('NAGS HEAD \"B\"'!BN13=701,\"WON\",\"LOST\")","v":"LOST"},{"$f":"IF('NAGS HEAD \"B\"'!BN13>0,1,0)","v":0},{"$f":"IF('NAGS HEAD \"B\"'!BR13=701,\"WON\",\"LOST\")","v":"LOST"},{"$f":"IF('NAGS HEAD \"B\"'!BR13>0,1,0)","v":0},{"$f":"IF('NAGS HEAD \"B\"'!BV13=701,\"WON\",\"LOST\")","v":"LOST"},{"$f":"IF('NAGS HEAD \"B\"'!BV13>0,1,0)","v":0},{"$f":"IF('NAGS HEAD \"B\"'!BZ13=701,\"WON\",\"LOST\")","v":"LOST"},{"$f":"IF('NAGS HEAD \"B\"'!BZ13>0,1,0)","v":0},{"$f":"IF('NAGS HEAD \"B\"'!CD13=701,\"WON\",\"LOST\")","v":"LOST"},{"$f":"IF('NAGS HEAD \"B\"'!CD13>0,1,0)","v":0},{"$f":"IF('NAGS HEAD \"B\"'!CH13=701,\"WON\",\"LOST\")","v":"LOST"},{"$f":"IF('NAGS HEAD \"B\"'!CH13>0,1,0)","v":0}]
[null,{"$f":"IF('NAGS HEAD \"B\"'!B14=701,\"WON\",\"LOST\")","v":"LOST"},{"$f":"IF('NAGS HEAD \"B\"'!B14>0,1,0)","v":0},{"$f":"IF('NAGS HEAD \"B\"'!F14=701,\"WON\",\"LOST\")","v":"LOST"},{"$f":"IF('NAGS HEAD \"B\"'!F14>0,1,0)","v":0},{"$f":"IF('NAGS HEAD \"B\"'!J14=701,\"WON\",\"LOST\")","v":"LOST"},{"$f":"IF('NAGS HEAD \"B\"'!J14>0,1,0)","v":0},{"$f":"IF('NAGS HEAD \"B\"'!N14=701,\"WON\",\"LOST\")","v":"LOST"},{"$f":"IF('NAGS HEAD \"B\"'!N14>0,1,0)","v":0},{"$f":"IF('NAGS HEAD \"B\"'!R14=701,\"WON\",\"LOST\")","v":"LOST"},{"$f":"IF('NAGS HEAD \"B\"'!R14>0,1,0)","v":0},{"$f":"IF('NAGS HEAD \"B\"'!V14=701,\"WON\",\"LOST\")","v":"LOST"},{"$f":"IF('NAGS HEAD \"B\"'!V14>0,1,0)","v":0},{"$f":"IF('NAGS HEAD \"B\"'!Z14=701,\"WON\",\"LOST\")","v":"LOST"},{"$f":"IF('NAGS HEAD \"B\"'!Z14>0,1,0)","v":0},{"$f":"IF('NAGS HEAD \"B\"'!AD14=701,\"WON\",\"LOST\")","v":"LOST"},{"$f":"IF('NAGS HEAD \"B\"'!AD14>0,1,0)","v":0},{"$f":"IF('NAGS HEAD \"B\"'!AH14=701,\"WON\",\"LOST\")","v":"LOST"},{"$f":"IF('NAGS HEAD \"B\"'!AH14>0,1,0)","v":0},{"$f":"IF('NAGS HEAD \"B\"'!AL14=701,\"WON\",\"LOST\")","v":"LOST"},{"$f":"IF('NAGS HEAD \"B\"'!AL14>0,1,0)","v":0},{"$f":"IF('NAGS HEAD \"B\"'!AP14=701,\"WON\",\"LOST\")","v":"LOST"},{"$f":"IF('NAGS HEAD \"B\"'!AP14>0,1,0)","v":0},{"$f":"IF('NAGS HEAD \"B\"'!AT14=701,\"WON\",\"LOST\")","v":"LOST"},{"$f":"IF('NAGS HEAD \"B\"'!AT14>0,1,0)","v":0},{"$f":"IF('NAGS HEAD \"B\"'!AX14=701,\"WON\",\"LOST\")","v":"LOST"},{"$f":"IF('NAGS HEAD \"B\"'!AX14>0,1,0)","v":0},{"$f":"IF('NAGS HEAD \"B\"'!BB14=701,\"WON\",\"LOST\")","v":"LOST"},{"$f":"IF('NAGS HEAD \"B\"'!BB14>0,1,0)","v":0},{"$f":"IF('NAGS HEAD \"B\"'!BF14=701,\"WON\",\"LOST\")","v":"LOST"},{"$f":"IF('NAGS HEAD \"B\"'!BF14>0,1,0)","v":0},{"$f":"IF('NAGS HEAD \"B\"'!BJ14=701,\"WON\",\"LOST\")","v":"LOST"},{"$f":"IF('NAGS HEAD \"B\"'!BJ14>0,1,0)","v":0},{"$f":"IF('NAGS HEAD \"B\"'!BN14=701,\"WON\",\"LOST\")","v":"LOST"},{"$f":"IF('NAGS HEAD \"B\"'!BN14>0,1,0)","v":0},{"$f":"IF('NAGS HEAD \"B\"'!BR14=701,\"WON\",\"LOST\")","v":"LOST"},{"$f":"IF('NAGS HEAD \"B\"'!BR14>0,1,0)","v":0},{"$f":"IF('NAGS HEAD \"B\"'!BV14=701,\"WON\",\"LOST\")","v":"LOST"},{"$f":"IF('NAGS HEAD \"B\"'!BV14>0,1,0)","v":0},{"$f":"IF('NAGS HEAD \"B\"'!BZ14=701,\"WON\",\"LOST\")","v":"LOST"},{"$f":"IF('NAGS HEAD \"B\"'!BZ14>0,1,0)","v":0},{"$f":"IF('NAGS HEAD \"B\"'!CD14=701,\"WON\",\"LOST\")","v":"LOST"},{"$f":"IF('NAGS HEAD \"B\"'!CD14>0,1,0)","v":0},{"$f":"IF('NAGS HEAD \"B\"'!CH14=701,\"WON\",\"LOST\")","v":"LOST"},{"$f":"IF('NAGS HEAD \"B\"'!CH14>0,1,0)","v":0}]
[null,{"$f":"IF('NAGS HEAD \"B\"'!B3=\"\",0,(SUM(('NAGS HEAD \"B\"'!B3/'NAGS HEAD \"B\"'!C3)*3)))","v":44.846153846153847},null,{"$f":"IF('NAGS HEAD \"B\"'!F3=\"\",0,(SUM(('NAGS HEAD \"B\"'!F3/'NAGS HEAD \"B\"'!G3)*3)))","v":51.292682926829272},null,{"$f":"IF('NAGS HEAD \"B\"'!J3=\"\",0,(SUM(('NAGS HEAD \"B\"'!J3/'NAGS HEAD \"B\"'!K3)*3)))","v":47.795454545454547},null,{"$f":"IF('NAGS HEAD \"B\"'!N3=\"\",0,(SUM(('NAGS HEAD \"B\"'!N3/'NAGS HEAD \"B\"'!O3)*3)))","v":42.384615384615387},null,{"$f":"IF('NAGS HEAD \"B\"'!R3=\"\",0,(SUM(('NAGS HEAD \"B\"'!R3/'NAGS HEAD \"B\"'!S3)*3)))","v":47.795454545454547},null,{"$f":"IF('NAGS HEAD \"B\"'!V3=\"\",0,(SUM(('NAGS HEAD \"B\"'!V3/'NAGS HEAD \"B\"'!W3)*3)))","v":55.34210526315789},null,{"$f":"IF('NAGS HEAD \"B\"'!Z3=\"\",0,(SUM(('NAGS HEAD \"B\"'!Z3/'NAGS HEAD \"B\"'!AA3)*3)))","v":53.222222222222221},null,{"$f":"IF('NAGS HEAD \"B\"'!AD3=\"\",0,(SUM(('NAGS HEAD \"B\"'!AD3/'NAGS HEAD \"B\"'!AE3)*3)))","v":43.6},null,{"$f":"IF('NAGS HEAD \"B\"'!AH3=\"\",0,(SUM(('NAGS HEAD \"B\"'!AH3/'NAGS HEAD \"B\"'!AI3)*3)))","v":0},null,{"$f":"IF('NAGS HEAD \"B\"'!AL3=\"\",0,(SUM(('NAGS HEAD \"B\"'!AL3/'NAGS HEAD \"B\"'!AM3)*3)))","v":60.81818181818182},null,{"$f":"IF('NAGS HEAD \"B\"'!AP3=\"\",0,(SUM(('NAGS HEAD \"B\"'!AP3/'NAGS HEAD \"B\"'!AQ3)*3)))","v":63.727272727272727},null,{"$f":"IF('NAGS HEAD \"B\"'!AT3=\"\",0,(SUM(('NAGS HEAD \"B\"'!AT3/'NAGS HEAD \"B\"'!AU3)*3)))","v":65.71875},null,{"$f":"IF('NAGS HEAD \"B\"'!AX3=\"\",0,(SUM(('NAGS HEAD \"B\"'!AX3/'NAGS HEAD \"B\"'!AY3)*3)))","v":52.574999999999996},null,{"$f":"IF('NAGS HEAD \"B\"'!BB3=\"\",0,(SUM(('NAGS HEAD \"B\"'!BB3/'NAGS HEAD \"B\"'!BC3)*3)))","v":46.07692307692308},null,{"$f":"IF('NAGS HEAD \"B\"'!BF3=\"\",0,(SUM(('NAGS HEAD \"B\"'!BF3/'NAGS HEAD \"B\"'!BG3)*3)))","v":0},null,{"$f":"IF('NAGS HEAD \"B\"'!BJ3=\"\",0,(SUM(('NAGS HEAD \"B\"'!BJ3/'NAGS HEAD \"B\"'!BK3)*3)))","v":53.307692307692307},null,{"$f":"IF('NAGS HEAD \"B\"'!BN3=\"\",0,(SUM(('NAGS HEAD \"B\"'!BN3/'NAGS HEAD \"B\"'!BO3)*3)))","v":53.272727272727273},null,{"$f":"IF('NAGS HEAD \"B\"'!BR3=\"\",0,(SUM(('NAGS HEAD \"B\"'!BR3/'NAGS HEAD \"B\"'!BS3)*3)))","v":0},null,{"$f":"IF('NAGS HEAD \"B\"'!BV3=\"\",0,(SUM(('NAGS HEAD \"B\"'!BV3/'NAGS HEAD \"B\"'!BW3)*3)))","v":0},null,{"$f":"IF('NAGS HEAD \"B\"'!BZ3=\"\",0,(SUM(('NAGS HEAD \"B\"'!BZ3/'NAGS HEAD \"B\"'!CA3)*3)))","v":0},null,{"$f":"IF('NAGS HEAD \"B\"'!CD3=\"\",0,(SUM(('NAGS HEAD \"B\"'!CD3/'NAGS HEAD \"B\"'!CE3)*3)))","v":0},null,{"$f":"IF('NAGS HEAD \"B\"'!CH3=\"\",0,(SUM(('NAGS HEAD \"B\"'!CH3/'NAGS HEAD \"B\"'!CI3)*3)))","v":0}]
[null,{"$f":"IF('NAGS HEAD \"B\"'!B4=\"\",0,(SUM(('NAGS HEAD \"B\"'!B4/'NAGS HEAD \"B\"'!C4)*3)))","v":42.8125},null,{"$f":"IF('NAGS HEAD \"B\"'!F4=\"\",0,(SUM(('NAGS HEAD \"B\"'!F4/'NAGS HEAD \"B\"'!G4)*3)))","v":45.666666666666664},null,{"$f":"IF('NAGS HEAD \"B\"'!J4=\"\",0,(SUM(('NAGS HEAD \"B\"'!J4/'NAGS HEAD \"B\"'!K4)*3)))","v":41.625},null,{"$f":"IF('NAGS HEAD \"B\"'!N4=\"\",0,(SUM(('NAGS HEAD \"B\"'!N4/'NAGS HEAD \"B\"'!O4)*3)))","v":41.235294117647058},null,{"$f":"IF('NAGS HEAD \"B\"'!R4=\"\",0,(SUM(('NAGS HEAD \"B\"'!R4/'NAGS HEAD \"B\"'!S4)*3)))","v":43.8125},null,{"$f":"IF('NAGS HEAD \"B\"'!V4=\"\",0,(SUM(('NAGS HEAD \"B\"'!V4/'NAGS HEAD \"B\"'!W4)*3)))","v":39},null,{"$f":"IF('NAGS HEAD \"B\"'!Z4=\"\",0,(SUM(('NAGS HEAD \"B\"'!Z4/'NAGS HEAD \"B\"'!AA4)*3)))","v":0},null,{"$f":"IF('NAGS HEAD \"B\"'!AD4=\"\",0,(SUM(('NAGS HEAD \"B\"'!AD4/'NAGS HEAD \"B\"'!AE4)*3)))","v":34.111111111111114},null,{"$f":"IF('NAGS HEAD \"B\"'!AH4=\"\",0,(SUM(('NAGS HEAD \"B\"'!AH4/'NAGS HEAD \"B\"'!AI4)*3)))","v":0},null,{"$f":"IF('NAGS HEAD \"B\"'!AL4=\"\",0,(SUM(('NAGS HEAD \"B\"'!AL4/'NAGS HEAD \"B\"'!AM4)*3)))","v":49.357142857142861},null,{"$f":"IF('NAGS HEAD \"B\"'!AP4=\"\",0,(SUM(('NAGS HEAD \"B\"'!AP4/'NAGS HEAD \"B\"'!AQ4)*3)))","v":51.292682926829272},null,{"$f":"IF('NAGS HEAD \"B\"'!AT4=\"\",0,(SUM(('NAGS HEAD \"B\"'!AT4/'NAGS HEAD \"B\"'!AU4)*3)))","v":52.692307692307693},null,{"$f":"IF('NAGS HEAD \"B\"'!AX4=\"\",0,(SUM(('NAGS HEAD \"B\"'!AX4/'NAGS HEAD \"B\"'!AY4)*3)))","v":35.644067796610166},null,{"$f":"IF('NAGS HEAD \"B\"'!BB4=\"\",0,(SUM(('NAGS HEAD \"B\"'!BB4/'NAGS HEAD \"B\"'!BC4)*3)))","v":39.454545454545453},null,{"$f":"IF('NAGS HEAD \"B\"'!BF4=\"\",0,(SUM(('NAGS HEAD \"B\"'!BF4/'NAGS HEAD \"B\"'!BG4)*3)))","v":46.333333333333336},null,{"$f":"IF('NAGS HEAD \"B\"'!BJ4=\"\",0,(SUM(('NAGS HEAD \"B\"'!BJ4/'NAGS HEAD \"B\"'!BK4)*3)))","v":56.909090909090907},null,{"$f":"IF('NAGS HEAD \"B\"'!BN4=\"\",0,(SUM(('NAGS HEAD \"B\"'!BN4/'NAGS HEAD \"B\"'!BO4)*3)))","v":36.258620689655174},null,{"$f":"IF('NAGS HEAD \"B\"'!BR4=\"\",0,(SUM(('NAGS HEAD \"B\"'!BR4/'NAGS HEAD \"B\"'!BS4)*3)))","v":0},null,{"$f":"IF('NAGS HEAD \"B\"'!BV4=\"\",0,(SUM(('NAGS HEAD \"B\"'!BV4/'NAGS HEAD \"B\"'!BW4)*3)))","v":0},null,{"$f":"IF('NAGS HEAD \"B\"'!BZ4=\"\",0,(SUM(('NAGS HEAD \"B\"'!BZ4/'NAGS HEAD \"B\"'!CA4)*3)))","v":0},null,{"$f":"IF('NAGS HEAD \"B\"'!CD4=\"\",0,(SUM(('NAGS HEAD \"B\"'!CD4/'NAGS HEAD \"B\"'!CE4)*3)))","v":0},null,{"$f":"IF('NAGS HEAD \"B\"'!CH4=\"\",0,(SUM(('NAGS HEAD \"B\"'!CH4/'NAGS HEAD \"B\"'!CI4)*3)))","v":0}]
[null,{"$f":"IF('NAGS HEAD \"B\"'!B5=\"\",0,(SUM(('NAGS HEAD \"B\"'!B5/'NAGS HEAD \"B\"'!C5)*3)))","v":47.795454545454547},null,{"$f":"IF('NAGS HEAD \"B\"'!F5=\"\",0,(SUM(('NAGS HEAD \"B\"'!F5/'NAGS HEAD \"B\"'!G5)*3)))","v":0},null,{"$f":"IF('NAGS HEAD \"B\"'!J5=\"\",0,(SUM(('NAGS HEAD \"B\"'!J5/'NAGS HEAD \"B\"'!K5)*3)))","v":0},null,{"$f":"IF('NAGS HEAD \"B\"'!N5=\"\",0,(SUM(('NAGS HEAD \"B\"'!N5/'NAGS HEAD \"B\"'!O5)*3)))","v":0},null,{"$f":"IF('NAGS HEAD \"B\"'!R5=\"\",0,(SUM(('NAGS HEAD \"B\"'!R5/'NAGS HEAD \"B\"'!S5)*3)))","v":48.906976744186039},null,{"$f":"IF('NAGS HEAD \"B\"'!V5=\"\",0,(SUM(('NAGS HEAD \"B\"'!V5/'NAGS HEAD \"B\"'!W5)*3)))","v":46.6},null,{"$f":"IF('NAGS HEAD \"B\"'!Z5=\"\",0,(SUM(('NAGS HEAD \"B\"'!Z5/'NAGS HEAD \"B\"'!AA5)*3)))","v":45.083333333333336},null,{"$f":"IF('NAGS HEAD \"B\"'!AD5=\"\",0,(SUM(('NAGS HEAD \"B\"'!AD5/'NAGS HEAD \"B\"'!AE5)*3)))","v":50.071428571428569},null,{"$f":"IF('NAGS HEAD \"B\"'!AH5=\"\",0,(SUM(('NAGS HEAD \"B\"'!AH5/'NAGS HEAD \"B\"'!AI5)*3)))","v":0},null,{"$f":"IF('NAGS HEAD \"B\"'!AL5=\"\",0,(SUM(('NAGS HEAD \"B\"'!AL5/'NAGS HEAD \"B\"'!AM5)*3)))","v":56.272727272727273},null,{"$f":"IF('NAGS HEAD \"B\"'!AP5=\"\",0,(SUM(('NAGS HEAD \"B\"'!AP5/'NAGS HEAD \"B\"'!AQ5)*3)))","v":48.928571428571431},null,{"$f":"IF('NAGS HEAD \"B\"'!AT5=\"\",0,(SUM(('NAGS HEAD \"B\"'!AT5/'NAGS HEAD \"B\"'!AU5)*3)))","v":48.5},null,{"$f":"IF('NAGS HEAD \"B\"'!AX5=\"\",0,(SUM(('NAGS HEAD \"B\"'!AX5/'NAGS HEAD \"B\"'!AY5)*3)))","v":30.304347826086953},null,{"$f":"IF('NAGS HEAD \"B\"'!BB5=\"\",0,(SUM(('NAGS HEAD \"B\"'!BB5/'NAGS HEAD \"B\"'!BC5)*3)))","v":0},null,{"$f":"IF('NAGS HEAD \"B\"'!BF5=\"\",0,(SUM(('NAGS HEAD \"B\"'!BF5/'NAGS HEAD \"B\"'!BG5)*3)))","v":43.5625},null,{"$f":"IF('NAGS HEAD \"B\"'!BJ5=\"\",0,(SUM(('NAGS HEAD \"B\"'!BJ5/'NAGS HEAD \"B\"'!BK5)*3)))","v":45.066666666666663},null,{"$f":"IF('NAGS HEAD \"B\"'!BN5=\"\",0,(SUM(('NAGS HEAD \"B\"'!BN5/'NAGS HEAD \"B\"'!BO5)*3)))","v":49.083333333333329},null,{"$f":"IF('NAGS HEAD \"B\"'!BR5=\"\",0,(SUM(('NAGS HEAD \"B\"'!BR5/'NAGS HEAD \"B\"'!BS5)*3)))","v":0},null,{"$f":"IF('NAGS HEAD \"B\"'!BV5=\"\",0,(SUM(('NAGS HEAD \"B\"'!BV5/'NAGS HEAD \"B\"'!BW5)*3)))","v":0},null,{"$f":"IF('NAGS HEAD \"B\"'!BZ5=\"\",0,(SUM(('NAGS HEAD \"B\"'!BZ5/'NAGS HEAD \"B\"'!CA5)*3)))","v":0},null,{"$f":"IF('NAGS HEAD \"B\"'!CD5=\"\",0,(SUM(('NAGS HEAD \"B\"'!CD5/'NAGS HEAD \"B\"'!CE5)*3)))","v":0},null,{"$f":"IF('NAGS HEAD \"B\"'!CH5=\"\",0,(SUM(('NAGS HEAD \"B\"'!CH5/'NAGS HEAD \"B\"'!CI5)*3)))","v":0}]
[null,{"$f":"IF('NAGS HEAD \"B\"'!B6=\"\",0,(SUM(('NAGS HEAD \"B\"'!B6/'NAGS HEAD \"B\"'!C6)*3)))","v":52.38461538461538},null,{"$f":"IF('NAGS HEAD \"B\"'!F6=\"\",0,(SUM(('NAGS HEAD \"B\"'!F6/'NAGS HEAD \"B\"'!G6)*3)))","v":48.25},null,{"$f":"IF('NAGS HEAD \"B\"'!J6=\"\",0,(SUM(('NAGS HEAD \"B\"'!J6/'NAGS HEAD \"B\"'!K6)*3)))","v":42.5625},null,{"$f":"IF('NAGS HEAD \"B\"'!N6=\"\",0,(SUM(('NAGS HEAD \"B\"'!N6/'NAGS HEAD \"B\"'!O6)*3)))","v":0},null,{"$f":"IF('NAGS HEAD \"B\"'!R6=\"\",0,(SUM(('NAGS HEAD \"B\"'!R6/'NAGS HEAD \"B\"'!S6)*3)))","v":46},null,{"$f":"IF('NAGS HEAD \"B\"'!V6=\"\",0,(SUM(('NAGS HEAD \"B\"'!V6/'NAGS HEAD \"B\"'!W6)*3)))","v":56.837837837837839},null,{"$f":"IF('NAGS HEAD \"B\"'!Z6=\"\",0,(SUM(('NAGS HEAD \"B\"'!Z6/'NAGS HEAD \"B\"'!AA6)*3)))","v":41.214285714285708},null,{"$f":"IF('NAGS HEAD \"B\"'!AD6=\"\",0,(SUM(('NAGS HEAD \"B\"'!AD6/'NAGS HEAD \"B\"'!AE6)*3)))","v":0},null,{"$f":"IF('NAGS HEAD \"B\"'!AH6=\"\",0,(SUM(('NAGS HEAD \"B\"'!AH6/'NAGS HEAD \"B\"'!AI6)*3)))","v":0},null,{"$f":"IF('NAGS HEAD \"B\"'!AL6=\"\",0,(SUM(('NAGS HEAD \"B\"'!AL6/'NAGS HEAD \"B\"'!AM6)*3)))","v":0},null,{"$f":"IF('NAGS HEAD \"B\"'!AP6=\"\",0,(SUM(('NAGS HEAD \"B\"'!AP6/'NAGS HEAD \"B\"'!AQ6)*3)))","v":35.857142857142861},null,{"$f":"IF('NAGS HEAD \"B\"'!AT6=\"\",0,(SUM(('NAGS HEAD \"B\"'!AT6/'NAGS HEAD \"B\"'!AU6)*3)))","v":42.918367346938773},null,{"$f":"IF('NAGS HEAD \"B\"'!AX6=\"\",0,(SUM(('NAGS HEAD \"B\"'!AX6/'NAGS HEAD \"B\"'!AY6)*3)))","v":0},null,{"$f":"IF('NAGS HEAD \"B\"'!BB6=\"\",0,(SUM(('NAGS HEAD \"B\"'!BB6/'NAGS HEAD \"B\"'!BC6)*3)))","v":52.800000000000004},null,{"$f":"IF('NAGS HEAD \"B\"'!BF6=\"\",0,(SUM(('NAGS HEAD \"B\"'!BF6/'NAGS HEAD \"B\"'!BG6)*3)))","v":45.717391304347828},null,{"$f":"IF('NAGS HEAD \"B\"'!BJ6=\"\",0,(SUM(('NAGS HEAD \"B\"'!BJ6/'NAGS HEAD \"B\"'!BK6)*3)))","v":0},null,{"$f":"IF('NAGS HEAD \"B\"'!BN6=\"\",0,(SUM(('NAGS HEAD \"B\"'!BN6/'NAGS HEAD \"B\"'!BO6)*3)))","v":0},null,{"$f":"IF('NAGS HEAD \"B\"'!BR6=\"\",0,(SUM(('NAGS HEAD \"B\"'!BR6/'NAGS HEAD \"B\"'!BS6)*3)))","v":0},null,{"$f":"IF('NAGS HEAD \"B\"'!BV6=\"\",0,(SUM(('NAGS HEAD \"B\"'!BV6/'NAGS HEAD \"B\"'!BW6)*3)))","v":0},null,{"$f":"IF('NAGS HEAD \"B\"'!BZ6=\"\",0,(SUM(('NAGS HEAD \"B\"'!BZ6/'NAGS HEAD \"B\"'!CA6)*3)))","v":0},null,{"$f":"IF('NAGS HEAD \"B\"'!CD6=\"\",0,(SUM(('NAGS HEAD \"B\"'!CD6/'NAGS HEAD \"B\"'!CE6)*3)))","v":0},null,{"$f":"IF('NAGS HEAD \"B\"'!CH6=\"\",0,(SUM(('NAGS HEAD \"B\"'!CH6/'NAGS HEAD \"B\"'!CI6)*3)))","v":0}]
[null,{"$f":"IF('NAGS HEAD \"B\"'!B7=\"\",0,(SUM(('NAGS HEAD \"B\"'!B7/'NAGS HEAD \"B\"'!C7)*3)))","v":45.692307692307693},null,{"$f":"IF('NAGS HEAD \"B\"'!F7=\"\",0,(SUM(('NAGS HEAD \"B\"'!F7/'NAGS HEAD \"B\"'!G7)*3)))","v":55.75},null,{"$f":"IF('NAGS HEAD \"B\"'!J7=\"\",0,(SUM(('NAGS HEAD \"B\"'!J7/'NAGS HEAD \"B\"'!K7)*3)))","v":44.733333333333334},null,{"$f":"IF('NAGS HEAD \"B\"'!N7=\"\",0,(SUM(('NAGS HEAD \"B\"'!N7/'NAGS HEAD \"B\"'!O7)*3)))","v":56.837837837837839},null,{"$f":"IF('NAGS HEAD \"B\"'!R7=\"\",0,(SUM(('NAGS HEAD \"B\"'!R7/'NAGS HEAD \"B\"'!S7)*3)))","v":38.555555555555557},null,{"$f":"IF('NAGS HEAD \"B\"'!V7=\"\",0,(SUM(('NAGS HEAD \"B\"'!V7/'NAGS HEAD \"B\"'!W7)*3)))","v":0},null,{"$f":"IF('NAGS HEAD \"B\"'!Z7=\"\",0,(SUM(('NAGS HEAD \"B\"'!Z7/'NAGS HEAD \"B\"'!AA7)*3)))","v":37.299999999999997},null,{"$f":"IF('NAGS HEAD \"B\"'!AD7=\"\",0,(SUM(('NAGS HEAD \"B\"'!AD7/'NAGS HEAD \"B\"'!AE7)*3)))","v":52.574999999999996},null,{"$f":"IF('NAGS HEAD \"B\"'!AH7=\"\",0,(SUM(('NAGS HEAD \"B\"'!AH7/'NAGS HEAD \"B\"'!AI7)*3)))","v":0},null,{"$f":"IF('NAGS HEAD \"B\"'!AL7=\"\",0,(SUM(('NAGS HEAD \"B\"'!AL7/'NAGS HEAD \"B\"'!AM7)*3)))","v":38.166666666666664},null,{"$f":"IF('NAGS HEAD \"B\"'!AP7=\"\",0,(SUM(('NAGS HEAD \"B\"'!AP7/'NAGS HEAD \"B\"'!AQ7)*3)))","v":44.6},null,{"$f":"IF('NAGS HEAD \"B\"'!AT7=\"\",0,(SUM(('NAGS HEAD \"B\"'!AT7/'NAGS HEAD \"B\"'!AU7)*3)))","v":60.085714285714289},null,{"$f":"IF('NAGS HEAD \"B\"'!AX7=\"\",0,(SUM(('NAGS HEAD \"B\"'!AX7/'NAGS HEAD \"B\"'!AY7)*3)))","v":45.717391304347828},null,{"$f":"IF('NAGS HEAD \"B\"'!BB7=\"\",0,(SUM(('NAGS HEAD \"B\"'!BB7/'NAGS HEAD \"B\"'!BC7)*3)))","v":49.071428571428569},null,{"$f":"IF('NAGS HEAD \"B\"'!BF7=\"\",0,(SUM(('NAGS HEAD \"B\"'!BF7/'NAGS HEAD \"B\"'!BG7)*3)))","v":44.916666666666664},null,{"$f":"IF('NAGS HEAD \"B\"'!BJ7=\"\",0,(SUM(('NAGS HEAD \"B\"'!BJ7/'NAGS HEAD \"B\"'!BK7)*3)))","v":66.100000000000009},null,{"$f":"IF('NAGS HEAD \"B\"'!BN7=\"\",0,(SUM(('NAGS HEAD \"B\"'!BN7/'NAGS HEAD \"B\"'!BO7)*3)))","v":55.083333333333329},null,{"$f":"IF('NAGS HEAD \"B\"'!BR7=\"\",0,(SUM(('NAGS HEAD \"B\"'!BR7/'NAGS HEAD \"B\"'!BS7)*3)))","v":0},null,{"$f":"IF('NAGS HEAD \"B\"'!BV7=\"\",0,(SUM(('NAGS HEAD \"B\"'!BV7/'NAGS HEAD \"B\"'!BW7)*3)))","v":0},null,{"$f":"IF('NAGS HEAD \"B\"'!BZ7=\"\",0,(SUM(('NAGS HEAD \"B\"'!BZ7/'NAGS HEAD \"B\"'!CA7)*3)))","v":0},null,{"$f":"IF('NAGS HEAD \"B\"'!CD7=\"\",0,(SUM(('NAGS HEAD \"B\"'!CD7/'NAGS HEAD \"B\"'!CE7)*3)))","v":0},null,{"$f":"IF('NAGS HEAD \"B\"'!CH7=\"\",0,(SUM(('NAGS HEAD \"B\"'!CH7/'NAGS HEAD \"B\"'!CI7)*3)))","v":0}]
[null,{"$f":"IF('NAGS HEAD \"B\"'!B8=\"\",0,(SUM(('NAGS HEAD \"B\"'!B8/'NAGS HEAD \"B\"'!C8)*3)))","v":41.235294117647058},null,{"$f":"IF('NAGS HEAD \"B\"'!F8=\"\",0,(SUM(('NAGS HEAD \"B\"'!F8/'NAGS HEAD \"B\"'!G8)*3)))","v":43.8125},null,{"$f":"IF('NAGS HEAD \"B\"'!J8=\"\",0,(SUM(('NAGS HEAD \"B\"'!J8/'NAGS HEAD \"B\"'!K8)*3)))","v":46.466666666666669},null,{"$f":"IF('NAGS HEAD \"B\"'!N8=\"\",0,(SUM(('NAGS HEAD \"B\"'!N8/'NAGS HEAD \"B\"'!O8)*3)))","v":39.352941176470587},null,{"$f":"IF('NAGS HEAD \"B\"'!R8=\"\",0,(SUM(('NAGS HEAD \"B\"'!R8/'NAGS HEAD \"B\"'!S8)*3)))","v":46.733333333333334},null,{"$f":"IF('NAGS HEAD \"B\"'!V8=\"\",0,(SUM(('NAGS HEAD \"B\"'!V8/'NAGS HEAD \"B\"'!W8)*3)))","v":60.085714285714289},null,{"$f":"IF('NAGS HEAD \"B\"'!Z8=\"\",0,(SUM(('NAGS HEAD \"B\"'!Z8/'NAGS HEAD \"B\"'!AA8)*3)))","v":49.571428571428577},null,{"$f":"IF('NAGS HEAD \"B\"'!AD8=\"\",0,(SUM(('NAGS HEAD \"B\"'!AD8/'NAGS HEAD \"B\"'!AE8)*3)))","v":47.795454545454547},null,{"$f":"IF('NAGS HEAD \"B\"'!AH8=\"\",0,(SUM(('NAGS HEAD \"B\"'!AH8/'NAGS HEAD \"B\"'!AI8)*3)))","v":0},null,{"$f":"IF('NAGS HEAD \"B\"'!AL8=\"\",0,(SUM(('NAGS HEAD \"B\"'!AL8/'NAGS HEAD \"B\"'!AM8)*3)))","v":51.666666666666664},null,{"$f":"IF('NAGS HEAD \"B\"'!AP8=\"\",0,(SUM(('NAGS HEAD \"B\"'!AP8/'NAGS HEAD \"B\"'!AQ8)*3)))","v":56.837837837837839},null,{"$f":"IF('NAGS HEAD \"B\"'!AT8=\"\",0,(SUM(('NAGS HEAD \"B\"'!AT8/'NAGS HEAD \"B\"'!AU8)*3)))","v":0},null,{"$f":"IF('NAGS HEAD \"B\"'!AX8=\"\",0,(SUM(('NAGS HEAD \"B\"'!AX8/'NAGS HEAD \"B\"'!AY8)*3)))","v":0},null,{"$f":"IF('NAGS HEAD \"B\"'!BB8=\"\",0,(SUM(('NAGS HEAD \"B\"'!BB8/'NAGS HEAD \"B\"'!BC8)*3)))","v":47.333333333333336},null,{"$f":"IF('NAGS HEAD \"B\"'!BF8=\"\",0,(SUM(('NAGS HEAD \"B\"'!BF8/'NAGS HEAD \"B\"'!BG8)*3)))","v":0},null,{"$f":"IF('NAGS HEAD \"B\"'!BJ8=\"\",0,(SUM(('NAGS HEAD \"B\"'!BJ8/'NAGS HEAD \"B\"'!BK8)*3)))","v":43.769230769230766},null,{"$f":"IF('NAGS HEAD \"B\"'!BN8=\"\",0,(SUM(('NAGS HEAD \"B\"'!BN8/'NAGS HEAD \"B\"'!BO8)*3)))","v":48.300000000000004},null,{"$f":"IF('NAGS HEAD \"B\"'!BR8=\"\",0,(SUM(('NAGS HEAD \"B\"'!BR8/'NAGS HEAD \"B\"'!BS8)*3)))","v":0},null,{"$f":"IF('NAGS HEAD \"B\"'!BV8=\"\",0,(SUM(('NAGS HEAD \"B\"'!BV8/'NAGS HEAD \"B\"'!BW8)*3)))","v":0},null,{"$f":"IF('NAGS HEAD \"B\"'!BZ8=\"\",0,(SUM(('NAGS HEAD \"B\"'!BZ8/'NAGS HEAD \"B\"'!CA8)*3)))","v":0},null,{"$f":"IF('NAGS HEAD \"B\"'!CD8=\"\",0,(SUM(('NAGS HEAD \"B\"'!CD8/'NAGS HEAD \"B\"'!CE8)*3)))","v":0},null,{"$f":"IF('NAGS HEAD \"B\"'!CH8=\"\",0,(SUM(('NAGS HEAD \"B\"'!CH8/'NAGS HEAD \"B\"'!CI8)*3)))","v":0}]
[null,{"$f":"IF('NAGS HEAD \"B\"'!B9=\"\",0,(SUM(('NAGS HEAD \"B\"'!B9/'NAGS HEAD \"B\"'!C9)*3)))","v":0},null,{"$f":"IF('NAGS HEAD \"B\"'!F9=\"\",0,(SUM(('NAGS HEAD \"B\"'!F9/'NAGS HEAD \"B\"'!G9)*3)))","v":43.6875},null,{"$f":"IF('NAGS HEAD \"B\"'!J9=\"\",0,(SUM(('NAGS HEAD \"B\"'!J9/'NAGS HEAD \"B\"'!K9)*3)))","v":0},null,{"$f":"IF('NAGS HEAD \"B\"'!N9=\"\",0,(SUM(('NAGS HEAD \"B\"'!N9/'NAGS HEAD \"B\"'!O9)*3)))","v":0},null,{"$f":"IF('NAGS HEAD \"B\"'!R9=\"\",0,(SUM(('NAGS HEAD \"B\"'!R9/'NAGS HEAD \"B\"'!S9)*3)))","v":0},null,{"$f":"IF('NAGS HEAD \"B\"'!V9=\"\",0,(SUM(('NAGS HEAD \"B\"'!V9/'NAGS HEAD \"B\"'!W9)*3)))","v":0},null,{"$f":"IF('NAGS HEAD \"B\"'!Z9=\"\",0,(SUM(('NAGS HEAD \"B\"'!Z9/'NAGS HEAD \"B\"'!AA9)*3)))","v":0},null,{"$f":"IF('NAGS HEAD \"B\"'!AD9=\"\",0,(SUM(('NAGS HEAD \"B\"'!AD9/'NAGS HEAD \"B\"'!AE9)*3)))","v":0},null,{"$f":"IF('NAGS HEAD \"B\"'!AH9=\"\",0,(SUM(('NAGS HEAD \"B\"'!AH9/'NAGS HEAD \"B\"'!AI9)*3)))","v":0},null,{"$f":"IF('NAGS HEAD \"B\"'!AL9=\"\",0,(SUM(('NAGS HEAD \"B\"'!AL9/'NAGS HEAD \"B\"'!AM9)*3)))","v":0},null,{"$f":"IF('NAGS HEAD \"B\"'!AP9=\"\",0,(SUM(('NAGS HEAD \"B\"'!AP9/'NAGS HEAD \"B\"'!AQ9)*3)))","v":0},null,{"$f":"IF('NAGS HEAD \"B\"'!AT9=\"\",0,(SUM(('NAGS HEAD \"B\"'!AT9/'NAGS HEAD \"B\"'!AU9)*3)))","v":0},null,{"$f":"IF('NAGS HEAD \"B\"'!AX9=\"\",0,(SUM(('NAGS HEAD \"B\"'!AX9/'NAGS HEAD \"B\"'!AY9)*3)))","v":0},null,{"$f":"IF('NAGS HEAD \"B\"'!BB9=\"\",0,(SUM(('NAGS HEAD \"B\"'!BB9/'NAGS HEAD \"B\"'!BC9)*3)))","v":0},null,{"$f":"IF('NAGS HEAD \"B\"'!BF9=\"\",0,(SUM(('NAGS HEAD \"B\"'!BF9/'NAGS HEAD \"B\"'!BG9)*3)))","v":0},null,{"$f":"IF('NAGS HEAD \"B\"'!BJ9=\"\",0,(SUM(('NAGS HEAD \"B\"'!BJ9/'NAGS HEAD \"B\"'!BK9)*3)))","v":0},null,{"$f":"IF('NAGS HEAD \"B\"'!BN9=\"\",0,(SUM(('NAGS HEAD \"B\"'!BN9/'NAGS HEAD \"B\"'!BO9)*3)))","v":0},null,{"$f":"IF('NAGS HEAD \"B\"'!BR9=\"\",0,(SUM(('NAGS HEAD \"B\"'!BR9/'NAGS HEAD \"B\"'!BS9)*3)))","v":0},null,{"$f":"IF('NAGS HEAD \"B\"'!BV9=\"\",0,(SUM(('NAGS HEAD \"B\"'!BV9/'NAGS HEAD \"B\"'!BW9)*3)))","v":0},null,{"$f":"IF('NAGS HEAD \"B\"'!BZ9=\"\",0,(SUM(('NAGS HEAD \"B\"'!BZ9/'NAGS HEAD \"B\"'!CA9)*3)))","v":0},null,{"$f":"IF('NAGS HEAD \"B\"'!CD9=\"\",0,(SUM(('NAGS HEAD \"B\"'!CD9/'NAGS HEAD \"B\"'!CE9)*3)))","v":0},null,{"$f":"IF('NAGS HEAD \"B\"'!CH9=\"\",0,(SUM(('NAGS HEAD \"B\"'!CH9/'NAGS HEAD \"B\"'!CI9)*3)))","v":0}]
[null,{"$f":"IF('NAGS HEAD \"B\"'!B10=\"\",0,(SUM(('NAGS HEAD \"B\"'!B10/'NAGS HEAD \"B\"'!C10)*3)))","v":0},null,{"$f":"IF('NAGS HEAD \"B\"'!F10=\"\",0,(SUM(('NAGS HEAD \"B\"'!F10/'NAGS HEAD \"B\"'!G10)*3)))","v":0},null,{"$f":"IF('NAGS HEAD \"B\"'!J10=\"\",0,(SUM(('NAGS HEAD \"B\"'!J10/'NAGS HEAD \"B\"'!K10)*3)))","v":0},null,{"$f":"IF('NAGS HEAD \"B\"'!N10=\"\",0,(SUM(('NAGS HEAD \"B\"'!N10/'NAGS HEAD \"B\"'!O10)*3)))","v":0},null,{"$f":"IF('NAGS HEAD \"B\"'!R10=\"\",0,(SUM(('NAGS HEAD \"B\"'!R10/'NAGS HEAD \"B\"'!S10)*3)))","v":0},null,{"$f":"IF('NAGS HEAD \"B\"'!V10=\"\",0,(SUM(('NAGS HEAD \"B\"'!V10/'NAGS HEAD \"B\"'!W10)*3)))","v":0},null,{"$f":"IF('NAGS HEAD \"B\"'!Z10=\"\",0,(SUM(('NAGS HEAD \"B\"'!Z10/'NAGS HEAD \"B\"'!AA10)*3)))","v":0},null,{"$f":"IF('NAGS HEAD \"B\"'!AD10=\"\",0,(SUM(('NAGS HEAD \"B\"'!AD10/'NAGS HEAD \"B\"'!AE10)*3)))","v":0},null,{"$f":"IF('NAGS HEAD \"B\"'!AH10=\"\",0,(SUM(('NAGS HEAD \"B\"'!AH10/'NAGS HEAD \"B\"'!AI10)*3)))","v":0},null,{"$f":"IF('NAGS HEAD \"B\"'!AL10=\"\",0,(SUM(('NAGS HEAD \"B\"'!AL10/'NAGS HEAD \"B\"'!AM10)*3)))","v":0},null,{"$f":"IF('NAGS HEAD \"B\"'!AP10=\"\",0,(SUM(('NAGS HEAD \"B\"'!AP10/'NAGS HEAD \"B\"'!AQ10)*3)))","v":0},null,{"$f":"IF('NAGS HEAD \"B\"'!AT10=\"\",0,(SUM(('NAGS HEAD \"B\"'!AT10/'NAGS HEAD \"B\"'!AU10)*3)))","v":0},null,{"$f":"IF('NAGS HEAD \"B\"'!AX10=\"\",0,(SUM(('NAGS HEAD \"B\"'!AX10/'NAGS HEAD \"B\"'!AY10)*3)))","v":0},null,{"$f":"IF('NAGS HEAD \"B\"'!BB10=\"\",0,(SUM(('NAGS HEAD \"B\"'!BB10/'NAGS HEAD \"B\"'!BC10)*3)))","v":0},null,{"$f":"IF('NAGS HEAD \"B\"'!BF10=\"\",0,(SUM(('NAGS HEAD \"B\"'!BF10/'NAGS HEAD \"B\"'!BG10)*3)))","v":0},null,{"$f":"IF('NAGS HEAD \"B\"'!BJ10=\"\",0,(SUM(('NAGS HEAD \"B\"'!BJ10/'NAGS HEAD \"B\"'!BK10)*3)))","v":0},null,{"$f":"IF('NAGS HEAD \"B\"'!BN10=\"\",0,(SUM(('NAGS HEAD \"B\"'!BN10/'NAGS HEAD \"B\"'!BO10)*3)))","v":0},null,{"$f":"IF('NAGS HEAD \"B\"'!BR10=\"\",0,(SUM(('NAGS HEAD \"B\"'!BR10/'NAGS HEAD \"B\"'!BS10)*3)))","v":0},null,{"$f":"IF('NAGS HEAD \"B\"'!BV10=\"\",0,(SUM(('NAGS HEAD \"B\"'!BV10/'NAGS HEAD \"B\"'!BW10)*3)))","v":0},null,{"$f":"IF('NAGS HEAD \"B\"'!BZ10=\"\",0,(SUM(('NAGS HEAD \"B\"'!BZ10/'NAGS HEAD \"B\"'!CA10)*3)))","v":0},null,{"$f":"IF('NAGS HEAD \"B\"'!CD10=\"\",0,(SUM(('NAGS HEAD \"B\"'!CD10/'NAGS HEAD \"B\"'!CE10)*3)))","v":0},null,{"$f":"IF('NAGS HEAD \"B\"'!CH10=\"\",0,(SUM(('NAGS HEAD \"B\"'!CH10/'NAGS HEAD \"B\"'!CI10)*3)))","v":0}]
[null,{"$f":"IF('NAGS HEAD \"B\"'!B11=\"\",0,(SUM(('NAGS HEAD \"B\"'!B11/'NAGS HEAD \"B\"'!C11)*3)))","v":0},null,{"$f":"IF('NAGS HEAD \"B\"'!F11=\"\",0,(SUM(('NAGS HEAD \"B\"'!F11/'NAGS HEAD \"B\"'!G11)*3)))","v":0},null,{"$f":"IF('NAGS HEAD \"B\"'!J11=\"\",0,(SUM(('NAGS HEAD \"B\"'!J11/'NAGS HEAD \"B\"'!K11)*3)))","v":45.800000000000004},null,{"$f":"IF('NAGS HEAD \"B\"'!N11=\"\",0,(SUM(('NAGS HEAD \"B\"'!N11/'NAGS HEAD \"B\"'!O11)*3)))","v":34.475409836065573},null,{"$f":"IF('NAGS HEAD \"B\"'!R11=\"\",0,(SUM(('NAGS HEAD \"B\"'!R11/'NAGS HEAD \"B\"'!S11)*3)))","v":0},null,{"$f":"IF('NAGS HEAD \"B\"'!V11=\"\",0,(SUM(('NAGS HEAD \"B\"'!V11/'NAGS HEAD \"B\"'!W11)*3)))","v":40.133333333333333},null,{"$f":"IF('NAGS HEAD \"B\"'!Z11=\"\",0,(SUM(('NAGS HEAD \"B\"'!Z11/'NAGS HEAD \"B\"'!AA11)*3)))","v":36.699999999999996},null,{"$f":"IF('NAGS HEAD \"B\"'!AD11=\"\",0,(SUM(('NAGS HEAD \"B\"'!AD11/'NAGS HEAD \"B\"'!AE11)*3)))","v":37.875},null,{"$f":"IF('NAGS HEAD \"B\"'!AH11=\"\",0,(SUM(('NAGS HEAD \"B\"'!AH11/'NAGS HEAD \"B\"'!AI11)*3)))","v":0},null,{"$f":"IF('NAGS HEAD \"B\"'!AL11=\"\",0,(SUM(('NAGS HEAD \"B\"'!AL11/'NAGS HEAD \"B\"'!AM11)*3)))","v":54.583333333333329},null,{"$f":"IF('NAGS HEAD \"B\"'!AP11=\"\",0,(SUM(('NAGS HEAD \"B\"'!AP11/'NAGS HEAD \"B\"'!AQ11)*3)))","v":0},null,{"$f":"IF('NAGS HEAD \"B\"'!AT11=\"\",0,(SUM(('NAGS HEAD \"B\"'!AT11/'NAGS HEAD \"B\"'!AU11)*3)))","v":47.846153846153847},null,{"$f":"IF('NAGS HEAD \"B\"'!AX11=\"\",0,(SUM(('NAGS HEAD \"B\"'!AX11/'NAGS HEAD \"B\"'!AY11)*3)))","v":33},null,{"$f":"IF('NAGS HEAD \"B\"'!BB11=\"\",0,(SUM(('NAGS HEAD \"B\"'!BB11/'NAGS HEAD \"B\"'!BC11)*3)))","v":0},null,{"$f":"IF('NAGS HEAD \"B\"'!BF11=\"\",0,(SUM(('NAGS HEAD \"B\"'!BF11/'NAGS HEAD \"B\"'!BG11)*3)))","v":42.06},null,{"$f":"IF('NAGS HEAD \"B\"'!BJ11=\"\",0,(SUM(('NAGS HEAD \"B\"'!BJ11/'NAGS HEAD \"B\"'!BK11)*3)))","v":0},null,{"$f":"IF('NAGS HEAD \"B\"'!BN11=\"\",0,(SUM(('NAGS HEAD \"B\"'!BN11/'NAGS HEAD \"B\"'!BO11)*3)))","v":0},null,{"$f":"IF('NAGS HEAD \"B\"'!BR11=\"\",0,(SUM(('NAGS HEAD \"B\"'!BR11/'NAGS HEAD \"B\"'!BS11)*3)))","v":0},null,{"$f":"IF('NAGS HEAD \"B\"'!BV11=\"\",0,(SUM(('NAGS HEAD \"B\"'!BV11/'NAGS HEAD \"B\"'!BW11)*3)))","v":0},null,{"$f":"IF('NAGS HEAD \"B\"'!BZ11=\"\",0,(SUM(('NAGS HEAD \"B\"'!BZ11/'NAGS HEAD \"B\"'!CA11)*3)))","v":0},null,{"$f":"IF('NAGS HEAD \"B\"'!CD11=\"\",0,(SUM(('NAGS HEAD \"B\"'!CD11/'NAGS HEAD \"B\"'!CE11)*3)))","v":0},null,{"$f":"IF('NAGS HEAD \"B\"'!CH11=\"\",0,(SUM(('NAGS HEAD \"B\"'!CH11/'NAGS HEAD \"B\"'!CI11)*3)))","v":0}]
[null,{"$f":"IF('NAGS HEAD \"B\"'!B12=\"\",0,(SUM(('NAGS HEAD \"B\"'!B12/'NAGS HEAD \"B\"'!C12)*3)))","v":0},null,{"$f":"IF('NAGS HEAD \"B\"'!F12=\"\",0,(SUM(('NAGS HEAD \"B\"'!F12/'NAGS HEAD \"B\"'!G12)*3)))","v":0},null,{"$f":"IF('NAGS HEAD \"B\"'!J12=\"\",0,(SUM(('NAGS HEAD \"B\"'!J12/'NAGS HEAD \"B\"'!K12)*3)))","v":0},null,{"$f":"IF('NAGS HEAD \"B\"'!N12=\"\",0,(SUM(('NAGS HEAD \"B\"'!N12/'NAGS HEAD \"B\"'!O12)*3)))","v":0},null,{"$f":"IF('NAGS HEAD \"B\"'!R12=\"\",0,(SUM(('NAGS HEAD \"B\"'!R12/'NAGS HEAD \"B\"'!S12)*3)))","v":0},null,{"$f":"IF('NAGS HEAD \"B\"'!V12=\"\",0,(SUM(('NAGS HEAD \"B\"'!V12/'NAGS HEAD \"B\"'!W12)*3)))","v":0},null,{"$f":"IF('NAGS HEAD \"B\"'!Z12=\"\",0,(SUM(('NAGS HEAD \"B\"'!Z12/'NAGS HEAD \"B\"'!AA12)*3)))","v":0},null,{"$f":"IF('NAGS HEAD \"B\"'!AD12=\"\",0,(SUM(('NAGS HEAD \"B\"'!AD12/'NAGS HEAD \"B\"'!AE12)*3)))","v":0},null,{"$f":"IF('NAGS HEAD \"B\"'!AH12=\"\",0,(SUM(('NAGS HEAD \"B\"'!AH12/'NAGS HEAD \"B\"'!AI12)*3)))","v":0},null,{"$f":"IF('NAGS HEAD \"B\"'!AL12=\"\",0,(SUM(('NAGS HEAD \"B\"'!AL12/'NAGS HEAD \"B\"'!AM12)*3)))","v":0},null,{"$f":"IF('NAGS HEAD \"B\"'!AP12=\"\",0,(SUM(('NAGS HEAD \"B\"'!AP12/'NAGS HEAD \"B\"'!AQ12)*3)))","v":0},null,{"$f":"IF('NAGS HEAD \"B\"'!AT12=\"\",0,(SUM(('NAGS HEAD \"B\"'!AT12/'NAGS HEAD \"B\"'!AU12)*3)))","v":0},null,{"$f":"IF('NAGS HEAD \"B\"'!AX12=\"\",0,(SUM(('NAGS HEAD \"B\"'!AX12/'NAGS HEAD \"B\"'!AY12)*3)))","v":47.5},null,{"$f":"IF('NAGS HEAD \"B\"'!BB12=\"\",0,(SUM(('NAGS HEAD \"B\"'!BB12/'NAGS HEAD \"B\"'!BC12)*3)))","v":51.545454545454547},null,{"$f":"IF('NAGS HEAD \"B\"'!BF12=\"\",0,(SUM(('NAGS HEAD \"B\"'!BF12/'NAGS HEAD \"B\"'!BG12)*3)))","v":43.8125},null,{"$f":"IF('NAGS HEAD \"B\"'!BJ12=\"\",0,(SUM(('NAGS HEAD \"B\"'!BJ12/'NAGS HEAD \"B\"'!BK12)*3)))","v":49.307692307692307},null,{"$f":"IF('NAGS HEAD \"B\"'!BN12=\"\",0,(SUM(('NAGS HEAD \"B\"'!BN12/'NAGS HEAD \"B\"'!BO12)*3)))","v":52.875},null,{"$f":"IF('NAGS HEAD \"B\"'!BR12=\"\",0,(SUM(('NAGS HEAD \"B\"'!BR12/'NAGS HEAD \"B\"'!BS12)*3)))","v":0},null,{"$f":"IF('NAGS HEAD \"B\"'!BV12=\"\",0,(SUM(('NAGS HEAD \"B\"'!BV12/'NAGS HEAD \"B\"'!BW12)*3)))","v":0},null,{"$f":"IF('NAGS HEAD \"B\"'!BZ12=\"\",0,(SUM(('NAGS HEAD \"B\"'!BZ12/'NAGS HEAD \"B\"'!CA12)*3)))","v":0},null,{"$f":"IF('NAGS HEAD \"B\"'!CD12=\"\",0,(SUM(('NAGS HEAD \"B\"'!CD12/'NAGS HEAD \"B\"'!CE12)*3)))","v":0},null,{"$f":"IF('NAGS HEAD \"B\"'!CH12=\"\",0,(SUM(('NAGS HEAD \"B\"'!CH12/'NAGS HEAD \"B\"'!CI12)*3)))","v":0}]
[null,{"$f":"IF('NAGS HEAD \"B\"'!B13=\"\",0,(SUM(('NAGS HEAD \"B\"'!B13/'NAGS HEAD \"B\"'!C13)*3)))","v":0},null,{"$f":"IF('NAGS HEAD \"B\"'!F13=\"\",0,(SUM(('NAGS HEAD \"B\"'!F13/'NAGS HEAD \"B\"'!G13)*3)))","v":0},null,{"$f":"IF('NAGS HEAD \"B\"'!J13=\"\",0,(SUM(('NAGS HEAD \"B\"'!J13/'NAGS HEAD \"B\"'!K13)*3)))","v":0},null,{"$f":"IF('NAGS HEAD \"B\"'!N13=\"\",0,(SUM(('NAGS HEAD \"B\"'!N13/'NAGS HEAD \"B\"'!O13)*3)))","v":0},null,{"$f":"IF('NAGS HEAD \"B\"'!R13=\"\",0,(SUM(('NAGS HEAD \"B\"'!R13/'NAGS HEAD \"B\"'!S13)*3)))","v":0},null,{"$f":"IF('NAGS HEAD \"B\"'!V13=\"\",0,(SUM(('NAGS HEAD \"B\"'!V13/'NAGS HEAD \"B\"'!W13)*3)))","v":0},null,{"$f":"IF('NAGS HEAD \"B\"'!Z13=\"\",0,(SUM(('NAGS HEAD \"B\"'!Z13/'NAGS HEAD \"B\"'!AA13)*3)))","v":0},null,{"$f":"IF('NAGS HEAD \"B\"'!AD13=\"\",0,(SUM(('NAGS HEAD \"B\"'!AD13/'NAGS HEAD \"B\"'!AE13)*3)))","v":0},null,{"$f":"IF('NAGS HEAD \"B\"'!AH13=\"\",0,(SUM(('NAGS HEAD \"B\"'!AH13/'NAGS HEAD \"B\"'!AI13)*3)))","v":0},null,{"$f":"IF('NAGS HEAD \"B\"'!AL13=\"\",0,(SUM(('NAGS HEAD \"B\"'!AL13/'NAGS HEAD \"B\"'!AM13)*3)))","v":0},null,{"$f":"IF('NAGS HEAD \"B\"'!AP13=\"\",0,(SUM(('NAGS HEAD \"B\"'!AP13/'NAGS HEAD \"B\"'!AQ13)*3)))","v":0},null,{"$f":"IF('NAGS HEAD \"B\"'!AT13=\"\",0,(SUM(('NAGS HEAD \"B\"'!AT13/'NAGS HEAD \"B\"'!AU13)*3)))","v":0},null,{"$f":"IF('NAGS HEAD \"B\"'!AX13=\"\",0,(SUM(('NAGS HEAD \"B\"'!AX13/'NAGS HEAD \"B\"'!AY13)*3)))","v":0},null,{"$f":"IF('NAGS HEAD \"B\"'!BB13=\"\",0,(SUM(('NAGS HEAD \"B\"'!BB13/'NAGS HEAD \"B\"'!BC13)*3)))","v":0},null,{"$f":"IF('NAGS HEAD \"B\"'!BF13=\"\",0,(SUM(('NAGS HEAD \"B\"'!BF13/'NAGS HEAD \"B\"'!BG13)*3)))","v":0},null,{"$f":"IF('NAGS HEAD \"B\"'!BJ13=\"\",0,(SUM(('NAGS HEAD \"B\"'!BJ13/'NAGS HEAD \"B\"'!BK13)*3)))","v":0},null,{"$f":"IF('NAGS HEAD \"B\"'!BN13=\"\",0,(SUM(('NAGS HEAD \"B\"'!BN13/'NAGS HEAD \"B\"'!BO13)*3)))","v":0},null,{"$f":"IF('NAGS HEAD \"B\"'!BR13=\"\",0,(SUM(('NAGS HEAD \"B\"'!BR13/'NAGS HEAD \"B\"'!BS13)*3)))","v":0},null,{"$f":"IF('NAGS HEAD \"B\"'!BV13=\"\",0,(SUM(('NAGS HEAD \"B\"'!BV13/'NAGS HEAD \"B\"'!BW13)*3)))","v":0},null,{"$f":"IF('NAGS HEAD \"B\"'!BZ13=\"\",0,(SUM(('NAGS HEAD \"B\"'!BZ13/'NAGS HEAD \"B\"'!CA13)*3)))","v":0},null,{"$f":"IF('NAGS HEAD \"B\"'!CD13=\"\",0,(SUM(('NAGS HEAD \"B\"'!CD13/'NAGS HEAD \"B\"'!CE13)*3)))","v":0},null,{"$f":"IF('NAGS HEAD \"B\"'!CH13=\"\",0,(SUM(('NAGS HEAD \"B\"'!CH13/'NAGS HEAD \"B\"'!CI13)*3)))","v":0}]
[null,{"$f":"IF('NAGS HEAD \"B\"'!B14=\"\",0,(SUM(('NAGS HEAD \"B\"'!B14/'NAGS HEAD \"B\"'!C14)*3)))","v":0},null,{"$f":"IF('NAGS HEAD \"B\"'!F14=\"\",0,(SUM(('NAGS HEAD \"B\"'!F14/'NAGS HEAD \"B\"'!G14)*3)))","v":0},null,{"$f":"IF('NAGS HEAD \"B\"'!J14=\"\",0,(SUM(('NAGS HEAD \"B\"'!J14/'NAGS HEAD \"B\"'!K14)*3)))","v":0},null,{"$f":"IF('NAGS HEAD \"B\"'!N14=\"\",0,(SUM(('NAGS HEAD \"B\"'!N14/'NAGS HEAD \"B\"'!O14)*3)))","v":0},null,{"$f":"IF('NAGS HEAD \"B\"'!R14=\"\",0,(SUM(('NAGS HEAD \"B\"'!R14/'NAGS HEAD \"B\"'!S14)*3)))","v":0},null,{"$f":"IF('NAGS HEAD \"B\"'!V14=\"\",0,(SUM(('NAGS HEAD \"B\"'!V14/'NAGS HEAD \"B\"'!W14)*3)))","v":0},null,{"$f":"IF('NAGS HEAD \"B\"'!Z14=\"\",0,(SUM(('NAGS HEAD \"B\"'!Z14/'NAGS HEAD \"B\"'!AA14)*3)))","v":0},null,{"$f":"IF('NAGS HEAD \"B\"'!AD14=\"\",0,(SUM(('NAGS HEAD \"B\"'!AD14/'NAGS HEAD \"B\"'!AE14)*3)))","v":0},null,{"$f":"IF('NAGS HEAD \"B\"'!AH14=\"\",0,(SUM(('NAGS HEAD \"B\"'!AH14/'NAGS HEAD \"B\"'!AI14)*3)))","v":0},null,{"$f":"IF('NAGS HEAD \"B\"'!AL14=\"\",0,(SUM(('NAGS HEAD \"B\"'!AL14/'NAGS HEAD \"B\"'!AM14)*3)))","v":0},null,{"$f":"IF('NAGS HEAD \"B\"'!AP14=\"\",0,(SUM(('NAGS HEAD \"B\"'!AP14/'NAGS HEAD \"B\"'!AQ14)*3)))","v":0},null,{"$f":"IF('NAGS HEAD \"B\"'!AT14=\"\",0,(SUM(('NAGS HEAD \"B\"'!AT14/'NAGS HEAD \"B\"'!AU14)*3)))","v":0},null,{"$f":"IF('NAGS HEAD \"B\"'!AX14=\"\",0,(SUM(('NAGS HEAD \"B\"'!AX14/'NAGS HEAD \"B\"'!AY14)*3)))","v":0},null,{"$f":"IF('NAGS HEAD \"B\"'!BB14=\"\",0,(SUM(('NAGS HEAD \"B\"'!BB14/'NAGS HEAD \"B\"'!BC14)*3)))","v":0},null,{"$f":"IF('NAGS HEAD \"B\"'!BF14=\"\",0,(SUM(('NAGS HEAD \"B\"'!BF14/'NAGS HEAD \"B\"'!BG14)*3)))","v":0},null,{"$f":"IF('NAGS HEAD \"B\"'!BJ14=\"\",0,(SUM(('NAGS HEAD \"B\"'!BJ14/'NAGS HEAD \"B\"'!BK14)*3)))","v":0},null,{"$f":"IF('NAGS HEAD \"B\"'!BN14=\"\",0,(SUM(('NAGS HEAD \"B\"'!BN14/'NAGS HEAD \"B\"'!BO14)*3)))","v":0},null,{"$f":"IF('NAGS HEAD \"B\"'!BR14=\"\",0,(SUM(('NAGS HEAD \"B\"'!BR14/'NAGS HEAD \"B\"'!BS14)*3)))","v":0},null,{"$f":"IF('NAGS HEAD \"B\"'!BV14=\"\",0,(SUM(('NAGS HEAD \"B\"'!BV14/'NAGS HEAD \"B\"'!BW14)*3)))","v":0},null,{"$f":"IF('NAGS HEAD \"B\"'!BZ14=\"\",0,(SUM(('NAGS HEAD \"B\"'!BZ14/'NAGS HEAD \"B\"'!CA14)*3)))","v":0},null,{"$f":"IF('NAGS HEAD \"B\"'!CD14=\"\",0,(SUM(('NAGS HEAD \"B\"'!CD14/'NAGS HEAD \"B\"'!CE14)*3)))","v":0},null,{"$f":"IF('NAGS HEAD \"B\"'!CH14=\"\",0,(SUM(('NAGS HEAD \"B\"'!CH14/'NAGS HEAD \"B\"'!CI14)*3)))","v":0}]
[]
["RAFA A","11/09/2006\nV\nRAFA 'A' (A)"]
[null,"W/L","AVG","W/L","AVG","W/L","AVG","W/L","AVG","W/L","AVG","W/L","AVG","W/L","AVG","W/L","AVG","W/L","AVG","W/L","AVG","W/L","AVG","W/L","AVG","W/L","AVG","W/L","AVG","W/L","AVG","W/L","AVG","W/L","AVG","W/L","AVG","W/L","AVG","W/L","AVG","W/L","AVG","W/L","AVG"]
[{"$f":"'WORKMENS CLUB \"A\"'!A3","v":"Mick Smedley"},{"$f":"IF(C216=1,B216,\"\")","v":""},{"$f":"IF(B228>0,B228,\"\")","v":""},{"$f":"IF(E216=1,D216,\"\")","v":"WON"},{"$f":"IF(D228>0,D228,\"\")","v":55.34210526315789},{"$f":"IF(G216=1,F216,\"\")","v":"WON"},{"$f":"IF(F228>0,F228,\"\")","v":58.416666666666664},{"$f":"IF(I216=1,H216,\"\")","v":"WON"},{"$f":"IF(H228>0,H228,\"\")","v":52.574999999999996},{"$f":"IF(K216=1,J216,\"\")","v":"LOST"},{"$f":"IF(J228>0,J228,\"\")","v":32.076923076923073},{"$f":"IF(M216=1,L216,\"\")","v":"WON"},{"$f":"IF(L228>0,L228,\"\")","v":56.837837837837839},{"$f":"IF(O216=1,N216,\"\")","v":"LOST"},{"$f":"IF(N228>0,N228,\"\")","v":43.6875},{"$f":"IF(Q216=1,P216,\"\")","v":"WON"},{"$f":"IF(P228>0,P228,\"\")","v":50.071428571428569},{"$f":"IF(S216=1,R216,\"\")","v":""},{"$f":"IF(R228>0,R228,\"\")","v":""},{"$f":"IF(U216=1,T216,\"\")","v":""},{"$f":"IF(T228>0,T228,\"\")","v":""},{"$f":"IF(W216=1,V216,\"\")","v":"WON"},{"$f":"IF(V228>0,V228,\"\")","v":48.906976744186039},{"$f":"IF(Y216=1,X216,\"\")","v":"WON"},{"$f":"IF(X228>0,X228,\"\")","v":33.91935483870968},{"$f":"IF(AA216=1,Z216,\"\")","v":"WON"},{"$f":"IF(Z228>0,Z228,\"\")","v":50.071428571428569},{"$f":"IF(AC216=1,AB216,\"\")","v":"WON"},{"$f":"IF(AB228>0,AB228,\"\")","v":44.744680851063826},{"$f":"IF(AE216=1,AD216,\"\")","v":"LOST"},{"$f":"IF(AD228>0,AD228,\"\")","v":54.416666666666671},{"$f":"IF(AG216=1,AF216,\"\")","v":"WON"},{"$f":"IF(AF228>0,AF228,\"\")","v":67.838709677419359},{"$f":"IF(AI216=1,AH216,\"\")","v":"WON"},{"$f":"IF(AH228>0,AH228,\"\")","v":65.71875},{"$f":"IF(AK216=1,AJ216,\"\")","v":"LOST"},{"$f":"IF(AJ228>0,AJ228,\"\")","v":47.5},{"$f":"IF(AM216=1,AL216,\"\")","v":""},{"$f":"IF(AL228>0,AL228,\"\")","v":""},{"$f":"IF(AO216=1,AN216,\"\")","v":""},{"$f":"IF(AN228>0,AN228,\"\")","v":""},{"$f":"IF(AQ216=1,AP216,\"\")","v":""},{"$f":"IF(AP228>0,AP228,\"\")","v":""},{"$f":"IF(AS216=1,AR216,\"\")","v":""},{"$f":"IF(AR228>0,AR228,\"\")","v":""}]
[{"$f":"'WORKMENS CLUB \"A\"'!A4","v":"Joe Hutchinson"},{"$f":"IF(C217=1,B217,\"\")","v":""},{"$f":"IF(B229>0,B229,\"\")","v":""},{"$f":"IF(E217=1,D217,\"\")","v":"LOST"},{"$f":"IF(D229>0,D229,\"\")","v":46.466666666666669},{"$f":"IF(G217=1,F217,\"\")","v":"WON"},{"$f":"IF(F229>0,F229,\"\")","v":56.837837837837839},{"$f":"IF(I217=1,H217,\"\")","v":"LOST"},{"$f":"IF(H229>0,H229,\"\")","v":38.833333333333336},{"$f":"IF(K217=1,J217,\"\")","v":""},{"$f":"IF(J229>0,J229,\"\")","v":""},{"$f":"IF(M217=1,L217,\"\")","v":"WON"},{"$f":"IF(L229>0,L229,\"\")","v":52.574999999999996},{"$f":"IF(O217=1,N217,\"\")","v":"WON"},{"$f":"IF(N229>0,N229,\"\")","v":40.442307692307693},{"$f":"IF(Q217=1,P217,\"\")","v":"WON"},{"$f":"IF(P229>0,P229,\"\")","v":47.795454545454547},{"$f":"IF(S217=1,R217,\"\")","v":"WON"},{"$f":"IF(R229>0,R229,\"\")","v":51.292682926829272},{"$f":"IF(U217=1,T217,\"\")","v":""},{"$f":"IF(T229>0,T229,\"\")","v":""},{"$f":"IF(W217=1,V217,\"\")","v":"LOST"},{"$f":"IF(V229>0,V229,\"\")","v":56.3},{"$f":"IF(Y217=1,X217,\"\")","v":""},{"$f":"IF(X229>0,X229,\"\")","v":""},{"$f":"IF(AA217=1,Z217,\"\")","v":"WON"},{"$f":"IF(Z229>0,Z229,\"\")","v":50.071428571428569},{"$f":"IF(AC217=1,AB217,\"\")","v":"LOST"},{"$f":"IF(AB229>0,AB229,\"\")","v":52.333333333333329},{"$f":"IF(AE217=1,AD217,\"\")","v":"LOST"},{"$f":"IF(AD229>0,AD229,\"\")","v":56},{"$f":"IF(AG217=1,AF217,\"\")","v":"LOST"},{"$f":"IF(AF229>0,AF229,\"\")","v":36.05263157894737},{"$f":"IF(AI217=1,AH217,\"\")","v":"LOST"},{"$f":"IF(AH229>0,AH229,\"\")","v":49.214285714285715},{"$f":"IF(AK217=1,AJ217,\"\")","v":"LOST"},{"$f":"IF(AJ229>0,AJ229,\"\")","v":60.636363636363633},{"$f":"IF(AM217=1,AL217,\"\")","v":""},{"$f":"IF(AL229>0,AL229,\"\")","v":""},{"$f":"IF(AO217=1,AN217,\"\")","v":""},{"$f":"IF(AN229>0,AN229,\"\")","v":""},{"$f":"IF(AQ217=1,AP217,\"\")","v":""},{"$f":"IF(AP229>0,AP229,\"\")","v":""},{"$f":"IF(AS217=1,AR217,\"\")","v":""},{"$f":"IF(AR229>0,AR229,\"\")","v":""}]
[{"$f":"'WORKMENS CLUB \"A\"'!A5","v":"Andy Etherington"},"","","LOST",48.285714285714285,"WON",36.258620689655174,"WON",48.906976744186039,"WON",55.34210526315789,"LOST",44.857142857142861,"LOST",43.153846153846153,"LOST",43.3,"WON",70.099999999999994,"","","WON",45.717391304347828,"LOST",{"$error":"#DIV/0!"},"WON",51.292682926829272,"LOST",52.538461538461547,"LOST",46.916666666666671,"","","","","","","","","","","","","",""]
[{"$f":"'WORKMENS CLUB \"A\"'!A6","v":"Bill Rispin"},"","","","","","","LOST",45.555555555555557,"LOST",58.625,"","","","","WON",58.416666666666664,"LOST",43.6875,"","","LOST",49.5,"","","","","","","","","","","LOST",45.888888888888886,"","","","","","","","","",""]
[{"$f":"'WORKMENS CLUB \"A\"'!A7","v":"Morris Walker"},"","","WON",41.235294117647058,"WON",32.353846153846156,"WON",48.906976744186039,"LOST",45.5,"WON",53.92307692307692,"WON",43.8125,"WON",56.837837837837839,"WON",43.8125,"","","LOST",57.75,"LOST",51.769230769230766,"LOST",47.785714285714285,"LOST",39.25,"WON",67.838709677419359,"WON",70.099999999999994,"LOST",66.111111111111114,"WON",46.733333333333334,"","","","","","","",""]
[{"$f":"'WORKMENS CLUB \"A\"'!A8","v":"Morris Weighell"},"","","","","","","","","LOST",35.615384615384613,"LOST",38.5,"","","","","LOST",38.666666666666671,"","","","","WON",48.906976744186039,"","","","","LOST",55.916666666666671,"LOST",33.285714285714285,"","","WON",45.717391304347828,"","","","","","","",""]
[{"$f":"'WORKMENS CLUB \"A\"'!A9","v":"Tom Melvil"},"","","","","","","","","","","","","LOST",37.5,"","","","","","","","","","","","","","","","","","","","","","","","","","","","","",""]
[{"$f":"'WORKMENS CLUB \"A\"'!A10","v":"Chris Pattison"},"","","WON",48.906976744186039,"WON",37.553571428571431,"","","","","","","","","","","","","","","","","","","WON",46.733333333333334,"LOST",60.5,"WON",45.717391304347828,"WON",61.852941176470587,"LOST",55.36363636363636,"LOST",55.75,"","","","","","","",""]
[{"$f":"'WORKMENS CLUB \"A\"'!A11","v":"Matthew Cornforth"},"","","WON",56.837837837837839,"LOST",48.300000000000004,"WON",45.717391304347828,"WON",56.837837837837839,"LOST",67.900000000000006,"WON",38.944444444444443,"LOST",51.46153846153846,"LOST",77.444444444444443,"","","WON",47.795454545454547,"WON",56.837837837837839,"WON",72.517241379310349,"LOST",51.230769230769226,"","","LOST",38.833333333333336,"WON",63.727272727272727,"LOST",81.571428571428569,"","","","","","","",""]
[{"$f":"'WORKMENS CLUB \"A\"'!A12","v":"John Oliver"},"","","","","","","","","","","","","","","","","","","","","","","","","","","","","","","","","","","","","","","","","","","",""]
[{"$f":"'WORKMENS CLUB \"A\"'!A13","v":0},"","","","","","","","","","","","","","","","","","","","","","","","","","","","","","","","","","","","","","","","","","","",""]
[{"$f":"'WORKMENS CLUB \"A\"'!A14","v":0},"","","","","","","","","","","","","","","","","","","","","","","","","","","","","","","","","","","","","","","","","","","",""]
[]
["RAFA A",{"$f":"IF('WORKMENS CLUB \"A\"'!B3=701,\"WON\",\"LOST\")","v":"LOST"},{"$f":"IF('WORKMENS CLUB \"A\"'!B3>0,1,0)","v":0},{"$f":"IF('WORKMENS CLUB \"A\"'!F3=701,\"WON\",\"LOST\")","v":"WON"},{"$f":"IF('WORKMENS CLUB \"A\"'!F3>0,1,0)","v":1},{"$f":"IF('WORKMENS CLUB \"A\"'!J3=701,\"WON\",\"LOST\")","v":"WON"},{"$f":"IF('WORKMENS CLUB \"A\"'!J3>0,1,0)","v":1},{"$f":"IF('WORKMENS CLUB \"A\"'!N3=701,\"WON\",\"LOST\")","v":"WON"},{"$f":"IF('WORKMENS CLUB \"A\"'!N3>0,1,0)","v":1},{"$f":"IF('WORKMENS CLUB \"A\"'!R3=701,\"WON\",\"LOST\")","v":"LOST"},{"$f":"IF('WORKMENS CLUB \"A\"'!R3>0,1,0)","v":1},{"$f":"IF('WORKMENS CLUB \"A\"'!V3=701,\"WON\",\"LOST\")","v":"WON"},{"$f":"IF('WORKMENS CLUB \"A\"'!V3>0,1,0)","v":1},{"$f":"IF('WORKMENS CLUB \"A\"'!Z3=701,\"WON\",\"LOST\")","v":"LOST"},{"$f":"IF('WORKMENS CLUB \"A\"'!Z3>0,1,0)","v":1},{"$f":"IF('WORKMENS CLUB \"A\"'!AD3=701,\"WON\",\"LOST\")","v":"WON"},{"$f":"IF('WORKMENS CLUB \"A\"'!AD3>0,1,0)","v":1},{"$f":"IF('WORKMENS CLUB \"A\"'!AH3=701,\"WON\",\"LOST\")","v":"LOST"},{"$f":"IF('WORKMENS CLUB \"A\"'!AH3>0,1,0)","v":0},{"$f":"IF('WORKMENS CLUB \"A\"'!AL3=701,\"WON\",\"LOST\")","v":"LOST"},{"$f":"IF('WORKMENS CLUB \"A\"'!AL3>0,1,0)","v":0},{"$f":"IF('WORKMENS CLUB \"A\"'!AP3=701,\"WON\",\"LOST\")","v":"WON"},{"$f":"IF('WORKMENS CLUB \"A\"'!AP3>0,1,0)","v":1},{"$f":"IF('WORKMENS CLUB \"A\"'!AT3=701,\"WON\",\"LOST\")","v":"WON"},{"$f":"IF('WORKMENS CLUB \"A\"'!AT3>0,1,0)","v":1},{"$f":"IF('WORKMENS CLUB \"A\"'!AX3=701,\"WON\",\"LOST\")","v":"WON"},{"$f":"IF('WORKMENS CLUB \"A\"'!AX3>0,1,0)","v":1},{"$f":"IF('WORKMENS CLUB \"A\"'!BB3=701,\"WON\",\"LOST\")","v":"WON"},{"$f":"IF('WORKMENS CLUB \"A\"'!BB3>0,1,0)","v":1},{"$f":"IF('WORKMENS CLUB \"A\"'!BF3=701,\"WON\",\"LOST\")","v":"LOST"},{"$f":"IF('WORKMENS CLUB \"A\"'!BF3>0,1,0)","v":1},{"$f":"IF('WORKMENS CLUB \"A\"'!BJ3=701,\"WON\",\"LOST\")","v":"WON"},{"$f":"IF('WORKMENS CLUB \"A\"'!BJ3>0,1,0)","v":1},{"$f":"IF('WORKMENS CLUB \"A\"'!BN3=701,\"WON\",\"LOST\")","v":"WON"},{"$f":"IF('WORKMENS CLUB \"A\"'!BN3>0,1,0)","v":1},{"$f":"IF('WORKMENS CLUB \"A\"'!BR3=701,\"WON\",\"LOST\")","v":"LOST"},{"$f":"IF('WORKMENS CLUB \"A\"'!BR3>0,1,0)","v":1},{"$f":"IF('WORKMENS CLUB \"A\"'!BV3=701,\"WON\",\"LOST\")","v":"LOST"},{"$f":"IF('WORKMENS CLUB \"A\"'!BV3>0,1,0)","v":0},{"$f":"IF('WORKMENS CLUB \"A\"'!BZ3=701,\"WON\",\"LOST\")","v":"LOST"},{"$f":"IF('WORKMENS CLUB \"A\"'!BZ3>0,1,0)","v":0},{"$f":"IF('WORKMENS CLUB \"A\"'!CD3=701,\"WON\",\"LOST\")","v":"LOST"},{"$f":"IF('WORKMENS CLUB \"A\"'!CD3>0,1,0)","v":0},{"$f":"IF('WORKMENS CLUB \"A\"'!CH3=701,\"WON\",\"LOST\")","v":"LOST"},{"$f":"IF('WORKMENS CLUB \"A\"'!CH3>0,1,0)","v":0}]
[null,{"$f":"IF('WORKMENS CLUB \"A\"'!B4=701,\"WON\",\"LOST\")","v":"LOST"},{"$f":"IF('WORKMENS CLUB \"A\"'!B4>0,1,0)","v":0},{"$f":"IF('WORKMENS CLUB \"A\"'!F4=701,\"WON\",\"LOST\")","v":"LOST"},{"$f":"IF('WORKMENS CLUB \"A\"'!F4>0,1,0)","v":1},{"$f":"IF('WORKMENS CLUB \"A\"'!J4=701,\"WON\",\"LOST\")","v":"WON"},{"$f":"IF('WORKMENS CLUB \"A\"'!J4>0,1,0)","v":1},{"$f":"IF('WORKMENS CLUB \"A\"'!N4=701,\"WON\",\"LOST\")","v":"LOST"},{"$f":"IF('WORKMENS CLUB \"A\"'!N4>0,1,0)","v":1},{"$f":"IF('WORKMENS CLUB \"A\"'!R4=701,\"WON\",\"LOST\")","v":"LOST"},{"$f":"IF('WORKMENS CLUB \"A\"'!R4>0,1,0)","v":0},{"$f":"IF('WORKMENS CLUB \"A\"'!V4=701,\"WON\",\"LOST\")","v":"WON"},{"$f":"IF('WORKMENS CLUB \"A\"'!V4>0,1,0)","v":1},{"$f":"IF('WORKMENS CLUB \"A\"'!Z4=701,\"WON\",\"LOST\")","v":"WON"},{"$f":"IF('WORKMENS CLUB \"A\"'!Z4>0,1,0)","v":1},{"$f":"IF('WORKMENS CLUB \"A\"'!AD4=701,\"WON\",\"LOST\")","v":"WON"},{"$f":"IF('WORKMENS CLUB \"A\"'!AD4>0,1,0)","v":1},{"$f":"IF('WORKMENS CLUB \"A\"'!AH4=701,\"WON\",\"LOST\")","v":"WON"},{"$f":"IF('WORKMENS CLUB \"A\"'!AH4>0,1,0)","v":1},{"$f":"IF('WORKMENS CLUB \"A\"'!AL4=701,\"WON\",\"LOST\")","v":"LOST"},{"$f":"IF('WORKMENS CLUB \"A\"'!AL4>0,1,0)","v":0},{"$f":"IF('WORKMENS CLUB \"A\"'!AP4=701,\"WON\",\"LOST\")","v":"LOST"},{"$f":"IF('WORKMENS CLUB \"A\"'!AP4>0,1,0)","v":1},{"$f":"IF('WORKMENS CLUB \"A\"'!AT4=701,\"WON\",\"LOST\")","v":"LOST"},{"$f":"IF('WORKMENS CLUB \"A\"'!AT4>0,1,0)","v":0},{"$f":"IF('WORKMENS CLUB \"A\"'!AX4=701,\"WON\",\"LOST\")","v":"WON"},{"$f":"IF('WORKMENS CLUB \"A\"'!AX4>0,1,0)","v":1},{"$f":"IF('WORKMENS CLUB \"A\"'!BB4=701,\"WON\",\"LOST\")","v":"LOST"},{"$f":"IF('WORKMENS CLUB \"A\"'!BB4>0,1,0)","v":1},{"$f":"IF('WORKMENS CLUB \"A\"'!BF4=701,\"WON\",\"LOST\")","v":"LOST"},{"$f":"IF('WORKMENS CLUB \"A\"'!BF4>0,1,0)","v":1},{"$f":"IF('WORKMENS CLUB \"A\"'!BJ4=701,\"WON\",\"LOST\")","v":"LOST"},{"$f":"IF('WORKMENS CLUB \"A\"'!BJ4>0,1,0)","v":1},{"$f":"IF('WORKMENS CLUB \"A\"'!BN4=701,\"WON\",\"LOST\")","v":"LOST"},{"$f":"IF('WORKMENS CLUB \"A\"'!BN4>0,1,0)","v":1},{"$f":"IF('WORKMENS CLUB \"A\"'!BR4=701,\"WON\",\"LOST\")","v":"LOST"},{"$f":"IF('WORKMENS CLUB \"A\"'!BR4>0,1,0)","v":1},{"$f":"IF('WORKMENS CLUB \"A\"'!BV4=701,\"WON\",\"LOST\")","v":"LOST"},{"$f":"IF('WORKMENS CLUB \"A\"'!BV4>0,1,0)","v":0},{"$f":"IF('WORKMENS CLUB \"A\"'!BZ4=701,\"WON\",\"LOST\")","v":"LOST"},{"$f":"IF('WORKMENS CLUB \"A\"'!BZ4>0,1,0)","v":0},{"$f":"IF('WORKMENS CLUB \"A\"'!CD4=701,\"WON\",\"LOST\")","v":"LOST"},{"$f":"IF('WORKMENS CLUB \"A\"'!CD4>0,1,0)","v":0},{"$f":"IF('WORKMENS CLUB \"A\"'!CH4=701,\"WON\",\"LOST\")","v":"LOST"},{"$f":"IF('WORKMENS CLUB \"A\"'!CH4>0,1,0)","v":0}]
[null,{"$f":"IF('WORKMENS CLUB \"A\"'!B5=701,\"WON\",\"LOST\")","v":"LOST"},{"$f":"IF('WORKMENS CLUB \"A\"'!B5>0,1,0)","v":0},{"$f":"IF('WORKMENS CLUB \"A\"'!F5=701,\"WON\",\"LOST\")","v":"LOST"},{"$f":"IF('WORKMENS CLUB \"A\"'!F5>0,1,0)","v":1},{"$f":"IF('WORKMENS CLUB \"A\"'!J5=701,\"WON\",\"LOST\")","v":"WON"},{"$f":"IF('WORKMENS CLUB \"A\"'!J5>0,1,0)","v":1},{"$f":"IF('WORKMENS CLUB \"A\"'!N5=701,\"WON\",\"LOST\")","v":"WON"},{"$f":"IF('WORKMENS CLUB \"A\"'!N5>0,1,0)","v":1},{"$f":"IF('WORKMENS CLUB \"A\"'!R5=701,\"WON\",\"LOST\")","v":"WON"},{"$f":"IF('WORKMENS CLUB \"A\"'!R5>0,1,0)","v":1},{"$f":"IF('WORKMENS CLUB \"A\"'!V5=701,\"WON\",\"LOST\")","v":"LOST"},{"$f":"IF('WORKMENS CLUB \"A\"'!V5>0,1,0)","v":1},{"$f":"IF('WORKMENS CLUB \"A\"'!Z5=701,\"WON\",\"LOST\")","v":"LOST"},{"$f":"IF('WORKMENS CLUB \"A\"'!Z5>0,1,0)","v":1},{"$f":"IF('WORKMENS CLUB \"A\"'!AD5=701,\"WON\",\"LOST\")","v":"LOST"},{"$f":"IF('WORKMENS CLUB \"A\"'!AD5>0,1,0)","v":1},{"$f":"IF('WORKMENS CLUB \"A\"'!AH5=701,\"WON\",\"LOST\")","v":"WON"},{"$f":"IF('WORKMENS CLUB \"A\"'!AH5>0,1,0)","v":1},{"$f":"IF('WORKMENS CLUB \"A\"'!AL5=701,\"WON\",\"LOST\")","v":"LOST"},{"$f":"IF('WORKMENS CLUB \"A\"'!AL5>0,1,0)","v":0},{"$f":"IF('WORKMENS CLUB \"A\"'!AP5=701,\"WON\",\"LOST\")","v":"WON"},{"$f":"IF('WORKMENS CLUB \"A\"'!AP5>0,1,0)","v":1},{"$f":"IF('WORKMENS CLUB \"A\"'!AT5=701,\"WON\",\"LOST\")","v":"LOST"},{"$f":"IF('WORKMENS CLUB \"A\"'!AT5>0,1,0)","v":1},{"$f":"IF('WORKMENS CLUB \"A\"'!AX5=701,\"WON\",\"LOST\")","v":"WON"},{"$f":"IF('WORKMENS CLUB \"A\"'!AX5>0,1,0)","v":1},{"$f":"IF('WORKMENS CLUB \"A\"'!BB5=701,\"WON\",\"LOST\")","v":"LOST"},{"$f":"IF('WORKMENS CLUB \"A\"'!BB5>0,1,0)","v":1},{"$f":"IF('WORKMENS CLUB \"A\"'!BF5=701,\"WON\",\"LOST\")","v":"LOST"},{"$f":"IF('WORKMENS CLUB \"A\"'!BF5>0,1,0)","v":1},{"$f":"IF('WORKMENS CLUB \"A\"'!BJ5=701,\"WON\",\"LOST\")","v":"LOST"},{"$f":"IF('WORKMENS CLUB \"A\"'!BJ5>0,1,0)","v":0},{"$f":"IF('WORKMENS CLUB \"A\"'!BN5=701,\"WON\",\"LOST\")","v":"LOST"},{"$f":"IF('WORKMENS CLUB \"A\"'!BN5>0,1,0)","v":0},{"$f":"IF('WORKMENS CLUB \"A\"'!BR5=701,\"WON\",\"LOST\")","v":"LOST"},{"$f":"IF('WORKMENS CLUB \"A\"'!BR5>0,1,0)","v":0},{"$f":"IF('WORKMENS CLUB \"A\"'!BV5=701,\"WON\",\"LOST\")","v":"LOST"},{"$f":"IF('WORKMENS CLUB \"A\"'!BV5>0,1,0)","v":0},{"$f":"IF('WORKMENS CLUB \"A\"'!BZ5=701,\"WON\",\"LOST\")","v":"LOST"},{"$f":"IF('WORKMENS CLUB \"A\"'!BZ5>0,1,0)","v":0},{"$f":"IF('WORKMENS CLUB \"A\"'!CD5=701,\"WON\",\"LOST\")","v":"LOST"},{"$f":"IF('WORKMENS CLUB \"A\"'!CD5>0,1,0)","v":0},{"$f":"IF('WORKMENS CLUB \"A\"'!CH5=701,\"WON\",\"LOST\")","v":"LOST"},{"$f":"IF('WORKMENS CLUB \"A\"'!CH5>0,1,0)","v":0}]
[null,{"$f":"IF('WORKMENS CLUB \"A\"'!B6=701,\"WON\",\"LOST\")","v":"LOST"},{"$f":"IF('WORKMENS CLUB \"A\"'!B6>0,1,0)","v":0},{"$f":"IF('WORKMENS CLUB \"A\"'!F6=701,\"WON\",\"LOST\")","v":"LOST"},{"$f":"IF('WORKMENS CLUB \"A\"'!F6>0,1,0)","v":0},{"$f":"IF('WORKMENS CLUB \"A\"'!J6=701,\"WON\",\"LOST\")","v":"LOST"},{"$f":"IF('WORKMENS CLUB \"A\"'!J6>0,1,0)","v":0},{"$f":"IF('WORKMENS CLUB \"A\"'!N6=701,\"WON\",\"LOST\")","v":"LOST"},{"$f":"IF('WORKMENS CLUB \"A\"'!N6>0,1,0)","v":1},{"$f":"IF('WORKMENS CLUB \"A\"'!R6=701,\"WON\",\"LOST\")","v":"LOST"},{"$f":"IF('WORKMENS CLUB \"A\"'!R6>0,1,0)","v":1},{"$f":"IF('WORKMENS CLUB \"A\"'!V6=701,\"WON\",\"LOST\")","v":"LOST"},{"$f":"IF('WORKMENS CLUB \"A\"'!V6>0,1,0)","v":0},{"$f":"IF('WORKMENS CLUB \"A\"'!Z6=701,\"WON\",\"LOST\")","v":"LOST"},{"$f":"IF('WORKMENS CLUB \"A\"'!Z6>0,1,0)","v":0},{"$f":"IF('WORKMENS CLUB \"A\"'!AD6=701,\"WON\",\"LOST\")","v":"WON"},{"$f":"IF('WORKMENS CLUB \"A\"'!AD6>0,1,0)","v":1},{"$f":"IF('WORKMENS CLUB \"A\"'!AH6=701,\"WON\",\"LOST\")","v":"LOST"},{"$f":"IF('WORKMENS CLUB \"A\"'!AH6>0,1,0)","v":1},{"$f":"IF('WORKMENS CLUB \"A\"'!AL6=701,\"WON\",\"LOST\")","v":"LOST"},{"$f":"IF('WORKMENS CLUB \"A\"'!AL6>0,1,0)","v":0},{"$f":"IF('WORKMENS CLUB \"A\"'!AP6=701,\"WON\",\"LOST\")","v":"LOST"},{"$f":"IF('WORKMENS CLUB \"A\"'!AP6>0,1,0)","v":1},{"$f":"IF('WORKMENS CLUB \"A\"'!AT6=701,\"WON\",\"LOST\")","v":"LOST"},{"$f":"IF('WORKMENS CLUB \"A\"'!AT6>0,1,0)","v":0},{"$f":"IF('WORKMENS CLUB \"A\"'!AX6=701,\"WON\",\"LOST\")","v":"LOST"},{"$f":"IF('WORKMENS CLUB \"A\"'!AX6>0,1,0)","v":0},{"$f":"IF('WORKMENS CLUB \"A\"'!BB6=701,\"WON\",\"LOST\")","v":"LOST"},{"$f":"IF('WORKMENS CLUB \"A\"'!BB6>0,1,0)","v":0},{"$f":"IF('WORKMENS CLUB \"A\"'!BF6=701,\"WON\",\"LOST\")","v":"LOST"},{"$f":"IF('WORKMENS CLUB \"A\"'!BF6>0,1,0)","v":0},{"$f":"IF('WORKMENS CLUB \"A\"'!BJ6=701,\"WON\",\"LOST\")","v":"LOST"},{"$f":"IF('WORKMENS CLUB \"A\"'!BJ6>0,1,0)","v":0},{"$f":"IF('WORKMENS CLUB \"A\"'!BN6=701,\"WON\",\"LOST\")","v":"LOST"},{"$f":"IF('WORKMENS CLUB \"A\"'!BN6>0,1,0)","v":1},{"$f":"IF('WORKMENS CLUB \"A\"'!BR6=701,\"WON\",\"LOST\")","v":"LOST"},{"$f":"IF('WORKMENS CLUB \"A\"'!BR6>0,1,0)","v":0},{"$f":"IF('WORKMENS CLUB \"A\"'!BV6=701,\"WON\",\"LOST\")","v":"LOST"},{"$f":"IF('WORKMENS CLUB \"A\"'!BV6>0,1,0)","v":0},{"$f":"IF('WORKMENS CLUB \"A\"'!BZ6=701,\"WON\",\"LOST\")","v":"LOST"},{"$f":"IF('WORKMENS CLUB \"A\"'!BZ6>0,1,0)","v":0},{"$f":"IF('WORKMENS CLUB \"A\"'!CD6=701,\"WON\",\"LOST\")","v":"LOST"},{"$f":"IF('WORKMENS CLUB \"A\"'!CD6>0,1,0)","v":0},{"$f":"IF('WORKMENS CLUB \"A\"'!CH6=701,\"WON\",\"LOST\")","v":"LOST"},{"$f":"IF('WORKMENS CLUB \"A\"'!CH6>0,1,0)","v":0}]
[null,{"$f":"IF('WORKMENS CLUB \"A\"'!B7=701,\"WON\",\"LOST\")","v":"LOST"},{"$f":"IF('WORKMENS CLUB \"A\"'!B7>0,1,0)","v":0},{"$f":"IF('WORKMENS CLUB \"A\"'!F7=701,\"WON\",\"LOST\")","v":"WON"},{"$f":"IF('WORKMENS CLUB \"A\"'!F7>0,1,0)","v":1},{"$f":"IF('WORKMENS CLUB \"A\"'!J7=701,\"WON\",\"LOST\")","v":"WON"},{"$f":"IF('WORKMENS CLUB \"A\"'!J7>0,1,0)","v":1},{"$f":"IF('WORKMENS CLUB \"A\"'!N7=701,\"WON\",\"LOST\")","v":"WON"},{"$f":"IF('WORKMENS CLUB \"A\"'!N7>0,1,0)","v":1},{"$f":"IF('WORKMENS CLUB \"A\"'!R7=701,\"WON\",\"LOST\")","v":"LOST"},{"$f":"IF('WORKMENS CLUB \"A\"'!R7>0,1,0)","v":1},{"$f":"IF('WORKMENS CLUB \"A\"'!V7=701,\"WON\",\"LOST\")","v":"WON"},{"$f":"IF('WORKMENS CLUB \"A\"'!V7>0,1,0)","v":1},{"$f":"IF('WORKMENS CLUB \"A\"'!Z7=701,\"WON\",\"LOST\")","v":"WON"},{"$f":"IF('WORKMENS CLUB \"A\"'!Z7>0,1,0)","v":1},{"$f":"IF('WORKMENS CLUB \"A\"'!AD7=701,\"WON\",\"LOST\")","v":"WON"},{"$f":"IF('WORKMENS CLUB \"A\"'!AD7>0,1,0)","v":1},{"$f":"IF('WORKMENS CLUB \"A\"'!AH7=701,\"WON\",\"LOST\")","v":"WON"},{"$f":"IF('WORKMENS CLUB \"A\"'!AH7>0,1,0)","v":1},{"$f":"IF('WORKMENS CLUB \"A\"'!AL7=701,\"WON\",\"LOST\")","v":"LOST"},{"$f":"IF('WORKMENS CLUB \"A\"'!AL7>0,1,0)","v":0},{"$f":"IF('WORKMENS CLUB \"A\"'!AP7=701,\"WON\",\"LOST\")","v":"LOST"},{"$f":"IF('WORKMENS CLUB \"A\"'!AP7>0,1,0)","v":1},{"$f":"IF('WORKMENS CLUB \"A\"'!AT7=701,\"WON\",\"LOST\")","v":"LOST"},{"$f":"IF('WORKMENS CLUB \"A\"'!AT7>0,1,0)","v":1},{"$f":"IF('WORKMENS CLUB \"A\"'!AX7=701,\"WON\",\"LOST\")","v":"LOST"},{"$f":"IF('WORKMENS CLUB \"A\"'!AX7>0,1,0)","v":1},{"$f":"IF('WORKMENS CLUB \"A\"'!BB7=701,\"WON\",\"LOST\")","v":"LOST"},{"$f":"IF('WORKMENS CLUB \"A\"'!BB7>0,1,0)","v":1},{"$f":"IF('WORKMENS CLUB \"A\"'!BF7=701,\"WON\",\"LOST\")","v":"WON"},{"$f":"IF('WORKMENS CLUB \"A\"'!BF7>0,1,0)","v":1},{"$f":"IF('WORKMENS CLUB \"A\"'!BJ7=701,\"WON\",\"LOST\")","v":"WON"},{"$f":"IF('WORKMENS CLUB \"A\"'!BJ7>0,1,0)","v":1},{"$f":"IF('WORKMENS CLUB \"A\"'!BN7=701,\"WON\",\"LOST\")","v":"LOST"},{"$f":"IF('WORKMENS CLUB \"A\"'!BN7>0,1,0)","v":1},{"$f":"IF('WORKMENS CLUB \"A\"'!BR7=701,\"WON\",\"LOST\")","v":"WON"},{"$f":"IF('WORKMENS CLUB \"A\"'!BR7>0,1,0)","v":1},{"$f":"IF('WORKMENS CLUB \"A\"'!BV7=701,\"WON\",\"LOST\")","v":"LOST"},{"$f":"IF('WORKMENS CLUB \"A\"'!BV7>0,1,0)","v":0},{"$f":"IF('WORKMENS CLUB \"A\"'!BZ7=701,\"WON\",\"LOST\")","v":"LOST"},{"$f":"IF('WORKMENS CLUB \"A\"'!BZ7>0,1,0)","v":0},{"$f":"IF('WORKMENS CLUB \"A\"'!CD7=701,\"WON\",\"LOST\")","v":"LOST"},{"$f":"IF('WORKMENS CLUB \"A\"'!CD7>0,1,0)","v":0},{"$f":"IF('WORKMENS CLUB \"A\"'!CH7=701,\"WON\",\"LOST\")","v":"LOST"},{"$f":"IF('WORKMENS CLUB \"A\"'!CH7>0,1,0)","v":0}]
[null,{"$f":"IF('WORKMENS CLUB \"A\"'!B8=701,\"WON\",\"LOST\")","v":"LOST"},{"$f":"IF('WORKMENS CLUB \"A\"'!B8>0,1,0)","v":0},{"$f":"IF('WORKMENS CLUB \"A\"'!F8=701,\"WON\",\"LOST\")","v":"LOST"},{"$f":"IF('WORKMENS CLUB \"A\"'!F8>0,1,0)","v":0},{"$f":"IF('WORKMENS CLUB \"A\"'!J8=701,\"WON\",\"LOST\")","v":"LOST"},{"$f":"IF('WORKMENS CLUB \"A\"'!J8>0,1,0)","v":0},{"$f":"IF('WORKMENS CLUB \"A\"'!N8=701,\"WON\",\"LOST\")","v":"LOST"},{"$f":"IF('WORKMENS CLUB \"A\"'!N8>0,1,0)","v":0},{"$f":"IF('WORKMENS CLUB \"A\"'!R8=701,\"WON\",\"LOST\")","v":"LOST"},{"$f":"IF('WORKMENS CLUB \"A\"'!R8>0,1,0)","v":1},{"$f":"IF('WORKMENS CLUB \"A\"'!V8=701,\"WON\",\"LOST\")","v":"LOST"},{"$f":"IF('WORKMENS CLUB \"A\"'!V8>0,1,0)","v":1},{"$f":"IF('WORKMENS CLUB \"A\"'!Z8=701,\"WON\",\"LOST\")","v":"LOST"},{"$f":"IF('WORKMENS CLUB \"A\"'!Z8>0,1,0)","v":0},{"$f":"IF('WORKMENS CLUB \"A\"'!AD8=701,\"WON\",\"LOST\")","v":"LOST"},{"$f":"IF('WORKMENS CLUB \"A\"'!AD8>0,1,0)","v":0},{"$f":"IF('WORKMENS CLUB \"A\"'!AH8=701,\"WON\",\"LOST\")","v":"LOST"},{"$f":"IF('WORKMENS CLUB \"A\"'!AH8>0,1,0)","v":1},{"$f":"IF('WORKMENS CLUB \"A\"'!AL8=701,\"WON\",\"LOST\")","v":"LOST"},{"$f":"IF('WORKMENS CLUB \"A\"'!AL8>0,1,0)","v":0},{"$f":"IF('WORKMENS CLUB \"A\"'!AP8=701,\"WON\",\"LOST\")","v":"LOST"},{"$f":"IF('WORKMENS CLUB \"A\"'!AP8>0,1,0)","v":0},{"$f":"IF('WORKMENS CLUB \"A\"'!AT8=701,\"WON\",\"LOST\")","v":"WON"},{"$f":"IF('WORKMENS CLUB \"A\"'!AT8>0,1,0)","v":1},{"$f":"IF('WORKMENS CLUB \"A\"'!AX8=701,\"WON\",\"LOST\")","v":"LOST"},{"$f":"IF('WORKMENS CLUB \"A\"'!AX8>0,1,0)","v":0},{"$f":"IF('WORKMENS CLUB \"A\"'!BB8=701,\"WON\",\"LOST\")","v":"LOST"},{"$f":"IF('WORKMENS CLUB \"A\"'!BB8>0,1,0)","v":0},{"$f":"IF('WORKMENS CLUB \"A\"'!BF8=701,\"WON\",\"LOST\")","v":"LOST"},{"$f":"IF('WORKMENS CLUB \"A\"'!BF8>0,1,0)","v":1},{"$f":"IF('WORKMENS CLUB \"A\"'!BJ8=701,\"WON\",\"LOST\")","v":"LOST"},{"$f":"IF('WORKMENS CLUB \"A\"'!BJ8>0,1,0)","v":1},{"$f":"IF('WORKMENS CLUB \"A\"'!BN8=701,\"WON\",\"LOST\")","v":"LOST"},{"$f":"IF('WORKMENS CLUB \"A\"'!BN8>0,1,0)","v":0},{"$f":"IF('WORKMENS CLUB \"A\"'!BR8=701,\"WON\",\"LOST\")","v":"WON"},{"$f":"IF('WORKMENS CLUB \"A\"'!BR8>0,1,0)","v":1},{"$f":"IF('WORKMENS CLUB \"A\"'!BV8=701,\"WON\",\"LOST\")","v":"LOST"},{"$f":"IF('WORKMENS CLUB \"A\"'!BV8>0,1,0)","v":0},{"$f":"IF('WORKMENS CLUB \"A\"'!BZ8=701,\"WON\",\"LOST\")","v":"LOST"},{"$f":"IF('WORKMENS CLUB \"A\"'!BZ8>0,1,0)","v":0},{"$f":"IF('WORKMENS CLUB \"A\"'!CD8=701,\"WON\",\"LOST\")","v":"LOST"},{"$f":"IF('WORKMENS CLUB \"A\"'!CD8>0,1,0)","v":0},{"$f":"IF('WORKMENS CLUB \"A\"'!CH8=701,\"WON\",\"LOST\")","v":"LOST"},{"$f":"IF('WORKMENS CLUB \"A\"'!CH8>0,1,0)","v":0}]
[null,{"$f":"IF('WORKMENS CLUB \"A\"'!B9=701,\"WON\",\"LOST\")","v":"LOST"},{"$f":"IF('WORKMENS CLUB \"A\"'!B9>0,1,0)","v":0},{"$f":"IF('WORKMENS CLUB \"A\"'!F9=701,\"WON\",\"LOST\")","v":"LOST"},{"$f":"IF('WORKMENS CLUB \"A\"'!F9>0,1,0)","v":0},{"$f":"IF('WORKMENS CLUB \"A\"'!J9=701,\"WON\",\"LOST\")","v":"LOST"},{"$f":"IF('WORKMENS CLUB \"A\"'!J9>0,1,0)","v":0},{"$f":"IF('WORKMENS CLUB \"A\"'!N9=701,\"WON\",\"LOST\")","v":"LOST"},{"$f":"IF('WORKMENS CLUB \"A\"'!N9>0,1,0)","v":0},{"$f":"IF('WORKMENS CLUB \"A\"'!R9=701,\"WON\",\"LOST\")","v":"LOST"},{"$f":"IF('WORKMENS CLUB \"A\"'!R9>0,1,0)","v":0},{"$f":"IF('WORKMENS CLUB \"A\"'!V9=701,\"WON\",\"LOST\")","v":"LOST"},{"$f":"IF('WORKMENS CLUB \"A\"'!V9>0,1,0)","v":0},{"$f":"IF('WORKMENS CLUB \"A\"'!Z9=701,\"WON\",\"LOST\")","v":"LOST"},{"$f":"IF('WORKMENS CLUB \"A\"'!Z9>0,1,0)","v":1},{"$f":"IF('WORKMENS CLUB \"A\"'!AD9=701,\"WON\",\"LOST\")","v":"LOST"},{"$f":"IF('WORKMENS CLUB \"A\"'!AD9>0,1,0)","v":0},{"$f":"IF('WORKMENS CLUB \"A\"'!AH9=701,\"WON\",\"LOST\")","v":"LOST"},{"$f":"IF('WORKMENS CLUB \"A\"'!AH9>0,1,0)","v":0},{"$f":"IF('WORKMENS CLUB \"A\"'!AL9=701,\"WON\",\"LOST\")","v":"LOST"},{"$f":"IF('WORKMENS CLUB \"A\"'!AL9>0,1,0)","v":0},{"$f":"IF('WORKMENS CLUB \"A\"'!AP9=701,\"WON\",\"LOST\")","v":"LOST"},{"$f":"IF('WORKMENS CLUB \"A\"'!AP9>0,1,0)","v":0},{"$f":"IF('WORKMENS CLUB \"A\"'!AT9=701,\"WON\",\"LOST\")","v":"LOST"},{"$f":"IF('WORKMENS CLUB \"A\"'!AT9>0,1,0)","v":0},{"$f":"IF('WORKMENS CLUB \"A\"'!AX9=701,\"WON\",\"LOST\")","v":"LOST"},{"$f":"IF('WORKMENS CLUB \"A\"'!AX9>0,1,0)","v":0},{"$f":"IF('WORKMENS CLUB \"A\"'!BB9=701,\"WON\",\"LOST\")","v":"LOST"},{"$f":"IF('WORKMENS CLUB \"A\"'!BB9>0,1,0)","v":0},{"$f":"IF('WORKMENS CLUB \"A\"'!BF9=701,\"WON\",\"LOST\")","v":"LOST"},{"$f":"IF('WORKMENS CLUB \"A\"'!BF9>0,1,0)","v":0},{"$f":"IF('WORKMENS CLUB \"A\"'!BJ9=701,\"WON\",\"LOST\")","v":"LOST"},{"$f":"IF('WORKMENS CLUB \"A\"'!BJ9>0,1,0)","v":0},{"$f":"IF('WORKMENS CLUB \"A\"'!BN9=701,\"WON\",\"LOST\")","v":"LOST"},{"$f":"IF('WORKMENS CLUB \"A\"'!BN9>0,1,0)","v":0},{"$f":"IF('WORKMENS CLUB \"A\"'!BR9=701,\"WON\",\"LOST\")","v":"LOST"},{"$f":"IF('WORKMENS CLUB \"A\"'!BR9>0,1,0)","v":0},{"$f":"IF('WORKMENS CLUB \"A\"'!BV9=701,\"WON\",\"LOST\")","v":"LOST"},{"$f":"IF('WORKMENS CLUB \"A\"'!BV9>0,1,0)","v":0},{"$f":"IF('WORKMENS CLUB \"A\"'!BZ9=701,\"WON\",\"LOST\")","v":"LOST"},{"$f":"IF('WORKMENS CLUB \"A\"'!BZ9>0,1,0)","v":0},{"$f":"IF('WORKMENS CLUB \"A\"'!CD9=701,\"WON\",\"LOST\")","v":"LOST"},{"$f":"IF('WORKMENS CLUB \"A\"'!CD9>0,1,0)","v":0},{"$f":"IF('WORKMENS CLUB \"A\"'!CH9=701,\"WON\",\"LOST\")","v":"LOST"},{"$f":"IF('WORKMENS CLUB \"A\"'!CH9>0,1,0)","v":0}]
[null,{"$f":"IF('WORKMENS CLUB \"A\"'!B10=701,\"WON\",\"LOST\")","v":"LOST"},{"$f":"IF('WORKMENS CLUB \"A\"'!B10>0,1,0)","v":0},{"$f":"IF('WORKMENS CLUB \"A\"'!F10=701,\"WON\",\"LOST\")","v":"WON"},{"$f":"IF('WORKMENS CLUB \"A\"'!F10>0,1,0)","v":1},{"$f":"IF('WORKMENS CLUB \"A\"'!J10=701,\"WON\",\"LOST\")","v":"WON"},{"$f":"IF('WORKMENS CLUB \"A\"'!J10>0,1,0)","v":1},{"$f":"IF('WORKMENS CLUB \"A\"'!N10=701,\"WON\",\"LOST\")","v":"LOST"},{"$f":"IF('WORKMENS CLUB \"A\"'!N10>0,1,0)","v":0},{"$f":"IF('WORKMENS CLUB \"A\"'!R10=701,\"WON\",\"LOST\")","v":"LOST"},{"$f":"IF('WORKMENS CLUB \"A\"'!R10>0,1,0)","v":0},{"$f":"IF('WORKMENS CLUB \"A\"'!V10=701,\"WON\",\"LOST\")","v":"LOST"},{"$f":"IF('WORKMENS CLUB \"A\"'!V10>0,1,0)","v":0},{"$f":"IF('WORKMENS CLUB \"A\"'!Z10=701,\"WON\",\"LOST\")","v":"LOST"},{"$f":"IF('WORKMENS CLUB \"A\"'!Z10>0,1,0)","v":0},{"$f":"IF('WORKMENS CLUB \"A\"'!AD10=701,\"WON\",\"LOST\")","v":"LOST"},{"$f":"IF('WORKMENS CLUB \"A\"'!AD10>0,1,0)","v":0},{"$f":"IF('WORKMENS CLUB \"A\"'!AH10=701,\"WON\",\"LOST\")","v":"LOST"},{"$f":"IF('WORKMENS CLUB \"A\"'!AH10>0,1,0)","v":0},{"$f":"IF('WORKMENS CLUB \"A\"'!AL10=701,\"WON\",\"LOST\")","v":"LOST"},{"$f":"IF('WORKMENS CLUB \"A\"'!AL10>0,1,0)","v":0},{"$f":"IF('WORKMENS CLUB \"A\"'!AP10=701,\"WON\",\"LOST\")","v":"LOST"},{"$f":"IF('WORKMENS CLUB \"A\"'!AP10>0,1,0)","v":0},{"$f":"IF('WORKMENS CLUB \"A\"'!AT10=701,\"WON\",\"LOST\")","v":"LOST"},{"$f":"IF('WORKMENS CLUB \"A\"'!AT10>0,1,0)","v":0},{"$f":"IF('WORKMENS CLUB \"A\"'!AX10=701,\"WON\",\"LOST\")","v":"WON"},{"$f":"IF('WORKMENS CLUB \"A\"'!AX10>0,1,0)","v":1},{"$f":"IF('WORKMENS CLUB \"A\"'!BB10=701,\"WON\",\"LOST\")","v":"LOST"},{"$f":"IF('WORKMENS CLUB \"A\"'!BB10>0,1,0)","v":1},{"$f":"IF('WORKMENS CLUB \"A\"'!BF10=701,\"WON\",\"LOST\")","v":"WON"},{"$f":"IF('WORKMENS CLUB \"A\"'!BF10>0,1,0)","v":1},{"$f":"IF('WORKMENS CLUB \"A\"'!BJ10=701,\"WON\",\"LOST\")","v":"WON"},{"$f":"IF('WORKMENS CLUB \"A\"'!BJ10>0,1,0)","v":1},{"$f":"IF('WORKMENS CLUB \"A\"'!BN10=701,\"WON\",\"LOST\")","v":"LOST"},{"$f":"IF('WORKMENS CLUB \"A\"'!BN10>0,1,0)","v":1},{"$f":"IF('WORKMENS CLUB \"A\"'!BR10=701,\"WON\",\"LOST\")","v":"LOST"},{"$f":"IF('WORKMENS CLUB \"A\"'!BR10>0,1,0)","v":1},{"$f":"IF('WORKMENS CLUB \"A\"'!BV10=701,\"WON\",\"LOST\")","v":"LOST"},{"$f":"IF('WORKMENS CLUB \"A\"'!BV10>0,1,0)","v":0},{"$f":"IF('WORKMENS CLUB \"A\"'!BZ10=701,\"WON\",\"LOST\")","v":"LOST"},{"$f":"IF('WORKMENS CLUB \"A\"'!BZ10>0,1,0)","v":0},{"$f":"IF('WORKMENS CLUB \"A\"'!CD10=701,\"WON\",\"LOST\")","v":"LOST"},{"$f":"IF('WORKMENS CLUB \"A\"'!CD10>0,1,0)","v":0},{"$f":"IF('WORKMENS CLUB \"A\"'!CH10=701,\"WON\",\"LOST\")","v":"LOST"},{"$f":"IF('WORKMENS CLUB \"A\"'!CH10>0,1,0)","v":0}]
[null,{"$f":"IF('WORKMENS CLUB \"A\"'!B11=701,\"WON\",\"LOST\")","v":"LOST"},{"$f":"IF('WORKMENS CLUB \"A\"'!B11>0,1,0)","v":0},{"$f":"IF('WORKMENS CLUB \"A\"'!F11=701,\"WON\",\"LOST\")","v":"WON"},{"$f":"IF('WORKMENS CLUB \"A\"'!F11>0,1,0)","v":1},{"$f":"IF('WORKMENS CLUB \"A\"'!J11=701,\"WON\",\"LOST\")","v":"LOST"},{"$f":"IF('WORKMENS CLUB \"A\"'!J11>0,1,0)","v":1},{"$f":"IF('WORKMENS CLUB \"A\"'!N11=701,\"WON\",\"LOST\")","v":"WON"},{"$f":"IF('WORKMENS CLUB \"A\"'!N11>0,1,0)","v":1},{"$f":"IF('WORKMENS CLUB \"A\"'!R11=701,\"WON\",\"LOST\")","v":"WON"},{"$f":"IF('WORKMENS CLUB \"A\"'!R11>0,1,0)","v":1},{"$f":"IF('WORKMENS CLUB \"A\"'!V11=701,\"WON\",\"LOST\")","v":"LOST"},{"$f":"IF('WORKMENS CLUB \"A\"'!V11>0,1,0)","v":1},{"$f":"IF('WORKMENS CLUB \"A\"'!Z11=701,\"WON\",\"LOST\")","v":"WON"},{"$f":"IF('WORKMENS CLUB \"A\"'!Z11>0,1,0)","v":1},{"$f":"IF('WORKMENS CLUB \"A\"'!AD11=701,\"WON\",\"LOST\")","v":"LOST"},{"$f":"IF('WORKMENS CLUB \"A\"'!AD11>0,1,0)","v":1},{"$f":"IF('WORKMENS CLUB \"A\"'!AH11=701,\"WON\",\"LOST\")","v":"LOST"},{"$f":"IF('WORKMENS CLUB \"A\"'!AH11>0,1,0)","v":1},{"$f":"IF('WORKMENS CLUB \"A\"'!AL11=701,\"WON\",\"LOST\")","v":"LOST"},{"$f":"IF('WORKMENS CLUB \"A\"'!AL11>0,1,0)","v":0},{"$f":"IF('WORKMENS CLUB \"A\"'!AP11=701,\"WON\",\"LOST\")","v":"WON"},{"$f":"IF('WORKMENS CLUB \"A\"'!AP11>0,1,0)","v":1},{"$f":"IF('WORKMENS CLUB \"A\"'!AT11=701,\"WON\",\"LOST\")","v":"WON"},{"$f":"IF('WORKMENS CLUB \"A\"'!AT11>0,1,0)","v":1},{"$f":"IF('WORKMENS CLUB \"A\"'!AX11=701,\"WON\",\"LOST\")","v":"WON"},{"$f":"IF('WORKMENS CLUB \"A\"'!AX11>0,1,0)","v":1},{"$f":"IF('WORKMENS CLUB \"A\"'!BB11=701,\"WON\",\"LOST\")","v":"LOST"},{"$f":"IF('WORKMENS CLUB \"A\"'!BB11>0,1,0)","v":1},{"$f":"IF('WORKMENS CLUB \"A\"'!BF11=701,\"WON\",\"LOST\")","v":"LOST"},{"$f":"IF('WORKMENS CLUB \"A\"'!BF11>0,1,0)","v":0},{"$f":"IF('WORKMENS CLUB \"A\"'!BJ11=701,\"WON\",\"LOST\")","v":"LOST"},{"$f":"IF('WORKMENS CLUB \"A\"'!BJ11>0,1,0)","v":1},{"$f":"IF('WORKMENS CLUB \"A\"'!BN11=701,\"WON\",\"LOST\")","v":"WON"},{"$f":"IF('WORKMENS CLUB \"A\"'!BN11>0,1,0)","v":1},{"$f":"IF('WORKMENS CLUB \"A\"'!BR11=701,\"WON\",\"LOST\")","v":"LOST"},{"$f":"IF('WORKMENS CLUB \"A\"'!BR11>0,1,0)","v":1},{"$f":"IF('WORKMENS CLUB \"A\"'!BV11=701,\"WON\",\"LOST\")","v":"LOST"},{"$f":"IF('WORKMENS CLUB \"A\"'!BV11>0,1,0)","v":0},{"$f":"IF('WORKMENS CLUB \"A\"'!BZ11=701,\"WON\",\"LOST\")","v":"LOST"},{"$f":"IF('WORKMENS CLUB \"A\"'!BZ11>0,1,0)","v":0},{"$f":"IF('WORKMENS CLUB \"A\"'!CD11=701,\"WON\",\"LOST\")","v":"LOST"},{"$f":"IF('WORKMENS CLUB \"A\"'!CD11>0,1,0)","v":0},{"$f":"IF('WORKMENS CLUB \"A\"'!CH11=701,\"WON\",\"LOST\")","v":"LOST"},{"$f":"IF('WORKMENS CLUB \"A\"'!CH11>0,1,0)","v":0}]
[null,{"$f":"IF('WORKMENS CLUB \"A\"'!B12=701,\"WON\",\"LOST\")","v":"LOST"},{"$f":"IF('WORKMENS CLUB \"A\"'!B12>0,1,0)","v":0},{"$f":"IF('WORKMENS CLUB \"A\"'!F12=701,\"WON\",\"LOST\")","v":"LOST"},{"$f":"IF('WORKMENS CLUB \"A\"'!F12>0,1,0)","v":0},{"$f":"IF('WORKMENS CLUB \"A\"'!J12=701,\"WON\",\"LOST\")","v":"LOST"},{"$f":"IF('WORKMENS CLUB \"A\"'!J12>0,1,0)","v":0},{"$f":"IF('WORKMENS CLUB \"A\"'!N12=701,\"WON\",\"LOST\")","v":"LOST"},{"$f":"IF('WORKMENS CLUB \"A\"'!N12>0,1,0)","v":0},{"$f":"IF('WORKMENS CLUB \"A\"'!R12=701,\"WON\",\"LOST\")","v":"LOST"},{"$f":"IF('WORKMENS CLUB \"A\"'!R12>0,1,0)","v":0},{"$f":"IF('WORKMENS CLUB \"A\"'!V12=701,\"WON\",\"LOST\")","v":"LOST"},{"$f":"IF('WORKMENS CLUB \"A\"'!V12>0,1,0)","v":0},{"$f":"IF('WORKMENS CLUB \"A\"'!Z12=701,\"WON\",\"LOST\")","v":"LOST"},{"$f":"IF('WORKMENS CLUB \"A\"'!Z12>0,1,0)","v":0},{"$f":"IF('WORKMENS CLUB \"A\"'!AD12=701,\"WON\",\"LOST\")","v":"LOST"},{"$f":"IF('WORKMENS CLUB \"A\"'!AD12>0,1,0)","v":0},{"$f":"IF('WORKMENS CLUB \"A\"'!AH12=701,\"WON\",\"LOST\")","v":"LOST"},{"$f":"IF('WORKMENS CLUB \"A\"'!AH12>0,1,0)","v":0},{"$f":"IF('WORKMENS CLUB \"A\"'!AL12=701,\"WON\",\"LOST\")","v":"LOST"},{"$f":"IF('WORKMENS CLUB \"A\"'!AL12>0,1,0)","v":0},{"$f":"IF('WORKMENS CLUB \"A\"'!AP12=701,\"WON\",\"LOST\")","v":"LOST"},{"$f":"IF('WORKMENS CLUB \"A\"'!AP12>0,1,0)","v":0},{"$f":"IF('WORKMENS CLUB \"A\"'!AT12=701,\"WON\",\"LOST\")","v":"LOST"},{"$f":"IF('WORKMENS CLUB \"A\"'!AT12>0,1,0)","v":0},{"$f":"IF('WORKMENS CLUB \"A\"'!AX12=701,\"WON\",\"LOST\")","v":"LOST"},{"$f":"IF('WORKMENS CLUB \"A\"'!AX12>0,1,0)","v":0},{"$f":"IF('WORKMENS CLUB \"A\"'!BB12=701,\"WON\",\"LOST\")","v":"LOST"},{"$f":"IF('WORKMENS CLUB \"A\"'!BB12>0,1,0)","v":0},{"$f":"IF('WORKMENS CLUB \"A\"'!BF12=701,\"WON\",\"LOST\")","v":"LOST"},{"$f":"IF('WORKMENS CLUB \"A\"'!BF12>0,1,0)","v":0},{"$f":"IF('WORKMENS CLUB \"A\"'!BJ12=701,\"WON\",\"LOST\")","v":"LOST"},{"$f":"IF('WORKMENS CLUB \"A\"'!BJ12>0,1,0)","v":0},{"$f":"IF('WORKMENS CLUB \"A\"'!BN12=701,\"WON\",\"LOST\")","v":"LOST"},{"$f":"IF('WORKMENS CLUB \"A\"'!BN12>0,1,0)","v":0},{"$f":"IF('WORKMENS CLUB \"A\"'!BR12=701,\"WON\",\"LOST\")","v":"LOST"},{"$f":"IF('WORKMENS CLUB \"A\"'!BR12>0,1,0)","v":0},{"$f":"IF('WORKMENS CLUB \"A\"'!BV12=701,\"WON\",\"LOST\")","v":"LOST"},{"$f":"IF('WORKMENS CLUB \"A\"'!BV12>0,1,0)","v":0},{"$f":"IF('WORKMENS CLUB \"A\"'!BZ12=701,\"WON\",\"LOST\")","v":"LOST"},{"$f":"IF('WORKMENS CLUB \"A\"'!BZ12>0,1,0)","v":0},{"$f":"IF('WORKMENS CLUB \"A\"'!CD12=701,\"WON\",\"LOST\")","v":"LOST"},{"$f":"IF('WORKMENS CLUB \"A\"'!CD12>0,1,0)","v":0},{"$f":"IF('WORKMENS CLUB \"A\"'!CH12=701,\"WON\",\"LOST\")","v":"LOST"},{"$f":"IF('WORKMENS CLUB \"A\"'!CH12>0,1,0)","v":0}]
[null,{"$f":"IF('WORKMENS CLUB \"A\"'!B13=701,\"WON\",\"LOST\")","v":"LOST"},{"$f":"IF('WORKMENS CLUB \"A\"'!B13>0,1,0)","v":0},{"$f":"IF('WORKMENS CLUB \"A\"'!F13=701,\"WON\",\"LOST\")","v":"LOST"},{"$f":"IF('WORKMENS CLUB \"A\"'!F13>0,1,0)","v":0},{"$f":"IF('WORKMENS CLUB \"A\"'!J13=701,\"WON\",\"LOST\")","v":"LOST"},{"$f":"IF('WORKMENS CLUB \"A\"'!J13>0,1,0)","v":0},{"$f":"IF('WORKMENS CLUB \"A\"'!N13=701,\"WON\",\"LOST\")","v":"LOST"},{"$f":"IF('WORKMENS CLUB \"A\"'!N13>0,1,0)","v":0},{"$f":"IF('WORKMENS CLUB \"A\"'!R13=701,\"WON\",\"LOST\")","v":"LOST"},{"$f":"IF('WORKMENS CLUB \"A\"'!R13>0,1,0)","v":0},{"$f":"IF('WORKMENS CLUB \"A\"'!V13=701,\"WON\",\"LOST\")","v":"LOST"},{"$f":"IF('WORKMENS CLUB \"A\"'!V13>0,1,0)","v":0},{"$f":"IF('WORKMENS CLUB \"A\"'!Z13=701,\"WON\",\"LOST\")","v":"LOST"},{"$f":"IF('WORKMENS CLUB \"A\"'!Z13>0,1,0)","v":0},{"$f":"IF('WORKMENS CLUB \"A\"'!AD13=701,\"WON\",\"LOST\")","v":"LOST"},{"$f":"IF('WORKMENS CLUB \"A\"'!AD13>0,1,0)","v":0},{"$f":"IF('WORKMENS CLUB \"A\"'!AH13=701,\"WON\",\"LOST\")","v":"LOST"},{"$f":"IF('WORKMENS CLUB \"A\"'!AH13>0,1,0)","v":0},{"$f":"IF('WORKMENS CLUB \"A\"'!AL13=701,\"WON\",\"LOST\")","v":"LOST"},{"$f":"IF('WORKMENS CLUB \"A\"'!AL13>0,1,0)","v":0},{"$f":"IF('WORKMENS CLUB \"A\"'!AP13=701,\"WON\",\"LOST\")","v":"LOST"},{"$f":"IF('WORKMENS CLUB \"A\"'!AP13>0,1,0)","v":0},{"$f":"IF('WORKMENS CLUB \"A\"'!AT13=701,\"WON\",\"LOST\")","v":"LOST"},{"$f":"IF('WORKMENS CLUB \"A\"'!AT13>0,1,0)","v":0},{"$f":"IF('WORKMENS CLUB \"A\"'!AX13=701,\"WON\",\"LOST\")","v":"LOST"},{"$f":"IF('WORKMENS CLUB \"A\"'!AX13>0,1,0)","v":0},{"$f":"IF('WORKMENS CLUB \"A\"'!BB13=701,\"WON\",\"LOST\")","v":"LOST"},{"$f":"IF('WORKMENS CLUB \"A\"'!BB13>0,1,0)","v":0},{"$f":"IF('WORKMENS CLUB \"A\"'!BF13=701,\"WON\",\"LOST\")","v":"LOST"},{"$f":"IF('WORKMENS CLUB \"A\"'!BF13>0,1,0)","v":0},{"$f":"IF('WORKMENS CLUB \"A\"'!BJ13=701,\"WON\",\"LOST\")","v":"LOST"},{"$f":"IF('WORKMENS CLUB \"A\"'!BJ13>0,1,0)","v":0},{"$f":"IF('WORKMENS CLUB \"A\"'!BN13=701,\"WON\",\"LOST\")","v":"LOST"},{"$f":"IF('WORKMENS CLUB \"A\"'!BN13>0,1,0)","v":0},{"$f":"IF('WORKMENS CLUB \"A\"'!BR13=701,\"WON\",\"LOST\")","v":"LOST"},{"$f":"IF('WORKMENS CLUB \"A\"'!BR13>0,1,0)","v":0},{"$f":"IF('WORKMENS CLUB \"A\"'!BV13=701,\"WON\",\"LOST\")","v":"LOST"},{"$f":"IF('WORKMENS CLUB \"A\"'!BV13>0,1,0)","v":0},{"$f":"IF('WORKMENS CLUB \"A\"'!BZ13=701,\"WON\",\"LOST\")","v":"LOST"},{"$f":"IF('WORKMENS CLUB \"A\"'!BZ13>0,1,0)","v":0},{"$f":"IF('WORKMENS CLUB \"A\"'!CD13=701,\"WON\",\"LOST\")","v":"LOST"},{"$f":"IF('WORKMENS CLUB \"A\"'!CD13>0,1,0)","v":0},{"$f":"IF('WORKMENS CLUB \"A\"'!CH13=701,\"WON\",\"LOST\")","v":"LOST"},{"$f":"IF('WORKMENS CLUB \"A\"'!CH13>0,1,0)","v":0}]
[null,{"$f":"IF('WORKMENS CLUB \"A\"'!B14=701,\"WON\",\"LOST\")","v":"LOST"},{"$f":"IF('WORKMENS CLUB \"A\"'!B14>0,1,0)","v":0},{"$f":"IF('WORKMENS CLUB \"A\"'!F14=701,\"WON\",\"LOST\")","v":"LOST"},{"$f":"IF('WORKMENS CLUB \"A\"'!F14>0,1,0)","v":0},{"$f":"IF('WORKMENS CLUB \"A\"'!J14=701,\"WON\",\"LOST\")","v":"LOST"},{"$f":"IF('WORKMENS CLUB \"A\"'!J14>0,1,0)","v":0},{"$f":"IF('WORKMENS CLUB \"A\"'!N14=701,\"WON\",\"LOST\")","v":"LOST"},{"$f":"IF('WORKMENS CLUB \"A\"'!N14>0,1,0)","v":0},{"$f":"IF('WORKMENS CLUB \"A\"'!R14=701,\"WON\",\"LOST\")","v":"LOST"},{"$f":"IF('WORKMENS CLUB \"A\"'!R14>0,1,0)","v":0},{"$f":"IF('WORKMENS CLUB \"A\"'!V14=701,\"WON\",\"LOST\")","v":"LOST"},{"$f":"IF('WORKMENS CLUB \"A\"'!V14>0,1,0)","v":0},{"$f":"IF('WORKMENS CLUB \"A\"'!Z14=701,\"WON\",\"LOST\")","v":"LOST"},{"$f":"IF('WORKMENS CLUB \"A\"'!Z14>0,1,0)","v":0},{"$f":"IF('WORKMENS CLUB \"A\"'!AD14=701,\"WON\",\"LOST\")","v":"LOST"},{"$f":"IF('WORKMENS CLUB \"A\"'!AD14>0,1,0)","v":0},{"$f":"IF('WORKMENS CLUB \"A\"'!AH14=701,\"WON\",\"LOST\")","v":"LOST"},{"$f":"IF('WORKMENS CLUB \"A\"'!AH14>0,1,0)","v":0},{"$f":"IF('WORKMENS CLUB \"A\"'!AL14=701,\"WON\",\"LOST\")","v":"LOST"},{"$f":"IF('WORKMENS CLUB \"A\"'!AL14>0,1,0)","v":0},{"$f":"IF('WORKMENS CLUB \"A\"'!AP14=701,\"WON\",\"LOST\")","v":"LOST"},{"$f":"IF('WORKMENS CLUB \"A\"'!AP14>0,1,0)","v":0},{"$f":"IF('WORKMENS CLUB \"A\"'!AT14=701,\"WON\",\"LOST\")","v":"LOST"},{"$f":"IF('WORKMENS CLUB \"A\"'!AT14>0,1,0)","v":0},{"$f":"IF('WORKMENS CLUB \"A\"'!AX14=701,\"WON\",\"LOST\")","v":"LOST"},{"$f":"IF('WORKMENS CLUB \"A\"'!AX14>0,1,0)","v":0},{"$f":"IF('WORKMENS CLUB \"A\"'!BB14=701,\"WON\",\"LOST\")","v":"LOST"},{"$f":"IF('WORKMENS CLUB \"A\"'!BB14>0,1,0)","v":0},{"$f":"IF('WORKMENS CLUB \"A\"'!BF14=701,\"WON\",\"LOST\")","v":"LOST"},{"$f":"IF('WORKMENS CLUB \"A\"'!BF14>0,1,0)","v":0},{"$f":"IF('WORKMENS CLUB \"A\"'!BJ14=701,\"WON\",\"LOST\")","v":"LOST"},{"$f":"IF('WORKMENS CLUB \"A\"'!BJ14>0,1,0)","v":0},{"$f":"IF('WORKMENS CLUB \"A\"'!BN14=701,\"WON\",\"LOST\")","v":"LOST"},{"$f":"IF('WORKMENS CLUB \"A\"'!BN14>0,1,0)","v":0},{"$f":"IF('WORKMENS CLUB \"A\"'!BR14=701,\"WON\",\"LOST\")","v":"LOST"},{"$f":"IF('WORKMENS CLUB \"A\"'!BR14>0,1,0)","v":0},{"$f":"IF('WORKMENS CLUB \"A\"'!BV14=701,\"WON\",\"LOST\")","v":"LOST"},{"$f":"IF('WORKMENS CLUB \"A\"'!BV14>0,1,0)","v":0},{"$f":"IF('WORKMENS CLUB \"A\"'!BZ14=701,\"WON\",\"LOST\")","v":"LOST"},{"$f":"IF('WORKMENS CLUB \"A\"'!BZ14>0,1,0)","v":0},{"$f":"IF('WORKMENS CLUB \"A\"'!CD14=701,\"WON\",\"LOST\")","v":"LOST"},{"$f":"IF('WORKMENS CLUB \"A\"'!CD14>0,1,0)","v":0},{"$f":"IF('WORKMENS CLUB \"A\"'!CH14=701,\"WON\",\"LOST\")","v":"LOST"},{"$f":"IF('WORKMENS CLUB \"A\"'!CH14>0,1,0)","v":0}]
[null,{"$f":"IF('WORKMENS CLUB \"A\"'!B3=\"\",0,(SUM(('WORKMENS CLUB \"A\"'!B3/'WORKMENS CLUB \"A\"'!C3)*3)))","v":0},null,{"$f":"IF('WORKMENS CLUB \"A\"'!F3=\"\",0,(SUM(('WORKMENS CLUB \"A\"'!F3/'WORKMENS CLUB \"A\"'!G3)*3)))","v":55.34210526315789},null,{"$f":"IF('WORKMENS CLUB \"A\"'!J3=\"\",0,(SUM(('WORKMENS CLUB \"A\"'!J3/'WORKMENS CLUB \"A\"'!K3)*3)))","v":58.416666666666664},null,{"$f":"IF('WORKMENS CLUB \"A\"'!N3=\"\",0,(SUM(('WORKMENS CLUB \"A\"'!N3/'WORKMENS CLUB \"A\"'!O3)*3)))","v":52.574999999999996},null,{"$f":"IF('WORKMENS CLUB \"A\"'!R3=\"\",0,(SUM(('WORKMENS CLUB \"A\"'!R3/'WORKMENS CLUB \"A\"'!S3)*3)))","v":32.076923076923073},null,{"$f":"IF('WORKMENS CLUB \"A\"'!V3=\"\",0,(SUM(('WORKMENS CLUB \"A\"'!V3/'WORKMENS CLUB \"A\"'!W3)*3)))","v":56.837837837837839},null,{"$f":"IF('WORKMENS CLUB \"A\"'!Z3=\"\",0,(SUM(('WORKMENS CLUB \"A\"'!Z3/'WORKMENS CLUB \"A\"'!AA3)*3)))","v":43.6875},null,{"$f":"IF('WORKMENS CLUB \"A\"'!AD3=\"\",0,(SUM(('WORKMENS CLUB \"A\"'!AD3/'WORKMENS CLUB \"A\"'!AE3)*3)))","v":50.071428571428569},null,{"$f":"IF('WORKMENS CLUB \"A\"'!AH3=\"\",0,(SUM(('WORKMENS CLUB \"A\"'!AH3/'WORKMENS CLUB \"A\"'!AI3)*3)))","v":0},null,{"$f":"IF('WORKMENS CLUB \"A\"'!AL3=\"\",0,(SUM(('WORKMENS CLUB \"A\"'!AL3/'WORKMENS CLUB \"A\"'!AM3)*3)))","v":0},null,{"$f":"IF('WORKMENS CLUB \"A\"'!AP3=\"\",0,(SUM(('WORKMENS CLUB \"A\"'!AP3/'WORKMENS CLUB \"A\"'!AQ3)*3)))","v":48.906976744186039},null,{"$f":"IF('WORKMENS CLUB \"A\"'!AT3=\"\",0,(SUM(('WORKMENS CLUB \"A\"'!AT3/'WORKMENS CLUB \"A\"'!AU3)*3)))","v":33.91935483870968},null,{"$f":"IF('WORKMENS CLUB \"A\"'!AX3=\"\",0,(SUM(('WORKMENS CLUB \"A\"'!AX3/'WORKMENS CLUB \"A\"'!AY3)*3)))","v":50.071428571428569},null,{"$f":"IF('WORKMENS CLUB \"A\"'!BB3=\"\",0,(SUM(('WORKMENS CLUB \"A\"'!BB3/'WORKMENS CLUB \"A\"'!BC3)*3)))","v":44.744680851063826},null,{"$f":"IF('WORKMENS CLUB \"A\"'!BF3=\"\",0,(SUM(('WORKMENS CLUB \"A\"'!BF3/'WORKMENS CLUB \"A\"'!BG3)*3)))","v":54.416666666666671},null,{"$f":"IF('WORKMENS CLUB \"A\"'!BJ3=\"\",0,(SUM(('WORKMENS CLUB \"A\"'!BJ3/'WORKMENS CLUB \"A\"'!BK3)*3)))","v":67.838709677419359},null,{"$f":"IF('WORKMENS CLUB \"A\"'!BN3=\"\",0,(SUM(('WORKMENS CLUB \"A\"'!BN3/'WORKMENS CLUB \"A\"'!BO3)*3)))","v":65.71875},null,{"$f":"IF('WORKMENS CLUB \"A\"'!BR3=\"\",0,(SUM(('WORKMENS CLUB \"A\"'!BR3/'WORKMENS CLUB \"A\"'!BS3)*3)))","v":47.5},null,{"$f":"IF('WORKMENS CLUB \"A\"'!BV3=\"\",0,(SUM(('WORKMENS CLUB \"A\"'!BV3/'WORKMENS CLUB \"A\"'!BW3)*3)))","v":0},null,{"$f":"IF('WORKMENS CLUB \"A\"'!BZ3=\"\",0,(SUM(('WORKMENS CLUB \"A\"'!BZ3/'WORKMENS CLUB \"A\"'!CA3)*3)))","v":0},null,{"$f":"IF('WORKMENS CLUB \"A\"'!CD3=\"\",0,(SUM(('WORKMENS CLUB \"A\"'!CD3/'WORKMENS CLUB \"A\"'!CE3)*3)))","v":0},null,{"$f":"IF('WORKMENS CLUB \"A\"'!CH3=\"\",0,(SUM(('WORKMENS CLUB \"A\"'!CH3/'WORKMENS CLUB \"A\"'!CI3)*3)))","v":0}]
[null,{"$f":"IF('WORKMENS CLUB \"A\"'!B4=\"\",0,(SUM(('WORKMENS CLUB \"A\"'!B4/'WORKMENS CLUB \"A\"'!C4)*3)))","v":0},null,{"$f":"IF('WORKMENS CLUB \"A\"'!F4=\"\",0,(SUM(('WORKMENS CLUB \"A\"'!F4/'WORKMENS CLUB \"A\"'!G4)*3)))","v":46.466666666666669},null,{"$f":"IF('WORKMENS CLUB \"A\"'!J4=\"\",0,(SUM(('WORKMENS CLUB \"A\"'!J4/'WORKMENS CLUB \"A\"'!K4)*3)))","v":56.837837837837839},null,{"$f":"IF('WORKMENS CLUB \"A\"'!N4=\"\",0,(SUM(('WORKMENS CLUB \"A\"'!N4/'WORKMENS CLUB \"A\"'!O4)*3)))","v":38.833333333333336},null,{"$f":"IF('WORKMENS CLUB \"A\"'!R4=\"\",0,(SUM(('WORKMENS CLUB \"A\"'!R4/'WORKMENS CLUB \"A\"'!S4)*3)))","v":0},null,{"$f":"IF('WORKMENS CLUB \"A\"'!V4=\"\",0,(SUM(('WORKMENS CLUB \"A\"'!V4/'WORKMENS CLUB \"A\"'!W4)*3)))","v":52.574999999999996},null,{"$f":"IF('WORKMENS CLUB \"A\"'!Z4=\"\",0,(SUM(('WORKMENS CLUB \"A\"'!Z4/'WORKMENS CLUB \"A\"'!AA4)*3)))","v":40.442307692307693},null,{"$f":"IF('WORKMENS CLUB \"A\"'!AD4=\"\",0,(SUM(('WORKMENS CLUB \"A\"'!AD4/'WORKMENS CLUB \"A\"'!AE4)*3)))","v":47.795454545454547},null,{"$f":"IF('WORKMENS CLUB \"A\"'!AH4=\"\",0,(SUM(('WORKMENS CLUB \"A\"'!AH4/'WORKMENS CLUB \"A\"'!AI4)*3)))","v":51.292682926829272},null,{"$f":"IF('WORKMENS CLUB \"A\"'!AL4=\"\",0,(SUM(('WORKMENS CLUB \"A\"'!AL4/'WORKMENS CLUB \"A\"'!AM4)*3)))","v":0},null,{"$f":"IF('WORKMENS CLUB \"A\"'!AP4=\"\",0,(SUM(('WORKMENS CLUB \"A\"'!AP4/'WORKMENS CLUB \"A\"'!AQ4)*3)))","v":56.3},null,{"$f":"IF('WORKMENS CLUB \"A\"'!AT4=\"\",0,(SUM(('WORKMENS CLUB \"A\"'!AT4/'WORKMENS CLUB \"A\"'!AU4)*3)))","v":0},null,{"$f":"IF('WORKMENS CLUB \"A\"'!AX4=\"\",0,(SUM(('WORKMENS CLUB \"A\"'!AX4/'WORKMENS CLUB \"A\"'!AY4)*3)))","v":50.071428571428569},null,{"$f":"IF('WORKMENS CLUB \"A\"'!BB4=\"\",0,(SUM(('WORKMENS CLUB \"A\"'!BB4/'WORKMENS CLUB \"A\"'!BC4)*3)))","v":52.333333333333329},null,{"$f":"IF('WORKMENS CLUB \"A\"'!BF4=\"\",0,(SUM(('WORKMENS CLUB \"A\"'!BF4/'WORKMENS CLUB \"A\"'!BG4)*3)))","v":56},null,{"$f":"IF('WORKMENS CLUB \"A\"'!BJ4=\"\",0,(SUM(('WORKMENS CLUB \"A\"'!BJ4/'WORKMENS CLUB \"A\"'!BK4)*3)))","v":36.05263157894737},null,{"$f":"IF('WORKMENS CLUB \"A\"'!BN4=\"\",0,(SUM(('WORKMENS CLUB \"A\"'!BN4/'WORKMENS CLUB \"A\"'!BO4)*3)))","v":49.214285714285715},null,{"$f":"IF('WORKMENS CLUB \"A\"'!BR4=\"\",0,(SUM(('WORKMENS CLUB \"A\"'!BR4/'WORKMENS CLUB \"A\"'!BS4)*3)))","v":60.636363636363633},null,{"$f":"IF('WORKMENS CLUB \"A\"'!BV4=\"\",0,(SUM(('WORKMENS CLUB \"A\"'!BV4/'WORKMENS CLUB \"A\"'!BW4)*3)))","v":0},null,{"$f":"IF('WORKMENS CLUB \"A\"'!BZ4=\"\",0,(SUM(('WORKMENS CLUB \"A\"'!BZ4/'WORKMENS CLUB \"A\"'!CA4)*3)))","v":0},null,{"$f":"IF('WORKMENS CLUB \"A\"'!CD4=\"\",0,(SUM(('WORKMENS CLUB \"A\"'!CD4/'WORKMENS CLUB \"A\"'!CE4)*3)))","v":0},null,{"$f":"IF('WORKMENS CLUB \"A\"'!CH4=\"\",0,(SUM(('WORKMENS CLUB \"A\"'!CH4/'WORKMENS CLUB \"A\"'!CI4)*3)))","v":0}]
[null,{"$f":"IF('WORKMENS CLUB \"A\"'!B5=\"\",0,(SUM(('WORKMENS CLUB \"A\"'!B5/'WORKMENS CLUB \"A\"'!C5)*3)))","v":0},null,{"$f":"IF('WORKMENS CLUB \"A\"'!F5=\"\",0,(SUM(('WORKMENS CLUB \"A\"'!F5/'WORKMENS CLUB \"A\"'!G5)*3)))","v":48.285714285714285},null,{"$f":"IF('WORKMENS CLUB \"A\"'!J5=\"\",0,(SUM(('WORKMENS CLUB \"A\"'!J5/'WORKMENS CLUB \"A\"'!K5)*3)))","v":36.258620689655174},null,{"$f":"IF('WORKMENS CLUB \"A\"'!N5=\"\",0,(SUM(('WORKMENS CLUB \"A\"'!N5/'WORKMENS CLUB \"A\"'!O5)*3)))","v":48.906976744186039},null,{"$f":"IF('WORKMENS CLUB \"A\"'!R5=\"\",0,(SUM(('WORKMENS CLUB \"A\"'!R5/'WORKMENS CLUB \"A\"'!S5)*3)))","v":55.34210526315789},null,{"$f":"IF('WORKMENS CLUB \"A\"'!V5=\"\",0,(SUM(('WORKMENS CLUB \"A\"'!V5/'WORKMENS CLUB \"A\"'!W5)*3)))","v":44.857142857142861},null,{"$f":"IF('WORKMENS CLUB \"A\"'!Z5=\"\",0,(SUM(('WORKMENS CLUB \"A\"'!Z5/'WORKMENS CLUB \"A\"'!AA5)*3)))","v":43.153846153846153},null,{"$f":"IF('WORKMENS CLUB \"A\"'!AD5=\"\",0,(SUM(('WORKMENS CLUB \"A\"'!AD5/'WORKMENS CLUB \"A\"'!AE5)*3)))","v":43.3},null,{"$f":"IF('WORKMENS CLUB \"A\"'!AH5=\"\",0,(SUM(('WORKMENS CLUB \"A\"'!AH5/'WORKMENS CLUB \"A\"'!AI5)*3)))","v":70.099999999999994},null,{"$f":"IF('WORKMENS CLUB \"A\"'!AL5=\"\",0,(SUM(('WORKMENS CLUB \"A\"'!AL5/'WORKMENS CLUB \"A\"'!AM5)*3)))","v":0},null,{"$f":"IF('WORKMENS CLUB \"A\"'!AP5=\"\",0,(SUM(('WORKMENS CLUB \"A\"'!AP5/'WORKMENS CLUB \"A\"'!AQ5)*3)))","v":45.717391304347828},null,{"$f":"IF('WORKMENS CLUB \"A\"'!AT5=\"\",0,(SUM(('WORKMENS CLUB \"A\"'!AT5/'WORKMENS CLUB \"A\"'!AU5)*3)))","v":{"$error":"#DIV/0!"}},null,{"$f":"IF('WORKMENS CLUB \"A\"'!AX5=\"\",0,(SUM(('WORKMENS CLUB \"A\"'!AX5/'WORKMENS CLUB \"A\"'!AY5)*3)))","v":51.292682926829272},null,{"$f":"IF('WORKMENS CLUB \"A\"'!BB5=\"\",0,(SUM(('WORKMENS CLUB \"A\"'!BB5/'WORKMENS CLUB \"A\"'!BC5)*3)))","v":52.538461538461547},null,{"$f":"IF('WORKMENS CLUB \"A\"'!BF5=\"\",0,(SUM(('WORKMENS CLUB \"A\"'!BF5/'WORKMENS CLUB \"A\"'!BG5)*3)))","v":46.916666666666671},null,{"$f":"IF('WORKMENS CLUB \"A\"'!BJ5=\"\",0,(SUM(('WORKMENS CLUB \"A\"'!BJ5/'WORKMENS CLUB \"A\"'!BK5)*3)))","v":0},null,{"$f":"IF('WORKMENS CLUB \"A\"'!BN5=\"\",0,(SUM(('WORKMENS CLUB \"A\"'!BN5/'WORKMENS CLUB \"A\"'!BO5)*3)))","v":0},null,{"$f":"IF('WORKMENS CLUB \"A\"'!BR5=\"\",0,(SUM(('WORKMENS CLUB \"A\"'!BR5/'WORKMENS CLUB \"A\"'!BS5)*3)))","v":0},null,{"$f":"IF('WORKMENS CLUB \"A\"'!BV5=\"\",0,(SUM(('WORKMENS CLUB \"A\"'!BV5/'WORKMENS CLUB \"A\"'!BW5)*3)))","v":0},null,{"$f":"IF('WORKMENS CLUB \"A\"'!BZ5=\"\",0,(SUM(('WORKMENS CLUB \"A\"'!BZ5/'WORKMENS CLUB \"A\"'!CA5)*3)))","v":0},null,{"$f":"IF('WORKMENS CLUB \"A\"'!CD5=\"\",0,(SUM(('WORKMENS CLUB \"A\"'!CD5/'WORKMENS CLUB \"A\"'!CE5)*3)))","v":0},null,{"$f":"IF('WORKMENS CLUB \"A\"'!CH5=\"\",0,(SUM(('WORKMENS CLUB \"A\"'!CH5/'WORKMENS CLUB \"A\"'!CI5)*3)))","v":0}]
[null,{"$f":"IF('WORKMENS CLUB \"A\"'!B6=\"\",0,(SUM(('WORKMENS CLUB \"A\"'!B6/'WORKMENS CLUB \"A\"'!C6)*3)))","v":0},null,{"$f":"IF('WORKMENS CLUB \"A\"'!F6=\"\",0,(SUM(('WORKMENS CLUB \"A\"'!F6/'WORKMENS CLUB \"A\"'!G6)*3)))","v":0},null,{"$f":"IF('WORKMENS CLUB \"A\"'!J6=\"\",0,(SUM(('WORKMENS CLUB \"A\"'!J6/'WORKMENS CLUB \"A\"'!K6)*3)))","v":0},null,{"$f":"IF('WORKMENS CLUB \"A\"'!N6=\"\",0,(SUM(('WORKMENS CLUB \"A\"'!N6/'WORKMENS CLUB \"A\"'!O6)*3)))","v":45.555555555555557},null,{"$f":"IF('WORKMENS CLUB \"A\"'!R6=\"\",0,(SUM(('WORKMENS CLUB \"A\"'!R6/'WORKMENS CLUB \"A\"'!S6)*3)))","v":58.625},null,{"$f":"IF('WORKMENS CLUB \"A\"'!V6=\"\",0,(SUM(('WORKMENS CLUB \"A\"'!V6/'WORKMENS CLUB \"A\"'!W6)*3)))","v":0},null,{"$f":"IF('WORKMENS CLUB \"A\"'!Z6=\"\",0,(SUM(('WORKMENS CLUB \"A\"'!Z6/'WORKMENS CLUB \"A\"'!AA6)*3)))","v":0},null,{"$f":"IF('WORKMENS CLUB \"A\"'!AD6=\"\",0,(SUM(('WORKMENS CLUB \"A\"'!AD6/'WORKMENS CLUB \"A\"'!AE6)*3)))","v":58.416666666666664},null,{"$f":"IF('WORKMENS CLUB \"A\"'!AH6=\"\",0,(SUM(('WORKMENS CLUB \"A\"'!AH6/'WORKMENS CLUB \"A\"'!AI6)*3)))","v":43.6875},null,{"$f":"IF('WORKMENS CLUB \"A\"'!AL6=\"\",0,(SUM(('WORKMENS CLUB \"A\"'!AL6/'WORKMENS CLUB \"A\"'!AM6)*3)))","v":0},null,{"$f":"IF('WORKMENS CLUB \"A\"'!AP6=\"\",0,(SUM(('WORKMENS CLUB \"A\"'!AP6/'WORKMENS CLUB \"A\"'!AQ6)*3)))","v":49.5},null,{"$f":"IF('WORKMENS CLUB \"A\"'!AT6=\"\",0,(SUM(('WORKMENS CLUB \"A\"'!AT6/'WORKMENS CLUB \"A\"'!AU6)*3)))","v":0},null,{"$f":"IF('WORKMENS CLUB \"A\"'!AX6=\"\",0,(SUM(('WORKMENS CLUB \"A\"'!AX6/'WORKMENS CLUB \"A\"'!AY6)*3)))","v":0},null,{"$f":"IF('WORKMENS CLUB \"A\"'!BB6=\"\",0,(SUM(('WORKMENS CLUB \"A\"'!BB6/'WORKMENS CLUB \"A\"'!BC6)*3)))","v":0},null,{"$f":"IF('WORKMENS CLUB \"A\"'!BF6=\"\",0,(SUM(('WORKMENS CLUB \"A\"'!BF6/'WORKMENS CLUB \"A\"'!BG6)*3)))","v":0},null,{"$f":"IF('WORKMENS CLUB \"A\"'!BJ6=\"\",0,(SUM(('WORKMENS CLUB \"A\"'!BJ6/'WORKMENS CLUB \"A\"'!BK6)*3)))","v":0},null,{"$f":"IF('WORKMENS CLUB \"A\"'!BN6=\"\",0,(SUM(('WORKMENS CLUB \"A\"'!BN6/'WORKMENS CLUB \"A\"'!BO6)*3)))","v":45.888888888888886},null,{"$f":"IF('WORKMENS CLUB \"A\"'!BR6=\"\",0,(SUM(('WORKMENS CLUB \"A\"'!BR6/'WORKMENS CLUB \"A\"'!BS6)*3)))","v":0},null,{"$f":"IF('WORKMENS CLUB \"A\"'!BV6=\"\",0,(SUM(('WORKMENS CLUB \"A\"'!BV6/'WORKMENS CLUB \"A\"'!BW6)*3)))","v":0},null,{"$f":"IF('WORKMENS CLUB \"A\"'!BZ6=\"\",0,(SUM(('WORKMENS CLUB \"A\"'!BZ6/'WORKMENS CLUB \"A\"'!CA6)*3)))","v":0},null,{"$f":"IF('WORKMENS CLUB \"A\"'!CD6=\"\",0,(SUM(('WORKMENS CLUB \"A\"'!CD6/'WORKMENS CLUB \"A\"'!CE6)*3)))","v":0},null,{"$f":"IF('WORKMENS CLUB \"A\"'!CH6=\"\",0,(SUM(('WORKMENS CLUB \"A\"'!CH6/'WORKMENS CLUB \"A\"'!CI6)*3)))","v":0}]
[null,{"$f":"IF('WORKMENS CLUB \"A\"'!B7=\"\",0,(SUM(('WORKMENS CLUB \"A\"'!B7/'WORKMENS CLUB \"A\"'!C7)*3)))","v":0},null,{"$f":"IF('WORKMENS CLUB \"A\"'!F7=\"\",0,(SUM(('WORKMENS CLUB \"A\"'!F7/'WORKMENS CLUB \"A\"'!G7)*3)))","v":41.235294117647058},null,{"$f":"IF('WORKMENS CLUB \"A\"'!J7=\"\",0,(SUM(('WORKMENS CLUB \"A\"'!J7/'WORKMENS CLUB \"A\"'!K7)*3)))","v":32.353846153846156},null,{"$f":"IF('WORKMENS CLUB \"A\"'!N7=\"\",0,(SUM(('WORKMENS CLUB \"A\"'!N7/'WORKMENS CLUB \"A\"'!O7)*3)))","v":48.906976744186039},null,{"$f":"IF('WORKMENS CLUB \"A\"'!R7=\"\",0,(SUM(('WORKMENS CLUB \"A\"'!R7/'WORKMENS CLUB \"A\"'!S7)*3)))","v":45.5},null,{"$f":"IF('WORKMENS CLUB \"A\"'!V7=\"\",0,(SUM(('WORKMENS CLUB \"A\"'!V7/'WORKMENS CLUB \"A\"'!W7)*3)))","v":53.92307692307692},null,{"$f":"IF('WORKMENS CLUB \"A\"'!Z7=\"\",0,(SUM(('WORKMENS CLUB \"A\"'!Z7/'WORKMENS CLUB \"A\"'!AA7)*3)))","v":43.8125},null,{"$f":"IF('WORKMENS CLUB \"A\"'!AD7=\"\",0,(SUM(('WORKMENS CLUB \"A\"'!AD7/'WORKMENS CLUB \"A\"'!AE7)*3)))","v":56.837837837837839},null,{"$f":"IF('WORKMENS CLUB \"A\"'!AH7=\"\",0,(SUM(('WORKMENS CLUB \"A\"'!AH7/'WORKMENS CLUB \"A\"'!AI7)*3)))","v":43.8125},null,{"$f":"IF('WORKMENS CLUB \"A\"'!AL7=\"\",0,(SUM(('WORKMENS CLUB \"A\"'!AL7/'WORKMENS CLUB \"A\"'!AM7)*3)))","v":0},null,{"$f":"IF('WORKMENS CLUB \"A\"'!AP7=\"\",0,(SUM(('WORKMENS CLUB \"A\"'!AP7/'WORKMENS CLUB \"A\"'!AQ7)*3)))","v":57.75},null,{"$f":"IF('WORKMENS CLUB \"A\"'!AT7=\"\",0,(SUM(('WORKMENS CLUB \"A\"'!AT7/'WORKMENS CLUB \"A\"'!AU7)*3)))","v":51.769230769230766},null,{"$f":"IF('WORKMENS CLUB \"A\"'!AX7=\"\",0,(SUM(('WORKMENS CLUB \"A\"'!AX7/'WORKMENS CLUB \"A\"'!AY7)*3)))","v":47.785714285714285},null,{"$f":"IF('WORKMENS CLUB \"A\"'!BB7=\"\",0,(SUM(('WORKMENS CLUB \"A\"'!BB7/'WORKMENS CLUB \"A\"'!BC7)*3)))","v":39.25},null,{"$f":"IF('WORKMENS CLUB \"A\"'!BF7=\"\",0,(SUM(('WORKMENS CLUB \"A\"'!BF7/'WORKMENS CLUB \"A\"'!BG7)*3)))","v":67.838709677419359},null,{"$f":"IF('WORKMENS CLUB \"A\"'!BJ7=\"\",0,(SUM(('WORKMENS CLUB \"A\"'!BJ7/'WORKMENS CLUB \"A\"'!BK7)*3)))","v":70.099999999999994},null,{"$f":"IF('WORKMENS CLUB \"A\"'!BN7=\"\",0,(SUM(('WORKMENS CLUB \"A\"'!BN7/'WORKMENS CLUB \"A\"'!BO7)*3)))","v":66.111111111111114},null,{"$f":"IF('WORKMENS CLUB \"A\"'!BR7=\"\",0,(SUM(('WORKMENS CLUB \"A\"'!BR7/'WORKMENS CLUB \"A\"'!BS7)*3)))","v":46.733333333333334},null,{"$f":"IF('WORKMENS CLUB \"A\"'!BV7=\"\",0,(SUM(('WORKMENS CLUB \"A\"'!BV7/'WORKMENS CLUB \"A\"'!BW7)*3)))","v":0},null,{"$f":"IF('WORKMENS CLUB \"A\"'!BZ7=\"\",0,(SUM(('WORKMENS CLUB \"A\"'!BZ7/'WORKMENS CLUB \"A\"'!CA7)*3)))","v":0},null,{"$f":"IF('WORKMENS CLUB \"A\"'!CD7=\"\",0,(SUM(('WORKMENS CLUB \"A\"'!CD7/'WORKMENS CLUB \"A\"'!CE7)*3)))","v":0},null,{"$f":"IF('WORKMENS CLUB \"A\"'!CH7=\"\",0,(SUM(('WORKMENS CLUB \"A\"'!CH7/'WORKMENS CLUB \"A\"'!CI7)*3)))","v":0}]
[null,{"$f":"IF('WORKMENS CLUB \"A\"'!B8=\"\",0,(SUM(('WORKMENS CLUB \"A\"'!B8/'WORKMENS CLUB \"A\"'!C8)*3)))","v":0},null,{"$f":"IF('WORKMENS CLUB \"A\"'!F8=\"\",0,(SUM(('WORKMENS CLUB \"A\"'!F8/'WORKMENS CLUB \"A\"'!G8)*3)))","v":0},null,{"$f":"IF('WORKMENS CLUB \"A\"'!J8=\"\",0,(SUM(('WORKMENS CLUB \"A\"'!J8/'WORKMENS CLUB \"A\"'!K8)*3)))","v":0},null,{"$f":"IF('WORKMENS CLUB \"A\"'!N8=\"\",0,(SUM(('WORKMENS CLUB \"A\"'!N8/'WORKMENS CLUB \"A\"'!O8)*3)))","v":0},null,{"$f":"IF('WORKMENS CLUB \"A\"'!R8=\"\",0,(SUM(('WORKMENS CLUB \"A\"'!R8/'WORKMENS CLUB \"A\"'!S8)*3)))","v":35.615384615384613},null,{"$f":"IF('WORKMENS CLUB \"A\"'!V8=\"\",0,(SUM(('WORKMENS CLUB \"A\"'!V8/'WORKMENS CLUB \"A\"'!W8)*3)))","v":38.5},null,{"$f":"IF('WORKMENS CLUB \"A\"'!Z8=\"\",0,(SUM(('WORKMENS CLUB \"A\"'!Z8/'WORKMENS CLUB \"A\"'!AA8)*3)))","v":0},null,{"$f":"IF('WORKMENS CLUB \"A\"'!AD8=\"\",0,(SUM(('WORKMENS CLUB \"A\"'!AD8/'WORKMENS CLUB \"A\"'!AE8)*3)))","v":0},null,{"$f":"IF('WORKMENS CLUB \"A\"'!AH8=\"\",0,(SUM(('WORKMENS CLUB \"A\"'!AH8/'WORKMENS CLUB \"A\"'!AI8)*3)))","v":38.666666666666671},null,{"$f":"IF('WORKMENS CLUB \"A\"'!AL8=\"\",0,(SUM(('WORKMENS CLUB \"A\"'!AL8/'WORKMENS CLUB \"A\"'!AM8)*3)))","v":0},null,{"$f":"IF('WORKMENS CLUB \"A\"'!AP8=\"\",0,(SUM(('WORKMENS CLUB \"A\"'!AP8/'WORKMENS CLUB \"A\"'!AQ8)*3)))","v":0},null,{"$f":"IF('WORKMENS CLUB \"A\"'!AT8=\"\",0,(SUM(('WORKMENS CLUB \"A\"'!AT8/'WORKMENS CLUB \"A\"'!AU8)*3)))","v":48.906976744186039},null,{"$f":"IF('WORKMENS CLUB \"A\"'!AX8=\"\",0,(SUM(('WORKMENS CLUB \"A\"'!AX8/'WORKMENS CLUB \"A\"'!AY8)*3)))","v":0},null,{"$f":"IF('WORKMENS CLUB \"A\"'!BB8=\"\",0,(SUM(('WORKMENS CLUB \"A\"'!BB8/'WORKMENS CLUB \"A\"'!BC8)*3)))","v":0},null,{"$f":"IF('WORKMENS CLUB \"A\"'!BF8=\"\",0,(SUM(('WORKMENS CLUB \"A\"'!BF8/'WORKMENS CLUB \"A\"'!BG8)*3)))","v":55.916666666666671},null,{"$f":"IF('WORKMENS CLUB \"A\"'!BJ8=\"\",0,(SUM(('WORKMENS CLUB \"A\"'!BJ8/'WORKMENS CLUB \"A\"'!BK8)*3)))","v":33.285714285714285},null,{"$f":"IF('WORKMENS CLUB \"A\"'!BN8=\"\",0,(SUM(('WORKMENS CLUB \"A\"'!BN8/'WORKMENS CLUB \"A\"'!BO8)*3)))","v":0},null,{"$f":"IF('WORKMENS CLUB \"A\"'!BR8=\"\",0,(SUM(('WORKMENS CLUB \"A\"'!BR8/'WORKMENS CLUB \"A\"'!BS8)*3)))","v":45.717391304347828},null,{"$f":"IF('WORKMENS CLUB \"A\"'!BV8=\"\",0,(SUM(('WORKMENS CLUB \"A\"'!BV8/'WORKMENS CLUB \"A\"'!BW8)*3)))","v":0},null,{"$f":"IF('WORKMENS CLUB \"A\"'!BZ8=\"\",0,(SUM(('WORKMENS CLUB \"A\"'!BZ8/'WORKMENS CLUB \"A\"'!CA8)*3)))","v":0},null,{"$f":"IF('WORKMENS CLUB \"A\"'!CD8=\"\",0,(SUM(('WORKMENS CLUB \"A\"'!CD8/'WORKMENS CLUB \"A\"'!CE8)*3)))","v":0},null,{"$f":"IF('WORKMENS CLUB \"A\"'!CH8=\"\",0,(SUM(('WORKMENS CLUB \"A\"'!CH8/'WORKMENS CLUB \"A\"'!CI8)*3)))","v":0}]
[null,{"$f":"IF('WORKMENS CLUB \"A\"'!B9=\"\",0,(SUM(('WORKMENS CLUB \"A\"'!B9/'WORKMENS CLUB \"A\"'!C9)*3)))","v":0},null,{"$f":"IF('WORKMENS CLUB \"A\"'!F9=\"\",0,(SUM(('WORKMENS CLUB \"A\"'!F9/'WORKMENS CLUB \"A\"'!G9)*3)))","v":0},null,{"$f":"IF('WORKMENS CLUB \"A\"'!J9=\"\",0,(SUM(('WORKMENS CLUB \"A\"'!J9/'WORKMENS CLUB \"A\"'!K9)*3)))","v":0},null,{"$f":"IF('WORKMENS CLUB \"A\"'!N9=\"\",0,(SUM(('WORKMENS CLUB \"A\"'!N9/'WORKMENS CLUB \"A\"'!O9)*3)))","v":0},null,{"$f":"IF('WORKMENS CLUB \"A\"'!R9=\"\",0,(SUM(('WORKMENS CLUB \"A\"'!R9/'WORKMENS CLUB \"A\"'!S9)*3)))","v":0},null,{"$f":"IF('WORKMENS CLUB \"A\"'!V9=\"\",0,(SUM(('WORKMENS CLUB \"A\"'!V9/'WORKMENS CLUB \"A\"'!W9)*3)))","v":0},null,{"$f":"IF('WORKMENS CLUB \"A\"'!Z9=\"\",0,(SUM(('WORKMENS CLUB \"A\"'!Z9/'WORKMENS CLUB \"A\"'!AA9)*3)))","v":37.5},null,{"$f":"IF('WORKMENS CLUB \"A\"'!AD9=\"\",0,(SUM(('WORKMENS CLUB \"A\"'!AD9/'WORKMENS CLUB \"A\"'!AE9)*3)))","v":0},null,{"$f":"IF('WORKMENS CLUB \"A\"'!AH9=\"\",0,(SUM(('WORKMENS CLUB \"A\"'!AH9/'WORKMENS CLUB \"A\"'!AI9)*3)))","v":0},null,{"$f":"IF('WORKMENS CLUB \"A\"'!AL9=\"\",0,(SUM(('WORKMENS CLUB \"A\"'!AL9/'WORKMENS CLUB \"A\"'!AM9)*3)))","v":0},null,{"$f":"IF('WORKMENS CLUB \"A\"'!AP9=\"\",0,(SUM(('WORKMENS CLUB \"A\"'!AP9/'WORKMENS CLUB \"A\"'!AQ9)*3)))","v":0},null,{"$f":"IF('WORKMENS CLUB \"A\"'!AT9=\"\",0,(SUM(('WORKMENS CLUB \"A\"'!AT9/'WORKMENS CLUB \"A\"'!AU9)*3)))","v":0},null,{"$f":"IF('WORKMENS CLUB \"A\"'!AX9=\"\",0,(SUM(('WORKMENS CLUB \"A\"'!AX9/'WORKMENS CLUB \"A\"'!AY9)*3)))","v":0},null,{"$f":"IF('WORKMENS CLUB \"A\"'!BB9=\"\",0,(SUM(('WORKMENS CLUB \"A\"'!BB9/'WORKMENS CLUB \"A\"'!BC9)*3)))","v":0},null,{"$f":"IF('WORKMENS CLUB \"A\"'!BF9=\"\",0,(SUM(('WORKMENS CLUB \"A\"'!BF9/'WORKMENS CLUB \"A\"'!BG9)*3)))","v":0},null,{"$f":"IF('WORKMENS CLUB \"A\"'!BJ9=\"\",0,(SUM(('WORKMENS CLUB \"A\"'!BJ9/'WORKMENS CLUB \"A\"'!BK9)*3)))","v":0},null,{"$f":"IF('WORKMENS CLUB \"A\"'!BN9=\"\",0,(SUM(('WORKMENS CLUB \"A\"'!BN9/'WORKMENS CLUB \"A\"'!BO9)*3)))","v":0},null,{"$f":"IF('WORKMENS CLUB \"A\"'!BR9=\"\",0,(SUM(('WORKMENS CLUB \"A\"'!BR9/'WORKMENS CLUB \"A\"'!BS9)*3)))","v":0},null,{"$f":"IF('WORKMENS CLUB \"A\"'!BV9=\"\",0,(SUM(('WORKMENS CLUB \"A\"'!BV9/'WORKMENS CLUB \"A\"'!BW9)*3)))","v":0},null,{"$f":"IF('WORKMENS CLUB \"A\"'!BZ9=\"\",0,(SUM(('WORKMENS CLUB \"A\"'!BZ9/'WORKMENS CLUB \"A\"'!CA9)*3)))","v":0},null,{"$f":"IF('WORKMENS CLUB \"A\"'!CD9=\"\",0,(SUM(('WORKMENS CLUB \"A\"'!CD9/'WORKMENS CLUB \"A\"'!CE9)*3)))","v":0},null,{"$f":"IF('WORKMENS CLUB \"A\"'!CH9=\"\",0,(SUM(('WORKMENS CLUB \"A\"'!CH9/'WORKMENS CLUB \"A\"'!CI9)*3)))","v":0}]
[null,{"$f":"IF('WORKMENS CLUB \"A\"'!B10=\"\",0,(SUM(('WORKMENS CLUB \"A\"'!B10/'WORKMENS CLUB \"A\"'!C10)*3)))","v":0},null,{"$f":"IF('WORKMENS CLUB \"A\"'!F10=\"\",0,(SUM(('WORKMENS CLUB \"A\"'!F10/'WORKMENS CLUB \"A\"'!G10)*3)))","v":48.906976744186039},null,{"$f":"IF('WORKMENS CLUB \"A\"'!J10=\"\",0,(SUM(('WORKMENS CLUB \"A\"'!J10/'WORKMENS CLUB \"A\"'!K10)*3)))","v":37.553571428571431},null,{"$f":"IF('WORKMENS CLUB \"A\"'!N10=\"\",0,(SUM(('WORKMENS CLUB \"A\"'!N10/'WORKMENS CLUB \"A\"'!O10)*3)))","v":0},null,{"$f":"IF('WORKMENS CLUB \"A\"'!R10=\"\",0,(SUM(('WORKMENS CLUB \"A\"'!R10/'WORKMENS CLUB \"A\"'!S10)*3)))","v":0},null,{"$f":"IF('WORKMENS CLUB \"A\"'!V10=\"\",0,(SUM(('WORKMENS CLUB \"A\"'!V10/'WORKMENS CLUB \"A\"'!W10)*3)))","v":0},null,{"$f":"IF('WORKMENS CLUB \"A\"'!Z10=\"\",0,(SUM(('WORKMENS CLUB \"A\"'!Z10/'WORKMENS CLUB \"A\"'!AA10)*3)))","v":0},null,{"$f":"IF('WORKMENS CLUB \"A\"'!AD10=\"\",0,(SUM(('WORKMENS CLUB \"A\"'!AD10/'WORKMENS CLUB \"A\"'!AE10)*3)))","v":0},null,{"$f":"IF('WORKMENS CLUB \"A\"'!AH10=\"\",0,(SUM(('WORKMENS CLUB \"A\"'!AH10/'WORKMENS CLUB \"A\"'!AI10)*3)))","v":0},null,{"$f":"IF('WORKMENS CLUB \"A\"'!AL10=\"\",0,(SUM(('WORKMENS CLUB \"A\"'!AL10/'WORKMENS CLUB \"A\"'!AM10)*3)))","v":0},null,{"$f":"IF('WORKMENS CLUB \"A\"'!AP10=\"\",0,(SUM(('WORKMENS CLUB \"A\"'!AP10/'WORKMENS CLUB \"A\"'!AQ10)*3)))","v":0},null,{"$f":"IF('WORKMENS CLUB \"A\"'!AT10=\"\",0,(SUM(('WORKMENS CLUB \"A\"'!AT10/'WORKMENS CLUB \"A\"'!AU10)*3)))","v":0},null,{"$f":"IF('WORKMENS CLUB \"A\"'!AX10=\"\",0,(SUM(('WORKMENS CLUB \"A\"'!AX10/'WORKMENS CLUB \"A\"'!AY10)*3)))","v":46.733333333333334},null,{"$f":"IF('WORKMENS CLUB \"A\"'!BB10=\"\",0,(SUM(('WORKMENS CLUB \"A\"'!BB10/'WORKMENS CLUB \"A\"'!BC10)*3)))","v":60.5},null,{"$f":"IF('WORKMENS CLUB \"A\"'!BF10=\"\",0,(SUM(('WORKMENS CLUB \"A\"'!BF10/'WORKMENS CLUB \"A\"'!BG10)*3)))","v":45.717391304347828},null,{"$f":"IF('WORKMENS CLUB \"A\"'!BJ10=\"\",0,(SUM(('WORKMENS CLUB \"A\"'!BJ10/'WORKMENS CLUB \"A\"'!BK10)*3)))","v":61.852941176470587},null,{"$f":"IF('WORKMENS CLUB \"A\"'!BN10=\"\",0,(SUM(('WORKMENS CLUB \"A\"'!BN10/'WORKMENS CLUB \"A\"'!BO10)*3)))","v":55.36363636363636},null,{"$f":"IF('WORKMENS CLUB \"A\"'!BR10=\"\",0,(SUM(('WORKMENS CLUB \"A\"'!BR10/'WORKMENS CLUB \"A\"'!BS10)*3)))","v":55.75},null,{"$f":"IF('WORKMENS CLUB \"A\"'!BV10=\"\",0,(SUM(('WORKMENS CLUB \"A\"'!BV10/'WORKMENS CLUB \"A\"'!BW10)*3)))","v":0},null,{"$f":"IF('WORKMENS CLUB \"A\"'!BZ10=\"\",0,(SUM(('WORKMENS CLUB \"A\"'!BZ10/'WORKMENS CLUB \"A\"'!CA10)*3)))","v":0},null,{"$f":"IF('WORKMENS CLUB \"A\"'!CD10=\"\",0,(SUM(('WORKMENS CLUB \"A\"'!CD10/'WORKMENS CLUB \"A\"'!CE10)*3)))","v":0},null,{"$f":"IF('WORKMENS CLUB \"A\"'!CH10=\"\",0,(SUM(('WORKMENS CLUB \"A\"'!CH10/'WORKMENS CLUB \"A\"'!CI10)*3)))","v":0}]
[null,{"$f":"IF('WORKMENS CLUB \"A\"'!B11=\"\",0,(SUM(('WORKMENS CLUB \"A\"'!B11/'WORKMENS CLUB \"A\"'!C11)*3)))","v":0},null,{"$f":"IF('WORKMENS CLUB \"A\"'!F11=\"\",0,(SUM(('WORKMENS CLUB \"A\"'!F11/'WORKMENS CLUB \"A\"'!G11)*3)))","v":56.837837837837839},null,{"$f":"IF('WORKMENS CLUB \"A\"'!J11=\"\",0,(SUM(('WORKMENS CLUB \"A\"'!J11/'WORKMENS CLUB \"A\"'!K11)*3)))","v":48.300000000000004},null,{"$f":"IF('WORKMENS CLUB \"A\"'!N11=\"\",0,(SUM(('WORKMENS CLUB \"A\"'!N11/'WORKMENS CLUB \"A\"'!O11)*3)))","v":45.717391304347828},null,{"$f":"IF('WORKMENS CLUB \"A\"'!R11=\"\",0,(SUM(('WORKMENS CLUB \"A\"'!R11/'WORKMENS CLUB \"A\"'!S11)*3)))","v":56.837837837837839},null,{"$f":"IF('WORKMENS CLUB \"A\"'!V11=\"\",0,(SUM(('WORKMENS CLUB \"A\"'!V11/'WORKMENS CLUB \"A\"'!W11)*3)))","v":67.900000000000006},null,{"$f":"IF('WORKMENS CLUB \"A\"'!Z11=\"\",0,(SUM(('WORKMENS CLUB \"A\"'!Z11/'WORKMENS CLUB \"A\"'!AA11)*3)))","v":38.944444444444443},null,{"$f":"IF('WORKMENS CLUB \"A\"'!AD11=\"\",0,(SUM(('WORKMENS CLUB \"A\"'!AD11/'WORKMENS CLUB \"A\"'!AE11)*3)))","v":51.46153846153846},null,{"$f":"IF('WORKMENS CLUB \"A\"'!AH11=\"\",0,(SUM(('WORKMENS CLUB \"A\"'!AH11/'WORKMENS CLUB \"A\"'!AI11)*3)))","v":77.444444444444443},null,{"$f":"IF('WORKMENS CLUB \"A\"'!AL11=\"\",0,(SUM(('WORKMENS CLUB \"A\"'!AL11/'WORKMENS CLUB \"A\"'!AM11)*3)))","v":0},null,{"$f":"IF('WORKMENS CLUB \"A\"'!AP11=\"\",0,(SUM(('WORKMENS CLUB \"A\"'!AP11/'WORKMENS CLUB \"A\"'!AQ11)*3)))","v":47.795454545454547},null,{"$f":"IF('WORKMENS CLUB \"A\"'!AT11=\"\",0,(SUM(('WORKMENS CLUB \"A\"'!AT11/'WORKMENS CLUB \"A\"'!AU11)*3)))","v":56.837837837837839},null,{"$f":"IF('WORKMENS CLUB \"A\"'!AX11=\"\",0,(SUM(('WORKMENS CLUB \"A\"'!AX11/'WORKMENS CLUB \"A\"'!AY11)*3)))","v":72.517241379310349},null,{"$f":"IF('WORKMENS CLUB \"A\"'!BB11=\"\",0,(SUM(('WORKMENS CLUB \"A\"'!BB11/'WORKMENS CLUB \"A\"'!BC11)*3)))","v":51.230769230769226},null,{"$f":"IF('WORKMENS CLUB \"A\"'!BF11=\"\",0,(SUM(('WORKMENS CLUB \"A\"'!BF11/'WORKMENS CLUB \"A\"'!BG11)*3)))","v":0},null,{"$f":"IF('WORKMENS CLUB \"A\"'!BJ11=\"\",0,(SUM(('WORKMENS CLUB \"A\"'!BJ11/'WORKMENS CLUB \"A\"'!BK11)*3)))","v":38.833333333333336},null,{"$f":"IF('WORKMENS CLUB \"A\"'!BN11=\"\",0,(SUM(('WORKMENS CLUB \"A\"'!BN11/'WORKMENS CLUB \"A\"'!BO11)*3)))","v":63.727272727272727},null,{"$f":"IF('WORKMENS CLUB \"A\"'!BR11=\"\",0,(SUM(('WORKMENS CLUB \"A\"'!BR11/'WORKMENS CLUB \"A\"'!BS11)*3)))","v":81.571428571428569},null,{"$f":"IF('WORKMENS CLUB \"A\"'!BV11=\"\",0,(SUM(('WORKMENS CLUB \"A\"'!BV11/'WORKMENS CLUB \"A\"'!BW11)*3)))","v":0},null,{"$f":"IF('WORKMENS CLUB \"A\"'!BZ11=\"\",0,(SUM(('WORKMENS CLUB \"A\"'!BZ11/'WORKMENS CLUB \"A\"'!CA11)*3)))","v":0},null,{"$f":"IF('WORKMENS CLUB \"A\"'!CD11=\"\",0,(SUM(('WORKMENS CLUB \"A\"'!CD11/'WORKMENS CLUB \"A\"'!CE11)*3)))","v":0},null,{"$f":"IF('WORKMENS CLUB \"A\"'!CH11=\"\",0,(SUM(('WORKMENS CLUB \"A\"'!CH11/'WORKMENS CLUB \"A\"'!CI11)*3)))","v":0}]
[null,{"$f":"IF('WORKMENS CLUB \"A\"'!B12=\"\",0,(SUM(('WORKMENS CLUB \"A\"'!B12/'WORKMENS CLUB \"A\"'!C12)*3)))","v":0},null,{"$f":"IF('WORKMENS CLUB \"A\"'!F12=\"\",0,(SUM(('WORKMENS CLUB \"A\"'!F12/'WORKMENS CLUB \"A\"'!G12)*3)))","v":0},null,{"$f":"IF('WORKMENS CLUB \"A\"'!J12=\"\",0,(SUM(('WORKMENS CLUB \"A\"'!J12/'WORKMENS CLUB \"A\"'!K12)*3)))","v":0},null,{"$f":"IF('WORKMENS CLUB \"A\"'!N12=\"\",0,(SUM(('WORKMENS CLUB \"A\"'!N12/'WORKMENS CLUB \"A\"'!O12)*3)))","v":0},null,{"$f":"IF('WORKMENS CLUB \"A\"'!R12=\"\",0,(SUM(('WORKMENS CLUB \"A\"'!R12/'WORKMENS CLUB \"A\"'!S12)*3)))","v":0},null,{"$f":"IF('WORKMENS CLUB \"A\"'!V12=\"\",0,(SUM(('WORKMENS CLUB \"A\"'!V12/'WORKMENS CLUB \"A\"'!W12)*3)))","v":0},null,{"$f":"IF('WORKMENS CLUB \"A\"'!Z12=\"\",0,(SUM(('WORKMENS CLUB \"A\"'!Z12/'WORKMENS CLUB \"A\"'!AA12)*3)))","v":0},null,{"$f":"IF('WORKMENS CLUB \"A\"'!AD12=\"\",0,(SUM(('WORKMENS CLUB \"A\"'!AD12/'WORKMENS CLUB \"A\"'!AE12)*3)))","v":0},null,{"$f":"IF('WORKMENS CLUB \"A\"'!AH12=\"\",0,(SUM(('WORKMENS CLUB \"A\"'!AH12/'WORKMENS CLUB \"A\"'!AI12)*3)))","v":0},null,{"$f":"IF('WORKMENS CLUB \"A\"'!AL12=\"\",0,(SUM(('WORKMENS CLUB \"A\"'!AL12/'WORKMENS CLUB \"A\"'!AM12)*3)))","v":0},null,{"$f":"IF('WORKMENS CLUB \"A\"'!AP12=\"\",0,(SUM(('WORKMENS CLUB \"A\"'!AP12/'WORKMENS CLUB \"A\"'!AQ12)*3)))","v":0},null,{"$f":"IF('WORKMENS CLUB \"A\"'!AT12=\"\",0,(SUM(('WORKMENS CLUB \"A\"'!AT12/'WORKMENS CLUB \"A\"'!AU12)*3)))","v":0},null,{"$f":"IF('WORKMENS CLUB \"A\"'!AX12=\"\",0,(SUM(('WORKMENS CLUB \"A\"'!AX12/'WORKMENS CLUB \"A\"'!AY12)*3)))","v":0},null,{"$f":"IF('WORKMENS CLUB \"A\"'!BB12=\"\",0,(SUM(('WORKMENS CLUB \"A\"'!BB12/'WORKMENS CLUB \"A\"'!BC12)*3)))","v":0},null,{"$f":"IF('WORKMENS CLUB \"A\"'!BF12=\"\",0,(SUM(('WORKMENS CLUB \"A\"'!BF12/'WORKMENS CLUB \"A\"'!BG12)*3)))","v":0},null,{"$f":"IF('WORKMENS CLUB \"A\"'!BJ12=\"\",0,(SUM(('WORKMENS CLUB \"A\"'!BJ12/'WORKMENS CLUB \"A\"'!BK12)*3)))","v":0},null,{"$f":"IF('WORKMENS CLUB \"A\"'!BN12=\"\",0,(SUM(('WORKMENS CLUB \"A\"'!BN12/'WORKMENS CLUB \"A\"'!BO12)*3)))","v":0},null,{"$f":"IF('WORKMENS CLUB \"A\"'!BR12=\"\",0,(SUM(('WORKMENS CLUB \"A\"'!BR12/'WORKMENS CLUB \"A\"'!BS12)*3)))","v":0},null,{"$f":"IF('WORKMENS CLUB \"A\"'!BV12=\"\",0,(SUM(('WORKMENS CLUB \"A\"'!BV12/'WORKMENS CLUB \"A\"'!BW12)*3)))","v":0},null,{"$f":"IF('WORKMENS CLUB \"A\"'!BZ12=\"\",0,(SUM(('WORKMENS CLUB \"A\"'!BZ12/'WORKMENS CLUB \"A\"'!CA12)*3)))","v":0},null,{"$f":"IF('WORKMENS CLUB \"A\"'!CD12=\"\",0,(SUM(('WORKMENS CLUB \"A\"'!CD12/'WORKMENS CLUB \"A\"'!CE12)*3)))","v":0},null,{"$f":"IF('WORKMENS CLUB \"A\"'!CH12=\"\",0,(SUM(('WORKMENS CLUB \"A\"'!CH12/'WORKMENS CLUB \"A\"'!CI12)*3)))","v":0}]
[null,{"$f":"IF('WORKMENS CLUB \"A\"'!B13=\"\",0,(SUM(('WORKMENS CLUB \"A\"'!B13/'WORKMENS CLUB \"A\"'!C13)*3)))","v":0},null,{"$f":"IF('WORKMENS CLUB \"A\"'!F13=\"\",0,(SUM(('WORKMENS CLUB \"A\"'!F13/'WORKMENS CLUB \"A\"'!G13)*3)))","v":0},null,{"$f":"IF('WORKMENS CLUB \"A\"'!J13=\"\",0,(SUM(('WORKMENS CLUB \"A\"'!J13/'WORKMENS CLUB \"A\"'!K13)*3)))","v":0},null,{"$f":"IF('WORKMENS CLUB \"A\"'!N13=\"\",0,(SUM(('WORKMENS CLUB \"A\"'!N13/'WORKMENS CLUB \"A\"'!O13)*3)))","v":0},null,{"$f":"IF('WORKMENS CLUB \"A\"'!R13=\"\",0,(SUM(('WORKMENS CLUB \"A\"'!R13/'WORKMENS CLUB \"A\"'!S13)*3)))","v":0},null,{"$f":"IF('WORKMENS CLUB \"A\"'!V13=\"\",0,(SUM(('WORKMENS CLUB \"A\"'!V13/'WORKMENS CLUB \"A\"'!W13)*3)))","v":0},null,{"$f":"IF('WORKMENS CLUB \"A\"'!Z13=\"\",0,(SUM(('WORKMENS CLUB \"A\"'!Z13/'WORKMENS CLUB \"A\"'!AA13)*3)))","v":0},null,{"$f":"IF('WORKMENS CLUB \"A\"'!AD13=\"\",0,(SUM(('WORKMENS CLUB \"A\"'!AD13/'WORKMENS CLUB \"A\"'!AE13)*3)))","v":0},null,{"$f":"IF('WORKMENS CLUB \"A\"'!AH13=\"\",0,(SUM(('WORKMENS CLUB \"A\"'!AH13/'WORKMENS CLUB \"A\"'!AI13)*3)))","v":0},null,{"$f":"IF('WORKMENS CLUB \"A\"'!AL13=\"\",0,(SUM(('WORKMENS CLUB \"A\"'!AL13/'WORKMENS CLUB \"A\"'!AM13)*3)))","v":0},null,{"$f":"IF('WORKMENS CLUB \"A\"'!AP13=\"\",0,(SUM(('WORKMENS CLUB \"A\"'!AP13/'WORKMENS CLUB \"A\"'!AQ13)*3)))","v":0},null,{"$f":"IF('WORKMENS CLUB \"A\"'!AT13=\"\",0,(SUM(('WORKMENS CLUB \"A\"'!AT13/'WORKMENS CLUB \"A\"'!AU13)*3)))","v":0},null,{"$f":"IF('WORKMENS CLUB \"A\"'!AX13=\"\",0,(SUM(('WORKMENS CLUB \"A\"'!AX13/'WORKMENS CLUB \"A\"'!AY13)*3)))","v":0},null,{"$f":"IF('WORKMENS CLUB \"A\"'!BB13=\"\",0,(SUM(('WORKMENS CLUB \"A\"'!BB13/'WORKMENS CLUB \"A\"'!BC13)*3)))","v":0},null,{"$f":"IF('WORKMENS CLUB \"A\"'!BF13=\"\",0,(SUM(('WORKMENS CLUB \"A\"'!BF13/'WORKMENS CLUB \"A\"'!BG13)*3)))","v":0},null,{"$f":"IF('WORKMENS CLUB \"A\"'!BJ13=\"\",0,(SUM(('WORKMENS CLUB \"A\"'!BJ13/'WORKMENS CLUB \"A\"'!BK13)*3)))","v":0},null,{"$f":"IF('WORKMENS CLUB \"A\"'!BN13=\"\",0,(SUM(('WORKMENS CLUB \"A\"'!BN13/'WORKMENS CLUB \"A\"'!BO13)*3)))","v":0},null,{"$f":"IF('WORKMENS CLUB \"A\"'!BR13=\"\",0,(SUM(('WORKMENS CLUB \"A\"'!BR13/'WORKMENS CLUB \"A\"'!BS13)*3)))","v":0},null,{"$f":"IF('WORKMENS CLUB \"A\"'!BV13=\"\",0,(SUM(('WORKMENS CLUB \"A\"'!BV13/'WORKMENS CLUB \"A\"'!BW13)*3)))","v":0},null,{"$f":"IF('WORKMENS CLUB \"A\"'!BZ13=\"\",0,(SUM(('WORKMENS CLUB \"A\"'!BZ13/'WORKMENS CLUB \"A\"'!CA13)*3)))","v":0},null,{"$f":"IF('WORKMENS CLUB \"A\"'!CD13=\"\",0,(SUM(('WORKMENS CLUB \"A\"'!CD13/'WORKMENS CLUB \"A\"'!CE13)*3)))","v":0},null,{"$f":"IF('WORKMENS CLUB \"A\"'!CH13=\"\",0,(SUM(('WORKMENS CLUB \"A\"'!CH13/'WORKMENS CLUB \"A\"'!CI13)*3)))","v":0}]
[null,{"$f":"IF('WORKMENS CLUB \"A\"'!B14=\"\",0,(SUM(('WORKMENS CLUB \"A\"'!B14/'WORKMENS CLUB \"A\"'!C14)*3)))","v":0},null,{"$f":"IF('WORKMENS CLUB \"A\"'!F14=\"\",0,(SUM(('WORKMENS CLUB \"A\"'!F14/'WORKMENS CLUB \"A\"'!G14)*3)))","v":0},null,{"$f":"IF('WORKMENS CLUB \"A\"'!J14=\"\",0,(SUM(('WORKMENS CLUB \"A\"'!J14/'WORKMENS CLUB \"A\"'!K14)*3)))","v":0},null,{"$f":"IF('WORKMENS CLUB \"A\"'!N14=\"\",0,(SUM(('WORKMENS CLUB \"A\"'!N14/'WORKMENS CLUB \"A\"'!O14)*3)))","v":0},null,{"$f":"IF('WORKMENS CLUB \"A\"'!R14=\"\",0,(SUM(('WORKMENS CLUB \"A\"'!R14/'WORKMENS CLUB \"A\"'!S14)*3)))","v":0},null,{"$f":"IF('WORKMENS CLUB \"A\"'!V14=\"\",0,(SUM(('WORKMENS CLUB \"A\"'!V14/'WORKMENS CLUB \"A\"'!W14)*3)))","v":0},null,{"$f":"IF('WORKMENS CLUB \"A\"'!Z14=\"\",0,(SUM(('WORKMENS CLUB \"A\"'!Z14/'WORKMENS CLUB \"A\"'!AA14)*3)))","v":0},null,{"$f":"IF('WORKMENS CLUB \"A\"'!AD14=\"\",0,(SUM(('WORKMENS CLUB \"A\"'!AD14/'WORKMENS CLUB \"A\"'!AE14)*3)))","v":0},null,{"$f":"IF('WORKMENS CLUB \"A\"'!AH14=\"\",0,(SUM(('WORKMENS CLUB \"A\"'!AH14/'WORKMENS CLUB \"A\"'!AI14)*3)))","v":0},null,{"$f":"IF('WORKMENS CLUB \"A\"'!AL14=\"\",0,(SUM(('WORKMENS CLUB \"A\"'!AL14/'WORKMENS CLUB \"A\"'!AM14)*3)))","v":0},null,{"$f":"IF('WORKMENS CLUB \"A\"'!AP14=\"\",0,(SUM(('WORKMENS CLUB \"A\"'!AP14/'WORKMENS CLUB \"A\"'!AQ14)*3)))","v":0},null,{"$f":"IF('WORKMENS CLUB \"A\"'!AT14=\"\",0,(SUM(('WORKMENS CLUB \"A\"'!AT14/'WORKMENS CLUB \"A\"'!AU14)*3)))","v":0},null,{"$f":"IF('WORKMENS CLUB \"A\"'!AX14=\"\",0,(SUM(('WORKMENS CLUB \"A\"'!AX14/'WORKMENS CLUB \"A\"'!AY14)*3)))","v":0},null,{"$f":"IF('WORKMENS CLUB \"A\"'!BB14=\"\",0,(SUM(('WORKMENS CLUB \"A\"'!BB14/'WORKMENS CLUB \"A\"'!BC14)*3)))","v":0},null,{"$f":"IF('WORKMENS CLUB \"A\"'!BF14=\"\",0,(SUM(('WORKMENS CLUB \"A\"'!BF14/'WORKMENS CLUB \"A\"'!BG14)*3)))","v":0},null,{"$f":"IF('WORKMENS CLUB \"A\"'!BJ14=\"\",0,(SUM(('WORKMENS CLUB \"A\"'!BJ14/'WORKMENS CLUB \"A\"'!BK14)*3)))","v":0},null,{"$f":"IF('WORKMENS CLUB \"A\"'!BN14=\"\",0,(SUM(('WORKMENS CLUB \"A\"'!BN14/'WORKMENS CLUB \"A\"'!BO14)*3)))","v":0},null,{"$f":"IF('WORKMENS CLUB \"A\"'!BR14=\"\",0,(SUM(('WORKMENS CLUB \"A\"'!BR14/'WORKMENS CLUB \"A\"'!BS14)*3)))","v":0},null,{"$f":"IF('WORKMENS CLUB \"A\"'!BV14=\"\",0,(SUM(('WORKMENS CLUB \"A\"'!BV14/'WORKMENS CLUB \"A\"'!BW14)*3)))","v":0},null,{"$f":"IF('WORKMENS CLUB \"A\"'!BZ14=\"\",0,(SUM(('WORKMENS CLUB \"A\"'!BZ14/'WORKMENS CLUB \"A\"'!CA14)*3)))","v":0},null,{"$f":"IF('WORKMENS CLUB \"A\"'!CD14=\"\",0,(SUM(('WORKMENS CLUB \"A\"'!CD14/'WORKMENS CLUB \"A\"'!CE14)*3)))","v":0},null,{"$f":"IF('WORKMENS CLUB \"A\"'!CH14=\"\",0,(SUM(('WORKMENS CLUB \"A\"'!CH14/'WORKMENS CLUB \"A\"'!CI14)*3)))","v":0}]
[]
["RAFA B","11/09/2006\nV\nRAFA 'A' (A)"]
[null,"W/L","AVG","W/L","AVG","W/L","AVG","W/L","AVG","W/L","AVG","W/L","AVG","W/L","AVG","W/L","AVG","W/L","AVG","W/L","AVG","W/L","AVG","W/L","AVG","W/L","AVG","W/L","AVG","W/L","AVG","W/L","AVG","W/L","AVG","W/L","AVG","W/L","AVG","W/L","AVG","W/L","AVG","W/L","AVG"]
[{"$f":"'BUCK INN'!A3","v":"Jim Timmons"},{"$f":"IF(C256=1,B256,\"\")","v":""},{"$f":"IF(B268>0,B268,\"\")","v":""},{"$f":"IF(E256=1,D256,\"\")","v":""},{"$f":"IF(D268>0,D268,\"\")","v":""},{"$f":"IF(G256=1,F256,\"\")","v":""},{"$f":"IF(F268>0,F268,\"\")","v":""},{"$f":"IF(I256=1,H256,\"\")","v":""},{"$f":"IF(H268>0,H268,\"\")","v":""},{"$f":"IF(K256=1,J256,\"\")","v":""},{"$f":"IF(J268>0,J268,\"\")","v":""},{"$f":"IF(M256=1,L256,\"\")","v":""},{"$f":"IF(L268>0,L268,\"\")","v":""},{"$f":"IF(O256=1,N256,\"\")","v":""},{"$f":"IF(N268>0,N268,\"\")","v":""},{"$f":"IF(Q256=1,P256,\"\")","v":""},{"$f":"IF(P268>0,P268,\"\")","v":""},{"$f":"IF(S256=1,R256,\"\")","v":""},{"$f":"IF(R268>0,R268,\"\")","v":""},{"$f":"IF(U256=1,T256,\"\")","v":""},{"$f":"IF(T268>0,T268,\"\")","v":""},{"$f":"IF(W256=1,V256,\"\")","v":""},{"$f":"IF(V268>0,V268,\"\")","v":""},{"$f":"IF(Y256=1,X256,\"\")","v":""},{"$f":"IF(X268>0,X268,\"\")","v":""},{"$f":"IF(AA256=1,Z256,\"\")","v":""},{"$f":"IF(Z268>0,Z268,\"\")","v":""},{"$f":"IF(AC256=1,AB256,\"\")","v":""},{"$f":"IF(AB268>0,AB268,\"\")","v":""},{"$f":"IF(AE256=1,AD256,\"\")","v":""},{"$f":"IF(AD268>0,AD268,\"\")","v":""},{"$f":"IF(AG256=1,AF256,\"\")","v":""},{"$f":"IF(AF268>0,AF268,\"\")","v":""},{"$f":"IF(AI256=1,AH256,\"\")","v":""},{"$f":"IF(AH268>0,AH268,\"\")","v":""},{"$f":"IF(AK256=1,AJ256,\"\")","v":""},{"$f":"IF(AJ268>0,AJ268,\"\")","v":""},{"$f":"IF(AM256=1,AL256,\"\")","v":""},{"$f":"IF(AL268>0,AL268,\"\")","v":""},{"$f":"IF(AO256=1,AN256,\"\")","v":""},{"$f":"IF(AN268>0,AN268,\"\")","v":""},{"$f":"IF(AQ256=1,AP256,\"\")","v":""},{"$f":"IF(AP268>0,AP268,\"\")","v":""},{"$f":"IF(AS256=1,AR256,\"\")","v":""},{"$f":"IF(AR268>0,AR268,\"\")","v":""}]
[{"$f":"'BUCK INN'!A4","v":"Graham Lake"},{"$f":"IF(C257=1,B257,\"\")","v":""},{"$f":"IF(B269>0,B269,\"\")","v":""},{"$f":"IF(E257=1,D257,\"\")","v":""},{"$f":"IF(D269>0,D269,\"\")","v":""},{"$f":"IF(G257=1,F257,\"\")","v":""},{"$f":"IF(F269>0,F269,\"\")","v":""},{"$f":"IF(I257=1,H257,\"\")","v":""},{"$f":"IF(H269>0,H269,\"\")","v":""},{"$f":"IF(K257=1,J257,\"\")","v":""},{"$f":"IF(J269>0,J269,\"\")","v":""},{"$f":"IF(M257=1,L257,\"\")","v":""},{"$f":"IF(L269>0,L269,\"\")","v":""},{"$f":"IF(O257=1,N257,\"\")","v":""},{"$f":"IF(N269>0,N269,\"\")","v":""},{"$f":"IF(Q257=1,P257,\"\")","v":""},{"$f":"IF(P269>0,P269,\"\")","v":""},{"$f":"IF(S257=1,R257,\"\")","v":""},{"$f":"IF(R269>0,R269,\"\")","v":""},{"$f":"IF(U257=1,T257,\"\")","v":""},{"$f":"IF(T269>0,T269,\"\")","v":""},{"$f":"IF(W257=1,V257,\"\")","v":""},{"$f":"IF(V269>0,V269,\"\")","v":""},{"$f":"IF(Y257=1,X257,\"\")","v":""},{"$f":"IF(X269>0,X269,\"\")","v":""},{"$f":"IF(AA257=1,Z257,\"\")","v":""},{"$f":"IF(Z269>0,Z269,\"\")","v":""},{"$f":"IF(AC257=1,AB257,\"\")","v":""},{"$f":"IF(AB269>0,AB269,\"\")","v":""},{"$f":"IF(AE257=1,AD257,\"\")","v":""},{"$f":"IF(AD269>0,AD269,\"\")","v":""},{"$f":"IF(AG257=1,AF257,\"\")","v":""},{"$f":"IF(AF269>0,AF269,\"\")","v":""},{"$f":"IF(AI257=1,AH257,\"\")","v":""},{"$f":"IF(AH269>0,AH269,\"\")","v":""},{"$f":"IF(AK257=1,AJ257,\"\")","v":""},{"$f":"IF(AJ269>0,AJ269,\"\")","v":""},{"$f":"IF(AM257=1,AL257,\"\")","v":""},{"$f":"IF(AL269>0,AL269,\"\")","v":""},{"$f":"IF(AO257=1,AN257,\"\")","v":""},{"$f":"IF(AN269>0,AN269,\"\")","v":""},{"$f":"IF(AQ257=1,AP257,\"\")","v":""},{"$f":"IF(AP269>0,AP269,\"\")","v":""},{"$f":"IF(AS257=1,AR257,\"\")","v":""},{"$f":"IF(AR269>0,AR269,\"\")","v":""}]
[{"$f":"'BUCK INN'!A5","v":"Kireon Timmons"},"","","","","","","","","","","","","","","","","","","","","","","","","","","","","","","","","","","","","","","","","","","",""]
[{"$f":"'BUCK INN'!A6","v":"Kenny Kerrigan"},"","","","","","","","","","","","","","","","","","","","","","","","","","","","","","","","","","","","","","","","","","","",""]
[{"$f":"'BUCK INN'!A7","v":"Lee Johnson"},"","","","","","","","","","","","","","","","","","","","","","","","","","","","","","","","","","","","","","","","","","","",""]
[{"$f":"'BUCK INN'!A8","v":"Chris Timmons"},"","","","","","","","","","","","","","","","","","","","","","","","","","","","","","","","","","","","","","","","","","","",""]
[{"$f":"'BUCK INN'!A9","v":"M. Meadley"},"","","","","","","","","","","","","","","","","","","","","","","","","","","","","","","","","","","","","","","","","","","",""]
[{"$f":"'BUCK INN'!A10","v":0},"","","","","","","","","","","","","","","","","","","","","","","","","","","","","","","","","","","","","","","","","","","",""]
[{"$f":"'BUCK INN'!A11","v":0},"","","","","","","","","","","","","","","","","","","","","","","","","","","","","","","","","","","","","","","","","","","",""]
[{"$f":"'BUCK INN'!A12","v":0},"","","","","","","","","","","","","","","","","","","","","","","","","","","","","","","","","","","","","","","","","","","",""]
[{"$f":"'BUCK INN'!A13","v":0},"","","","","","","","","","","","","","","","","","","","","","","","","","","","","","","","","","","","","","","","","","","",""]
[{"$f":"'BUCK INN'!A14","v":0},"","","","","","","","","","","","","","","","","","","","","","","","","","","","","","","","","","","","","","","","","","","",""]
[]
["RAFA B",{"$f":"IF('BUCK INN'!B3=701,\"WON\",\"LOST\")","v":"LOST"},{"$f":"IF('BUCK INN'!B3>0,1,0)","v":0},{"$f":"IF('BUCK INN'!F3=701,\"WON\",\"LOST\")","v":"LOST"},{"$f":"IF('BUCK INN'!F3>0,1,0)","v":0},{"$f":"IF('BUCK INN'!J3=701,\"WON\",\"LOST\")","v":"LOST"},{"$f":"IF('BUCK INN'!J3>0,1,0)","v":0},{"$f":"IF('BUCK INN'!N3=701,\"WON\",\"LOST\")","v":"LOST"},{"$f":"IF('BUCK INN'!N3>0,1,0)","v":0},{"$f":"IF('BUCK INN'!R3=701,\"WON\",\"LOST\")","v":"LOST"},{"$f":"IF('BUCK INN'!R3>0,1,0)","v":0},{"$f":"IF('BUCK INN'!V3=701,\"WON\",\"LOST\")","v":"LOST"},{"$f":"IF('BUCK INN'!V3>0,1,0)","v":0},{"$f":"IF('BUCK INN'!Z3=701,\"WON\",\"LOST\")","v":"LOST"},{"$f":"IF('BUCK INN'!Z3>0,1,0)","v":0},{"$f":"IF('BUCK INN'!AD3=701,\"WON\",\"LOST\")","v":"LOST"},{"$f":"IF('BUCK INN'!AD3>0,1,0)","v":0},{"$f":"IF('BUCK INN'!AH3=701,\"WON\",\"LOST\")","v":"LOST"},{"$f":"IF('BUCK INN'!AH3>0,1,0)","v":0},{"$f":"IF('BUCK INN'!AL3=701,\"WON\",\"LOST\")","v":"LOST"},{"$f":"IF('BUCK INN'!AL3>0,1,0)","v":0},{"$f":"IF('BUCK INN'!AP3=701,\"WON\",\"LOST\")","v":"LOST"},{"$f":"IF('BUCK INN'!AP3>0,1,0)","v":0},{"$f":"IF('BUCK INN'!AT3=701,\"WON\",\"LOST\")","v":"LOST"},{"$f":"IF('BUCK INN'!AT3>0,1,0)","v":0},{"$f":"IF('BUCK INN'!AX3=701,\"WON\",\"LOST\")","v":"LOST"},{"$f":"IF('BUCK INN'!AX3>0,1,0)","v":0},{"$f":"IF('BUCK INN'!BB3=701,\"WON\",\"LOST\")","v":"LOST"},{"$f":"IF('BUCK INN'!BB3>0,1,0)","v":0},{"$f":"IF('BUCK INN'!BF3=701,\"WON\",\"LOST\")","v":"LOST"},{"$f":"IF('BUCK INN'!BF3>0,1,0)","v":0},{"$f":"IF('BUCK INN'!BJ3=701,\"WON\",\"LOST\")","v":"LOST"},{"$f":"IF('BUCK INN'!BJ3>0,1,0)","v":0},{"$f":"IF('BUCK INN'!BN3=701,\"WON\",\"LOST\")","v":"LOST"},{"$f":"IF('BUCK INN'!BN3>0,1,0)","v":0},{"$f":"IF('BUCK INN'!BR3=701,\"WON\",\"LOST\")","v":"LOST"},{"$f":"IF('BUCK INN'!BR3>0,1,0)","v":0},{"$f":"IF('BUCK INN'!BV3=701,\"WON\",\"LOST\")","v":"LOST"},{"$f":"IF('BUCK INN'!BV3>0,1,0)","v":0},{"$f":"IF('BUCK INN'!BZ3=701,\"WON\",\"LOST\")","v":"LOST"},{"$f":"IF('BUCK INN'!BZ3>0,1,0)","v":0},{"$f":"IF('BUCK INN'!CD3=701,\"WON\",\"LOST\")","v":"LOST"},{"$f":"IF('BUCK INN'!CD3>0,1,0)","v":0},{"$f":"IF('BUCK INN'!CH3=701,\"WON\",\"LOST\")","v":"LOST"},{"$f":"IF('BUCK INN'!CH3>0,1,0)","v":0}]
[null,{"$f":"IF('BUCK INN'!B4=701,\"WON\",\"LOST\")","v":"LOST"},{"$f":"IF('BUCK INN'!B4>0,1,0)","v":0},{"$f":"IF('BUCK INN'!F4=701,\"WON\",\"LOST\")","v":"LOST"},{"$f":"IF('BUCK INN'!F4>0,1,0)","v":0},{"$f":"IF('BUCK INN'!J4=701,\"WON\",\"LOST\")","v":"LOST"},{"$f":"IF('BUCK INN'!J4>0,1,0)","v":0},{"$f":"IF('BUCK INN'!N4=701,\"WON\",\"LOST\")","v":"LOST"},{"$f":"IF('BUCK INN'!N4>0,1,0)","v":0},{"$f":"IF('BUCK INN'!R4=701,\"WON\",\"LOST\")","v":"LOST"},{"$f":"IF('BUCK INN'!R4>0,1,0)","v":0},{"$f":"IF('BUCK INN'!V4=701,\"WON\",\"LOST\")","v":"LOST"},{"$f":"IF('BUCK INN'!V4>0,1,0)","v":0},{"$f":"IF('BUCK INN'!Z4=701,\"WON\",\"LOST\")","v":"LOST"},{"$f":"IF('BUCK INN'!Z4>0,1,0)","v":0},{"$f":"IF('BUCK INN'!AD4=701,\"WON\",\"LOST\")","v":"LOST"},{"$f":"IF('BUCK INN'!AD4>0,1,0)","v":0},{"$f":"IF('BUCK INN'!AH4=701,\"WON\",\"LOST\")","v":"LOST"},{"$f":"IF('BUCK INN'!AH4>0,1,0)","v":0},{"$f":"IF('BUCK INN'!AL4=701,\"WON\",\"LOST\")","v":"LOST"},{"$f":"IF('BUCK INN'!AL4>0,1,0)","v":0},{"$f":"IF('BUCK INN'!AP4=701,\"WON\",\"LOST\")","v":"LOST"},{"$f":"IF('BUCK INN'!AP4>0,1,0)","v":0},{"$f":"IF('BUCK INN'!AT4=701,\"WON\",\"LOST\")","v":"LOST"},{"$f":"IF('BUCK INN'!AT4>0,1,0)","v":0},{"$f":"IF('BUCK INN'!AX4=701,\"WON\",\"LOST\")","v":"LOST"},{"$f":"IF('BUCK INN'!AX4>0,1,0)","v":0},{"$f":"IF('BUCK INN'!BB4=701,\"WON\",\"LOST\")","v":"LOST"},{"$f":"IF('BUCK INN'!BB4>0,1,0)","v":0},{"$f":"IF('BUCK INN'!BF4=701,\"WON\",\"LOST\")","v":"LOST"},{"$f":"IF('BUCK INN'!BF4>0,1,0)","v":0},{"$f":"IF('BUCK INN'!BJ4=701,\"WON\",\"LOST\")","v":"LOST"},{"$f":"IF('BUCK INN'!BJ4>0,1,0)","v":0},{"$f":"IF('BUCK INN'!BN4=701,\"WON\",\"LOST\")","v":"LOST"},{"$f":"IF('BUCK INN'!BN4>0,1,0)","v":0},{"$f":"IF('BUCK INN'!BR4=701,\"WON\",\"LOST\")","v":"LOST"},{"$f":"IF('BUCK INN'!BR4>0,1,0)","v":0},{"$f":"IF('BUCK INN'!BV4=701,\"WON\",\"LOST\")","v":"LOST"},{"$f":"IF('BUCK INN'!BV4>0,1,0)","v":0},{"$f":"IF('BUCK INN'!BZ4=701,\"WON\",\"LOST\")","v":"LOST"},{"$f":"IF('BUCK INN'!BZ4>0,1,0)","v":0},{"$f":"IF('BUCK INN'!CD4=701,\"WON\",\"LOST\")","v":"LOST"},{"$f":"IF('BUCK INN'!CD4>0,1,0)","v":0},{"$f":"IF('BUCK INN'!CH4=701,\"WON\",\"LOST\")","v":"LOST"},{"$f":"IF('BUCK INN'!CH4>0,1,0)","v":0}]
[null,{"$f":"IF('BUCK INN'!B5=701,\"WON\",\"LOST\")","v":"LOST"},{"$f":"IF('BUCK INN'!B5>0,1,0)","v":0},{"$f":"IF('BUCK INN'!F5=701,\"WON\",\"LOST\")","v":"LOST"},{"$f":"IF('BUCK INN'!F5>0,1,0)","v":0},{"$f":"IF('BUCK INN'!J5=701,\"WON\",\"LOST\")","v":"LOST"},{"$f":"IF('BUCK INN'!J5>0,1,0)","v":0},{"$f":"IF('BUCK INN'!N5=701,\"WON\",\"LOST\")","v":"LOST"},{"$f":"IF('BUCK INN'!N5>0,1,0)","v":0},{"$f":"IF('BUCK INN'!R5=701,\"WON\",\"LOST\")","v":"LOST"},{"$f":"IF('BUCK INN'!R5>0,1,0)","v":0},{"$f":"IF('BUCK INN'!V5=701,\"WON\",\"LOST\")","v":"LOST"},{"$f":"IF('BUCK INN'!V5>0,1,0)","v":0},{"$f":"IF('BUCK INN'!Z5=701,\"WON\",\"LOST\")","v":"LOST"},{"$f":"IF('BUCK INN'!Z5>0,1,0)","v":0},{"$f":"IF('BUCK INN'!AD5=701,\"WON\",\"LOST\")","v":"LOST"},{"$f":"IF('BUCK INN'!AD5>0,1,0)","v":0},{"$f":"IF('BUCK INN'!AH5=701,\"WON\",\"LOST\")","v":"LOST"},{"$f":"IF('BUCK INN'!AH5>0,1,0)","v":0},{"$f":"IF('BUCK INN'!AL5=701,\"WON\",\"LOST\")","v":"LOST"},{"$f":"IF('BUCK INN'!AL5>0,1,0)","v":0},{"$f":"IF('BUCK INN'!AP5=701,\"WON\",\"LOST\")","v":"LOST"},{"$f":"IF('BUCK INN'!AP5>0,1,0)","v":0},{"$f":"IF('BUCK INN'!AT5=701,\"WON\",\"LOST\")","v":"LOST"},{"$f":"IF('BUCK INN'!AT5>0,1,0)","v":0},{"$f":"IF('BUCK INN'!AX5=701,\"WON\",\"LOST\")","v":"LOST"},{"$f":"IF('BUCK INN'!AX5>0,1,0)","v":0},{"$f":"IF('BUCK INN'!BB5=701,\"WON\",\"LOST\")","v":"LOST"},{"$f":"IF('BUCK INN'!BB5>0,1,0)","v":0},{"$f":"IF('BUCK INN'!BF5=701,\"WON\",\"LOST\")","v":"LOST"},{"$f":"IF('BUCK INN'!BF5>0,1,0)","v":0},{"$f":"IF('BUCK INN'!BJ5=701,\"WON\",\"LOST\")","v":"LOST"},{"$f":"IF('BUCK INN'!BJ5>0,1,0)","v":0},{"$f":"IF('BUCK INN'!BN5=701,\"WON\",\"LOST\")","v":"LOST"},{"$f":"IF('BUCK INN'!BN5>0,1,0)","v":0},{"$f":"IF('BUCK INN'!BR5=701,\"WON\",\"LOST\")","v":"LOST"},{"$f":"IF('BUCK INN'!BR5>0,1,0)","v":0},{"$f":"IF('BUCK INN'!BV5=701,\"WON\",\"LOST\")","v":"LOST"},{"$f":"IF('BUCK INN'!BV5>0,1,0)","v":0},{"$f":"IF('BUCK INN'!BZ5=701,\"WON\",\"LOST\")","v":"LOST"},{"$f":"IF('BUCK INN'!BZ5>0,1,0)","v":0},{"$f":"IF('BUCK INN'!CD5=701,\"WON\",\"LOST\")","v":"LOST"},{"$f":"IF('BUCK INN'!CD5>0,1,0)","v":0},{"$f":"IF('BUCK INN'!CH5=701,\"WON\",\"LOST\")","v":"LOST"},{"$f":"IF('BUCK INN'!CH5>0,1,0)","v":0}]
[null,{"$f":"IF('BUCK INN'!B6=701,\"WON\",\"LOST\")","v":"LOST"},{"$f":"IF('BUCK INN'!B6>0,1,0)","v":0},{"$f":"IF('BUCK INN'!F6=701,\"WON\",\"LOST\")","v":"LOST"},{"$f":"IF('BUCK INN'!F6>0,1,0)","v":0},{"$f":"IF('BUCK INN'!J6=701,\"WON\",\"LOST\")","v":"LOST"},{"$f":"IF('BUCK INN'!J6>0,1,0)","v":0},{"$f":"IF('BUCK INN'!N6=701,\"WON\",\"LOST\")","v":"LOST"},{"$f":"IF('BUCK INN'!N6>0,1,0)","v":0},{"$f":"IF('BUCK INN'!R6=701,\"WON\",\"LOST\")","v":"LOST"},{"$f":"IF('BUCK INN'!R6>0,1,0)","v":0},{"$f":"IF('BUCK INN'!V6=701,\"WON\",\"LOST\")","v":"LOST"},{"$f":"IF('BUCK INN'!V6>0,1,0)","v":0},{"$f":"IF('BUCK INN'!Z6=701,\"WON\",\"LOST\")","v":"LOST"},{"$f":"IF('BUCK INN'!Z6>0,1,0)","v":0},{"$f":"IF('BUCK INN'!AD6=701,\"WON\",\"LOST\")","v":"LOST"},{"$f":"IF('BUCK INN'!AD6>0,1,0)","v":0},{"$f":"IF('BUCK INN'!AH6=701,\"WON\",\"LOST\")","v":"LOST"},{"$f":"IF('BUCK INN'!AH6>0,1,0)","v":0},{"$f":"IF('BUCK INN'!AL6=701,\"WON\",\"LOST\")","v":"LOST"},{"$f":"IF('BUCK INN'!AL6>0,1,0)","v":0},{"$f":"IF('BUCK INN'!AP6=701,\"WON\",\"LOST\")","v":"LOST"},{"$f":"IF('BUCK INN'!AP6>0,1,0)","v":0},{"$f":"IF('BUCK INN'!AT6=701,\"WON\",\"LOST\")","v":"LOST"},{"$f":"IF('BUCK INN'!AT6>0,1,0)","v":0},{"$f":"IF('BUCK INN'!AX6=701,\"WON\",\"LOST\")","v":"LOST"},{"$f":"IF('BUCK INN'!AX6>0,1,0)","v":0},{"$f":"IF('BUCK INN'!BB6=701,\"WON\",\"LOST\")","v":"LOST"},{"$f":"IF('BUCK INN'!BB6>0,1,0)","v":0},{"$f":"IF('BUCK INN'!BF6=701,\"WON\",\"LOST\")","v":"LOST"},{"$f":"IF('BUCK INN'!BF6>0,1,0)","v":0},{"$f":"IF('BUCK INN'!BJ6=701,\"WON\",\"LOST\")","v":"LOST"},{"$f":"IF('BUCK INN'!BJ6>0,1,0)","v":0},{"$f":"IF('BUCK INN'!BN6=701,\"WON\",\"LOST\")","v":"LOST"},{"$f":"IF('BUCK INN'!BN6>0,1,0)","v":0},{"$f":"IF('BUCK INN'!BR6=701,\"WON\",\"LOST\")","v":"LOST"},{"$f":"IF('BUCK INN'!BR6>0,1,0)","v":0},{"$f":"IF('BUCK INN'!BV6=701,\"WON\",\"LOST\")","v":"LOST"},{"$f":"IF('BUCK INN'!BV6>0,1,0)","v":0},{"$f":"IF('BUCK INN'!BZ6=701,\"WON\",\"LOST\")","v":"LOST"},{"$f":"IF('BUCK INN'!BZ6>0,1,0)","v":0},{"$f":"IF('BUCK INN'!CD6=701,\"WON\",\"LOST\")","v":"LOST"},{"$f":"IF('BUCK INN'!CD6>0,1,0)","v":0},{"$f":"IF('BUCK INN'!CH6=701,\"WON\",\"LOST\")","v":"LOST"},{"$f":"IF('BUCK INN'!CH6>0,1,0)","v":0}]
[null,{"$f":"IF('BUCK INN'!B7=701,\"WON\",\"LOST\")","v":"LOST"},{"$f":"IF('BUCK INN'!B7>0,1,0)","v":0},{"$f":"IF('BUCK INN'!F7=701,\"WON\",\"LOST\")","v":"LOST"},{"$f":"IF('BUCK INN'!F7>0,1,0)","v":0},{"$f":"IF('BUCK INN'!J7=701,\"WON\",\"LOST\")","v":"LOST"},{"$f":"IF('BUCK INN'!J7>0,1,0)","v":0},{"$f":"IF('BUCK INN'!N7=701,\"WON\",\"LOST\")","v":"LOST"},{"$f":"IF('BUCK INN'!N7>0,1,0)","v":0},{"$f":"IF('BUCK INN'!R7=701,\"WON\",\"LOST\")","v":"LOST"},{"$f":"IF('BUCK INN'!R7>0,1,0)","v":0},{"$f":"IF('BUCK INN'!V7=701,\"WON\",\"LOST\")","v":"LOST"},{"$f":"IF('BUCK INN'!V7>0,1,0)","v":0},{"$f":"IF('BUCK INN'!Z7=701,\"WON\",\"LOST\")","v":"LOST"},{"$f":"IF('BUCK INN'!Z7>0,1,0)","v":0},{"$f":"IF('BUCK INN'!AD7=701,\"WON\",\"LOST\")","v":"LOST"},{"$f":"IF('BUCK INN'!AD7>0,1,0)","v":0},{"$f":"IF('BUCK INN'!AH7=701,\"WON\",\"LOST\")","v":"LOST"},{"$f":"IF('BUCK INN'!AH7>0,1,0)","v":0},{"$f":"IF('BUCK INN'!AL7=701,\"WON\",\"LOST\")","v":"LOST"},{"$f":"IF('BUCK INN'!AL7>0,1,0)","v":0},{"$f":"IF('BUCK INN'!AP7=701,\"WON\",\"LOST\")","v":"LOST"},{"$f":"IF('BUCK INN'!AP7>0,1,0)","v":0},{"$f":"IF('BUCK INN'!AT7=701,\"WON\",\"LOST\")","v":"LOST"},{"$f":"IF('BUCK INN'!AT7>0,1,0)","v":0},{"$f":"IF('BUCK INN'!AX7=701,\"WON\",\"LOST\")","v":"LOST"},{"$f":"IF('BUCK INN'!AX7>0,1,0)","v":0},{"$f":"IF('BUCK INN'!BB7=701,\"WON\",\"LOST\")","v":"LOST"},{"$f":"IF('BUCK INN'!BB7>0,1,0)","v":0},{"$f":"IF('BUCK INN'!BF7=701,\"WON\",\"LOST\")","v":"LOST"},{"$f":"IF('BUCK INN'!BF7>0,1,0)","v":0},{"$f":"IF('BUCK INN'!BJ7=701,\"WON\",\"LOST\")","v":"LOST"},{"$f":"IF('BUCK INN'!BJ7>0,1,0)","v":0},{"$f":"IF('BUCK INN'!BN7=701,\"WON\",\"LOST\")","v":"LOST"},{"$f":"IF('BUCK INN'!BN7>0,1,0)","v":0},{"$f":"IF('BUCK INN'!BR7=701,\"WON\",\"LOST\")","v":"LOST"},{"$f":"IF('BUCK INN'!BR7>0,1,0)","v":0},{"$f":"IF('BUCK INN'!BV7=701,\"WON\",\"LOST\")","v":"LOST"},{"$f":"IF('BUCK INN'!BV7>0,1,0)","v":0},{"$f":"IF('BUCK INN'!BZ7=701,\"WON\",\"LOST\")","v":"LOST"},{"$f":"IF('BUCK INN'!BZ7>0,1,0)","v":0},{"$f":"IF('BUCK INN'!CD7=701,\"WON\",\"LOST\")","v":"LOST"},{"$f":"IF('BUCK INN'!CD7>0,1,0)","v":0},{"$f":"IF('BUCK INN'!CH7=701,\"WON\",\"LOST\")","v":"LOST"},{"$f":"IF('BUCK INN'!CH7>0,1,0)","v":0}]
[null,{"$f":"IF('BUCK INN'!B8=701,\"WON\",\"LOST\")","v":"LOST"},{"$f":"IF('BUCK INN'!B8>0,1,0)","v":0},{"$f":"IF('BUCK INN'!F8=701,\"WON\",\"LOST\")","v":"LOST"},{"$f":"IF('BUCK INN'!F8>0,1,0)","v":0},{"$f":"IF('BUCK INN'!J8=701,\"WON\",\"LOST\")","v":"LOST"},{"$f":"IF('BUCK INN'!J8>0,1,0)","v":0},{"$f":"IF('BUCK INN'!N8=701,\"WON\",\"LOST\")","v":"LOST"},{"$f":"IF('BUCK INN'!N8>0,1,0)","v":0},{"$f":"IF('BUCK INN'!R8=701,\"WON\",\"LOST\")","v":"LOST"},{"$f":"IF('BUCK INN'!R8>0,1,0)","v":0},{"$f":"IF('BUCK INN'!V8=701,\"WON\",\"LOST\")","v":"LOST"},{"$f":"IF('BUCK INN'!V8>0,1,0)","v":0},{"$f":"IF('BUCK INN'!Z8=701,\"WON\",\"LOST\")","v":"LOST"},{"$f":"IF('BUCK INN'!Z8>0,1,0)","v":0},{"$f":"IF('BUCK INN'!AD8=701,\"WON\",\"LOST\")","v":"LOST"},{"$f":"IF('BUCK INN'!AD8>0,1,0)","v":0},{"$f":"IF('BUCK INN'!AH8=701,\"WON\",\"LOST\")","v":"LOST"},{"$f":"IF('BUCK INN'!AH8>0,1,0)","v":0},{"$f":"IF('BUCK INN'!AL8=701,\"WON\",\"LOST\")","v":"LOST"},{"$f":"IF('BUCK INN'!AL8>0,1,0)","v":0},{"$f":"IF('BUCK INN'!AP8=701,\"WON\",\"LOST\")","v":"LOST"},{"$f":"IF('BUCK INN'!AP8>0,1,0)","v":0},{"$f":"IF('BUCK INN'!AT8=701,\"WON\",\"LOST\")","v":"LOST"},{"$f":"IF('BUCK INN'!AT8>0,1,0)","v":0},{"$f":"IF('BUCK INN'!AX8=701,\"WON\",\"LOST\")","v":"LOST"},{"$f":"IF('BUCK INN'!AX8>0,1,0)","v":0},{"$f":"IF('BUCK INN'!BB8=701,\"WON\",\"LOST\")","v":"LOST"},{"$f":"IF('BUCK INN'!BB8>0,1,0)","v":0},{"$f":"IF('BUCK INN'!BF8=701,\"WON\",\"LOST\")","v":"LOST"},{"$f":"IF('BUCK INN'!BF8>0,1,0)","v":0},{"$f":"IF('BUCK INN'!BJ8=701,\"WON\",\"LOST\")","v":"LOST"},{"$f":"IF('BUCK INN'!BJ8>0,1,0)","v":0},{"$f":"IF('BUCK INN'!BN8=701,\"WON\",\"LOST\")","v":"LOST"},{"$f":"IF('BUCK INN'!BN8>0,1,0)","v":0},{"$f":"IF('BUCK INN'!BR8=701,\"WON\",\"LOST\")","v":"LOST"},{"$f":"IF('BUCK INN'!BR8>0,1,0)","v":0},{"$f":"IF('BUCK INN'!BV8=701,\"WON\",\"LOST\")","v":"LOST"},{"$f":"IF('BUCK INN'!BV8>0,1,0)","v":0},{"$f":"IF('BUCK INN'!BZ8=701,\"WON\",\"LOST\")","v":"LOST"},{"$f":"IF('BUCK INN'!BZ8>0,1,0)","v":0},{"$f":"IF('BUCK INN'!CD8=701,\"WON\",\"LOST\")","v":"LOST"},{"$f":"IF('BUCK INN'!CD8>0,1,0)","v":0},{"$f":"IF('BUCK INN'!CH8=701,\"WON\",\"LOST\")","v":"LOST"},{"$f":"IF('BUCK INN'!CH8>0,1,0)","v":0}]
[null,{"$f":"IF('BUCK INN'!B9=701,\"WON\",\"LOST\")","v":"LOST"},{"$f":"IF('BUCK INN'!B9>0,1,0)","v":0},{"$f":"IF('BUCK INN'!F9=701,\"WON\",\"LOST\")","v":"LOST"},{"$f":"IF('BUCK INN'!F9>0,1,0)","v":0},{"$f":"IF('BUCK INN'!J9=701,\"WON\",\"LOST\")","v":"LOST"},{"$f":"IF('BUCK INN'!J9>0,1,0)","v":0},{"$f":"IF('BUCK INN'!N9=701,\"WON\",\"LOST\")","v":"LOST"},{"$f":"IF('BUCK INN'!N9>0,1,0)","v":0},{"$f":"IF('BUCK INN'!R9=701,\"WON\",\"LOST\")","v":"LOST"},{"$f":"IF('BUCK INN'!R9>0,1,0)","v":0},{"$f":"IF('BUCK INN'!V9=701,\"WON\",\"LOST\")","v":"LOST"},{"$f":"IF('BUCK INN'!V9>0,1,0)","v":0},{"$f":"IF('BUCK INN'!Z9=701,\"WON\",\"LOST\")","v":"LOST"},{"$f":"IF('BUCK INN'!Z9>0,1,0)","v":0},{"$f":"IF('BUCK INN'!AD9=701,\"WON\",\"LOST\")","v":"LOST"},{"$f":"IF('BUCK INN'!AD9>0,1,0)","v":0},{"$f":"IF('BUCK INN'!AH9=701,\"WON\",\"LOST\")","v":"LOST"},{"$f":"IF('BUCK INN'!AH9>0,1,0)","v":0},{"$f":"IF('BUCK INN'!AL9=701,\"WON\",\"LOST\")","v":"LOST"},{"$f":"IF('BUCK INN'!AL9>0,1,0)","v":0},{"$f":"IF('BUCK INN'!AP9=701,\"WON\",\"LOST\")","v":"LOST"},{"$f":"IF('BUCK INN'!AP9>0,1,0)","v":0},{"$f":"IF('BUCK INN'!AT9=701,\"WON\",\"LOST\")","v":"LOST"},{"$f":"IF('BUCK INN'!AT9>0,1,0)","v":0},{"$f":"IF('BUCK INN'!AX9=701,\"WON\",\"LOST\")","v":"LOST"},{"$f":"IF('BUCK INN'!AX9>0,1,0)","v":0},{"$f":"IF('BUCK INN'!BB9=701,\"WON\",\"LOST\")","v":"LOST"},{"$f":"IF('BUCK INN'!BB9>0,1,0)","v":0},{"$f":"IF('BUCK INN'!BF9=701,\"WON\",\"LOST\")","v":"LOST"},{"$f":"IF('BUCK INN'!BF9>0,1,0)","v":0},{"$f":"IF('BUCK INN'!BJ9=701,\"WON\",\"LOST\")","v":"LOST"},{"$f":"IF('BUCK INN'!BJ9>0,1,0)","v":0},{"$f":"IF('BUCK INN'!BN9=701,\"WON\",\"LOST\")","v":"LOST"},{"$f":"IF('BUCK INN'!BN9>0,1,0)","v":0},{"$f":"IF('BUCK INN'!BR9=701,\"WON\",\"LOST\")","v":"LOST"},{"$f":"IF('BUCK INN'!BR9>0,1,0)","v":0},{"$f":"IF('BUCK INN'!BV9=701,\"WON\",\"LOST\")","v":"LOST"},{"$f":"IF('BUCK INN'!BV9>0,1,0)","v":0},{"$f":"IF('BUCK INN'!BZ9=701,\"WON\",\"LOST\")","v":"LOST"},{"$f":"IF('BUCK INN'!BZ9>0,1,0)","v":0},{"$f":"IF('BUCK INN'!CD9=701,\"WON\",\"LOST\")","v":"LOST"},{"$f":"IF('BUCK INN'!CD9>0,1,0)","v":0},{"$f":"IF('BUCK INN'!CH9=701,\"WON\",\"LOST\")","v":"LOST"},{"$f":"IF('BUCK INN'!CH9>0,1,0)","v":0}]
[null,{"$f":"IF('BUCK INN'!B10=701,\"WON\",\"LOST\")","v":"LOST"},{"$f":"IF('BUCK INN'!B10>0,1,0)","v":0},{"$f":"IF('BUCK INN'!F10=701,\"WON\",\"LOST\")","v":"LOST"},{"$f":"IF('BUCK INN'!F10>0,1,0)","v":0},{"$f":"IF('BUCK INN'!J10=701,\"WON\",\"LOST\")","v":"LOST"},{"$f":"IF('BUCK INN'!J10>0,1,0)","v":0},{"$f":"IF('BUCK INN'!N10=701,\"WON\",\"LOST\")","v":"LOST"},{"$f":"IF('BUCK INN'!N10>0,1,0)","v":0},{"$f":"IF('BUCK INN'!R10=701,\"WON\",\"LOST\")","v":"LOST"},{"$f":"IF('BUCK INN'!R10>0,1,0)","v":0},{"$f":"IF('BUCK INN'!V10=701,\"WON\",\"LOST\")","v":"LOST"},{"$f":"IF('BUCK INN'!V10>0,1,0)","v":0},{"$f":"IF('BUCK INN'!Z10=701,\"WON\",\"LOST\")","v":"LOST"},{"$f":"IF('BUCK INN'!Z10>0,1,0)","v":0},{"$f":"IF('BUCK INN'!AD10=701,\"WON\",\"LOST\")","v":"LOST"},{"$f":"IF('BUCK INN'!AD10>0,1,0)","v":0},{"$f":"IF('BUCK INN'!AH10=701,\"WON\",\"LOST\")","v":"LOST"},{"$f":"IF('BUCK INN'!AH10>0,1,0)","v":0},{"$f":"IF('BUCK INN'!AL10=701,\"WON\",\"LOST\")","v":"LOST"},{"$f":"IF('BUCK INN'!AL10>0,1,0)","v":0},{"$f":"IF('BUCK INN'!AP10=701,\"WON\",\"LOST\")","v":"LOST"},{"$f":"IF('BUCK INN'!AP10>0,1,0)","v":0},{"$f":"IF('BUCK INN'!AT10=701,\"WON\",\"LOST\")","v":"LOST"},{"$f":"IF('BUCK INN'!AT10>0,1,0)","v":0},{"$f":"IF('BUCK INN'!AX10=701,\"WON\",\"LOST\")","v":"LOST"},{"$f":"IF('BUCK INN'!AX10>0,1,0)","v":0},{"$f":"IF('BUCK INN'!BB10=701,\"WON\",\"LOST\")","v":"LOST"},{"$f":"IF('BUCK INN'!BB10>0,1,0)","v":0},{"$f":"IF('BUCK INN'!BF10=701,\"WON\",\"LOST\")","v":"LOST"},{"$f":"IF('BUCK INN'!BF10>0,1,0)","v":0},{"$f":"IF('BUCK INN'!BJ10=701,\"WON\",\"LOST\")","v":"LOST"},{"$f":"IF('BUCK INN'!BJ10>0,1,0)","v":0},{"$f":"IF('BUCK INN'!BN10=701,\"WON\",\"LOST\")","v":"LOST"},{"$f":"IF('BUCK INN'!BN10>0,1,0)","v":0},{"$f":"IF('BUCK INN'!BR10=701,\"WON\",\"LOST\")","v":"LOST"},{"$f":"IF('BUCK INN'!BR10>0,1,0)","v":0},{"$f":"IF('BUCK INN'!BV10=701,\"WON\",\"LOST\")","v":"LOST"},{"$f":"IF('BUCK INN'!BV10>0,1,0)","v":0},{"$f":"IF('BUCK INN'!BZ10=701,\"WON\",\"LOST\")","v":"LOST"},{"$f":"IF('BUCK INN'!BZ10>0,1,0)","v":0},{"$f":"IF('BUCK INN'!CD10=701,\"WON\",\"LOST\")","v":"LOST"},{"$f":"IF('BUCK INN'!CD10>0,1,0)","v":0},{"$f":"IF('BUCK INN'!CH10=701,\"WON\",\"LOST\")","v":"LOST"},{"$f":"IF('BUCK INN'!CH10>0,1,0)","v":0}]
[null,{"$f":"IF('BUCK INN'!B11=701,\"WON\",\"LOST\")","v":"LOST"},{"$f":"IF('BUCK INN'!B11>0,1,0)","v":0},{"$f":"IF('BUCK INN'!F11=701,\"WON\",\"LOST\")","v":"LOST"},{"$f":"IF('BUCK INN'!F11>0,1,0)","v":0},{"$f":"IF('BUCK INN'!J11=701,\"WON\",\"LOST\")","v":"LOST"},{"$f":"IF('BUCK INN'!J11>0,1,0)","v":0},{"$f":"IF('BUCK INN'!N11=701,\"WON\",\"LOST\")","v":"LOST"},{"$f":"IF('BUCK INN'!N11>0,1,0)","v":0},{"$f":"IF('BUCK INN'!R11=701,\"WON\",\"LOST\")","v":"LOST"},{"$f":"IF('BUCK INN'!R11>0,1,0)","v":0},{"$f":"IF('BUCK INN'!V11=701,\"WON\",\"LOST\")","v":"LOST"},{"$f":"IF('BUCK INN'!V11>0,1,0)","v":0},{"$f":"IF('BUCK INN'!Z11=701,\"WON\",\"LOST\")","v":"LOST"},{"$f":"IF('BUCK INN'!Z11>0,1,0)","v":0},{"$f":"IF('BUCK INN'!AD11=701,\"WON\",\"LOST\")","v":"LOST"},{"$f":"IF('BUCK INN'!AD11>0,1,0)","v":0},{"$f":"IF('BUCK INN'!AH11=701,\"WON\",\"LOST\")","v":"LOST"},{"$f":"IF('BUCK INN'!AH11>0,1,0)","v":0},{"$f":"IF('BUCK INN'!AL11=701,\"WON\",\"LOST\")","v":"LOST"},{"$f":"IF('BUCK INN'!AL11>0,1,0)","v":0},{"$f":"IF('BUCK INN'!AP11=701,\"WON\",\"LOST\")","v":"LOST"},{"$f":"IF('BUCK INN'!AP11>0,1,0)","v":0},{"$f":"IF('BUCK INN'!AT11=701,\"WON\",\"LOST\")","v":"LOST"},{"$f":"IF('BUCK INN'!AT11>0,1,0)","v":0},{"$f":"IF('BUCK INN'!AX11=701,\"WON\",\"LOST\")","v":"LOST"},{"$f":"IF('BUCK INN'!AX11>0,1,0)","v":0},{"$f":"IF('BUCK INN'!BB11=701,\"WON\",\"LOST\")","v":"LOST"},{"$f":"IF('BUCK INN'!BB11>0,1,0)","v":0},{"$f":"IF('BUCK INN'!BF11=701,\"WON\",\"LOST\")","v":"LOST"},{"$f":"IF('BUCK INN'!BF11>0,1,0)","v":0},{"$f":"IF('BUCK INN'!BJ11=701,\"WON\",\"LOST\")","v":"LOST"},{"$f":"IF('BUCK INN'!BJ11>0,1,0)","v":0},{"$f":"IF('BUCK INN'!BN11=701,\"WON\",\"LOST\")","v":"LOST"},{"$f":"IF('BUCK INN'!BN11>0,1,0)","v":0},{"$f":"IF('BUCK INN'!BR11=701,\"WON\",\"LOST\")","v":"LOST"},{"$f":"IF('BUCK INN'!BR11>0,1,0)","v":0},{"$f":"IF('BUCK INN'!BV11=701,\"WON\",\"LOST\")","v":"LOST"},{"$f":"IF('BUCK INN'!BV11>0,1,0)","v":0},{"$f":"IF('BUCK INN'!BZ11=701,\"WON\",\"LOST\")","v":"LOST"},{"$f":"IF('BUCK INN'!BZ11>0,1,0)","v":0},{"$f":"IF('BUCK INN'!CD11=701,\"WON\",\"LOST\")","v":"LOST"},{"$f":"IF('BUCK INN'!CD11>0,1,0)","v":0},{"$f":"IF('BUCK INN'!CH11=701,\"WON\",\"LOST\")","v":"LOST"},{"$f":"IF('BUCK INN'!CH11>0,1,0)","v":0}]
[null,{"$f":"IF('BUCK INN'!B12=701,\"WON\",\"LOST\")","v":"LOST"},{"$f":"IF('BUCK INN'!B12>0,1,0)","v":0},{"$f":"IF('BUCK INN'!F12=701,\"WON\",\"LOST\")","v":"LOST"},{"$f":"IF('BUCK INN'!F12>0,1,0)","v":0},{"$f":"IF('BUCK INN'!J12=701,\"WON\",\"LOST\")","v":"LOST"},{"$f":"IF('BUCK INN'!J12>0,1,0)","v":0},{"$f":"IF('BUCK INN'!N12=701,\"WON\",\"LOST\")","v":"LOST"},{"$f":"IF('BUCK INN'!N12>0,1,0)","v":0},{"$f":"IF('BUCK INN'!R12=701,\"WON\",\"LOST\")","v":"LOST"},{"$f":"IF('BUCK INN'!R12>0,1,0)","v":0},{"$f":"IF('BUCK INN'!V12=701,\"WON\",\"LOST\")","v":"LOST"},{"$f":"IF('BUCK INN'!V12>0,1,0)","v":0},{"$f":"IF('BUCK INN'!Z12=701,\"WON\",\"LOST\")","v":"LOST"},{"$f":"IF('BUCK INN'!Z12>0,1,0)","v":0},{"$f":"IF('BUCK INN'!AD12=701,\"WON\",\"LOST\")","v":"LOST"},{"$f":"IF('BUCK INN'!AD12>0,1,0)","v":0},{"$f":"IF('BUCK INN'!AH12=701,\"WON\",\"LOST\")","v":"LOST"},{"$f":"IF('BUCK INN'!AH12>0,1,0)","v":0},{"$f":"IF('BUCK INN'!AL12=701,\"WON\",\"LOST\")","v":"LOST"},{"$f":"IF('BUCK INN'!AL12>0,1,0)","v":0},{"$f":"IF('BUCK INN'!AP12=701,\"WON\",\"LOST\")","v":"LOST"},{"$f":"IF('BUCK INN'!AP12>0,1,0)","v":0},{"$f":"IF('BUCK INN'!AT12=701,\"WON\",\"LOST\")","v":"LOST"},{"$f":"IF('BUCK INN'!AT12>0,1,0)","v":0},{"$f":"IF('BUCK INN'!AX12=701,\"WON\",\"LOST\")","v":"LOST"},{"$f":"IF('BUCK INN'!AX12>0,1,0)","v":0},{"$f":"IF('BUCK INN'!BB12=701,\"WON\",\"LOST\")","v":"LOST"},{"$f":"IF('BUCK INN'!BB12>0,1,0)","v":0},{"$f":"IF('BUCK INN'!BF12=701,\"WON\",\"LOST\")","v":"LOST"},{"$f":"IF('BUCK INN'!BF12>0,1,0)","v":0},{"$f":"IF('BUCK INN'!BJ12=701,\"WON\",\"LOST\")","v":"LOST"},{"$f":"IF('BUCK INN'!BJ12>0,1,0)","v":0},{"$f":"IF('BUCK INN'!BN12=701,\"WON\",\"LOST\")","v":"LOST"},{"$f":"IF('BUCK INN'!BN12>0,1,0)","v":0},{"$f":"IF('BUCK INN'!BR12=701,\"WON\",\"LOST\")","v":"LOST"},{"$f":"IF('BUCK INN'!BR12>0,1,0)","v":0},{"$f":"IF('BUCK INN'!BV12=701,\"WON\",\"LOST\")","v":"LOST"},{"$f":"IF('BUCK INN'!BV12>0,1,0)","v":0},{"$f":"IF('BUCK INN'!BZ12=701,\"WON\",\"LOST\")","v":"LOST"},{"$f":"IF('BUCK INN'!BZ12>0,1,0)","v":0},{"$f":"IF('BUCK INN'!CD12=701,\"WON\",\"LOST\")","v":"LOST"},{"$f":"IF('BUCK INN'!CD12>0,1,0)","v":0},{"$f":"IF('BUCK INN'!CH12=701,\"WON\",\"LOST\")","v":"LOST"},{"$f":"IF('BUCK INN'!CH12>0,1,0)","v":0}]
[null,{"$f":"IF('BUCK INN'!B13=701,\"WON\",\"LOST\")","v":"LOST"},{"$f":"IF('BUCK INN'!B13>0,1,0)","v":0},{"$f":"IF('BUCK INN'!F13=701,\"WON\",\"LOST\")","v":"LOST"},{"$f":"IF('BUCK INN'!F13>0,1,0)","v":0},{"$f":"IF('BUCK INN'!J13=701,\"WON\",\"LOST\")","v":"LOST"},{"$f":"IF('BUCK INN'!J13>0,1,0)","v":0},{"$f":"IF('BUCK INN'!N13=701,\"WON\",\"LOST\")","v":"LOST"},{"$f":"IF('BUCK INN'!N13>0,1,0)","v":0},{"$f":"IF('BUCK INN'!R13=701,\"WON\",\"LOST\")","v":"LOST"},{"$f":"IF('BUCK INN'!R13>0,1,0)","v":0},{"$f":"IF('BUCK INN'!V13=701,\"WON\",\"LOST\")","v":"LOST"},{"$f":"IF('BUCK INN'!V13>0,1,0)","v":0},{"$f":"IF('BUCK INN'!Z13=701,\"WON\",\"LOST\")","v":"LOST"},{"$f":"IF('BUCK INN'!Z13>0,1,0)","v":0},{"$f":"IF('BUCK INN'!AD13=701,\"WON\",\"LOST\")","v":"LOST"},{"$f":"IF('BUCK INN'!AD13>0,1,0)","v":0},{"$f":"IF('BUCK INN'!AH13=701,\"WON\",\"LOST\")","v":"LOST"},{"$f":"IF('BUCK INN'!AH13>0,1,0)","v":0},{"$f":"IF('BUCK INN'!AL13=701,\"WON\",\"LOST\")","v":"LOST"},{"$f":"IF('BUCK INN'!AL13>0,1,0)","v":0},{"$f":"IF('BUCK INN'!AP13=701,\"WON\",\"LOST\")","v":"LOST"},{"$f":"IF('BUCK INN'!AP13>0,1,0)","v":0},{"$f":"IF('BUCK INN'!AT13=701,\"WON\",\"LOST\")","v":"LOST"},{"$f":"IF('BUCK INN'!AT13>0,1,0)","v":0},{"$f":"IF('BUCK INN'!AX13=701,\"WON\",\"LOST\")","v":"LOST"},{"$f":"IF('BUCK INN'!AX13>0,1,0)","v":0},{"$f":"IF('BUCK INN'!BB13=701,\"WON\",\"LOST\")","v":"LOST"},{"$f":"IF('BUCK INN'!BB13>0,1,0)","v":0},{"$f":"IF('BUCK INN'!BF13=701,\"WON\",\"LOST\")","v":"LOST"},{"$f":"IF('BUCK INN'!BF13>0,1,0)","v":0},{"$f":"IF('BUCK INN'!BJ13=701,\"WON\",\"LOST\")","v":"LOST"},{"$f":"IF('BUCK INN'!BJ13>0,1,0)","v":0},{"$f":"IF('BUCK INN'!BN13=701,\"WON\",\"LOST\")","v":"LOST"},{"$f":"IF('BUCK INN'!BN13>0,1,0)","v":0},{"$f":"IF('BUCK INN'!BR13=701,\"WON\",\"LOST\")","v":"LOST"},{"$f":"IF('BUCK INN'!BR13>0,1,0)","v":0},{"$f":"IF('BUCK INN'!BV13=701,\"WON\",\"LOST\")","v":"LOST"},{"$f":"IF('BUCK INN'!BV13>0,1,0)","v":0},{"$f":"IF('BUCK INN'!BZ13=701,\"WON\",\"LOST\")","v":"LOST"},{"$f":"IF('BUCK INN'!BZ13>0,1,0)","v":0},{"$f":"IF('BUCK INN'!CD13=701,\"WON\",\"LOST\")","v":"LOST"},{"$f":"IF('BUCK INN'!CD13>0,1,0)","v":0},{"$f":"IF('BUCK INN'!CH13=701,\"WON\",\"LOST\")","v":"LOST"},{"$f":"IF('BUCK INN'!CH13>0,1,0)","v":0}]
[null,{"$f":"IF('BUCK INN'!B14=701,\"WON\",\"LOST\")","v":"LOST"},{"$f":"IF('BUCK INN'!B14>0,1,0)","v":0},{"$f":"IF('BUCK INN'!F14=701,\"WON\",\"LOST\")","v":"LOST"},{"$f":"IF('BUCK INN'!F14>0,1,0)","v":0},{"$f":"IF('BUCK INN'!J14=701,\"WON\",\"LOST\")","v":"LOST"},{"$f":"IF('BUCK INN'!J14>0,1,0)","v":0},{"$f":"IF('BUCK INN'!N14=701,\"WON\",\"LOST\")","v":"LOST"},{"$f":"IF('BUCK INN'!N14>0,1,0)","v":0},{"$f":"IF('BUCK INN'!R14=701,\"WON\",\"LOST\")","v":"LOST"},{"$f":"IF('BUCK INN'!R14>0,1,0)","v":0},{"$f":"IF('BUCK INN'!V14=701,\"WON\",\"LOST\")","v":"LOST"},{"$f":"IF('BUCK INN'!V14>0,1,0)","v":0},{"$f":"IF('BUCK INN'!Z14=701,\"WON\",\"LOST\")","v":"LOST"},{"$f":"IF('BUCK INN'!Z14>0,1,0)","v":0},{"$f":"IF('BUCK INN'!AD14=701,\"WON\",\"LOST\")","v":"LOST"},{"$f":"IF('BUCK INN'!AD14>0,1,0)","v":0},{"$f":"IF('BUCK INN'!AH14=701,\"WON\",\"LOST\")","v":"LOST"},{"$f":"IF('BUCK INN'!AH14>0,1,0)","v":0},{"$f":"IF('BUCK INN'!AL14=701,\"WON\",\"LOST\")","v":"LOST"},{"$f":"IF('BUCK INN'!AL14>0,1,0)","v":0},{"$f":"IF('BUCK INN'!AP14=701,\"WON\",\"LOST\")","v":"LOST"},{"$f":"IF('BUCK INN'!AP14>0,1,0)","v":0},{"$f":"IF('BUCK INN'!AT14=701,\"WON\",\"LOST\")","v":"LOST"},{"$f":"IF('BUCK INN'!AT14>0,1,0)","v":0},{"$f":"IF('BUCK INN'!AX14=701,\"WON\",\"LOST\")","v":"LOST"},{"$f":"IF('BUCK INN'!AX14>0,1,0)","v":0},{"$f":"IF('BUCK INN'!BB14=701,\"WON\",\"LOST\")","v":"LOST"},{"$f":"IF('BUCK INN'!BB14>0,1,0)","v":0},{"$f":"IF('BUCK INN'!BF14=701,\"WON\",\"LOST\")","v":"LOST"},{"$f":"IF('BUCK INN'!BF14>0,1,0)","v":0},{"$f":"IF('BUCK INN'!BJ14=701,\"WON\",\"LOST\")","v":"LOST"},{"$f":"IF('BUCK INN'!BJ14>0,1,0)","v":0},{"$f":"IF('BUCK INN'!BN14=701,\"WON\",\"LOST\")","v":"LOST"},{"$f":"IF('BUCK INN'!BN14>0,1,0)","v":0},{"$f":"IF('BUCK INN'!BR14=701,\"WON\",\"LOST\")","v":"LOST"},{"$f":"IF('BUCK INN'!BR14>0,1,0)","v":0},{"$f":"IF('BUCK INN'!BV14=701,\"WON\",\"LOST\")","v":"LOST"},{"$f":"IF('BUCK INN'!BV14>0,1,0)","v":0},{"$f":"IF('BUCK INN'!BZ14=701,\"WON\",\"LOST\")","v":"LOST"},{"$f":"IF('BUCK INN'!BZ14>0,1,0)","v":0},{"$f":"IF('BUCK INN'!CD14=701,\"WON\",\"LOST\")","v":"LOST"},{"$f":"IF('BUCK INN'!CD14>0,1,0)","v":0},{"$f":"IF('BUCK INN'!CH14=701,\"WON\",\"LOST\")","v":"LOST"},{"$f":"IF('BUCK INN'!CH14>0,1,0)","v":0}]
[null,{"$f":"IF('BUCK INN'!B3=\"\",0,(SUM(('BUCK INN'!B3/'BUCK INN'!C3)*3)))","v":0},null,{"$f":"IF('BUCK INN'!F3=\"\",0,(SUM(('BUCK INN'!F3/'BUCK INN'!G3)*3)))","v":0},null,{"$f":"IF('BUCK INN'!J3=\"\",0,(SUM(('BUCK INN'!J3/'BUCK INN'!K3)*3)))","v":0},null,{"$f":"IF('BUCK INN'!N3=\"\",0,(SUM(('BUCK INN'!N3/'BUCK INN'!O3)*3)))","v":0},null,{"$f":"IF('BUCK INN'!R3=\"\",0,(SUM(('BUCK INN'!R3/'BUCK INN'!S3)*3)))","v":0},null,{"$f":"IF('BUCK INN'!V3=\"\",0,(SUM(('BUCK INN'!V3/'BUCK INN'!W3)*3)))","v":0},null,{"$f":"IF('BUCK INN'!Z3=\"\",0,(SUM(('BUCK INN'!Z3/'BUCK INN'!AA3)*3)))","v":0},null,{"$f":"IF('BUCK INN'!AD3=\"\",0,(SUM(('BUCK INN'!AD3/'BUCK INN'!AE3)*3)))","v":0},null,{"$f":"IF('BUCK INN'!AH3=\"\",0,(SUM(('BUCK INN'!AH3/'BUCK INN'!AI3)*3)))","v":0},null,{"$f":"IF('BUCK INN'!AL3=\"\",0,(SUM(('BUCK INN'!AL3/'BUCK INN'!AM3)*3)))","v":0},null,{"$f":"IF('BUCK INN'!AP3=\"\",0,(SUM(('BUCK INN'!AP3/'BUCK INN'!AQ3)*3)))","v":0},null,{"$f":"IF('BUCK INN'!AT3=\"\",0,(SUM(('BUCK INN'!AT3/'BUCK INN'!AU3)*3)))","v":0},null,{"$f":"IF('BUCK INN'!AX3=\"\",0,(SUM(('BUCK INN'!AX3/'BUCK INN'!AY3)*3)))","v":0},null,{"$f":"IF('BUCK INN'!BB3=\"\",0,(SUM(('BUCK INN'!BB3/'BUCK INN'!BC3)*3)))","v":0},null,{"$f":"IF('BUCK INN'!BF3=\"\",0,(SUM(('BUCK INN'!BF3/'BUCK INN'!BG3)*3)))","v":0},null,{"$f":"IF('BUCK INN'!BJ3=\"\",0,(SUM(('BUCK INN'!BJ3/'BUCK INN'!BK3)*3)))","v":0},null,{"$f":"IF('BUCK INN'!BN3=\"\",0,(SUM(('BUCK INN'!BN3/'BUCK INN'!BO3)*3)))","v":0},null,{"$f":"IF('BUCK INN'!BR3=\"\",0,(SUM(('BUCK INN'!BR3/'BUCK INN'!BS3)*3)))","v":0},null,{"$f":"IF('BUCK INN'!BV3=\"\",0,(SUM(('BUCK INN'!BV3/'BUCK INN'!BW3)*3)))","v":0},null,{"$f":"IF('BUCK INN'!BZ3=\"\",0,(SUM(('BUCK INN'!BZ3/'BUCK INN'!CA3)*3)))","v":0},null,{"$f":"IF('BUCK INN'!CD3=\"\",0,(SUM(('BUCK INN'!CD3/'BUCK INN'!CE3)*3)))","v":0},null,{"$f":"IF('BUCK INN'!CH3=\"\",0,(SUM(('BUCK INN'!CH3/'BUCK INN'!CI3)*3)))","v":0}]
[null,{"$f":"IF('BUCK INN'!B4=\"\",0,(SUM(('BUCK INN'!B4/'BUCK INN'!C4)*3)))","v":0},null,{"$f":"IF('BUCK INN'!F4=\"\",0,(SUM(('BUCK INN'!F4/'BUCK INN'!G4)*3)))","v":0},null,{"$f":"IF('BUCK INN'!J4=\"\",0,(SUM(('BUCK INN'!J4/'BUCK INN'!K4)*3)))","v":0},null,{"$f":"IF('BUCK INN'!N4=\"\",0,(SUM(('BUCK INN'!N4/'BUCK INN'!O4)*3)))","v":0},null,{"$f":"IF('BUCK INN'!R4=\"\",0,(SUM(('BUCK INN'!R4/'BUCK INN'!S4)*3)))","v":0},null,{"$f":"IF('BUCK INN'!V4=\"\",0,(SUM(('BUCK INN'!V4/'BUCK INN'!W4)*3)))","v":0},null,{"$f":"IF('BUCK INN'!Z4=\"\",0,(SUM(('BUCK INN'!Z4/'BUCK INN'!AA4)*3)))","v":0},null,{"$f":"IF('BUCK INN'!AD4=\"\",0,(SUM(('BUCK INN'!AD4/'BUCK INN'!AE4)*3)))","v":0},null,{"$f":"IF('BUCK INN'!AH4=\"\",0,(SUM(('BUCK INN'!AH4/'BUCK INN'!AI4)*3)))","v":0},null,{"$f":"IF('BUCK INN'!AL4=\"\",0,(SUM(('BUCK INN'!AL4/'BUCK INN'!AM4)*3)))","v":0},null,{"$f":"IF('BUCK INN'!AP4=\"\",0,(SUM(('BUCK INN'!AP4/'BUCK INN'!AQ4)*3)))","v":0},null,{"$f":"IF('BUCK INN'!AT4=\"\",0,(SUM(('BUCK INN'!AT4/'BUCK INN'!AU4)*3)))","v":0},null,{"$f":"IF('BUCK INN'!AX4=\"\",0,(SUM(('BUCK INN'!AX4/'BUCK INN'!AY4)*3)))","v":0},null,{"$f":"IF('BUCK INN'!BB4=\"\",0,(SUM(('BUCK INN'!BB4/'BUCK INN'!BC4)*3)))","v":0},null,{"$f":"IF('BUCK INN'!BF4=\"\",0,(SUM(('BUCK INN'!BF4/'BUCK INN'!BG4)*3)))","v":0},null,{"$f":"IF('BUCK INN'!BJ4=\"\",0,(SUM(('BUCK INN'!BJ4/'BUCK INN'!BK4)*3)))","v":0},null,{"$f":"IF('BUCK INN'!BN4=\"\",0,(SUM(('BUCK INN'!BN4/'BUCK INN'!BO4)*3)))","v":0},null,{"$f":"IF('BUCK INN'!BR4=\"\",0,(SUM(('BUCK INN'!BR4/'BUCK INN'!BS4)*3)))","v":0},null,{"$f":"IF('BUCK INN'!BV4=\"\",0,(SUM(('BUCK INN'!BV4/'BUCK INN'!BW4)*3)))","v":0},null,{"$f":"IF('BUCK INN'!BZ4=\"\",0,(SUM(('BUCK INN'!BZ4/'BUCK INN'!CA4)*3)))","v":0},null,{"$f":"IF('BUCK INN'!CD4=\"\",0,(SUM(('BUCK INN'!CD4/'BUCK INN'!CE4)*3)))","v":0},null,{"$f":"IF('BUCK INN'!CH4=\"\",0,(SUM(('BUCK INN'!CH4/'BUCK INN'!CI4)*3)))","v":0}]
[null,{"$f":"IF('BUCK INN'!B5=\"\",0,(SUM(('BUCK INN'!B5/'BUCK INN'!C5)*3)))","v":0},null,{"$f":"IF('BUCK INN'!F5=\"\",0,(SUM(('BUCK INN'!F5/'BUCK INN'!G5)*3)))","v":0},null,{"$f":"IF('BUCK INN'!J5=\"\",0,(SUM(('BUCK INN'!J5/'BUCK INN'!K5)*3)))","v":0},null,{"$f":"IF('BUCK INN'!N5=\"\",0,(SUM(('BUCK INN'!N5/'BUCK INN'!O5)*3)))","v":0},null,{"$f":"IF('BUCK INN'!R5=\"\",0,(SUM(('BUCK INN'!R5/'BUCK INN'!S5)*3)))","v":0},null,{"$f":"IF('BUCK INN'!V5=\"\",0,(SUM(('BUCK INN'!V5/'BUCK INN'!W5)*3)))","v":0},null,{"$f":"IF('BUCK INN'!Z5=\"\",0,(SUM(('BUCK INN'!Z5/'BUCK INN'!AA5)*3)))","v":0},null,{"$f":"IF('BUCK INN'!AD5=\"\",0,(SUM(('BUCK INN'!AD5/'BUCK INN'!AE5)*3)))","v":0},null,{"$f":"IF('BUCK INN'!AH5=\"\",0,(SUM(('BUCK INN'!AH5/'BUCK INN'!AI5)*3)))","v":0},null,{"$f":"IF('BUCK INN'!AL5=\"\",0,(SUM(('BUCK INN'!AL5/'BUCK INN'!AM5)*3)))","v":0},null,{"$f":"IF('BUCK INN'!AP5=\"\",0,(SUM(('BUCK INN'!AP5/'BUCK INN'!AQ5)*3)))","v":0},null,{"$f":"IF('BUCK INN'!AT5=\"\",0,(SUM(('BUCK INN'!AT5/'BUCK INN'!AU5)*3)))","v":0},null,{"$f":"IF('BUCK INN'!AX5=\"\",0,(SUM(('BUCK INN'!AX5/'BUCK INN'!AY5)*3)))","v":0},null,{"$f":"IF('BUCK INN'!BB5=\"\",0,(SUM(('BUCK INN'!BB5/'BUCK INN'!BC5)*3)))","v":0},null,{"$f":"IF('BUCK INN'!BF5=\"\",0,(SUM(('BUCK INN'!BF5/'BUCK INN'!BG5)*3)))","v":0},null,{"$f":"IF('BUCK INN'!BJ5=\"\",0,(SUM(('BUCK INN'!BJ5/'BUCK INN'!BK5)*3)))","v":0},null,{"$f":"IF('BUCK INN'!BN5=\"\",0,(SUM(('BUCK INN'!BN5/'BUCK INN'!BO5)*3)))","v":0},null,{"$f":"IF('BUCK INN'!BR5=\"\",0,(SUM(('BUCK INN'!BR5/'BUCK INN'!BS5)*3)))","v":0},null,{"$f":"IF('BUCK INN'!BV5=\"\",0,(SUM(('BUCK INN'!BV5/'BUCK INN'!BW5)*3)))","v":0},null,{"$f":"IF('BUCK INN'!BZ5=\"\",0,(SUM(('BUCK INN'!BZ5/'BUCK INN'!CA5)*3)))","v":0},null,{"$f":"IF('BUCK INN'!CD5=\"\",0,(SUM(('BUCK INN'!CD5/'BUCK INN'!CE5)*3)))","v":0},null,{"$f":"IF('BUCK INN'!CH5=\"\",0,(SUM(('BUCK INN'!CH5/'BUCK INN'!CI5)*3)))","v":0}]
[null,{"$f":"IF('BUCK INN'!B6=\"\",0,(SUM(('BUCK INN'!B6/'BUCK INN'!C6)*3)))","v":0},null,{"$f":"IF('BUCK INN'!F6=\"\",0,(SUM(('BUCK INN'!F6/'BUCK INN'!G6)*3)))","v":0},null,{"$f":"IF('BUCK INN'!J6=\"\",0,(SUM(('BUCK INN'!J6/'BUCK INN'!K6)*3)))","v":0},null,{"$f":"IF('BUCK INN'!N6=\"\",0,(SUM(('BUCK INN'!N6/'BUCK INN'!O6)*3)))","v":0},null,{"$f":"IF('BUCK INN'!R6=\"\",0,(SUM(('BUCK INN'!R6/'BUCK INN'!S6)*3)))","v":0},null,{"$f":"IF('BUCK INN'!V6=\"\",0,(SUM(('BUCK INN'!V6/'BUCK INN'!W6)*3)))","v":0},null,{"$f":"IF('BUCK INN'!Z6=\"\",0,(SUM(('BUCK INN'!Z6/'BUCK INN'!AA6)*3)))","v":0},null,{"$f":"IF('BUCK INN'!AD6=\"\",0,(SUM(('BUCK INN'!AD6/'BUCK INN'!AE6)*3)))","v":0},null,{"$f":"IF('BUCK INN'!AH6=\"\",0,(SUM(('BUCK INN'!AH6/'BUCK INN'!AI6)*3)))","v":0},null,{"$f":"IF('BUCK INN'!AL6=\"\",0,(SUM(('BUCK INN'!AL6/'BUCK INN'!AM6)*3)))","v":0},null,{"$f":"IF('BUCK INN'!AP6=\"\",0,(SUM(('BUCK INN'!AP6/'BUCK INN'!AQ6)*3)))","v":0},null,{"$f":"IF('BUCK INN'!AT6=\"\",0,(SUM(('BUCK INN'!AT6/'BUCK INN'!AU6)*3)))","v":0},null,{"$f":"IF('BUCK INN'!AX6=\"\",0,(SUM(('BUCK INN'!AX6/'BUCK INN'!AY6)*3)))","v":0},null,{"$f":"IF('BUCK INN'!BB6=\"\",0,(SUM(('BUCK INN'!BB6/'BUCK INN'!BC6)*3)))","v":0},null,{"$f":"IF('BUCK INN'!BF6=\"\",0,(SUM(('BUCK INN'!BF6/'BUCK INN'!BG6)*3)))","v":0},null,{"$f":"IF('BUCK INN'!BJ6=\"\",0,(SUM(('BUCK INN'!BJ6/'BUCK INN'!BK6)*3)))","v":0},null,{"$f":"IF('BUCK INN'!BN6=\"\",0,(SUM(('BUCK INN'!BN6/'BUCK INN'!BO6)*3)))","v":0},null,{"$f":"IF('BUCK INN'!BR6=\"\",0,(SUM(('BUCK INN'!BR6/'BUCK INN'!BS6)*3)))","v":0},null,{"$f":"IF('BUCK INN'!BV6=\"\",0,(SUM(('BUCK INN'!BV6/'BUCK INN'!BW6)*3)))","v":0},null,{"$f":"IF('BUCK INN'!BZ6=\"\",0,(SUM(('BUCK INN'!BZ6/'BUCK INN'!CA6)*3)))","v":0},null,{"$f":"IF('BUCK INN'!CD6=\"\",0,(SUM(('BUCK INN'!CD6/'BUCK INN'!CE6)*3)))","v":0},null,{"$f":"IF('BUCK INN'!CH6=\"\",0,(SUM(('BUCK INN'!CH6/'BUCK INN'!CI6)*3)))","v":0}]
[null,{"$f":"IF('BUCK INN'!B7=\"\",0,(SUM(('BUCK INN'!B7/'BUCK INN'!C7)*3)))","v":0},null,{"$f":"IF('BUCK INN'!F7=\"\",0,(SUM(('BUCK INN'!F7/'BUCK INN'!G7)*3)))","v":0},null,{"$f":"IF('BUCK INN'!J7=\"\",0,(SUM(('BUCK INN'!J7/'BUCK INN'!K7)*3)))","v":0},null,{"$f":"IF('BUCK INN'!N7=\"\",0,(SUM(('BUCK INN'!N7/'BUCK INN'!O7)*3)))","v":0},null,{"$f":"IF('BUCK INN'!R7=\"\",0,(SUM(('BUCK INN'!R7/'BUCK INN'!S7)*3)))","v":0},null,{"$f":"IF('BUCK INN'!V7=\"\",0,(SUM(('BUCK INN'!V7/'BUCK INN'!W7)*3)))","v":0},null,{"$f":"IF('BUCK INN'!Z7=\"\",0,(SUM(('BUCK INN'!Z7/'BUCK INN'!AA7)*3)))","v":0},null,{"$f":"IF('BUCK INN'!AD7=\"\",0,(SUM(('BUCK INN'!AD7/'BUCK INN'!AE7)*3)))","v":0},null,{"$f":"IF('BUCK INN'!AH7=\"\",0,(SUM(('BUCK INN'!AH7/'BUCK INN'!AI7)*3)))","v":0},null,{"$f":"IF('BUCK INN'!AL7=\"\",0,(SUM(('BUCK INN'!AL7/'BUCK INN'!AM7)*3)))","v":0},null,{"$f":"IF('BUCK INN'!AP7=\"\",0,(SUM(('BUCK INN'!AP7/'BUCK INN'!AQ7)*3)))","v":0},null,{"$f":"IF('BUCK INN'!AT7=\"\",0,(SUM(('BUCK INN'!AT7/'BUCK INN'!AU7)*3)))","v":0},null,{"$f":"IF('BUCK INN'!AX7=\"\",0,(SUM(('BUCK INN'!AX7/'BUCK INN'!AY7)*3)))","v":0},null,{"$f":"IF('BUCK INN'!BB7=\"\",0,(SUM(('BUCK INN'!BB7/'BUCK INN'!BC7)*3)))","v":0},null,{"$f":"IF('BUCK INN'!BF7=\"\",0,(SUM(('BUCK INN'!BF7/'BUCK INN'!BG7)*3)))","v":0},null,{"$f":"IF('BUCK INN'!BJ7=\"\",0,(SUM(('BUCK INN'!BJ7/'BUCK INN'!BK7)*3)))","v":0},null,{"$f":"IF('BUCK INN'!BN7=\"\",0,(SUM(('BUCK INN'!BN7/'BUCK INN'!BO7)*3)))","v":0},null,{"$f":"IF('BUCK INN'!BR7=\"\",0,(SUM(('BUCK INN'!BR7/'BUCK INN'!BS7)*3)))","v":0},null,{"$f":"IF('BUCK INN'!BV7=\"\",0,(SUM(('BUCK INN'!BV7/'BUCK INN'!BW7)*3)))","v":0},null,{"$f":"IF('BUCK INN'!BZ7=\"\",0,(SUM(('BUCK INN'!BZ7/'BUCK INN'!CA7)*3)))","v":0},null,{"$f":"IF('BUCK INN'!CD7=\"\",0,(SUM(('BUCK INN'!CD7/'BUCK INN'!CE7)*3)))","v":0},null,{"$f":"IF('BUCK INN'!CH7=\"\",0,(SUM(('BUCK INN'!CH7/'BUCK INN'!CI7)*3)))","v":0}]
[null,{"$f":"IF('BUCK INN'!B8=\"\",0,(SUM(('BUCK INN'!B8/'BUCK INN'!C8)*3)))","v":0},null,{"$f":"IF('BUCK INN'!F8=\"\",0,(SUM(('BUCK INN'!F8/'BUCK INN'!G8)*3)))","v":0},null,{"$f":"IF('BUCK INN'!J8=\"\",0,(SUM(('BUCK INN'!J8/'BUCK INN'!K8)*3)))","v":0},null,{"$f":"IF('BUCK INN'!N8=\"\",0,(SUM(('BUCK INN'!N8/'BUCK INN'!O8)*3)))","v":0},null,{"$f":"IF('BUCK INN'!R8=\"\",0,(SUM(('BUCK INN'!R8/'BUCK INN'!S8)*3)))","v":0},null,{"$f":"IF('BUCK INN'!V8=\"\",0,(SUM(('BUCK INN'!V8/'BUCK INN'!W8)*3)))","v":0},null,{"$f":"IF('BUCK INN'!Z8=\"\",0,(SUM(('BUCK INN'!Z8/'BUCK INN'!AA8)*3)))","v":0},null,{"$f":"IF('BUCK INN'!AD8=\"\",0,(SUM(('BUCK INN'!AD8/'BUCK INN'!AE8)*3)))","v":0},null,{"$f":"IF('BUCK INN'!AH8=\"\",0,(SUM(('BUCK INN'!AH8/'BUCK INN'!AI8)*3)))","v":0},null,{"$f":"IF('BUCK INN'!AL8=\"\",0,(SUM(('BUCK INN'!AL8/'BUCK INN'!AM8)*3)))","v":0},null,{"$f":"IF('BUCK INN'!AP8=\"\",0,(SUM(('BUCK INN'!AP8/'BUCK INN'!AQ8)*3)))","v":0},null,{"$f":"IF('BUCK INN'!AT8=\"\",0,(SUM(('BUCK INN'!AT8/'BUCK INN'!AU8)*3)))","v":0},null,{"$f":"IF('BUCK INN'!AX8=\"\",0,(SUM(('BUCK INN'!AX8/'BUCK INN'!AY8)*3)))","v":0},null,{"$f":"IF('BUCK INN'!BB8=\"\",0,(SUM(('BUCK INN'!BB8/'BUCK INN'!BC8)*3)))","v":0},null,{"$f":"IF('BUCK INN'!BF8=\"\",0,(SUM(('BUCK INN'!BF8/'BUCK INN'!BG8)*3)))","v":0},null,{"$f":"IF('BUCK INN'!BJ8=\"\",0,(SUM(('BUCK INN'!BJ8/'BUCK INN'!BK8)*3)))","v":0},null,{"$f":"IF('BUCK INN'!BN8=\"\",0,(SUM(('BUCK INN'!BN8/'BUCK INN'!BO8)*3)))","v":0},null,{"$f":"IF('BUCK INN'!BR8=\"\",0,(SUM(('BUCK INN'!BR8/'BUCK INN'!BS8)*3)))","v":0},null,{"$f":"IF('BUCK INN'!BV8=\"\",0,(SUM(('BUCK INN'!BV8/'BUCK INN'!BW8)*3)))","v":0},null,{"$f":"IF('BUCK INN'!BZ8=\"\",0,(SUM(('BUCK INN'!BZ8/'BUCK INN'!CA8)*3)))","v":0},null,{"$f":"IF('BUCK INN'!CD8=\"\",0,(SUM(('BUCK INN'!CD8/'BUCK INN'!CE8)*3)))","v":0},null,{"$f":"IF('BUCK INN'!CH8=\"\",0,(SUM(('BUCK INN'!CH8/'BUCK INN'!CI8)*3)))","v":0}]
[null,{"$f":"IF('BUCK INN'!B9=\"\",0,(SUM(('BUCK INN'!B9/'BUCK INN'!C9)*3)))","v":0},null,{"$f":"IF('BUCK INN'!F9=\"\",0,(SUM(('BUCK INN'!F9/'BUCK INN'!G9)*3)))","v":0},null,{"$f":"IF('BUCK INN'!J9=\"\",0,(SUM(('BUCK INN'!J9/'BUCK INN'!K9)*3)))","v":0},null,{"$f":"IF('BUCK INN'!N9=\"\",0,(SUM(('BUCK INN'!N9/'BUCK INN'!O9)*3)))","v":0},null,{"$f":"IF('BUCK INN'!R9=\"\",0,(SUM(('BUCK INN'!R9/'BUCK INN'!S9)*3)))","v":0},null,{"$f":"IF('BUCK INN'!V9=\"\",0,(SUM(('BUCK INN'!V9/'BUCK INN'!W9)*3)))","v":0},null,{"$f":"IF('BUCK INN'!Z9=\"\",0,(SUM(('BUCK INN'!Z9/'BUCK INN'!AA9)*3)))","v":0},null,{"$f":"IF('BUCK INN'!AD9=\"\",0,(SUM(('BUCK INN'!AD9/'BUCK INN'!AE9)*3)))","v":0},null,{"$f":"IF('BUCK INN'!AH9=\"\",0,(SUM(('BUCK INN'!AH9/'BUCK INN'!AI9)*3)))","v":0},null,{"$f":"IF('BUCK INN'!AL9=\"\",0,(SUM(('BUCK INN'!AL9/'BUCK INN'!AM9)*3)))","v":0},null,{"$f":"IF('BUCK INN'!AP9=\"\",0,(SUM(('BUCK INN'!AP9/'BUCK INN'!AQ9)*3)))","v":0},null,{"$f":"IF('BUCK INN'!AT9=\"\",0,(SUM(('BUCK INN'!AT9/'BUCK INN'!AU9)*3)))","v":0},null,{"$f":"IF('BUCK INN'!AX9=\"\",0,(SUM(('BUCK INN'!AX9/'BUCK INN'!AY9)*3)))","v":0},null,{"$f":"IF('BUCK INN'!BB9=\"\",0,(SUM(('BUCK INN'!BB9/'BUCK INN'!BC9)*3)))","v":0},null,{"$f":"IF('BUCK INN'!BF9=\"\",0,(SUM(('BUCK INN'!BF9/'BUCK INN'!BG9)*3)))","v":0},null,{"$f":"IF('BUCK INN'!BJ9=\"\",0,(SUM(('BUCK INN'!BJ9/'BUCK INN'!BK9)*3)))","v":0},null,{"$f":"IF('BUCK INN'!BN9=\"\",0,(SUM(('BUCK INN'!BN9/'BUCK INN'!BO9)*3)))","v":0},null,{"$f":"IF('BUCK INN'!BR9=\"\",0,(SUM(('BUCK INN'!BR9/'BUCK INN'!BS9)*3)))","v":0},null,{"$f":"IF('BUCK INN'!BV9=\"\",0,(SUM(('BUCK INN'!BV9/'BUCK INN'!BW9)*3)))","v":0},null,{"$f":"IF('BUCK INN'!BZ9=\"\",0,(SUM(('BUCK INN'!BZ9/'BUCK INN'!CA9)*3)))","v":0},null,{"$f":"IF('BUCK INN'!CD9=\"\",0,(SUM(('BUCK INN'!CD9/'BUCK INN'!CE9)*3)))","v":0},null,{"$f":"IF('BUCK INN'!CH9=\"\",0,(SUM(('BUCK INN'!CH9/'BUCK INN'!CI9)*3)))","v":0}]
[null,{"$f":"IF('BUCK INN'!B10=\"\",0,(SUM(('BUCK INN'!B10/'BUCK INN'!C10)*3)))","v":0},null,{"$f":"IF('BUCK INN'!F10=\"\",0,(SUM(('BUCK INN'!F10/'BUCK INN'!G10)*3)))","v":0},null,{"$f":"IF('BUCK INN'!J10=\"\",0,(SUM(('BUCK INN'!J10/'BUCK INN'!K10)*3)))","v":0},null,{"$f":"IF('BUCK INN'!N10=\"\",0,(SUM(('BUCK INN'!N10/'BUCK INN'!O10)*3)))","v":0},null,{"$f":"IF('BUCK INN'!R10=\"\",0,(SUM(('BUCK INN'!R10/'BUCK INN'!S10)*3)))","v":0},null,{"$f":"IF('BUCK INN'!V10=\"\",0,(SUM(('BUCK INN'!V10/'BUCK INN'!W10)*3)))","v":0},null,{"$f":"IF('BUCK INN'!Z10=\"\",0,(SUM(('BUCK INN'!Z10/'BUCK INN'!AA10)*3)))","v":0},null,{"$f":"IF('BUCK INN'!AD10=\"\",0,(SUM(('BUCK INN'!AD10/'BUCK INN'!AE10)*3)))","v":0},null,{"$f":"IF('BUCK INN'!AH10=\"\",0,(SUM(('BUCK INN'!AH10/'BUCK INN'!AI10)*3)))","v":0},null,{"$f":"IF('BUCK INN'!AL10=\"\",0,(SUM(('BUCK INN'!AL10/'BUCK INN'!AM10)*3)))","v":0},null,{"$f":"IF('BUCK INN'!AP10=\"\",0,(SUM(('BUCK INN'!AP10/'BUCK INN'!AQ10)*3)))","v":0},null,{"$f":"IF('BUCK INN'!AT10=\"\",0,(SUM(('BUCK INN'!AT10/'BUCK INN'!AU10)*3)))","v":0},null,{"$f":"IF('BUCK INN'!AX10=\"\",0,(SUM(('BUCK INN'!AX10/'BUCK INN'!AY10)*3)))","v":0},null,{"$f":"IF('BUCK INN'!BB10=\"\",0,(SUM(('BUCK INN'!BB10/'BUCK INN'!BC10)*3)))","v":0},null,{"$f":"IF('BUCK INN'!BF10=\"\",0,(SUM(('BUCK INN'!BF10/'BUCK INN'!BG10)*3)))","v":0},null,{"$f":"IF('BUCK INN'!BJ10=\"\",0,(SUM(('BUCK INN'!BJ10/'BUCK INN'!BK10)*3)))","v":0},null,{"$f":"IF('BUCK INN'!BN10=\"\",0,(SUM(('BUCK INN'!BN10/'BUCK INN'!BO10)*3)))","v":0},null,{"$f":"IF('BUCK INN'!BR10=\"\",0,(SUM(('BUCK INN'!BR10/'BUCK INN'!BS10)*3)))","v":0},null,{"$f":"IF('BUCK INN'!BV10=\"\",0,(SUM(('BUCK INN'!BV10/'BUCK INN'!BW10)*3)))","v":0},null,{"$f":"IF('BUCK INN'!BZ10=\"\",0,(SUM(('BUCK INN'!BZ10/'BUCK INN'!CA10)*3)))","v":0},null,{"$f":"IF('BUCK INN'!CD10=\"\",0,(SUM(('BUCK INN'!CD10/'BUCK INN'!CE10)*3)))","v":0},null,{"$f":"IF('BUCK INN'!CH10=\"\",0,(SUM(('BUCK INN'!CH10/'BUCK INN'!CI10)*3)))","v":0}]
[null,{"$f":"IF('BUCK INN'!B11=\"\",0,(SUM(('BUCK INN'!B11/'BUCK INN'!C11)*3)))","v":0},null,{"$f":"IF('BUCK INN'!F11=\"\",0,(SUM(('BUCK INN'!F11/'BUCK INN'!G11)*3)))","v":0},null,{"$f":"IF('BUCK INN'!J11=\"\",0,(SUM(('BUCK INN'!J11/'BUCK INN'!K11)*3)))","v":0},null,{"$f":"IF('BUCK INN'!N11=\"\",0,(SUM(('BUCK INN'!N11/'BUCK INN'!O11)*3)))","v":0},null,{"$f":"IF('BUCK INN'!R11=\"\",0,(SUM(('BUCK INN'!R11/'BUCK INN'!S11)*3)))","v":0},null,{"$f":"IF('BUCK INN'!V11=\"\",0,(SUM(('BUCK INN'!V11/'BUCK INN'!W11)*3)))","v":0},null,{"$f":"IF('BUCK INN'!Z11=\"\",0,(SUM(('BUCK INN'!Z11/'BUCK INN'!AA11)*3)))","v":0},null,{"$f":"IF('BUCK INN'!AD11=\"\",0,(SUM(('BUCK INN'!AD11/'BUCK INN'!AE11)*3)))","v":0},null,{"$f":"IF('BUCK INN'!AH11=\"\",0,(SUM(('BUCK INN'!AH11/'BUCK INN'!AI11)*3)))","v":0},null,{"$f":"IF('BUCK INN'!AL11=\"\",0,(SUM(('BUCK INN'!AL11/'BUCK INN'!AM11)*3)))","v":0},null,{"$f":"IF('BUCK INN'!AP11=\"\",0,(SUM(('BUCK INN'!AP11/'BUCK INN'!AQ11)*3)))","v":0},null,{"$f":"IF('BUCK INN'!AT11=\"\",0,(SUM(('BUCK INN'!AT11/'BUCK INN'!AU11)*3)))","v":0},null,{"$f":"IF('BUCK INN'!AX11=\"\",0,(SUM(('BUCK INN'!AX11/'BUCK INN'!AY11)*3)))","v":0},null,{"$f":"IF('BUCK INN'!BB11=\"\",0,(SUM(('BUCK INN'!BB11/'BUCK INN'!BC11)*3)))","v":0},null,{"$f":"IF('BUCK INN'!BF11=\"\",0,(SUM(('BUCK INN'!BF11/'BUCK INN'!BG11)*3)))","v":0},null,{"$f":"IF('BUCK INN'!BJ11=\"\",0,(SUM(('BUCK INN'!BJ11/'BUCK INN'!BK11)*3)))","v":0},null,{"$f":"IF('BUCK INN'!BN11=\"\",0,(SUM(('BUCK INN'!BN11/'BUCK INN'!BO11)*3)))","v":0},null,{"$f":"IF('BUCK INN'!BR11=\"\",0,(SUM(('BUCK INN'!BR11/'BUCK INN'!BS11)*3)))","v":0},null,{"$f":"IF('BUCK INN'!BV11=\"\",0,(SUM(('BUCK INN'!BV11/'BUCK INN'!BW11)*3)))","v":0},null,{"$f":"IF('BUCK INN'!BZ11=\"\",0,(SUM(('BUCK INN'!BZ11/'BUCK INN'!CA11)*3)))","v":0},null,{"$f":"IF('BUCK INN'!CD11=\"\",0,(SUM(('BUCK INN'!CD11/'BUCK INN'!CE11)*3)))","v":0},null,{"$f":"IF('BUCK INN'!CH11=\"\",0,(SUM(('BUCK INN'!CH11/'BUCK INN'!CI11)*3)))","v":0}]
[null,{"$f":"IF('BUCK INN'!B12=\"\",0,(SUM(('BUCK INN'!B12/'BUCK INN'!C12)*3)))","v":0},null,{"$f":"IF('BUCK INN'!F12=\"\",0,(SUM(('BUCK INN'!F12/'BUCK INN'!G12)*3)))","v":0},null,{"$f":"IF('BUCK INN'!J12=\"\",0,(SUM(('BUCK INN'!J12/'BUCK INN'!K12)*3)))","v":0},null,{"$f":"IF('BUCK INN'!N12=\"\",0,(SUM(('BUCK INN'!N12/'BUCK INN'!O12)*3)))","v":0},null,{"$f":"IF('BUCK INN'!R12=\"\",0,(SUM(('BUCK INN'!R12/'BUCK INN'!S12)*3)))","v":0},null,{"$f":"IF('BUCK INN'!V12=\"\",0,(SUM(('BUCK INN'!V12/'BUCK INN'!W12)*3)))","v":0},null,{"$f":"IF('BUCK INN'!Z12=\"\",0,(SUM(('BUCK INN'!Z12/'BUCK INN'!AA12)*3)))","v":0},null,{"$f":"IF('BUCK INN'!AD12=\"\",0,(SUM(('BUCK INN'!AD12/'BUCK INN'!AE12)*3)))","v":0},null,{"$f":"IF('BUCK INN'!AH12=\"\",0,(SUM(('BUCK INN'!AH12/'BUCK INN'!AI12)*3)))","v":0},null,{"$f":"IF('BUCK INN'!AL12=\"\",0,(SUM(('BUCK INN'!AL12/'BUCK INN'!AM12)*3)))","v":0},null,{"$f":"IF('BUCK INN'!AP12=\"\",0,(SUM(('BUCK INN'!AP12/'BUCK INN'!AQ12)*3)))","v":0},null,{"$f":"IF('BUCK INN'!AT12=\"\",0,(SUM(('BUCK INN'!AT12/'BUCK INN'!AU12)*3)))","v":0},null,{"$f":"IF('BUCK INN'!AX12=\"\",0,(SUM(('BUCK INN'!AX12/'BUCK INN'!AY12)*3)))","v":0},null,{"$f":"IF('BUCK INN'!BB12=\"\",0,(SUM(('BUCK INN'!BB12/'BUCK INN'!BC12)*3)))","v":0},null,{"$f":"IF('BUCK INN'!BF12=\"\",0,(SUM(('BUCK INN'!BF12/'BUCK INN'!BG12)*3)))","v":0},null,{"$f":"IF('BUCK INN'!BJ12=\"\",0,(SUM(('BUCK INN'!BJ12/'BUCK INN'!BK12)*3)))","v":0},null,{"$f":"IF('BUCK INN'!BN12=\"\",0,(SUM(('BUCK INN'!BN12/'BUCK INN'!BO12)*3)))","v":0},null,{"$f":"IF('BUCK INN'!BR12=\"\",0,(SUM(('BUCK INN'!BR12/'BUCK INN'!BS12)*3)))","v":0},null,{"$f":"IF('BUCK INN'!BV12=\"\",0,(SUM(('BUCK INN'!BV12/'BUCK INN'!BW12)*3)))","v":0},null,{"$f":"IF('BUCK INN'!BZ12=\"\",0,(SUM(('BUCK INN'!BZ12/'BUCK INN'!CA12)*3)))","v":0},null,{"$f":"IF('BUCK INN'!CD12=\"\",0,(SUM(('BUCK INN'!CD12/'BUCK INN'!CE12)*3)))","v":0},null,{"$f":"IF('BUCK INN'!CH12=\"\",0,(SUM(('BUCK INN'!CH12/'BUCK INN'!CI12)*3)))","v":0}]
[null,{"$f":"IF('BUCK INN'!B13=\"\",0,(SUM(('BUCK INN'!B13/'BUCK INN'!C13)*3)))","v":0},null,{"$f":"IF('BUCK INN'!F13=\"\",0,(SUM(('BUCK INN'!F13/'BUCK INN'!G13)*3)))","v":0},null,{"$f":"IF('BUCK INN'!J13=\"\",0,(SUM(('BUCK INN'!J13/'BUCK INN'!K13)*3)))","v":0},null,{"$f":"IF('BUCK INN'!N13=\"\",0,(SUM(('BUCK INN'!N13/'BUCK INN'!O13)*3)))","v":0},null,{"$f":"IF('BUCK INN'!R13=\"\",0,(SUM(('BUCK INN'!R13/'BUCK INN'!S13)*3)))","v":0},null,{"$f":"IF('BUCK INN'!V13=\"\",0,(SUM(('BUCK INN'!V13/'BUCK INN'!W13)*3)))","v":0},null,{"$f":"IF('BUCK INN'!Z13=\"\",0,(SUM(('BUCK INN'!Z13/'BUCK INN'!AA13)*3)))","v":0},null,{"$f":"IF('BUCK INN'!AD13=\"\",0,(SUM(('BUCK INN'!AD13/'BUCK INN'!AE13)*3)))","v":0},null,{"$f":"IF('BUCK INN'!AH13=\"\",0,(SUM(('BUCK INN'!AH13/'BUCK INN'!AI13)*3)))","v":0},null,{"$f":"IF('BUCK INN'!AL13=\"\",0,(SUM(('BUCK INN'!AL13/'BUCK INN'!AM13)*3)))","v":0},null,{"$f":"IF('BUCK INN'!AP13=\"\",0,(SUM(('BUCK INN'!AP13/'BUCK INN'!AQ13)*3)))","v":0},null,{"$f":"IF('BUCK INN'!AT13=\"\",0,(SUM(('BUCK INN'!AT13/'BUCK INN'!AU13)*3)))","v":0},null,{"$f":"IF('BUCK INN'!AX13=\"\",0,(SUM(('BUCK INN'!AX13/'BUCK INN'!AY13)*3)))","v":0},null,{"$f":"IF('BUCK INN'!BB13=\"\",0,(SUM(('BUCK INN'!BB13/'BUCK INN'!BC13)*3)))","v":0},null,{"$f":"IF('BUCK INN'!BF13=\"\",0,(SUM(('BUCK INN'!BF13/'BUCK INN'!BG13)*3)))","v":0},null,{"$f":"IF('BUCK INN'!BJ13=\"\",0,(SUM(('BUCK INN'!BJ13/'BUCK INN'!BK13)*3)))","v":0},null,{"$f":"IF('BUCK INN'!BN13=\"\",0,(SUM(('BUCK INN'!BN13/'BUCK INN'!BO13)*3)))","v":0},null,{"$f":"IF('BUCK INN'!BR13=\"\",0,(SUM(('BUCK INN'!BR13/'BUCK INN'!BS13)*3)))","v":0},null,{"$f":"IF('BUCK INN'!BV13=\"\",0,(SUM(('BUCK INN'!BV13/'BUCK INN'!BW13)*3)))","v":0},null,{"$f":"IF('BUCK INN'!BZ13=\"\",0,(SUM(('BUCK INN'!BZ13/'BUCK INN'!CA13)*3)))","v":0},null,{"$f":"IF('BUCK INN'!CD13=\"\",0,(SUM(('BUCK INN'!CD13/'BUCK INN'!CE13)*3)))","v":0},null,{"$f":"IF('BUCK INN'!CH13=\"\",0,(SUM(('BUCK INN'!CH13/'BUCK INN'!CI13)*3)))","v":0}]
[null,{"$f":"IF('BUCK INN'!B14=\"\",0,(SUM(('BUCK INN'!B14/'BUCK INN'!C14)*3)))","v":0},null,{"$f":"IF('BUCK INN'!F14=\"\",0,(SUM(('BUCK INN'!F14/'BUCK INN'!G14)*3)))","v":0},null,{"$f":"IF('BUCK INN'!J14=\"\",0,(SUM(('BUCK INN'!J14/'BUCK INN'!K14)*3)))","v":0},null,{"$f":"IF('BUCK INN'!N14=\"\",0,(SUM(('BUCK INN'!N14/'BUCK INN'!O14)*3)))","v":0},null,{"$f":"IF('BUCK INN'!R14=\"\",0,(SUM(('BUCK INN'!R14/'BUCK INN'!S14)*3)))","v":0},null,{"$f":"IF('BUCK INN'!V14=\"\",0,(SUM(('BUCK INN'!V14/'BUCK INN'!W14)*3)))","v":0},null,{"$f":"IF('BUCK INN'!Z14=\"\",0,(SUM(('BUCK INN'!Z14/'BUCK INN'!AA14)*3)))","v":0},null,{"$f":"IF('BUCK INN'!AD14=\"\",0,(SUM(('BUCK INN'!AD14/'BUCK INN'!AE14)*3)))","v":0},null,{"$f":"IF('BUCK INN'!AH14=\"\",0,(SUM(('BUCK INN'!AH14/'BUCK INN'!AI14)*3)))","v":0},null,{"$f":"IF('BUCK INN'!AL14=\"\",0,(SUM(('BUCK INN'!AL14/'BUCK INN'!AM14)*3)))","v":0},null,{"$f":"IF('BUCK INN'!AP14=\"\",0,(SUM(('BUCK INN'!AP14/'BUCK INN'!AQ14)*3)))","v":0},null,{"$f":"IF('BUCK INN'!AT14=\"\",0,(SUM(('BUCK INN'!AT14/'BUCK INN'!AU14)*3)))","v":0},null,{"$f":"IF('BUCK INN'!AX14=\"\",0,(SUM(('BUCK INN'!AX14/'BUCK INN'!AY14)*3)))","v":0},null,{"$f":"IF('BUCK INN'!BB14=\"\",0,(SUM(('BUCK INN'!BB14/'BUCK INN'!BC14)*3)))","v":0},null,{"$f":"IF('BUCK INN'!BF14=\"\",0,(SUM(('BUCK INN'!BF14/'BUCK INN'!BG14)*3)))","v":0},null,{"$f":"IF('BUCK INN'!BJ14=\"\",0,(SUM(('BUCK INN'!BJ14/'BUCK INN'!BK14)*3)))","v":0},null,{"$f":"IF('BUCK INN'!BN14=\"\",0,(SUM(('BUCK INN'!BN14/'BUCK INN'!BO14)*3)))","v":0},null,{"$f":"IF('BUCK INN'!BR14=\"\",0,(SUM(('BUCK INN'!BR14/'BUCK INN'!BS14)*3)))","v":0},null,{"$f":"IF('BUCK INN'!BV14=\"\",0,(SUM(('BUCK INN'!BV14/'BUCK INN'!BW14)*3)))","v":0},null,{"$f":"IF('BUCK INN'!BZ14=\"\",0,(SUM(('BUCK INN'!BZ14/'BUCK INN'!CA14)*3)))","v":0},null,{"$f":"IF('BUCK INN'!CD14=\"\",0,(SUM(('BUCK INN'!CD14/'BUCK INN'!CE14)*3)))","v":0},null,{"$f":"IF('BUCK INN'!CH14=\"\",0,(SUM(('BUCK INN'!CH14/'BUCK INN'!CI14)*3)))","v":0}]
[]
["SPORTSMANS","10/09/2007\nV\nBOWLING CLUB\n (H)",null,"17/09/2007\nV\nRAFA 'B'\n (H)",null,"24/09/2007\nV\nRAFA 'A'\n (H)",null,"1/10/2007\nV\nSTANDARD 'B'\n (A)",null,"15/10/2007\nV\nBYE",null,"29/10/2007\nV\nWMC\n (A)",null,"5/11/2007\nV\nSTANDARD 'A'\n (H)",null,"12/11/2007\nV\nGOLDEN LION 'B'\n (A)",null,"26/11/2007\nV\nGOLDEN LION 'A'\n (H)",null,"03/12/2007\nV\nCRICKET CLUB\n(A)",null,"17/12/2007\nV\nNAGS HEAD\n(A)",null,"7/01/2008\nV\nBOWLING CLUB\n(A)",null,"14/01/2008\nV\nRAFA 'B'\n(A)",null,"21/01/2008\nV\nRAFA 'A'\n(A)",null,"04/02/2008\nV\nSTANDARD 'B'\n(H)",null,"11/02/2008\nV\nBYE",null,"25/02/2008\nV\nWMC\n(H)",null,"10/03/2008\nV\nSTANDARD 'A'\n(A)",null,"17/03/2008\nV\nGOLDEN LION 'B'\n(H)",null,"31/03/2008\nV\nGOLDEN LION 'A'\n(A)",null,"14/04/2008\nV\nCRICKET CLUB\n(H)",null,"21/04/2008\nV\nNAGS HEAD\n(H)"]
[null,"W/L","AVG","W/L","AVG","W/L","AVG","W/L","AVG","W/L","AVG","W/L","AVG","W/L","AVG","W/L","AVG","W/L","AVG","W/L","AVG","W/L","AVG","W/L","AVG","W/L","AVG","W/L","AVG","W/L","AVG","W/L","AVG","W/L","AVG","W/L","AVG","W/L","AVG","W/L","AVG","W/L","AVG","W/L","AVG"]
[{"$f":"'NAGS HEAD \"A\"'!A3","v":"Steve Blewitt"},{"$f":"IF(C296=1,B296,\"\")","v":"WON"},{"$f":"IF(B308>0,B308,\"\")","v":51.292682926829272},{"$f":"IF(E296=1,D296,\"\")","v":"WON"},{"$f":"IF(D308>0,D308,\"\")","v":53.92307692307692},{"$f":"IF(G296=1,F296,\"\")","v":"LOST"},{"$f":"IF(F308>0,F308,\"\")","v":47.444444444444443},{"$f":"IF(I296=1,H296,\"\")","v":""},{"$f":"IF(H308>0,H308,\"\")","v":""},{"$f":"IF(K296=1,J296,\"\")","v":""},{"$f":"IF(J308>0,J308,\"\")","v":""},{"$f":"IF(M296=1,L296,\"\")","v":"WON"},{"$f":"IF(L308>0,L308,\"\")","v":48.906976744186039},{"$f":"IF(O296=1,N296,\"\")","v":"WON"},{"$f":"IF(N308>0,N308,\"\")","v":51.292682926829272},{"$f":"IF(Q296=1,P296,\"\")","v":"WON"},{"$f":"IF(P308>0,P308,\"\")","v":65.71875},{"$f":"IF(S296=1,R296,\"\")","v":"WON"},{"$f":"IF(R308>0,R308,\"\")","v":63.727272727272727},{"$f":"IF(U296=1,T296,\"\")","v":"WON"},{"$f":"IF(T308>0,T308,\"\")","v":75.107142857142861},{"$f":"IF(W296=1,V296,\"\")","v":"WON"},{"$f":"IF(V308>0,V308,\"\")","v":65.71875},{"$f":"IF(Y296=1,X296,\"\")","v":"LOST"},{"$f":"IF(X308>0,X308,\"\")","v":45},{"$f":"IF(AA296=1,Z296,\"\")","v":"WON"},{"$f":"IF(Z308>0,Z308,\"\")","v":63.727272727272727},{"$f":"IF(AC296=1,AB296,\"\")","v":""},{"$f":"IF(AB308>0,AB308,\"\")","v":""},{"$f":"IF(AE296=1,AD296,\"\")","v":"WON"},{"$f":"IF(AD308>0,AD308,\"\")","v":77.888888888888886},{"$f":"IF(AG296=1,AF296,\"\")","v":"WON"},{"$f":"IF(AF308>0,AF308,\"\")","v":60.085714285714289},{"$f":"IF(AI296=1,AH296,\"\")","v":"WON"},{"$f":"IF(AH308>0,AH308,\"\")","v":51.292682926829272},{"$f":"IF(AK296=1,AJ296,\"\")","v":"LOST"},{"$f":"IF(AJ308>0,AJ308,\"\")","v":69.100000000000009},{"$f":"IF(AM296=1,AL296,\"\")","v":""},{"$f":"IF(AL308>0,AL308,\"\")","v":""},{"$f":"IF(AO296=1,AN296,\"\")","v":""},{"$f":"IF(AN308>0,AN308,\"\")","v":""},{"$f":"IF(AQ296=1,AP296,\"\")","v":""},{"$f":"IF(AP308>0,AP308,\"\")","v":""},{"$f":"IF(AS296=1,AR296,\"\")","v":""},{"$f":"IF(AR308>0,AR308,\"\")","v":""}]
[{"$f":"'NAGS HEAD \"A\"'!A4","v":"Sean Kendrew"},{"$f":"IF(C297=1,B297,\"\")","v":"WON"},{"$f":"IF(B309>0,B309,\"\")","v":56.837837837837839},{"$f":"IF(E297=1,D297,\"\")","v":"WON"},{"$f":"IF(D309>0,D309,\"\")","v":63.727272727272727},{"$f":"IF(G297=1,F297,\"\")","v":"WON"},{"$f":"IF(F309>0,F309,\"\")","v":72.517241379310349},{"$f":"IF(I297=1,H297,\"\")","v":"WON"},{"$f":"IF(H309>0,H309,\"\")","v":87.625},{"$f":"IF(K297=1,J297,\"\")","v":""},{"$f":"IF(J309>0,J309,\"\")","v":""},{"$f":"IF(M297=1,L297,\"\")","v":"WON"},{"$f":"IF(L309>0,L309,\"\")","v":63.727272727272727},{"$f":"IF(O297=1,N297,\"\")","v":"WON"},{"$f":"IF(N309>0,N309,\"\")","v":67.838709677419359},{"$f":"IF(Q297=1,P297,\"\")","v":"WON"},{"$f":"IF(P309>0,P309,\"\")","v":63.727272727272727},{"$f":"IF(S297=1,R297,\"\")","v":"WON"},{"$f":"IF(R309>0,R309,\"\")","v":63.727272727272727},{"$f":"IF(U297=1,T297,\"\")","v":"WON"},{"$f":"IF(T309>0,T309,\"\")","v":53.92307692307692},{"$f":"IF(W297=1,V297,\"\")","v":"WON"},{"$f":"IF(V309>0,V309,\"\")","v":72.517241379310349},{"$f":"IF(Y297=1,X297,\"\")","v":"WON"},{"$f":"IF(X309>0,X309,\"\")","v":55.34210526315789},{"$f":"IF(AA297=1,Z297,\"\")","v":"WON"},{"$f":"IF(Z309>0,Z309,\"\")","v":75.107142857142861},{"$f":"IF(AC297=1,AB297,\"\")","v":""},{"$f":"IF(AB309>0,AB309,\"\")","v":""},{"$f":"IF(AE297=1,AD297,\"\")","v":"LOST"},{"$f":"IF(AD309>0,AD309,\"\")","v":61.909090909090907},{"$f":"IF(AG297=1,AF297,\"\")","v":"WON"},{"$f":"IF(AF309>0,AF309,\"\")","v":61.852941176470587},{"$f":"IF(AI297=1,AH297,\"\")","v":"WON"},{"$f":"IF(AH309>0,AH309,\"\")","v":60.085714285714289},{"$f":"IF(AK297=1,AJ297,\"\")","v":"WON"},{"$f":"IF(AJ309>0,AJ309,\"\")","v":55.34210526315789},{"$f":"IF(AM297=1,AL297,\"\")","v":""},{"$f":"IF(AL309>0,AL309,\"\")","v":""},{"$f":"IF(AO297=1,AN297,\"\")","v":""},{"$f":"IF(AN309>0,AN309,\"\")","v":""},{"$f":"IF(AQ297=1,AP297,\"\")","v":""},{"$f":"IF(AP309>0,AP309,\"\")","v":""},{"$f":"IF(AS297=1,AR297,\"\")","v":""},{"$f":"IF(AR309>0,AR309,\"\")","v":""}]
[{"$f":"'NAGS HEAD \"A\"'!A5","v":"Steve Truman"},"","","WON",70.099999999999994,"LOST",55.166666666666671,"LOST",36.789473684210527,"","","WON",37.553571428571431,"","","WON",60.085714285714289,"WON",56.837837837837839,"WON",61.852941176470587,"WON",58.416666666666664,"LOST",56.272727272727273,"WON",60.085714285714289,"","","WON",53.92307692307692,"WON",58.416666666666664,"WON",67.838709677419359,"LOST",54.272727272727266,"","","","","","","",""]
[{"$f":"'NAGS HEAD \"A\"'!A6","v":"Al Spence"},"","","","","LOST",34.950000000000003,"LOST",42.900000000000006,"","","","","WON",38.236363636363635,"","","LOST",55.083333333333329,"WON",50.071428571428569,"WON",60.085714285714289,"WON",65.71875,"WON",41.235294117647058,"","","LOST",43.3125,"WON",52.574999999999996,"","","","","","","","","","","",""]
[{"$f":"'NAGS HEAD \"A\"'!A7","v":"Al Whelan"},"WON",43.8125,"LOST",61.181818181818187,"","","LOST",41.117647058823529,"","","LOST",44.285714285714292,"WON",51.292682926829272,"LOST",41.5,"","","WON",58.416666666666664,"WON",51.292682926829272,"LOST",43.5,"WON",50.071428571428569,"","","WON",56.837837837837839,"WON",50.071428571428569,"WON",60.085714285714289,"WON",61.852941176470587,"","","","","","","",""]
[{"$f":"'NAGS HEAD \"A\"'!A8","v":"Dave Atkinson"},"WON",56.837837837837839,"WON",45.717391304347828,"WON",72.517241379310349,"LOST",57.875,"","","LOST",53.307692307692307,"WON",80.884615384615387,"WON",72.517241379310349,"WON",65.71875,"WON",60.085714285714289,"WON",72.517241379310349,"LOST",43.416666666666664,"","","","","WON",60.085714285714289,"WON",48.906976744186039,"WON",51.292682926829272,"WON",45.717391304347828,"","","","","","","",""]
[{"$f":"'NAGS HEAD \"A\"'!A9","v":"Greg Tozier"},"LOST",31.4375,"","","","","","","","","","","","","","","","","","","","","","","","","","","","","","","","","","","","","","","","","",""]
[{"$f":"'NAGS HEAD \"A\"'!A10","v":"Col Lagan"},"LOST",45.785714285714292,"LOST",52.38461538461538,"LOST",53.545454545454547,"LOST",51.125,"","","LOST",51.916666666666671,"WON",65.71875,"WON",56.837837837837839,"LOST",58.63636363636364,"","","","","","","","","","","","","","","WON",39.679245283018872,"","","","","","","","","",""]
[{"$f":"'NAGS HEAD \"A\"'!A11","v":"Kireon Timmons"},"","","","","","","","","","","","","","","","","","","","","","","","","WON",52.574999999999996,"","","","","","","","","LOST",49.416666666666664,"","","","","","","",""]
[{"$f":"'NAGS HEAD \"A\"'!A12","v":0},"","","","","","","","","","","","","","","","","","","","","","","","","","","","","","","","","","","","","","","","","","","",""]
[{"$f":"'NAGS HEAD \"A\"'!A13","v":0},"","","","","","","","","","","","","","","","","","","","","","","","","","","","","","","","","","","","","","","","","","","",""]
[{"$f":"'NAGS HEAD \"A\"'!A14","v":0},"","","","","","","","","","","","","","","","","","","","","","","","","","","","","","","","","","","","","","","","","","","",""]
[]
["SPORTSMANS",{"$f":"IF('NAGS HEAD \"A\"'!B3=701,\"WON\",\"LOST\")","v":"WON"},{"$f":"IF('NAGS HEAD \"A\"'!B3>0,1,0)","v":1},{"$f":"IF('NAGS HEAD \"A\"'!F3=701,\"WON\",\"LOST\")","v":"WON"},{"$f":"IF('NAGS HEAD \"A\"'!F3>0,1,0)","v":1},{"$f":"IF('NAGS HEAD \"A\"'!J3=701,\"WON\",\"LOST\")","v":"LOST"},{"$f":"IF('NAGS HEAD \"A\"'!J3>0,1,0)","v":1},{"$f":"IF('NAGS HEAD \"A\"'!N3=701,\"WON\",\"LOST\")","v":"LOST"},{"$f":"IF('NAGS HEAD \"A\"'!N3>0,1,0)","v":0},{"$f":"IF('NAGS HEAD \"A\"'!R3=701,\"WON\",\"LOST\")","v":"LOST"},{"$f":"IF('NAGS HEAD \"A\"'!R3>0,1,0)","v":0},{"$f":"IF('NAGS HEAD \"A\"'!V3=701,\"WON\",\"LOST\")","v":"WON"},{"$f":"IF('NAGS HEAD \"A\"'!V3>0,1,0)","v":1},{"$f":"IF('NAGS HEAD \"A\"'!Z3=701,\"WON\",\"LOST\")","v":"WON"},{"$f":"IF('NAGS HEAD \"A\"'!Z3>0,1,0)","v":1},{"$f":"IF('NAGS HEAD \"A\"'!AD3=701,\"WON\",\"LOST\")","v":"WON"},{"$f":"IF('NAGS HEAD \"A\"'!AD3>0,1,0)","v":1},{"$f":"IF('NAGS HEAD \"A\"'!AH3=701,\"WON\",\"LOST\")","v":"WON"},{"$f":"IF('NAGS HEAD \"A\"'!AH3>0,1,0)","v":1},{"$f":"IF('NAGS HEAD \"A\"'!AL3=701,\"WON\",\"LOST\")","v":"WON"},{"$f":"IF('NAGS HEAD \"A\"'!AL3>0,1,0)","v":1},{"$f":"IF('NAGS HEAD \"A\"'!AP3=701,\"WON\",\"LOST\")","v":"WON"},{"$f":"IF('NAGS HEAD \"A\"'!AP3>0,1,0)","v":1},{"$f":"IF('NAGS HEAD \"A\"'!AT3=701,\"WON\",\"LOST\")","v":"LOST"},{"$f":"IF('NAGS HEAD \"A\"'!AT3>0,1,0)","v":1},{"$f":"IF('NAGS HEAD \"A\"'!AX3=701,\"WON\",\"LOST\")","v":"WON"},{"$f":"IF('NAGS HEAD \"A\"'!AX3>0,1,0)","v":1},{"$f":"IF('NAGS HEAD \"A\"'!BB3=701,\"WON\",\"LOST\")","v":"LOST"},{"$f":"IF('NAGS HEAD \"A\"'!BB3>0,1,0)","v":0},{"$f":"IF('NAGS HEAD \"A\"'!BF3=701,\"WON\",\"LOST\")","v":"WON"},{"$f":"IF('NAGS HEAD \"A\"'!BF3>0,1,0)","v":1},{"$f":"IF('NAGS HEAD \"A\"'!BJ3=701,\"WON\",\"LOST\")","v":"WON"},{"$f":"IF('NAGS HEAD \"A\"'!BJ3>0,1,0)","v":1},{"$f":"IF('NAGS HEAD \"A\"'!BN3=701,\"WON\",\"LOST\")","v":"WON"},{"$f":"IF('NAGS HEAD \"A\"'!BN3>0,1,0)","v":1},{"$f":"IF('NAGS HEAD \"A\"'!BR3=701,\"WON\",\"LOST\")","v":"LOST"},{"$f":"IF('NAGS HEAD \"A\"'!BR3>0,1,0)","v":1},{"$f":"IF('NAGS HEAD \"A\"'!BV3=701,\"WON\",\"LOST\")","v":"LOST"},{"$f":"IF('NAGS HEAD \"A\"'!BV3>0,1,0)","v":0},{"$f":"IF('NAGS HEAD \"A\"'!BZ3=701,\"WON\",\"LOST\")","v":"LOST"},{"$f":"IF('NAGS HEAD \"A\"'!BZ3>0,1,0)","v":0},{"$f":"IF('NAGS HEAD \"A\"'!CD3=701,\"WON\",\"LOST\")","v":"LOST"},{"$f":"IF('NAGS HEAD \"A\"'!CD3>0,1,0)","v":0},{"$f":"IF('NAGS HEAD \"A\"'!CH3=701,\"WON\",\"LOST\")","v":"LOST"},{"$f":"IF('NAGS HEAD \"A\"'!CH3>0,1,0)","v":0}]
[null,{"$f":"IF('NAGS HEAD \"A\"'!B4=701,\"WON\",\"LOST\")","v":"WON"},{"$f":"IF('NAGS HEAD \"A\"'!B4>0,1,0)","v":1},{"$f":"IF('NAGS HEAD \"A\"'!F4=701,\"WON\",\"LOST\")","v":"WON"},{"$f":"IF('NAGS HEAD \"A\"'!F4>0,1,0)","v":1},{"$f":"IF('NAGS HEAD \"A\"'!J4=701,\"WON\",\"LOST\")","v":"WON"},{"$f":"IF('NAGS HEAD \"A\"'!J4>0,1,0)","v":1},{"$f":"IF('NAGS HEAD \"A\"'!N4=701,\"WON\",\"LOST\")","v":"WON"},{"$f":"IF('NAGS HEAD \"A\"'!N4>0,1,0)","v":1},{"$f":"IF('NAGS HEAD \"A\"'!R4=701,\"WON\",\"LOST\")","v":"LOST"},{"$f":"IF('NAGS HEAD \"A\"'!R4>0,1,0)","v":0},{"$f":"IF('NAGS HEAD \"A\"'!V4=701,\"WON\",\"LOST\")","v":"WON"},{"$f":"IF('NAGS HEAD \"A\"'!V4>0,1,0)","v":1},{"$f":"IF('NAGS HEAD \"A\"'!Z4=701,\"WON\",\"LOST\")","v":"WON"},{"$f":"IF('NAGS HEAD \"A\"'!Z4>0,1,0)","v":1},{"$f":"IF('NAGS HEAD \"A\"'!AD4=701,\"WON\",\"LOST\")","v":"WON"},{"$f":"IF('NAGS HEAD \"A\"'!AD4>0,1,0)","v":1},{"$f":"IF('NAGS HEAD \"A\"'!AH4=701,\"WON\",\"LOST\")","v":"WON"},{"$f":"IF('NAGS HEAD \"A\"'!AH4>0,1,0)","v":1},{"$f":"IF('NAGS HEAD \"A\"'!AL4=701,\"WON\",\"LOST\")","v":"WON"},{"$f":"IF('NAGS HEAD \"A\"'!AL4>0,1,0)","v":1},{"$f":"IF('NAGS HEAD \"A\"'!AP4=701,\"WON\",\"LOST\")","v":"WON"},{"$f":"IF('NAGS HEAD \"A\"'!AP4>0,1,0)","v":1},{"$f":"IF('NAGS HEAD \"A\"'!AT4=701,\"WON\",\"LOST\")","v":"WON"},{"$f":"IF('NAGS HEAD \"A\"'!AT4>0,1,0)","v":1},{"$f":"IF('NAGS HEAD \"A\"'!AX4=701,\"WON\",\"LOST\")","v":"WON"},{"$f":"IF('NAGS HEAD \"A\"'!AX4>0,1,0)","v":1},{"$f":"IF('NAGS HEAD \"A\"'!BB4=701,\"WON\",\"LOST\")","v":"LOST"},{"$f":"IF('NAGS HEAD \"A\"'!BB4>0,1,0)","v":0},{"$f":"IF('NAGS HEAD \"A\"'!BF4=701,\"WON\",\"LOST\")","v":"LOST"},{"$f":"IF('NAGS HEAD \"A\"'!BF4>0,1,0)","v":1},{"$f":"IF('NAGS HEAD \"A\"'!BJ4=701,\"WON\",\"LOST\")","v":"WON"},{"$f":"IF('NAGS HEAD \"A\"'!BJ4>0,1,0)","v":1},{"$f":"IF('NAGS HEAD \"A\"'!BN4=701,\"WON\",\"LOST\")","v":"WON"},{"$f":"IF('NAGS HEAD \"A\"'!BN4>0,1,0)","v":1},{"$f":"IF('NAGS HEAD \"A\"'!BR4=701,\"WON\",\"LOST\")","v":"WON"},{"$f":"IF('NAGS HEAD \"A\"'!BR4>0,1,0)","v":1},{"$f":"IF('NAGS HEAD \"A\"'!BV4=701,\"WON\",\"LOST\")","v":"LOST"},{"$f":"IF('NAGS HEAD \"A\"'!BV4>0,1,0)","v":0},{"$f":"IF('NAGS HEAD \"A\"'!BZ4=701,\"WON\",\"LOST\")","v":"LOST"},{"$f":"IF('NAGS HEAD \"A\"'!BZ4>0,1,0)","v":0},{"$f":"IF('NAGS HEAD \"A\"'!CD4=701,\"WON\",\"LOST\")","v":"LOST"},{"$f":"IF('NAGS HEAD \"A\"'!CD4>0,1,0)","v":0},{"$f":"IF('NAGS HEAD \"A\"'!CH4=701,\"WON\",\"LOST\")","v":"LOST"},{"$f":"IF('NAGS HEAD \"A\"'!CH4>0,1,0)","v":0}]
[null,{"$f":"IF('NAGS HEAD \"A\"'!B5=701,\"WON\",\"LOST\")","v":"LOST"},{"$f":"IF('NAGS HEAD \"A\"'!B5>0,1,0)","v":0},{"$f":"IF('NAGS HEAD \"A\"'!F5=701,\"WON\",\"LOST\")","v":"WON"},{"$f":"IF('NAGS HEAD \"A\"'!F5>0,1,0)","v":1},{"$f":"IF('NAGS HEAD \"A\"'!J5=701,\"WON\",\"LOST\")","v":"LOST"},{"$f":"IF('NAGS HEAD \"A\"'!J5>0,1,0)","v":1},{"$f":"IF('NAGS HEAD \"A\"'!N5=701,\"WON\",\"LOST\")","v":"LOST"},{"$f":"IF('NAGS HEAD \"A\"'!N5>0,1,0)","v":1},{"$f":"IF('NAGS HEAD \"A\"'!R5=701,\"WON\",\"LOST\")","v":"LOST"},{"$f":"IF('NAGS HEAD \"A\"'!R5>0,1,0)","v":0},{"$f":"IF('NAGS HEAD \"A\"'!V5=701,\"WON\",\"LOST\")","v":"WON"},{"$f":"IF('NAGS HEAD \"A\"'!V5>0,1,0)","v":1},{"$f":"IF('NAGS HEAD \"A\"'!Z5=701,\"WON\",\"LOST\")","v":"LOST"},{"$f":"IF('NAGS HEAD \"A\"'!Z5>0,1,0)","v":0},{"$f":"IF('NAGS HEAD \"A\"'!AD5=701,\"WON\",\"LOST\")","v":"WON"},{"$f":"IF('NAGS HEAD \"A\"'!AD5>0,1,0)","v":1},{"$f":"IF('NAGS HEAD \"A\"'!AH5=701,\"WON\",\"LOST\")","v":"WON"},{"$f":"IF('NAGS HEAD \"A\"'!AH5>0,1,0)","v":1},{"$f":"IF('NAGS HEAD \"A\"'!AL5=701,\"WON\",\"LOST\")","v":"WON"},{"$f":"IF('NAGS HEAD \"A\"'!AL5>0,1,0)","v":1},{"$f":"IF('NAGS HEAD \"A\"'!AP5=701,\"WON\",\"LOST\")","v":"WON"},{"$f":"IF('NAGS HEAD \"A\"'!AP5>0,1,0)","v":1},{"$f":"IF('NAGS HEAD \"A\"'!AT5=701,\"WON\",\"LOST\")","v":"LOST"},{"$f":"IF('NAGS HEAD \"A\"'!AT5>0,1,0)","v":1},{"$f":"IF('NAGS HEAD \"A\"'!AX5=701,\"WON\",\"LOST\")","v":"WON"},{"$f":"IF('NAGS HEAD \"A\"'!AX5>0,1,0)","v":1},{"$f":"IF('NAGS HEAD \"A\"'!BB5=701,\"WON\",\"LOST\")","v":"LOST"},{"$f":"IF('NAGS HEAD \"A\"'!BB5>0,1,0)","v":0},{"$f":"IF('NAGS HEAD \"A\"'!BF5=701,\"WON\",\"LOST\")","v":"WON"},{"$f":"IF('NAGS HEAD \"A\"'!BF5>0,1,0)","v":1},{"$f":"IF('NAGS HEAD \"A\"'!BJ5=701,\"WON\",\"LOST\")","v":"WON"},{"$f":"IF('NAGS HEAD \"A\"'!BJ5>0,1,0)","v":1},{"$f":"IF('NAGS HEAD \"A\"'!BN5=701,\"WON\",\"LOST\")","v":"WON"},{"$f":"IF('NAGS HEAD \"A\"'!BN5>0,1,0)","v":1},{"$f":"IF('NAGS HEAD \"A\"'!BR5=701,\"WON\",\"LOST\")","v":"LOST"},{"$f":"IF('NAGS HEAD \"A\"'!BR5>0,1,0)","v":1},{"$f":"IF('NAGS HEAD \"A\"'!BV5=701,\"WON\",\"LOST\")","v":"LOST"},{"$f":"IF('NAGS HEAD \"A\"'!BV5>0,1,0)","v":0},{"$f":"IF('NAGS HEAD \"A\"'!BZ5=701,\"WON\",\"LOST\")","v":"LOST"},{"$f":"IF('NAGS HEAD \"A\"'!BZ5>0,1,0)","v":0},{"$f":"IF('NAGS HEAD \"A\"'!CD5=701,\"WON\",\"LOST\")","v":"LOST"},{"$f":"IF('NAGS HEAD \"A\"'!CD5>0,1,0)","v":0},{"$f":"IF('NAGS HEAD \"A\"'!CH5=701,\"WON\",\"LOST\")","v":"LOST"},{"$f":"IF('NAGS HEAD \"A\"'!CH5>0,1,0)","v":0}]
[null,{"$f":"IF('NAGS HEAD \"A\"'!B6=701,\"WON\",\"LOST\")","v":"LOST"},{"$f":"IF('NAGS HEAD \"A\"'!B6>0,1,0)","v":0},{"$f":"IF('NAGS HEAD \"A\"'!F6=701,\"WON\",\"LOST\")","v":"LOST"},{"$f":"IF('NAGS HEAD \"A\"'!F6>0,1,0)","v":0},{"$f":"IF('NAGS HEAD \"A\"'!J6=701,\"WON\",\"LOST\")","v":"LOST"},{"$f":"IF('NAGS HEAD \"A\"'!J6>0,1,0)","v":1},{"$f":"IF('NAGS HEAD \"A\"'!N6=701,\"WON\",\"LOST\")","v":"LOST"},{"$f":"IF('NAGS HEAD \"A\"'!N6>0,1,0)","v":1},{"$f":"IF('NAGS HEAD \"A\"'!R6=701,\"WON\",\"LOST\")","v":"LOST"},{"$f":"IF('NAGS HEAD \"A\"'!R6>0,1,0)","v":0},{"$f":"IF('NAGS HEAD \"A\"'!V6=701,\"WON\",\"LOST\")","v":"LOST"},{"$f":"IF('NAGS HEAD \"A\"'!V6>0,1,0)","v":0},{"$f":"IF('NAGS HEAD \"A\"'!Z6=701,\"WON\",\"LOST\")","v":"WON"},{"$f":"IF('NAGS HEAD \"A\"'!Z6>0,1,0)","v":1},{"$f":"IF('NAGS HEAD \"A\"'!AD6=701,\"WON\",\"LOST\")","v":"LOST"},{"$f":"IF('NAGS HEAD \"A\"'!AD6>0,1,0)","v":0},{"$f":"IF('NAGS HEAD \"A\"'!AH6=701,\"WON\",\"LOST\")","v":"LOST"},{"$f":"IF('NAGS HEAD \"A\"'!AH6>0,1,0)","v":1},{"$f":"IF('NAGS HEAD \"A\"'!AL6=701,\"WON\",\"LOST\")","v":"WON"},{"$f":"IF('NAGS HEAD \"A\"'!AL6>0,1,0)","v":1},{"$f":"IF('NAGS HEAD \"A\"'!AP6=701,\"WON\",\"LOST\")","v":"WON"},{"$f":"IF('NAGS HEAD \"A\"'!AP6>0,1,0)","v":1},{"$f":"IF('NAGS HEAD \"A\"'!AT6=701,\"WON\",\"LOST\")","v":"WON"},{"$f":"IF('NAGS HEAD \"A\"'!AT6>0,1,0)","v":1},{"$f":"IF('NAGS HEAD \"A\"'!AX6=701,\"WON\",\"LOST\")","v":"WON"},{"$f":"IF('NAGS HEAD \"A\"'!AX6>0,1,0)","v":1},{"$f":"IF('NAGS HEAD \"A\"'!BB6=701,\"WON\",\"LOST\")","v":"LOST"},{"$f":"IF('NAGS HEAD \"A\"'!BB6>0,1,0)","v":0},{"$f":"IF('NAGS HEAD \"A\"'!BF6=701,\"WON\",\"LOST\")","v":"LOST"},{"$f":"IF('NAGS HEAD \"A\"'!BF6>0,1,0)","v":1},{"$f":"IF('NAGS HEAD \"A\"'!BJ6=701,\"WON\",\"LOST\")","v":"WON"},{"$f":"IF('NAGS HEAD \"A\"'!BJ6>0,1,0)","v":1},{"$f":"IF('NAGS HEAD \"A\"'!BN6=701,\"WON\",\"LOST\")","v":"LOST"},{"$f":"IF('NAGS HEAD \"A\"'!BN6>0,1,0)","v":0},{"$f":"IF('NAGS HEAD \"A\"'!BR6=701,\"WON\",\"LOST\")","v":"LOST"},{"$f":"IF('NAGS HEAD \"A\"'!BR6>0,1,0)","v":0},{"$f":"IF('NAGS HEAD \"A\"'!BV6=701,\"WON\",\"LOST\")","v":"LOST"},{"$f":"IF('NAGS HEAD \"A\"'!BV6>0,1,0)","v":0},{"$f":"IF('NAGS HEAD \"A\"'!BZ6=701,\"WON\",\"LOST\")","v":"LOST"},{"$f":"IF('NAGS HEAD \"A\"'!BZ6>0,1,0)","v":0},{"$f":"IF('NAGS HEAD \"A\"'!CD6=701,\"WON\",\"LOST\")","v":"LOST"},{"$f":"IF('NAGS HEAD \"A\"'!CD6>0,1,0)","v":0},{"$f":"IF('NAGS HEAD \"A\"'!CH6=701,\"WON\",\"LOST\")","v":"LOST"},{"$f":"IF('NAGS HEAD \"A\"'!CH6>0,1,0)","v":0}]
[null,{"$f":"IF('NAGS HEAD \"A\"'!B7=701,\"WON\",\"LOST\")","v":"WON"},{"$f":"IF('NAGS HEAD \"A\"'!B7>0,1,0)","v":1},{"$f":"IF('NAGS HEAD \"A\"'!F7=701,\"WON\",\"LOST\")","v":"LOST"},{"$f":"IF('NAGS HEAD \"A\"'!F7>0,1,0)","v":1},{"$f":"IF('NAGS HEAD \"A\"'!J7=701,\"WON\",\"LOST\")","v":"LOST"},{"$f":"IF('NAGS HEAD \"A\"'!J7>0,1,0)","v":0},{"$f":"IF('NAGS HEAD \"A\"'!N7=701,\"WON\",\"LOST\")","v":"LOST"},{"$f":"IF('NAGS HEAD \"A\"'!N7>0,1,0)","v":1},{"$f":"IF('NAGS HEAD \"A\"'!R7=701,\"WON\",\"LOST\")","v":"LOST"},{"$f":"IF('NAGS HEAD \"A\"'!R7>0,1,0)","v":0},{"$f":"IF('NAGS HEAD \"A\"'!V7=701,\"WON\",\"LOST\")","v":"LOST"},{"$f":"IF('NAGS HEAD \"A\"'!V7>0,1,0)","v":1},{"$f":"IF('NAGS HEAD \"A\"'!Z7=701,\"WON\",\"LOST\")","v":"WON"},{"$f":"IF('NAGS HEAD \"A\"'!Z7>0,1,0)","v":1},{"$f":"IF('NAGS HEAD \"A\"'!AD7=701,\"WON\",\"LOST\")","v":"LOST"},{"$f":"IF('NAGS HEAD \"A\"'!AD7>0,1,0)","v":1},{"$f":"IF('NAGS HEAD \"A\"'!AH7=701,\"WON\",\"LOST\")","v":"LOST"},{"$f":"IF('NAGS HEAD \"A\"'!AH7>0,1,0)","v":0},{"$f":"IF('NAGS HEAD \"A\"'!AL7=701,\"WON\",\"LOST\")","v":"WON"},{"$f":"IF('NAGS HEAD \"A\"'!AL7>0,1,0)","v":1},{"$f":"IF('NAGS HEAD \"A\"'!AP7=701,\"WON\",\"LOST\")","v":"WON"},{"$f":"IF('NAGS HEAD \"A\"'!AP7>0,1,0)","v":1},{"$f":"IF('NAGS HEAD \"A\"'!AT7=701,\"WON\",\"LOST\")","v":"LOST"},{"$f":"IF('NAGS HEAD \"A\"'!AT7>0,1,0)","v":1},{"$f":"IF('NAGS HEAD \"A\"'!AX7=701,\"WON\",\"LOST\")","v":"WON"},{"$f":"IF('NAGS HEAD \"A\"'!AX7>0,1,0)","v":1},{"$f":"IF('NAGS HEAD \"A\"'!BB7=701,\"WON\",\"LOST\")","v":"LOST"},{"$f":"IF('NAGS HEAD \"A\"'!BB7>0,1,0)","v":0},{"$f":"IF('NAGS HEAD \"A\"'!BF7=701,\"WON\",\"LOST\")","v":"WON"},{"$f":"IF('NAGS HEAD \"A\"'!BF7>0,1,0)","v":1},{"$f":"IF('NAGS HEAD \"A\"'!BJ7=701,\"WON\",\"LOST\")","v":"WON"},{"$f":"IF('NAGS HEAD \"A\"'!BJ7>0,1,0)","v":1},{"$f":"IF('NAGS HEAD \"A\"'!BN7=701,\"WON\",\"LOST\")","v":"WON"},{"$f":"IF('NAGS HEAD \"A\"'!BN7>0,1,0)","v":1},{"$f":"IF('NAGS HEAD \"A\"'!BR7=701,\"WON\",\"LOST\")","v":"WON"},{"$f":"IF('NAGS HEAD \"A\"'!BR7>0,1,0)","v":1},{"$f":"IF('NAGS HEAD \"A\"'!BV7=701,\"WON\",\"LOST\")","v":"LOST"},{"$f":"IF('NAGS HEAD \"A\"'!BV7>0,1,0)","v":0},{"$f":"IF('NAGS HEAD \"A\"'!BZ7=701,\"WON\",\"LOST\")","v":"LOST"},{"$f":"IF('NAGS HEAD \"A\"'!BZ7>0,1,0)","v":0},{"$f":"IF('NAGS HEAD \"A\"'!CD7=701,\"WON\",\"LOST\")","v":"LOST"},{"$f":"IF('NAGS HEAD \"A\"'!CD7>0,1,0)","v":0},{"$f":"IF('NAGS HEAD \"A\"'!CH7=701,\"WON\",\"LOST\")","v":"LOST"},{"$f":"IF('NAGS HEAD \"A\"'!CH7>0,1,0)","v":0}]
[null,{"$f":"IF('NAGS HEAD \"A\"'!B8=701,\"WON\",\"LOST\")","v":"WON"},{"$f":"IF('NAGS HEAD \"A\"'!B8>0,1,0)","v":1},{"$f":"IF('NAGS HEAD \"A\"'!F8=701,\"WON\",\"LOST\")","v":"WON"},{"$f":"IF('NAGS HEAD \"A\"'!F8>0,1,0)","v":1},{"$f":"IF('NAGS HEAD \"A\"'!J8=701,\"WON\",\"LOST\")","v":"WON"},{"$f":"IF('NAGS HEAD \"A\"'!J8>0,1,0)","v":1},{"$f":"IF('NAGS HEAD \"A\"'!N8=701,\"WON\",\"LOST\")","v":"LOST"},{"$f":"IF('NAGS HEAD \"A\"'!N8>0,1,0)","v":1},{"$f":"IF('NAGS HEAD \"A\"'!R8=701,\"WON\",\"LOST\")","v":"LOST"},{"$f":"IF('NAGS HEAD \"A\"'!R8>0,1,0)","v":0},{"$f":"IF('NAGS HEAD \"A\"'!V8=701,\"WON\",\"LOST\")","v":"LOST"},{"$f":"IF('NAGS HEAD \"A\"'!V8>0,1,0)","v":1},{"$f":"IF('NAGS HEAD \"A\"'!Z8=701,\"WON\",\"LOST\")","v":"WON"},{"$f":"IF('NAGS HEAD \"A\"'!Z8>0,1,0)","v":1},{"$f":"IF('NAGS HEAD \"A\"'!AD8=701,\"WON\",\"LOST\")","v":"WON"},{"$f":"IF('NAGS HEAD \"A\"'!AD8>0,1,0)","v":1},{"$f":"IF('NAGS HEAD \"A\"'!AH8=701,\"WON\",\"LOST\")","v":"WON"},{"$f":"IF('NAGS HEAD \"A\"'!AH8>0,1,0)","v":1},{"$f":"IF('NAGS HEAD \"A\"'!AL8=701,\"WON\",\"LOST\")","v":"WON"},{"$f":"IF('NAGS HEAD \"A\"'!AL8>0,1,0)","v":1},{"$f":"IF('NAGS HEAD \"A\"'!AP8=701,\"WON\",\"LOST\")","v":"WON"},{"$f":"IF('NAGS HEAD \"A\"'!AP8>0,1,0)","v":1},{"$f":"IF('NAGS HEAD \"A\"'!AT8=701,\"WON\",\"LOST\")","v":"LOST"},{"$f":"IF('NAGS HEAD \"A\"'!AT8>0,1,0)","v":1},{"$f":"IF('NAGS HEAD \"A\"'!AX8=701,\"WON\",\"LOST\")","v":"LOST"},{"$f":"IF('NAGS HEAD \"A\"'!AX8>0,1,0)","v":0},{"$f":"IF('NAGS HEAD \"A\"'!BB8=701,\"WON\",\"LOST\")","v":"LOST"},{"$f":"IF('NAGS HEAD \"A\"'!BB8>0,1,0)","v":0},{"$f":"IF('NAGS HEAD \"A\"'!BF8=701,\"WON\",\"LOST\")","v":"WON"},{"$f":"IF('NAGS HEAD \"A\"'!BF8>0,1,0)","v":1},{"$f":"IF('NAGS HEAD \"A\"'!BJ8=701,\"WON\",\"LOST\")","v":"WON"},{"$f":"IF('NAGS HEAD \"A\"'!BJ8>0,1,0)","v":1},{"$f":"IF('NAGS HEAD \"A\"'!BN8=701,\"WON\",\"LOST\")","v":"WON"},{"$f":"IF('NAGS HEAD \"A\"'!BN8>0,1,0)","v":1},{"$f":"IF('NAGS HEAD \"A\"'!BR8=701,\"WON\",\"LOST\")","v":"WON"},{"$f":"IF('NAGS HEAD \"A\"'!BR8>0,1,0)","v":1},{"$f":"IF('NAGS HEAD \"A\"'!BV8=701,\"WON\",\"LOST\")","v":"LOST"},{"$f":"IF('NAGS HEAD \"A\"'!BV8>0,1,0)","v":0},{"$f":"IF('NAGS HEAD \"A\"'!BZ8=701,\"WON\",\"LOST\")","v":"LOST"},{"$f":"IF('NAGS HEAD \"A\"'!BZ8>0,1,0)","v":0},{"$f":"IF('NAGS HEAD \"A\"'!CD8=701,\"WON\",\"LOST\")","v":"LOST"},{"$f":"IF('NAGS HEAD \"A\"'!CD8>0,1,0)","v":0},{"$f":"IF('NAGS HEAD \"A\"'!CH8=701,\"WON\",\"LOST\")","v":"LOST"},{"$f":"IF('NAGS HEAD \"A\"'!CH8>0,1,0)","v":0}]
[null,{"$f":"IF('NAGS HEAD \"A\"'!B9=701,\"WON\",\"LOST\")","v":"LOST"},{"$f":"IF('NAGS HEAD \"A\"'!B9>0,1,0)","v":1},{"$f":"IF('NAGS HEAD \"A\"'!F9=701,\"WON\",\"LOST\")","v":"LOST"},{"$f":"IF('NAGS HEAD \"A\"'!F9>0,1,0)","v":0},{"$f":"IF('NAGS HEAD \"A\"'!J9=701,\"WON\",\"LOST\")","v":"LOST"},{"$f":"IF('NAGS HEAD \"A\"'!J9>0,1,0)","v":0},{"$f":"IF('NAGS HEAD \"A\"'!N9=701,\"WON\",\"LOST\")","v":"LOST"},{"$f":"IF('NAGS HEAD \"A\"'!N9>0,1,0)","v":0},{"$f":"IF('NAGS HEAD \"A\"'!R9=701,\"WON\",\"LOST\")","v":"LOST"},{"$f":"IF('NAGS HEAD \"A\"'!R9>0,1,0)","v":0},{"$f":"IF('NAGS HEAD \"A\"'!V9=701,\"WON\",\"LOST\")","v":"LOST"},{"$f":"IF('NAGS HEAD \"A\"'!V9>0,1,0)","v":0},{"$f":"IF('NAGS HEAD \"A\"'!Z9=701,\"WON\",\"LOST\")","v":"LOST"},{"$f":"IF('NAGS HEAD \"A\"'!Z9>0,1,0)","v":0},{"$f":"IF('NAGS HEAD \"A\"'!AD9=701,\"WON\",\"LOST\")","v":"LOST"},{"$f":"IF('NAGS HEAD \"A\"'!AD9>0,1,0)","v":0},{"$f":"IF('NAGS HEAD \"A\"'!AH9=701,\"WON\",\"LOST\")","v":"LOST"},{"$f":"IF('NAGS HEAD \"A\"'!AH9>0,1,0)","v":0},{"$f":"IF('NAGS HEAD \"A\"'!AL9=701,\"WON\",\"LOST\")","v":"LOST"},{"$f":"IF('NAGS HEAD \"A\"'!AL9>0,1,0)","v":0},{"$f":"IF('NAGS HEAD \"A\"'!AP9=701,\"WON\",\"LOST\")","v":"LOST"},{"$f":"IF('NAGS HEAD \"A\"'!AP9>0,1,0)","v":0},{"$f":"IF('NAGS HEAD \"A\"'!AT9=701,\"WON\",\"LOST\")","v":"LOST"},{"$f":"IF('NAGS HEAD \"A\"'!AT9>0,1,0)","v":0},{"$f":"IF('NAGS HEAD \"A\"'!AX9=701,\"WON\",\"LOST\")","v":"LOST"},{"$f":"IF('NAGS HEAD \"A\"'!AX9>0,1,0)","v":0},{"$f":"IF('NAGS HEAD \"A\"'!BB9=701,\"WON\",\"LOST\")","v":"LOST"},{"$f":"IF('NAGS HEAD \"A\"'!BB9>0,1,0)","v":0},{"$f":"IF('NAGS HEAD \"A\"'!BF9=701,\"WON\",\"LOST\")","v":"LOST"},{"$f":"IF('NAGS HEAD \"A\"'!BF9>0,1,0)","v":0},{"$f":"IF('NAGS HEAD \"A\"'!BJ9=701,\"WON\",\"LOST\")","v":"LOST"},{"$f":"IF('NAGS HEAD \"A\"'!BJ9>0,1,0)","v":0},{"$f":"IF('NAGS HEAD \"A\"'!BN9=701,\"WON\",\"LOST\")","v":"LOST"},{"$f":"IF('NAGS HEAD \"A\"'!BN9>0,1,0)","v":0},{"$f":"IF('NAGS HEAD \"A\"'!BR9=701,\"WON\",\"LOST\")","v":"LOST"},{"$f":"IF('NAGS HEAD \"A\"'!BR9>0,1,0)","v":0},{"$f":"IF('NAGS HEAD \"A\"'!BV9=701,\"WON\",\"LOST\")","v":"LOST"},{"$f":"IF('NAGS HEAD \"A\"'!BV9>0,1,0)","v":0},{"$f":"IF('NAGS HEAD \"A\"'!BZ9=701,\"WON\",\"LOST\")","v":"LOST"},{"$f":"IF('NAGS HEAD \"A\"'!BZ9>0,1,0)","v":0},{"$f":"IF('NAGS HEAD \"A\"'!CD9=701,\"WON\",\"LOST\")","v":"LOST"},{"$f":"IF('NAGS HEAD \"A\"'!CD9>0,1,0)","v":0},{"$f":"IF('NAGS HEAD \"A\"'!CH9=701,\"WON\",\"LOST\")","v":"LOST"},{"$f":"IF('NAGS HEAD \"A\"'!CH9>0,1,0)","v":0}]
[null,{"$f":"IF('NAGS HEAD \"A\"'!B10=701,\"WON\",\"LOST\")","v":"LOST"},{"$f":"IF('NAGS HEAD \"A\"'!B10>0,1,0)","v":1},{"$f":"IF('NAGS HEAD \"A\"'!F10=701,\"WON\",\"LOST\")","v":"LOST"},{"$f":"IF('NAGS HEAD \"A\"'!F10>0,1,0)","v":1},{"$f":"IF('NAGS HEAD \"A\"'!J10=701,\"WON\",\"LOST\")","v":"LOST"},{"$f":"IF('NAGS HEAD \"A\"'!J10>0,1,0)","v":1},{"$f":"IF('NAGS HEAD \"A\"'!N10=701,\"WON\",\"LOST\")","v":"LOST"},{"$f":"IF('NAGS HEAD \"A\"'!N10>0,1,0)","v":1},{"$f":"IF('NAGS HEAD \"A\"'!R10=701,\"WON\",\"LOST\")","v":"LOST"},{"$f":"IF('NAGS HEAD \"A\"'!R10>0,1,0)","v":0},{"$f":"IF('NAGS HEAD \"A\"'!V10=701,\"WON\",\"LOST\")","v":"LOST"},{"$f":"IF('NAGS HEAD \"A\"'!V10>0,1,0)","v":1},{"$f":"IF('NAGS HEAD \"A\"'!Z10=701,\"WON\",\"LOST\")","v":"WON"},{"$f":"IF('NAGS HEAD \"A\"'!Z10>0,1,0)","v":1},{"$f":"IF('NAGS HEAD \"A\"'!AD10=701,\"WON\",\"LOST\")","v":"WON"},{"$f":"IF('NAGS HEAD \"A\"'!AD10>0,1,0)","v":1},{"$f":"IF('NAGS HEAD \"A\"'!AH10=701,\"WON\",\"LOST\")","v":"LOST"},{"$f":"IF('NAGS HEAD \"A\"'!AH10>0,1,0)","v":1},{"$f":"IF('NAGS HEAD \"A\"'!AL10=701,\"WON\",\"LOST\")","v":"LOST"},{"$f":"IF('NAGS HEAD \"A\"'!AL10>0,1,0)","v":0},{"$f":"IF('NAGS HEAD \"A\"'!AP10=701,\"WON\",\"LOST\")","v":"LOST"},{"$f":"IF('NAGS HEAD \"A\"'!AP10>0,1,0)","v":0},{"$f":"IF('NAGS HEAD \"A\"'!AT10=701,\"WON\",\"LOST\")","v":"LOST"},{"$f":"IF('NAGS HEAD \"A\"'!AT10>0,1,0)","v":0},{"$f":"IF('NAGS HEAD \"A\"'!AX10=701,\"WON\",\"LOST\")","v":"LOST"},{"$f":"IF('NAGS HEAD \"A\"'!AX10>0,1,0)","v":0},{"$f":"IF('NAGS HEAD \"A\"'!BB10=701,\"WON\",\"LOST\")","v":"LOST"},{"$f":"IF('NAGS HEAD \"A\"'!BB10>0,1,0)","v":0},{"$f":"IF('NAGS HEAD \"A\"'!BF10=701,\"WON\",\"LOST\")","v":"LOST"},{"$f":"IF('NAGS HEAD \"A\"'!BF10>0,1,0)","v":0},{"$f":"IF('NAGS HEAD \"A\"'!BJ10=701,\"WON\",\"LOST\")","v":"LOST"},{"$f":"IF('NAGS HEAD \"A\"'!BJ10>0,1,0)","v":0},{"$f":"IF('NAGS HEAD \"A\"'!BN10=701,\"WON\",\"LOST\")","v":"WON"},{"$f":"IF('NAGS HEAD \"A\"'!BN10>0,1,0)","v":1},{"$f":"IF('NAGS HEAD \"A\"'!BR10=701,\"WON\",\"LOST\")","v":"LOST"},{"$f":"IF('NAGS HEAD \"A\"'!BR10>0,1,0)","v":0},{"$f":"IF('NAGS HEAD \"A\"'!BV10=701,\"WON\",\"LOST\")","v":"LOST"},{"$f":"IF('NAGS HEAD \"A\"'!BV10>0,1,0)","v":0},{"$f":"IF('NAGS HEAD \"A\"'!BZ10=701,\"WON\",\"LOST\")","v":"LOST"},{"$f":"IF('NAGS HEAD \"A\"'!BZ10>0,1,0)","v":0},{"$f":"IF('NAGS HEAD \"A\"'!CD10=701,\"WON\",\"LOST\")","v":"LOST"},{"$f":"IF('NAGS HEAD \"A\"'!CD10>0,1,0)","v":0},{"$f":"IF('NAGS HEAD \"A\"'!CH10=701,\"WON\",\"LOST\")","v":"LOST"},{"$f":"IF('NAGS HEAD \"A\"'!CH10>0,1,0)","v":0}]
[null,{"$f":"IF('NAGS HEAD \"A\"'!B11=701,\"WON\",\"LOST\")","v":"LOST"},{"$f":"IF('NAGS HEAD \"A\"'!B11>0,1,0)","v":0},{"$f":"IF('NAGS HEAD \"A\"'!F11=701,\"WON\",\"LOST\")","v":"LOST"},{"$f":"IF('NAGS HEAD \"A\"'!F11>0,1,0)","v":0},{"$f":"IF('NAGS HEAD \"A\"'!J11=701,\"WON\",\"LOST\")","v":"LOST"},{"$f":"IF('NAGS HEAD \"A\"'!J11>0,1,0)","v":0},{"$f":"IF('NAGS HEAD \"A\"'!N11=701,\"WON\",\"LOST\")","v":"LOST"},{"$f":"IF('NAGS HEAD \"A\"'!N11>0,1,0)","v":0},{"$f":"IF('NAGS HEAD \"A\"'!R11=701,\"WON\",\"LOST\")","v":"LOST"},{"$f":"IF('NAGS HEAD \"A\"'!R11>0,1,0)","v":0},{"$f":"IF('NAGS HEAD \"A\"'!V11=701,\"WON\",\"LOST\")","v":"LOST"},{"$f":"IF('NAGS HEAD \"A\"'!V11>0,1,0)","v":0},{"$f":"IF('NAGS HEAD \"A\"'!Z11=701,\"WON\",\"LOST\")","v":"LOST"},{"$f":"IF('NAGS HEAD \"A\"'!Z11>0,1,0)","v":0},{"$f":"IF('NAGS HEAD \"A\"'!AD11=701,\"WON\",\"LOST\")","v":"LOST"},{"$f":"IF('NAGS HEAD \"A\"'!AD11>0,1,0)","v":0},{"$f":"IF('NAGS HEAD \"A\"'!AH11=701,\"WON\",\"LOST\")","v":"LOST"},{"$f":"IF('NAGS HEAD \"A\"'!AH11>0,1,0)","v":0},{"$f":"IF('NAGS HEAD \"A\"'!AL11=701,\"WON\",\"LOST\")","v":"LOST"},{"$f":"IF('NAGS HEAD \"A\"'!AL11>0,1,0)","v":0},{"$f":"IF('NAGS HEAD \"A\"'!AP11=701,\"WON\",\"LOST\")","v":"LOST"},{"$f":"IF('NAGS HEAD \"A\"'!AP11>0,1,0)","v":0},{"$f":"IF('NAGS HEAD \"A\"'!AT11=701,\"WON\",\"LOST\")","v":"LOST"},{"$f":"IF('NAGS HEAD \"A\"'!AT11>0,1,0)","v":0},{"$f":"IF('NAGS HEAD \"A\"'!AX11=701,\"WON\",\"LOST\")","v":"WON"},{"$f":"IF('NAGS HEAD \"A\"'!AX11>0,1,0)","v":1},{"$f":"IF('NAGS HEAD \"A\"'!BB11=701,\"WON\",\"LOST\")","v":"LOST"},{"$f":"IF('NAGS HEAD \"A\"'!BB11>0,1,0)","v":0},{"$f":"IF('NAGS HEAD \"A\"'!BF11=701,\"WON\",\"LOST\")","v":"LOST"},{"$f":"IF('NAGS HEAD \"A\"'!BF11>0,1,0)","v":0},{"$f":"IF('NAGS HEAD \"A\"'!BJ11=701,\"WON\",\"LOST\")","v":"LOST"},{"$f":"IF('NAGS HEAD \"A\"'!BJ11>0,1,0)","v":0},{"$f":"IF('NAGS HEAD \"A\"'!BN11=701,\"WON\",\"LOST\")","v":"LOST"},{"$f":"IF('NAGS HEAD \"A\"'!BN11>0,1,0)","v":0},{"$f":"IF('NAGS HEAD \"A\"'!BR11=701,\"WON\",\"LOST\")","v":"LOST"},{"$f":"IF('NAGS HEAD \"A\"'!BR11>0,1,0)","v":1},{"$f":"IF('NAGS HEAD \"A\"'!BV11=701,\"WON\",\"LOST\")","v":"LOST"},{"$f":"IF('NAGS HEAD \"A\"'!BV11>0,1,0)","v":0},{"$f":"IF('NAGS HEAD \"A\"'!BZ11=701,\"WON\",\"LOST\")","v":"LOST"},{"$f":"IF('NAGS HEAD \"A\"'!BZ11>0,1,0)","v":0},{"$f":"IF('NAGS HEAD \"A\"'!CD11=701,\"WON\",\"LOST\")","v":"LOST"},{"$f":"IF('NAGS HEAD \"A\"'!CD11>0,1,0)","v":0},{"$f":"IF('NAGS HEAD \"A\"'!CH11=701,\"WON\",\"LOST\")","v":"LOST"},{"$f":"IF('NAGS HEAD \"A\"'!CH11>0,1,0)","v":0}]
[null,{"$f":"IF('NAGS HEAD \"A\"'!B12=701,\"WON\",\"LOST\")","v":"LOST"},{"$f":"IF('NAGS HEAD \"A\"'!B12>0,1,0)","v":0},{"$f":"IF('NAGS HEAD \"A\"'!F12=701,\"WON\",\"LOST\")","v":"LOST"},{"$f":"IF('NAGS HEAD \"A\"'!F12>0,1,0)","v":0},{"$f":"IF('NAGS HEAD \"A\"'!J12=701,\"WON\",\"LOST\")","v":"LOST"},{"$f":"IF('NAGS HEAD \"A\"'!J12>0,1,0)","v":0},{"$f":"IF('NAGS HEAD \"A\"'!N12=701,\"WON\",\"LOST\")","v":"LOST"},{"$f":"IF('NAGS HEAD \"A\"'!N12>0,1,0)","v":0},{"$f":"IF('NAGS HEAD \"A\"'!R12=701,\"WON\",\"LOST\")","v":"LOST"},{"$f":"IF('NAGS HEAD \"A\"'!R12>0,1,0)","v":0},{"$f":"IF('NAGS HEAD \"A\"'!V12=701,\"WON\",\"LOST\")","v":"LOST"},{"$f":"IF('NAGS HEAD \"A\"'!V12>0,1,0)","v":0},{"$f":"IF('NAGS HEAD \"A\"'!Z12=701,\"WON\",\"LOST\")","v":"LOST"},{"$f":"IF('NAGS HEAD \"A\"'!Z12>0,1,0)","v":0},{"$f":"IF('NAGS HEAD \"A\"'!AD12=701,\"WON\",\"LOST\")","v":"LOST"},{"$f":"IF('NAGS HEAD \"A\"'!AD12>0,1,0)","v":0},{"$f":"IF('NAGS HEAD \"A\"'!AH12=701,\"WON\",\"LOST\")","v":"LOST"},{"$f":"IF('NAGS HEAD \"A\"'!AH12>0,1,0)","v":0},{"$f":"IF('NAGS HEAD \"A\"'!AL12=701,\"WON\",\"LOST\")","v":"LOST"},{"$f":"IF('NAGS HEAD \"A\"'!AL12>0,1,0)","v":0},{"$f":"IF('NAGS HEAD \"A\"'!AP12=701,\"WON\",\"LOST\")","v":"LOST"},{"$f":"IF('NAGS HEAD \"A\"'!AP12>0,1,0)","v":0},{"$f":"IF('NAGS HEAD \"A\"'!AT12=701,\"WON\",\"LOST\")","v":"LOST"},{"$f":"IF('NAGS HEAD \"A\"'!AT12>0,1,0)","v":0},{"$f":"IF('NAGS HEAD \"A\"'!AX12=701,\"WON\",\"LOST\")","v":"LOST"},{"$f":"IF('NAGS HEAD \"A\"'!AX12>0,1,0)","v":0},{"$f":"IF('NAGS HEAD \"A\"'!BB12=701,\"WON\",\"LOST\")","v":"LOST"},{"$f":"IF('NAGS HEAD \"A\"'!BB12>0,1,0)","v":0},{"$f":"IF('NAGS HEAD \"A\"'!BF12=701,\"WON\",\"LOST\")","v":"LOST"},{"$f":"IF('NAGS HEAD \"A\"'!BF12>0,1,0)","v":0},{"$f":"IF('NAGS HEAD \"A\"'!BJ12=701,\"WON\",\"LOST\")","v":"LOST"},{"$f":"IF('NAGS HEAD \"A\"'!BJ12>0,1,0)","v":0},{"$f":"IF('NAGS HEAD \"A\"'!BN12=701,\"WON\",\"LOST\")","v":"LOST"},{"$f":"IF('NAGS HEAD \"A\"'!BN12>0,1,0)","v":0},{"$f":"IF('NAGS HEAD \"A\"'!BR12=701,\"WON\",\"LOST\")","v":"LOST"},{"$f":"IF('NAGS HEAD \"A\"'!BR12>0,1,0)","v":0},{"$f":"IF('NAGS HEAD \"A\"'!BV12=701,\"WON\",\"LOST\")","v":"LOST"},{"$f":"IF('NAGS HEAD \"A\"'!BV12>0,1,0)","v":0},{"$f":"IF('NAGS HEAD \"A\"'!BZ12=701,\"WON\",\"LOST\")","v":"LOST"},{"$f":"IF('NAGS HEAD \"A\"'!BZ12>0,1,0)","v":0},{"$f":"IF('NAGS HEAD \"A\"'!CD12=701,\"WON\",\"LOST\")","v":"LOST"},{"$f":"IF('NAGS HEAD \"A\"'!CD12>0,1,0)","v":0},{"$f":"IF('NAGS HEAD \"A\"'!CH12=701,\"WON\",\"LOST\")","v":"LOST"},{"$f":"IF('NAGS HEAD \"A\"'!CH12>0,1,0)","v":0}]
[null,{"$f":"IF('NAGS HEAD \"A\"'!B13=701,\"WON\",\"LOST\")","v":"LOST"},{"$f":"IF('NAGS HEAD \"A\"'!B13>0,1,0)","v":0},{"$f":"IF('NAGS HEAD \"A\"'!F13=701,\"WON\",\"LOST\")","v":"LOST"},{"$f":"IF('NAGS HEAD \"A\"'!F13>0,1,0)","v":0},{"$f":"IF('NAGS HEAD \"A\"'!J13=701,\"WON\",\"LOST\")","v":"LOST"},{"$f":"IF('NAGS HEAD \"A\"'!J13>0,1,0)","v":0},{"$f":"IF('NAGS HEAD \"A\"'!N13=701,\"WON\",\"LOST\")","v":"LOST"},{"$f":"IF('NAGS HEAD \"A\"'!N13>0,1,0)","v":0},{"$f":"IF('NAGS HEAD \"A\"'!R13=701,\"WON\",\"LOST\")","v":"LOST"},{"$f":"IF('NAGS HEAD \"A\"'!R13>0,1,0)","v":0},{"$f":"IF('NAGS HEAD \"A\"'!V13=701,\"WON\",\"LOST\")","v":"LOST"},{"$f":"IF('NAGS HEAD \"A\"'!V13>0,1,0)","v":0},{"$f":"IF('NAGS HEAD \"A\"'!Z13=701,\"WON\",\"LOST\")","v":"LOST"},{"$f":"IF('NAGS HEAD \"A\"'!Z13>0,1,0)","v":0},{"$f":"IF('NAGS HEAD \"A\"'!AD13=701,\"WON\",\"LOST\")","v":"LOST"},{"$f":"IF('NAGS HEAD \"A\"'!AD13>0,1,0)","v":0},{"$f":"IF('NAGS HEAD \"A\"'!AH13=701,\"WON\",\"LOST\")","v":"LOST"},{"$f":"IF('NAGS HEAD \"A\"'!AH13>0,1,0)","v":0},{"$f":"IF('NAGS HEAD \"A\"'!AL13=701,\"WON\",\"LOST\")","v":"LOST"},{"$f":"IF('NAGS HEAD \"A\"'!AL13>0,1,0)","v":0},{"$f":"IF('NAGS HEAD \"A\"'!AP13=701,\"WON\",\"LOST\")","v":"LOST"},{"$f":"IF('NAGS HEAD \"A\"'!AP13>0,1,0)","v":0},{"$f":"IF('NAGS HEAD \"A\"'!AT13=701,\"WON\",\"LOST\")","v":"LOST"},{"$f":"IF('NAGS HEAD \"A\"'!AT13>0,1,0)","v":0},{"$f":"IF('NAGS HEAD \"A\"'!AX13=701,\"WON\",\"LOST\")","v":"LOST"},{"$f":"IF('NAGS HEAD \"A\"'!AX13>0,1,0)","v":0},{"$f":"IF('NAGS HEAD \"A\"'!BB13=701,\"WON\",\"LOST\")","v":"LOST"},{"$f":"IF('NAGS HEAD \"A\"'!BB13>0,1,0)","v":0},{"$f":"IF('NAGS HEAD \"A\"'!BF13=701,\"WON\",\"LOST\")","v":"LOST"},{"$f":"IF('NAGS HEAD \"A\"'!BF13>0,1,0)","v":0},{"$f":"IF('NAGS HEAD \"A\"'!BJ13=701,\"WON\",\"LOST\")","v":"LOST"},{"$f":"IF('NAGS HEAD \"A\"'!BJ13>0,1,0)","v":0},{"$f":"IF('NAGS HEAD \"A\"'!BN13=701,\"WON\",\"LOST\")","v":"LOST"},{"$f":"IF('NAGS HEAD \"A\"'!BN13>0,1,0)","v":0},{"$f":"IF('NAGS HEAD \"A\"'!BR13=701,\"WON\",\"LOST\")","v":"LOST"},{"$f":"IF('NAGS HEAD \"A\"'!BR13>0,1,0)","v":0},{"$f":"IF('NAGS HEAD \"A\"'!BV13=701,\"WON\",\"LOST\")","v":"LOST"},{"$f":"IF('NAGS HEAD \"A\"'!BV13>0,1,0)","v":0},{"$f":"IF('NAGS HEAD \"A\"'!BZ13=701,\"WON\",\"LOST\")","v":"LOST"},{"$f":"IF('NAGS HEAD \"A\"'!BZ13>0,1,0)","v":0},{"$f":"IF('NAGS HEAD \"A\"'!CD13=701,\"WON\",\"LOST\")","v":"LOST"},{"$f":"IF('NAGS HEAD \"A\"'!CD13>0,1,0)","v":0},{"$f":"IF('NAGS HEAD \"A\"'!CH13=701,\"WON\",\"LOST\")","v":"LOST"},{"$f":"IF('NAGS HEAD \"A\"'!CH13>0,1,0)","v":0}]
[null,{"$f":"IF('NAGS HEAD \"A\"'!B14=701,\"WON\",\"LOST\")","v":"LOST"},{"$f":"IF('NAGS HEAD \"A\"'!B14>0,1,0)","v":0},{"$f":"IF('NAGS HEAD \"A\"'!F14=701,\"WON\",\"LOST\")","v":"LOST"},{"$f":"IF('NAGS HEAD \"A\"'!F14>0,1,0)","v":0},{"$f":"IF('NAGS HEAD \"A\"'!J14=701,\"WON\",\"LOST\")","v":"LOST"},{"$f":"IF('NAGS HEAD \"A\"'!J14>0,1,0)","v":0},{"$f":"IF('NAGS HEAD \"A\"'!N14=701,\"WON\",\"LOST\")","v":"LOST"},{"$f":"IF('NAGS HEAD \"A\"'!N14>0,1,0)","v":0},{"$f":"IF('NAGS HEAD \"A\"'!R14=701,\"WON\",\"LOST\")","v":"LOST"},{"$f":"IF('NAGS HEAD \"A\"'!R14>0,1,0)","v":0},{"$f":"IF('NAGS HEAD \"A\"'!V14=701,\"WON\",\"LOST\")","v":"LOST"},{"$f":"IF('NAGS HEAD \"A\"'!V14>0,1,0)","v":0},{"$f":"IF('NAGS HEAD \"A\"'!Z14=701,\"WON\",\"LOST\")","v":"LOST"},{"$f":"IF('NAGS HEAD \"A\"'!Z14>0,1,0)","v":0},{"$f":"IF('NAGS HEAD \"A\"'!AD14=701,\"WON\",\"LOST\")","v":"LOST"},{"$f":"IF('NAGS HEAD \"A\"'!AD14>0,1,0)","v":0},{"$f":"IF('NAGS HEAD \"A\"'!AH14=701,\"WON\",\"LOST\")","v":"LOST"},{"$f":"IF('NAGS HEAD \"A\"'!AH14>0,1,0)","v":0},{"$f":"IF('NAGS HEAD \"A\"'!AL14=701,\"WON\",\"LOST\")","v":"LOST"},{"$f":"IF('NAGS HEAD \"A\"'!AL14>0,1,0)","v":0},{"$f":"IF('NAGS HEAD \"A\"'!AP14=701,\"WON\",\"LOST\")","v":"LOST"},{"$f":"IF('NAGS HEAD \"A\"'!AP14>0,1,0)","v":0},{"$f":"IF('NAGS HEAD \"A\"'!AT14=701,\"WON\",\"LOST\")","v":"LOST"},{"$f":"IF('NAGS HEAD \"A\"'!AT14>0,1,0)","v":0},{"$f":"IF('NAGS HEAD \"A\"'!AX14=701,\"WON\",\"LOST\")","v":"LOST"},{"$f":"IF('NAGS HEAD \"A\"'!AX14>0,1,0)","v":0},{"$f":"IF('NAGS HEAD \"A\"'!BB14=701,\"WON\",\"LOST\")","v":"LOST"},{"$f":"IF('NAGS HEAD \"A\"'!BB14>0,1,0)","v":0},{"$f":"IF('NAGS HEAD \"A\"'!BF14=701,\"WON\",\"LOST\")","v":"LOST"},{"$f":"IF('NAGS HEAD \"A\"'!BF14>0,1,0)","v":0},{"$f":"IF('NAGS HEAD \"A\"'!BJ14=701,\"WON\",\"LOST\")","v":"LOST"},{"$f":"IF('NAGS HEAD \"A\"'!BJ14>0,1,0)","v":0},{"$f":"IF('NAGS HEAD \"A\"'!BN14=701,\"WON\",\"LOST\")","v":"LOST"},{"$f":"IF('NAGS HEAD \"A\"'!BN14>0,1,0)","v":0},{"$f":"IF('NAGS HEAD \"A\"'!BR14=701,\"WON\",\"LOST\")","v":"LOST"},{"$f":"IF('NAGS HEAD \"A\"'!BR14>0,1,0)","v":0},{"$f":"IF('NAGS HEAD \"A\"'!BV14=701,\"WON\",\"LOST\")","v":"LOST"},{"$f":"IF('NAGS HEAD \"A\"'!BV14>0,1,0)","v":0},{"$f":"IF('NAGS HEAD \"A\"'!BZ14=701,\"WON\",\"LOST\")","v":"LOST"},{"$f":"IF('NAGS HEAD \"A\"'!BZ14>0,1,0)","v":0},{"$f":"IF('NAGS HEAD \"A\"'!CD14=701,\"WON\",\"LOST\")","v":"LOST"},{"$f":"IF('NAGS HEAD \"A\"'!CD14>0,1,0)","v":0},{"$f":"IF('NAGS HEAD \"A\"'!CH14=701,\"WON\",\"LOST\")","v":"LOST"},{"$f":"IF('NAGS HEAD \"A\"'!CH14>0,1,0)","v":0}]
[null,{"$f":"IF('NAGS HEAD \"A\"'!B3=\"\",0,(SUM(('NAGS HEAD \"A\"'!B3/'NAGS HEAD \"A\"'!C3)*3)))","v":51.292682926829272},null,{"$f":"IF('NAGS HEAD \"A\"'!F3=\"\",0,(SUM(('NAGS HEAD \"A\"'!F3/'NAGS HEAD \"A\"'!G3)*3)))","v":53.92307692307692},null,{"$f":"IF('NAGS HEAD \"A\"'!J3=\"\",0,(SUM(('NAGS HEAD \"A\"'!J3/'NAGS HEAD \"A\"'!K3)*3)))","v":47.444444444444443},null,{"$f":"IF('NAGS HEAD \"A\"'!N3=\"\",0,(SUM(('NAGS HEAD \"A\"'!N3/'NAGS HEAD \"A\"'!O3)*3)))","v":0},null,{"$f":"IF('NAGS HEAD \"A\"'!R3=\"\",0,(SUM(('NAGS HEAD \"A\"'!R3/'NAGS HEAD \"A\"'!S3)*3)))","v":0},null,{"$f":"IF('NAGS HEAD \"A\"'!V3=\"\",0,(SUM(('NAGS HEAD \"A\"'!V3/'NAGS HEAD \"A\"'!W3)*3)))","v":48.906976744186039},null,{"$f":"IF('NAGS HEAD \"A\"'!Z3=\"\",0,(SUM(('NAGS HEAD \"A\"'!Z3/'NAGS HEAD \"A\"'!AA3)*3)))","v":51.292682926829272},null,{"$f":"IF('NAGS HEAD \"A\"'!AD3=\"\",0,(SUM(('NAGS HEAD \"A\"'!AD3/'NAGS HEAD \"A\"'!AE3)*3)))","v":65.71875},null,{"$f":"IF('NAGS HEAD \"A\"'!AH3=\"\",0,(SUM(('NAGS HEAD \"A\"'!AH3/'NAGS HEAD \"A\"'!AI3)*3)))","v":63.727272727272727},null,{"$f":"IF('NAGS HEAD \"A\"'!AL3=\"\",0,(SUM(('NAGS HEAD \"A\"'!AL3/'NAGS HEAD \"A\"'!AM3)*3)))","v":75.107142857142861},null,{"$f":"IF('NAGS HEAD \"A\"'!AP3=\"\",0,(SUM(('NAGS HEAD \"A\"'!AP3/'NAGS HEAD \"A\"'!AQ3)*3)))","v":65.71875},null,{"$f":"IF('NAGS HEAD \"A\"'!AT3=\"\",0,(SUM(('NAGS HEAD \"A\"'!AT3/'NAGS HEAD \"A\"'!AU3)*3)))","v":45},null,{"$f":"IF('NAGS HEAD \"A\"'!AX3=\"\",0,(SUM(('NAGS HEAD \"A\"'!AX3/'NAGS HEAD \"A\"'!AY3)*3)))","v":63.727272727272727},null,{"$f":"IF('NAGS HEAD \"A\"'!BB3=\"\",0,(SUM(('NAGS HEAD \"A\"'!BB3/'NAGS HEAD \"A\"'!BC3)*3)))","v":0},null,{"$f":"IF('NAGS HEAD \"A\"'!BF3=\"\",0,(SUM(('NAGS HEAD \"A\"'!BF3/'NAGS HEAD \"A\"'!BG3)*3)))","v":77.888888888888886},null,{"$f":"IF('NAGS HEAD \"A\"'!BJ3=\"\",0,(SUM(('NAGS HEAD \"A\"'!BJ3/'NAGS HEAD \"A\"'!BK3)*3)))","v":60.085714285714289},null,{"$f":"IF('NAGS HEAD \"A\"'!BN3=\"\",0,(SUM(('NAGS HEAD \"A\"'!BN3/'NAGS HEAD \"A\"'!BO3)*3)))","v":51.292682926829272},null,{"$f":"IF('NAGS HEAD \"A\"'!BR3=\"\",0,(SUM(('NAGS HEAD \"A\"'!BR3/'NAGS HEAD \"A\"'!BS3)*3)))","v":69.100000000000009},null,{"$f":"IF('NAGS HEAD \"A\"'!BV3=\"\",0,(SUM(('NAGS HEAD \"A\"'!BV3/'NAGS HEAD \"A\"'!BW3)*3)))","v":0},null,{"$f":"IF('NAGS HEAD \"A\"'!BZ3=\"\",0,(SUM(('NAGS HEAD \"A\"'!BZ3/'NAGS HEAD \"A\"'!CA3)*3)))","v":0},null,{"$f":"IF('NAGS HEAD \"A\"'!CD3=\"\",0,(SUM(('NAGS HEAD \"A\"'!CD3/'NAGS HEAD \"A\"'!CE3)*3)))","v":0},null,{"$f":"IF('NAGS HEAD \"A\"'!CH3=\"\",0,(SUM(('NAGS HEAD \"A\"'!CH3/'NAGS HEAD \"A\"'!CI3)*3)))","v":0}]
[null,{"$f":"IF('NAGS HEAD \"A\"'!B4=\"\",0,(SUM(('NAGS HEAD \"A\"'!B4/'NAGS HEAD \"A\"'!C4)*3)))","v":56.837837837837839},null,{"$f":"IF('NAGS HEAD \"A\"'!F4=\"\",0,(SUM(('NAGS HEAD \"A\"'!F4/'NAGS HEAD \"A\"'!G4)*3)))","v":63.727272727272727},null,{"$f":"IF('NAGS HEAD \"A\"'!J4=\"\",0,(SUM(('NAGS HEAD \"A\"'!J4/'NAGS HEAD \"A\"'!K4)*3)))","v":72.517241379310349},null,{"$f":"IF('NAGS HEAD \"A\"'!N4=\"\",0,(SUM(('NAGS HEAD \"A\"'!N4/'NAGS HEAD \"A\"'!O4)*3)))","v":87.625},null,{"$f":"IF('NAGS HEAD \"A\"'!R4=\"\",0,(SUM(('NAGS HEAD \"A\"'!R4/'NAGS HEAD \"A\"'!S4)*3)))","v":0},null,{"$f":"IF('NAGS HEAD \"A\"'!V4=\"\",0,(SUM(('NAGS HEAD \"A\"'!V4/'NAGS HEAD \"A\"'!W4)*3)))","v":63.727272727272727},null,{"$f":"IF('NAGS HEAD \"A\"'!Z4=\"\",0,(SUM(('NAGS HEAD \"A\"'!Z4/'NAGS HEAD \"A\"'!AA4)*3)))","v":67.838709677419359},null,{"$f":"IF('NAGS HEAD \"A\"'!AD4=\"\",0,(SUM(('NAGS HEAD \"A\"'!AD4/'NAGS HEAD \"A\"'!AE4)*3)))","v":63.727272727272727},null,{"$f":"IF('NAGS HEAD \"A\"'!AH4=\"\",0,(SUM(('NAGS HEAD \"A\"'!AH4/'NAGS HEAD \"A\"'!AI4)*3)))","v":63.727272727272727},null,{"$f":"IF('NAGS HEAD \"A\"'!AL4=\"\",0,(SUM(('NAGS HEAD \"A\"'!AL4/'NAGS HEAD \"A\"'!AM4)*3)))","v":53.92307692307692},null,{"$f":"IF('NAGS HEAD \"A\"'!AP4=\"\",0,(SUM(('NAGS HEAD \"A\"'!AP4/'NAGS HEAD \"A\"'!AQ4)*3)))","v":72.517241379310349},null,{"$f":"IF('NAGS HEAD \"A\"'!AT4=\"\",0,(SUM(('NAGS HEAD \"A\"'!AT4/'NAGS HEAD \"A\"'!AU4)*3)))","v":55.34210526315789},null,{"$f":"IF('NAGS HEAD \"A\"'!AX4=\"\",0,(SUM(('NAGS HEAD \"A\"'!AX4/'NAGS HEAD \"A\"'!AY4)*3)))","v":75.107142857142861},null,{"$f":"IF('NAGS HEAD \"A\"'!BB4=\"\",0,(SUM(('NAGS HEAD \"A\"'!BB4/'NAGS HEAD \"A\"'!BC4)*3)))","v":0},null,{"$f":"IF('NAGS HEAD \"A\"'!BF4=\"\",0,(SUM(('NAGS HEAD \"A\"'!BF4/'NAGS HEAD \"A\"'!BG4)*3)))","v":61.909090909090907},null,{"$f":"IF('NAGS HEAD \"A\"'!BJ4=\"\",0,(SUM(('NAGS HEAD \"A\"'!BJ4/'NAGS HEAD \"A\"'!BK4)*3)))","v":61.852941176470587},null,{"$f":"IF('NAGS HEAD \"A\"'!BN4=\"\",0,(SUM(('NAGS HEAD \"A\"'!BN4/'NAGS HEAD \"A\"'!BO4)*3)))","v":60.085714285714289},null,{"$f":"IF('NAGS HEAD \"A\"'!BR4=\"\",0,(SUM(('NAGS HEAD \"A\"'!BR4/'NAGS HEAD \"A\"'!BS4)*3)))","v":55.34210526315789},null,{"$f":"IF('NAGS HEAD \"A\"'!BV4=\"\",0,(SUM(('NAGS HEAD \"A\"'!BV4/'NAGS HEAD \"A\"'!BW4)*3)))","v":0},null,{"$f":"IF('NAGS HEAD \"A\"'!BZ4=\"\",0,(SUM(('NAGS HEAD \"A\"'!BZ4/'NAGS HEAD \"A\"'!CA4)*3)))","v":0},null,{"$f":"IF('NAGS HEAD \"A\"'!CD4=\"\",0,(SUM(('NAGS HEAD \"A\"'!CD4/'NAGS HEAD \"A\"'!CE4)*3)))","v":0},null,{"$f":"IF('NAGS HEAD \"A\"'!CH4=\"\",0,(SUM(('NAGS HEAD \"A\"'!CH4/'NAGS HEAD \"A\"'!CI4)*3)))","v":0}]
[null,{"$f":"IF('NAGS HEAD \"A\"'!B5=\"\",0,(SUM(('NAGS HEAD \"A\"'!B5/'NAGS HEAD \"A\"'!C5)*3)))","v":0},null,{"$f":"IF('NAGS HEAD \"A\"'!F5=\"\",0,(SUM(('NAGS HEAD \"A\"'!F5/'NAGS HEAD \"A\"'!G5)*3)))","v":70.099999999999994},null,{"$f":"IF('NAGS HEAD \"A\"'!J5=\"\",0,(SUM(('NAGS HEAD \"A\"'!J5/'NAGS HEAD \"A\"'!K5)*3)))","v":55.166666666666671},null,{"$f":"IF('NAGS HEAD \"A\"'!N5=\"\",0,(SUM(('NAGS HEAD \"A\"'!N5/'NAGS HEAD \"A\"'!O5)*3)))","v":36.789473684210527},null,{"$f":"IF('NAGS HEAD \"A\"'!R5=\"\",0,(SUM(('NAGS HEAD \"A\"'!R5/'NAGS HEAD \"A\"'!S5)*3)))","v":0},null,{"$f":"IF('NAGS HEAD \"A\"'!V5=\"\",0,(SUM(('NAGS HEAD \"A\"'!V5/'NAGS HEAD \"A\"'!W5)*3)))","v":37.553571428571431},null,{"$f":"IF('NAGS HEAD \"A\"'!Z5=\"\",0,(SUM(('NAGS HEAD \"A\"'!Z5/'NAGS HEAD \"A\"'!AA5)*3)))","v":0},null,{"$f":"IF('NAGS HEAD \"A\"'!AD5=\"\",0,(SUM(('NAGS HEAD \"A\"'!AD5/'NAGS HEAD \"A\"'!AE5)*3)))","v":60.085714285714289},null,{"$f":"IF('NAGS HEAD \"A\"'!AH5=\"\",0,(SUM(('NAGS HEAD \"A\"'!AH5/'NAGS HEAD \"A\"'!AI5)*3)))","v":56.837837837837839},null,{"$f":"IF('NAGS HEAD \"A\"'!AL5=\"\",0,(SUM(('NAGS HEAD \"A\"'!AL5/'NAGS HEAD \"A\"'!AM5)*3)))","v":61.852941176470587},null,{"$f":"IF('NAGS HEAD \"A\"'!AP5=\"\",0,(SUM(('NAGS HEAD \"A\"'!AP5/'NAGS HEAD \"A\"'!AQ5)*3)))","v":58.416666666666664},null,{"$f":"IF('NAGS HEAD \"A\"'!AT5=\"\",0,(SUM(('NAGS HEAD \"A\"'!AT5/'NAGS HEAD \"A\"'!AU5)*3)))","v":56.272727272727273},null,{"$f":"IF('NAGS HEAD \"A\"'!AX5=\"\",0,(SUM(('NAGS HEAD \"A\"'!AX5/'NAGS HEAD \"A\"'!AY5)*3)))","v":60.085714285714289},null,{"$f":"IF('NAGS HEAD \"A\"'!BB5=\"\",0,(SUM(('NAGS HEAD \"A\"'!BB5/'NAGS HEAD \"A\"'!BC5)*3)))","v":0},null,{"$f":"IF('NAGS HEAD \"A\"'!BF5=\"\",0,(SUM(('NAGS HEAD \"A\"'!BF5/'NAGS HEAD \"A\"'!BG5)*3)))","v":53.92307692307692},null,{"$f":"IF('NAGS HEAD \"A\"'!BJ5=\"\",0,(SUM(('NAGS HEAD \"A\"'!BJ5/'NAGS HEAD \"A\"'!BK5)*3)))","v":58.416666666666664},null,{"$f":"IF('NAGS HEAD \"A\"'!BN5=\"\",0,(SUM(('NAGS HEAD \"A\"'!BN5/'NAGS HEAD \"A\"'!BO5)*3)))","v":67.838709677419359},null,{"$f":"IF('NAGS HEAD \"A\"'!BR5=\"\",0,(SUM(('NAGS HEAD \"A\"'!BR5/'NAGS HEAD \"A\"'!BS5)*3)))","v":54.272727272727266},null,{"$f":"IF('NAGS HEAD \"A\"'!BV5=\"\",0,(SUM(('NAGS HEAD \"A\"'!BV5/'NAGS HEAD \"A\"'!BW5)*3)))","v":0},null,{"$f":"IF('NAGS HEAD \"A\"'!BZ5=\"\",0,(SUM(('NAGS HEAD \"A\"'!BZ5/'NAGS HEAD \"A\"'!CA5)*3)))","v":0},null,{"$f":"IF('NAGS HEAD \"A\"'!CD5=\"\",0,(SUM(('NAGS HEAD \"A\"'!CD5/'NAGS HEAD \"A\"'!CE5)*3)))","v":0},null,{"$f":"IF('NAGS HEAD \"A\"'!CH5=\"\",0,(SUM(('NAGS HEAD \"A\"'!CH5/'NAGS HEAD \"A\"'!CI5)*3)))","v":0}]
[null,{"$f":"IF('NAGS HEAD \"A\"'!B6=\"\",0,(SUM(('NAGS HEAD \"A\"'!B6/'NAGS HEAD \"A\"'!C6)*3)))","v":0},null,{"$f":"IF('NAGS HEAD \"A\"'!F6=\"\",0,(SUM(('NAGS HEAD \"A\"'!F6/'NAGS HEAD \"A\"'!G6)*3)))","v":0},null,{"$f":"IF('NAGS HEAD \"A\"'!J6=\"\",0,(SUM(('NAGS HEAD \"A\"'!J6/'NAGS HEAD \"A\"'!K6)*3)))","v":34.950000000000003},null,{"$f":"IF('NAGS HEAD \"A\"'!N6=\"\",0,(SUM(('NAGS HEAD \"A\"'!N6/'NAGS HEAD \"A\"'!O6)*3)))","v":42.900000000000006},null,{"$f":"IF('NAGS HEAD \"A\"'!R6=\"\",0,(SUM(('NAGS HEAD \"A\"'!R6/'NAGS HEAD \"A\"'!S6)*3)))","v":0},null,{"$f":"IF('NAGS HEAD \"A\"'!V6=\"\",0,(SUM(('NAGS HEAD \"A\"'!V6/'NAGS HEAD \"A\"'!W6)*3)))","v":0},null,{"$f":"IF('NAGS HEAD \"A\"'!Z6=\"\",0,(SUM(('NAGS HEAD \"A\"'!Z6/'NAGS HEAD \"A\"'!AA6)*3)))","v":38.236363636363635},null,{"$f":"IF('NAGS HEAD \"A\"'!AD6=\"\",0,(SUM(('NAGS HEAD \"A\"'!AD6/'NAGS HEAD \"A\"'!AE6)*3)))","v":0},null,{"$f":"IF('NAGS HEAD \"A\"'!AH6=\"\",0,(SUM(('NAGS HEAD \"A\"'!AH6/'NAGS HEAD \"A\"'!AI6)*3)))","v":55.083333333333329},null,{"$f":"IF('NAGS HEAD \"A\"'!AL6=\"\",0,(SUM(('NAGS HEAD \"A\"'!AL6/'NAGS HEAD \"A\"'!AM6)*3)))","v":50.071428571428569},null,{"$f":"IF('NAGS HEAD \"A\"'!AP6=\"\",0,(SUM(('NAGS HEAD \"A\"'!AP6/'NAGS HEAD \"A\"'!AQ6)*3)))","v":60.085714285714289},null,{"$f":"IF('NAGS HEAD \"A\"'!AT6=\"\",0,(SUM(('NAGS HEAD \"A\"'!AT6/'NAGS HEAD \"A\"'!AU6)*3)))","v":65.71875},null,{"$f":"IF('NAGS HEAD \"A\"'!AX6=\"\",0,(SUM(('NAGS HEAD \"A\"'!AX6/'NAGS HEAD \"A\"'!AY6)*3)))","v":41.235294117647058},null,{"$f":"IF('NAGS HEAD \"A\"'!BB6=\"\",0,(SUM(('NAGS HEAD \"A\"'!BB6/'NAGS HEAD \"A\"'!BC6)*3)))","v":0},null,{"$f":"IF('NAGS HEAD \"A\"'!BF6=\"\",0,(SUM(('NAGS HEAD \"A\"'!BF6/'NAGS HEAD \"A\"'!BG6)*3)))","v":43.3125},null,{"$f":"IF('NAGS HEAD \"A\"'!BJ6=\"\",0,(SUM(('NAGS HEAD \"A\"'!BJ6/'NAGS HEAD \"A\"'!BK6)*3)))","v":52.574999999999996},null,{"$f":"IF('NAGS HEAD \"A\"'!BN6=\"\",0,(SUM(('NAGS HEAD \"A\"'!BN6/'NAGS HEAD \"A\"'!BO6)*3)))","v":0},null,{"$f":"IF('NAGS HEAD \"A\"'!BR6=\"\",0,(SUM(('NAGS HEAD \"A\"'!BR6/'NAGS HEAD \"A\"'!BS6)*3)))","v":0},null,{"$f":"IF('NAGS HEAD \"A\"'!BV6=\"\",0,(SUM(('NAGS HEAD \"A\"'!BV6/'NAGS HEAD \"A\"'!BW6)*3)))","v":0},null,{"$f":"IF('NAGS HEAD \"A\"'!BZ6=\"\",0,(SUM(('NAGS HEAD \"A\"'!BZ6/'NAGS HEAD \"A\"'!CA6)*3)))","v":0},null,{"$f":"IF('NAGS HEAD \"A\"'!CD6=\"\",0,(SUM(('NAGS HEAD \"A\"'!CD6/'NAGS HEAD \"A\"'!CE6)*3)))","v":0},null,{"$f":"IF('NAGS HEAD \"A\"'!CH6=\"\",0,(SUM(('NAGS HEAD \"A\"'!CH6/'NAGS HEAD \"A\"'!CI6)*3)))","v":0}]
[null,{"$f":"IF('NAGS HEAD \"A\"'!B7=\"\",0,(SUM(('NAGS HEAD \"A\"'!B7/'NAGS HEAD \"A\"'!C7)*3)))","v":43.8125},null,{"$f":"IF('NAGS HEAD \"A\"'!F7=\"\",0,(SUM(('NAGS HEAD \"A\"'!F7/'NAGS HEAD \"A\"'!G7)*3)))","v":61.181818181818187},null,{"$f":"IF('NAGS HEAD \"A\"'!J7=\"\",0,(SUM(('NAGS HEAD \"A\"'!J7/'NAGS HEAD \"A\"'!K7)*3)))","v":0},null,{"$f":"IF('NAGS HEAD \"A\"'!N7=\"\",0,(SUM(('NAGS HEAD \"A\"'!N7/'NAGS HEAD \"A\"'!O7)*3)))","v":41.117647058823529},null,{"$f":"IF('NAGS HEAD \"A\"'!R7=\"\",0,(SUM(('NAGS HEAD \"A\"'!R7/'NAGS HEAD \"A\"'!S7)*3)))","v":0},null,{"$f":"IF('NAGS HEAD \"A\"'!V7=\"\",0,(SUM(('NAGS HEAD \"A\"'!V7/'NAGS HEAD \"A\"'!W7)*3)))","v":44.285714285714292},null,{"$f":"IF('NAGS HEAD \"A\"'!Z7=\"\",0,(SUM(('NAGS HEAD \"A\"'!Z7/'NAGS HEAD \"A\"'!AA7)*3)))","v":51.292682926829272},null,{"$f":"IF('NAGS HEAD \"A\"'!AD7=\"\",0,(SUM(('NAGS HEAD \"A\"'!AD7/'NAGS HEAD \"A\"'!AE7)*3)))","v":41.5},null,{"$f":"IF('NAGS HEAD \"A\"'!AH7=\"\",0,(SUM(('NAGS HEAD \"A\"'!AH7/'NAGS HEAD \"A\"'!AI7)*3)))","v":0},null,{"$f":"IF('NAGS HEAD \"A\"'!AL7=\"\",0,(SUM(('NAGS HEAD \"A\"'!AL7/'NAGS HEAD \"A\"'!AM7)*3)))","v":58.416666666666664},null,{"$f":"IF('NAGS HEAD \"A\"'!AP7=\"\",0,(SUM(('NAGS HEAD \"A\"'!AP7/'NAGS HEAD \"A\"'!AQ7)*3)))","v":51.292682926829272},null,{"$f":"IF('NAGS HEAD \"A\"'!AT7=\"\",0,(SUM(('NAGS HEAD \"A\"'!AT7/'NAGS HEAD \"A\"'!AU7)*3)))","v":43.5},null,{"$f":"IF('NAGS HEAD \"A\"'!AX7=\"\",0,(SUM(('NAGS HEAD \"A\"'!AX7/'NAGS HEAD \"A\"'!AY7)*3)))","v":50.071428571428569},null,{"$f":"IF('NAGS HEAD \"A\"'!BB7=\"\",0,(SUM(('NAGS HEAD \"A\"'!BB7/'NAGS HEAD \"A\"'!BC7)*3)))","v":0},null,{"$f":"IF('NAGS HEAD \"A\"'!BF7=\"\",0,(SUM(('NAGS HEAD \"A\"'!BF7/'NAGS HEAD \"A\"'!BG7)*3)))","v":56.837837837837839},null,{"$f":"IF('NAGS HEAD \"A\"'!BJ7=\"\",0,(SUM(('NAGS HEAD \"A\"'!BJ7/'NAGS HEAD \"A\"'!BK7)*3)))","v":50.071428571428569},null,{"$f":"IF('NAGS HEAD \"A\"'!BN7=\"\",0,(SUM(('NAGS HEAD \"A\"'!BN7/'NAGS HEAD \"A\"'!BO7)*3)))","v":60.085714285714289},null,{"$f":"IF('NAGS HEAD \"A\"'!BR7=\"\",0,(SUM(('NAGS HEAD \"A\"'!BR7/'NAGS HEAD \"A\"'!BS7)*3)))","v":61.852941176470587},null,{"$f":"IF('NAGS HEAD \"A\"'!BV7=\"\",0,(SUM(('NAGS HEAD \"A\"'!BV7/'NAGS HEAD \"A\"'!BW7)*3)))","v":0},null,{"$f":"IF('NAGS HEAD \"A\"'!BZ7=\"\",0,(SUM(('NAGS HEAD \"A\"'!BZ7/'NAGS HEAD \"A\"'!CA7)*3)))","v":0},null,{"$f":"IF('NAGS HEAD \"A\"'!CD7=\"\",0,(SUM(('NAGS HEAD \"A\"'!CD7/'NAGS HEAD \"A\"'!CE7)*3)))","v":0},null,{"$f":"IF('NAGS HEAD \"A\"'!CH7=\"\",0,(SUM(('NAGS HEAD \"A\"'!CH7/'NAGS HEAD \"A\"'!CI7)*3)))","v":0}]
[null,{"$f":"IF('NAGS HEAD \"A\"'!B8=\"\",0,(SUM(('NAGS HEAD \"A\"'!B8/'NAGS HEAD \"A\"'!C8)*3)))","v":56.837837837837839},null,{"$f":"IF('NAGS HEAD \"A\"'!F8=\"\",0,(SUM(('NAGS HEAD \"A\"'!F8/'NAGS HEAD \"A\"'!G8)*3)))","v":45.717391304347828},null,{"$f":"IF('NAGS HEAD \"A\"'!J8=\"\",0,(SUM(('NAGS HEAD \"A\"'!J8/'NAGS HEAD \"A\"'!K8)*3)))","v":72.517241379310349},null,{"$f":"IF('NAGS HEAD \"A\"'!N8=\"\",0,(SUM(('NAGS HEAD \"A\"'!N8/'NAGS HEAD \"A\"'!O8)*3)))","v":57.875},null,{"$f":"IF('NAGS HEAD \"A\"'!R8=\"\",0,(SUM(('NAGS HEAD \"A\"'!R8/'NAGS HEAD \"A\"'!S8)*3)))","v":0},null,{"$f":"IF('NAGS HEAD \"A\"'!V8=\"\",0,(SUM(('NAGS HEAD \"A\"'!V8/'NAGS HEAD \"A\"'!W8)*3)))","v":53.307692307692307},null,{"$f":"IF('NAGS HEAD \"A\"'!Z8=\"\",0,(SUM(('NAGS HEAD \"A\"'!Z8/'NAGS HEAD \"A\"'!AA8)*3)))","v":80.884615384615387},null,{"$f":"IF('NAGS HEAD \"A\"'!AD8=\"\",0,(SUM(('NAGS HEAD \"A\"'!AD8/'NAGS HEAD \"A\"'!AE8)*3)))","v":72.517241379310349},null,{"$f":"IF('NAGS HEAD \"A\"'!AH8=\"\",0,(SUM(('NAGS HEAD \"A\"'!AH8/'NAGS HEAD \"A\"'!AI8)*3)))","v":65.71875},null,{"$f":"IF('NAGS HEAD \"A\"'!AL8=\"\",0,(SUM(('NAGS HEAD \"A\"'!AL8/'NAGS HEAD \"A\"'!AM8)*3)))","v":60.085714285714289},null,{"$f":"IF('NAGS HEAD \"A\"'!AP8=\"\",0,(SUM(('NAGS HEAD \"A\"'!AP8/'NAGS HEAD \"A\"'!AQ8)*3)))","v":72.517241379310349},null,{"$f":"IF('NAGS HEAD \"A\"'!AT8=\"\",0,(SUM(('NAGS HEAD \"A\"'!AT8/'NAGS HEAD \"A\"'!AU8)*3)))","v":43.416666666666664},null,{"$f":"IF('NAGS HEAD \"A\"'!AX8=\"\",0,(SUM(('NAGS HEAD \"A\"'!AX8/'NAGS HEAD \"A\"'!AY8)*3)))","v":0},null,{"$f":"IF('NAGS HEAD \"A\"'!BB8=\"\",0,(SUM(('NAGS HEAD \"A\"'!BB8/'NAGS HEAD \"A\"'!BC8)*3)))","v":0},null,{"$f":"IF('NAGS HEAD \"A\"'!BF8=\"\",0,(SUM(('NAGS HEAD \"A\"'!BF8/'NAGS HEAD \"A\"'!BG8)*3)))","v":60.085714285714289},null,{"$f":"IF('NAGS HEAD \"A\"'!BJ8=\"\",0,(SUM(('NAGS HEAD \"A\"'!BJ8/'NAGS HEAD \"A\"'!BK8)*3)))","v":48.906976744186039},null,{"$f":"IF('NAGS HEAD \"A\"'!BN8=\"\",0,(SUM(('NAGS HEAD \"A\"'!BN8/'NAGS HEAD \"A\"'!BO8)*3)))","v":51.292682926829272},null,{"$f":"IF('NAGS HEAD \"A\"'!BR8=\"\",0,(SUM(('NAGS HEAD \"A\"'!BR8/'NAGS HEAD \"A\"'!BS8)*3)))","v":45.717391304347828},null,{"$f":"IF('NAGS HEAD \"A\"'!BV8=\"\",0,(SUM(('NAGS HEAD \"A\"'!BV8/'NAGS HEAD \"A\"'!BW8)*3)))","v":0},null,{"$f":"IF('NAGS HEAD \"A\"'!BZ8=\"\",0,(SUM(('NAGS HEAD \"A\"'!BZ8/'NAGS HEAD \"A\"'!CA8)*3)))","v":0},null,{"$f":"IF('NAGS HEAD \"A\"'!CD8=\"\",0,(SUM(('NAGS HEAD \"A\"'!CD8/'NAGS HEAD \"A\"'!CE8)*3)))","v":0},null,{"$f":"IF('NAGS HEAD \"A\"'!CH8=\"\",0,(SUM(('NAGS HEAD \"A\"'!CH8/'NAGS HEAD \"A\"'!CI8)*3)))","v":0}]
[null,{"$f":"IF('NAGS HEAD \"A\"'!B9=\"\",0,(SUM(('NAGS HEAD \"A\"'!B9/'NAGS HEAD \"A\"'!C9)*3)))","v":31.4375},null,{"$f":"IF('NAGS HEAD \"A\"'!F9=\"\",0,(SUM(('NAGS HEAD \"A\"'!F9/'NAGS HEAD \"A\"'!G9)*3)))","v":0},null,{"$f":"IF('NAGS HEAD \"A\"'!J9=\"\",0,(SUM(('NAGS HEAD \"A\"'!J9/'NAGS HEAD \"A\"'!K9)*3)))","v":0},null,{"$f":"IF('NAGS HEAD \"A\"'!N9=\"\",0,(SUM(('NAGS HEAD \"A\"'!N9/'NAGS HEAD \"A\"'!O9)*3)))","v":0},null,{"$f":"IF('NAGS HEAD \"A\"'!R9=\"\",0,(SUM(('NAGS HEAD \"A\"'!R9/'NAGS HEAD \"A\"'!S9)*3)))","v":0},null,{"$f":"IF('NAGS HEAD \"A\"'!V9=\"\",0,(SUM(('NAGS HEAD \"A\"'!V9/'NAGS HEAD \"A\"'!W9)*3)))","v":0},null,{"$f":"IF('NAGS HEAD \"A\"'!Z9=\"\",0,(SUM(('NAGS HEAD \"A\"'!Z9/'NAGS HEAD \"A\"'!AA9)*3)))","v":0},null,{"$f":"IF('NAGS HEAD \"A\"'!AD9=\"\",0,(SUM(('NAGS HEAD \"A\"'!AD9/'NAGS HEAD \"A\"'!AE9)*3)))","v":0},null,{"$f":"IF('NAGS HEAD \"A\"'!AH9=\"\",0,(SUM(('NAGS HEAD \"A\"'!AH9/'NAGS HEAD \"A\"'!AI9)*3)))","v":0},null,{"$f":"IF('NAGS HEAD \"A\"'!AL9=\"\",0,(SUM(('NAGS HEAD \"A\"'!AL9/'NAGS HEAD \"A\"'!AM9)*3)))","v":0},null,{"$f":"IF('NAGS HEAD \"A\"'!AP9=\"\",0,(SUM(('NAGS HEAD \"A\"'!AP9/'NAGS HEAD \"A\"'!AQ9)*3)))","v":0},null,{"$f":"IF('NAGS HEAD \"A\"'!AT9=\"\",0,(SUM(('NAGS HEAD \"A\"'!AT9/'NAGS HEAD \"A\"'!AU9)*3)))","v":0},null,{"$f":"IF('NAGS HEAD \"A\"'!AX9=\"\",0,(SUM(('NAGS HEAD \"A\"'!AX9/'NAGS HEAD \"A\"'!AY9)*3)))","v":0},null,{"$f":"IF('NAGS HEAD \"A\"'!BB9=\"\",0,(SUM(('NAGS HEAD \"A\"'!BB9/'NAGS HEAD \"A\"'!BC9)*3)))","v":0},null,{"$f":"IF('NAGS HEAD \"A\"'!BF9=\"\",0,(SUM(('NAGS HEAD \"A\"'!BF9/'NAGS HEAD \"A\"'!BG9)*3)))","v":0},null,{"$f":"IF('NAGS HEAD \"A\"'!BJ9=\"\",0,(SUM(('NAGS HEAD \"A\"'!BJ9/'NAGS HEAD \"A\"'!BK9)*3)))","v":0},null,{"$f":"IF('NAGS HEAD \"A\"'!BN9=\"\",0,(SUM(('NAGS HEAD \"A\"'!BN9/'NAGS HEAD \"A\"'!BO9)*3)))","v":0},null,{"$f":"IF('NAGS HEAD \"A\"'!BR9=\"\",0,(SUM(('NAGS HEAD \"A\"'!BR9/'NAGS HEAD \"A\"'!BS9)*3)))","v":0},null,{"$f":"IF('NAGS HEAD \"A\"'!BV9=\"\",0,(SUM(('NAGS HEAD \"A\"'!BV9/'NAGS HEAD \"A\"'!BW9)*3)))","v":0},null,{"$f":"IF('NAGS HEAD \"A\"'!BZ9=\"\",0,(SUM(('NAGS HEAD \"A\"'!BZ9/'NAGS HEAD \"A\"'!CA9)*3)))","v":0},null,{"$f":"IF('NAGS HEAD \"A\"'!CD9=\"\",0,(SUM(('NAGS HEAD \"A\"'!CD9/'NAGS HEAD \"A\"'!CE9)*3)))","v":0},null,{"$f":"IF('NAGS HEAD \"A\"'!CH9=\"\",0,(SUM(('NAGS HEAD \"A\"'!CH9/'NAGS HEAD \"A\"'!CI9)*3)))","v":0}]
[null,{"$f":"IF('NAGS HEAD \"A\"'!B10=\"\",0,(SUM(('NAGS HEAD \"A\"'!B10/'NAGS HEAD \"A\"'!C10)*3)))","v":45.785714285714292},null,{"$f":"IF('NAGS HEAD \"A\"'!F10=\"\",0,(SUM(('NAGS HEAD \"A\"'!F10/'NAGS HEAD \"A\"'!G10)*3)))","v":52.38461538461538},null,{"$f":"IF('NAGS HEAD \"A\"'!J10=\"\",0,(SUM(('NAGS HEAD \"A\"'!J10/'NAGS HEAD \"A\"'!K10)*3)))","v":53.545454545454547},null,{"$f":"IF('NAGS HEAD \"A\"'!N10=\"\",0,(SUM(('NAGS HEAD \"A\"'!N10/'NAGS HEAD \"A\"'!O10)*3)))","v":51.125},null,{"$f":"IF('NAGS HEAD \"A\"'!R10=\"\",0,(SUM(('NAGS HEAD \"A\"'!R10/'NAGS HEAD \"A\"'!S10)*3)))","v":0},null,{"$f":"IF('NAGS HEAD \"A\"'!V10=\"\",0,(SUM(('NAGS HEAD \"A\"'!V10/'NAGS HEAD \"A\"'!W10)*3)))","v":51.916666666666671},null,{"$f":"IF('NAGS HEAD \"A\"'!Z10=\"\",0,(SUM(('NAGS HEAD \"A\"'!Z10/'NAGS HEAD \"A\"'!AA10)*3)))","v":65.71875},null,{"$f":"IF('NAGS HEAD \"A\"'!AD10=\"\",0,(SUM(('NAGS HEAD \"A\"'!AD10/'NAGS HEAD \"A\"'!AE10)*3)))","v":56.837837837837839},null,{"$f":"IF('NAGS HEAD \"A\"'!AH10=\"\",0,(SUM(('NAGS HEAD \"A\"'!AH10/'NAGS HEAD \"A\"'!AI10)*3)))","v":58.63636363636364},null,{"$f":"IF('NAGS HEAD \"A\"'!AL10=\"\",0,(SUM(('NAGS HEAD \"A\"'!AL10/'NAGS HEAD \"A\"'!AM10)*3)))","v":0},null,{"$f":"IF('NAGS HEAD \"A\"'!AP10=\"\",0,(SUM(('NAGS HEAD \"A\"'!AP10/'NAGS HEAD \"A\"'!AQ10)*3)))","v":0},null,{"$f":"IF('NAGS HEAD \"A\"'!AT10=\"\",0,(SUM(('NAGS HEAD \"A\"'!AT10/'NAGS HEAD \"A\"'!AU10)*3)))","v":0},null,{"$f":"IF('NAGS HEAD \"A\"'!AX10=\"\",0,(SUM(('NAGS HEAD \"A\"'!AX10/'NAGS HEAD \"A\"'!AY10)*3)))","v":0},null,{"$f":"IF('NAGS HEAD \"A\"'!BB10=\"\",0,(SUM(('NAGS HEAD \"A\"'!BB10/'NAGS HEAD \"A\"'!BC10)*3)))","v":0},null,{"$f":"IF('NAGS HEAD \"A\"'!BF10=\"\",0,(SUM(('NAGS HEAD \"A\"'!BF10/'NAGS HEAD \"A\"'!BG10)*3)))","v":0},null,{"$f":"IF('NAGS HEAD \"A\"'!BJ10=\"\",0,(SUM(('NAGS HEAD \"A\"'!BJ10/'NAGS HEAD \"A\"'!BK10)*3)))","v":0},null,{"$f":"IF('NAGS HEAD \"A\"'!BN10=\"\",0,(SUM(('NAGS HEAD \"A\"'!BN10/'NAGS HEAD \"A\"'!BO10)*3)))","v":39.679245283018872},null,{"$f":"IF('NAGS HEAD \"A\"'!BR10=\"\",0,(SUM(('NAGS HEAD \"A\"'!BR10/'NAGS HEAD \"A\"'!BS10)*3)))","v":0},null,{"$f":"IF('NAGS HEAD \"A\"'!BV10=\"\",0,(SUM(('NAGS HEAD \"A\"'!BV10/'NAGS HEAD \"A\"'!BW10)*3)))","v":0},null,{"$f":"IF('NAGS HEAD \"A\"'!BZ10=\"\",0,(SUM(('NAGS HEAD \"A\"'!BZ10/'NAGS HEAD \"A\"'!CA10)*3)))","v":0},null,{"$f":"IF('NAGS HEAD \"A\"'!CD10=\"\",0,(SUM(('NAGS HEAD \"A\"'!CD10/'NAGS HEAD \"A\"'!CE10)*3)))","v":0},null,{"$f":"IF('NAGS HEAD \"A\"'!CH10=\"\",0,(SUM(('NAGS HEAD \"A\"'!CH10/'NAGS HEAD \"A\"'!CI10)*3)))","v":0}]
[null,{"$f":"IF('NAGS HEAD \"A\"'!B11=\"\",0,(SUM(('NAGS HEAD \"A\"'!B11/'NAGS HEAD \"A\"'!C11)*3)))","v":0},null,{"$f":"IF('NAGS HEAD \"A\"'!F11=\"\",0,(SUM(('NAGS HEAD \"A\"'!F11/'NAGS HEAD \"A\"'!G11)*3)))","v":0},null,{"$f":"IF('NAGS HEAD \"A\"'!J11=\"\",0,(SUM(('NAGS HEAD \"A\"'!J11/'NAGS HEAD \"A\"'!K11)*3)))","v":0},null,{"$f":"IF('NAGS HEAD \"A\"'!N11=\"\",0,(SUM(('NAGS HEAD \"A\"'!N11/'NAGS HEAD \"A\"'!O11)*3)))","v":0},null,{"$f":"IF('NAGS HEAD \"A\"'!R11=\"\",0,(SUM(('NAGS HEAD \"A\"'!R11/'NAGS HEAD \"A\"'!S11)*3)))","v":0},null,{"$f":"IF('NAGS HEAD \"A\"'!V11=\"\",0,(SUM(('NAGS HEAD \"A\"'!V11/'NAGS HEAD \"A\"'!W11)*3)))","v":0},null,{"$f":"IF('NAGS HEAD \"A\"'!Z11=\"\",0,(SUM(('NAGS HEAD \"A\"'!Z11/'NAGS HEAD \"A\"'!AA11)*3)))","v":0},null,{"$f":"IF('NAGS HEAD \"A\"'!AD11=\"\",0,(SUM(('NAGS HEAD \"A\"'!AD11/'NAGS HEAD \"A\"'!AE11)*3)))","v":0},null,{"$f":"IF('NAGS HEAD \"A\"'!AH11=\"\",0,(SUM(('NAGS HEAD \"A\"'!AH11/'NAGS HEAD \"A\"'!AI11)*3)))","v":0},null,{"$f":"IF('NAGS HEAD \"A\"'!AL11=\"\",0,(SUM(('NAGS HEAD \"A\"'!AL11/'NAGS HEAD \"A\"'!AM11)*3)))","v":0},null,{"$f":"IF('NAGS HEAD \"A\"'!AP11=\"\",0,(SUM(('NAGS HEAD \"A\"'!AP11/'NAGS HEAD \"A\"'!AQ11)*3)))","v":0},null,{"$f":"IF('NAGS HEAD \"A\"'!AT11=\"\",0,(SUM(('NAGS HEAD \"A\"'!AT11/'NAGS HEAD \"A\"'!AU11)*3)))","v":0},null,{"$f":"IF('NAGS HEAD \"A\"'!AX11=\"\",0,(SUM(('NAGS HEAD \"A\"'!AX11/'NAGS HEAD \"A\"'!AY11)*3)))","v":52.574999999999996},null,{"$f":"IF('NAGS HEAD \"A\"'!BB11=\"\",0,(SUM(('NAGS HEAD \"A\"'!BB11/'NAGS HEAD \"A\"'!BC11)*3)))","v":0},null,{"$f":"IF('NAGS HEAD \"A\"'!BF11=\"\",0,(SUM(('NAGS HEAD \"A\"'!BF11/'NAGS HEAD \"A\"'!BG11)*3)))","v":0},null,{"$f":"IF('NAGS HEAD \"A\"'!BJ11=\"\",0,(SUM(('NAGS HEAD \"A\"'!BJ11/'NAGS HEAD \"A\"'!BK11)*3)))","v":0},null,{"$f":"IF('NAGS HEAD \"A\"'!BN11=\"\",0,(SUM(('NAGS HEAD \"A\"'!BN11/'NAGS HEAD \"A\"'!BO11)*3)))","v":0},null,{"$f":"IF('NAGS HEAD \"A\"'!BR11=\"\",0,(SUM(('NAGS HEAD \"A\"'!BR11/'NAGS HEAD \"A\"'!BS11)*3)))","v":49.416666666666664},null,{"$f":"IF('NAGS HEAD \"A\"'!BV11=\"\",0,(SUM(('NAGS HEAD \"A\"'!BV11/'NAGS HEAD \"A\"'!BW11)*3)))","v":0},null,{"$f":"IF('NAGS HEAD \"A\"'!BZ11=\"\",0,(SUM(('NAGS HEAD \"A\"'!BZ11/'NAGS HEAD \"A\"'!CA11)*3)))","v":0},null,{"$f":"IF('NAGS HEAD \"A\"'!CD11=\"\",0,(SUM(('NAGS HEAD \"A\"'!CD11/'NAGS HEAD \"A\"'!CE11)*3)))","v":0},null,{"$f":"IF('NAGS HEAD \"A\"'!CH11=\"\",0,(SUM(('NAGS HEAD \"A\"'!CH11/'NAGS HEAD \"A\"'!CI11)*3)))","v":0}]
[null,{"$f":"IF('NAGS HEAD \"A\"'!B12=\"\",0,(SUM(('NAGS HEAD \"A\"'!B12/'NAGS HEAD \"A\"'!C12)*3)))","v":0},null,{"$f":"IF('NAGS HEAD \"A\"'!F12=\"\",0,(SUM(('NAGS HEAD \"A\"'!F12/'NAGS HEAD \"A\"'!G12)*3)))","v":0},null,{"$f":"IF('NAGS HEAD \"A\"'!J12=\"\",0,(SUM(('NAGS HEAD \"A\"'!J12/'NAGS HEAD \"A\"'!K12)*3)))","v":0},null,{"$f":"IF('NAGS HEAD \"A\"'!N12=\"\",0,(SUM(('NAGS HEAD \"A\"'!N12/'NAGS HEAD \"A\"'!O12)*3)))","v":0},null,{"$f":"IF('NAGS HEAD \"A\"'!R12=\"\",0,(SUM(('NAGS HEAD \"A\"'!R12/'NAGS HEAD \"A\"'!S12)*3)))","v":0},null,{"$f":"IF('NAGS HEAD \"A\"'!V12=\"\",0,(SUM(('NAGS HEAD \"A\"'!V12/'NAGS HEAD \"A\"'!W12)*3)))","v":0},null,{"$f":"IF('NAGS HEAD \"A\"'!Z12=\"\",0,(SUM(('NAGS HEAD \"A\"'!Z12/'NAGS HEAD \"A\"'!AA12)*3)))","v":0},null,{"$f":"IF('NAGS HEAD \"A\"'!AD12=\"\",0,(SUM(('NAGS HEAD \"A\"'!AD12/'NAGS HEAD \"A\"'!AE12)*3)))","v":0},null,{"$f":"IF('NAGS HEAD \"A\"'!AH12=\"\",0,(SUM(('NAGS HEAD \"A\"'!AH12/'NAGS HEAD \"A\"'!AI12)*3)))","v":0},null,{"$f":"IF('NAGS HEAD \"A\"'!AL12=\"\",0,(SUM(('NAGS HEAD \"A\"'!AL12/'NAGS HEAD \"A\"'!AM12)*3)))","v":0},null,{"$f":"IF('NAGS HEAD \"A\"'!AP12=\"\",0,(SUM(('NAGS HEAD \"A\"'!AP12/'NAGS HEAD \"A\"'!AQ12)*3)))","v":0},null,{"$f":"IF('NAGS HEAD \"A\"'!AT12=\"\",0,(SUM(('NAGS HEAD \"A\"'!AT12/'NAGS HEAD \"A\"'!AU12)*3)))","v":0},null,{"$f":"IF('NAGS HEAD \"A\"'!AX12=\"\",0,(SUM(('NAGS HEAD \"A\"'!AX12/'NAGS HEAD \"A\"'!AY12)*3)))","v":0},null,{"$f":"IF('NAGS HEAD \"A\"'!BB12=\"\",0,(SUM(('NAGS HEAD \"A\"'!BB12/'NAGS HEAD \"A\"'!BC12)*3)))","v":0},null,{"$f":"IF('NAGS HEAD \"A\"'!BF12=\"\",0,(SUM(('NAGS HEAD \"A\"'!BF12/'NAGS HEAD \"A\"'!BG12)*3)))","v":0},null,{"$f":"IF('NAGS HEAD \"A\"'!BJ12=\"\",0,(SUM(('NAGS HEAD \"A\"'!BJ12/'NAGS HEAD \"A\"'!BK12)*3)))","v":0},null,{"$f":"IF('NAGS HEAD \"A\"'!BN12=\"\",0,(SUM(('NAGS HEAD \"A\"'!BN12/'NAGS HEAD \"A\"'!BO12)*3)))","v":0},null,{"$f":"IF('NAGS HEAD \"A\"'!BR12=\"\",0,(SUM(('NAGS HEAD \"A\"'!BR12/'NAGS HEAD \"A\"'!BS12)*3)))","v":0},null,{"$f":"IF('NAGS HEAD \"A\"'!BV12=\"\",0,(SUM(('NAGS HEAD \"A\"'!BV12/'NAGS HEAD \"A\"'!BW12)*3)))","v":0},null,{"$f":"IF('NAGS HEAD \"A\"'!BZ12=\"\",0,(SUM(('NAGS HEAD \"A\"'!BZ12/'NAGS HEAD \"A\"'!CA12)*3)))","v":0},null,{"$f":"IF('NAGS HEAD \"A\"'!CD12=\"\",0,(SUM(('NAGS HEAD \"A\"'!CD12/'NAGS HEAD \"A\"'!CE12)*3)))","v":0},null,{"$f":"IF('NAGS HEAD \"A\"'!CH12=\"\",0,(SUM(('NAGS HEAD \"A\"'!CH12/'NAGS HEAD \"A\"'!CI12)*3)))","v":0}]
[null,{"$f":"IF('NAGS HEAD \"A\"'!B13=\"\",0,(SUM(('NAGS HEAD \"A\"'!B13/'NAGS HEAD \"A\"'!C13)*3)))","v":0},null,{"$f":"IF('NAGS HEAD \"A\"'!F13=\"\",0,(SUM(('NAGS HEAD \"A\"'!F13/'NAGS HEAD \"A\"'!G13)*3)))","v":0},null,{"$f":"IF('NAGS HEAD \"A\"'!J13=\"\",0,(SUM(('NAGS HEAD \"A\"'!J13/'NAGS HEAD \"A\"'!K13)*3)))","v":0},null,{"$f":"IF('NAGS HEAD \"A\"'!N13=\"\",0,(SUM(('NAGS HEAD \"A\"'!N13/'NAGS HEAD \"A\"'!O13)*3)))","v":0},null,{"$f":"IF('NAGS HEAD \"A\"'!R13=\"\",0,(SUM(('NAGS HEAD \"A\"'!R13/'NAGS HEAD \"A\"'!S13)*3)))","v":0},null,{"$f":"IF('NAGS HEAD \"A\"'!V13=\"\",0,(SUM(('NAGS HEAD \"A\"'!V13/'NAGS HEAD \"A\"'!W13)*3)))","v":0},null,{"$f":"IF('NAGS HEAD \"A\"'!Z13=\"\",0,(SUM(('NAGS HEAD \"A\"'!Z13/'NAGS HEAD \"A\"'!AA13)*3)))","v":0},null,{"$f":"IF('NAGS HEAD \"A\"'!AD13=\"\",0,(SUM(('NAGS HEAD \"A\"'!AD13/'NAGS HEAD \"A\"'!AE13)*3)))","v":0},null,{"$f":"IF('NAGS HEAD \"A\"'!AH13=\"\",0,(SUM(('NAGS HEAD \"A\"'!AH13/'NAGS HEAD \"A\"'!AI13)*3)))","v":0},null,{"$f":"IF('NAGS HEAD \"A\"'!AL13=\"\",0,(SUM(('NAGS HEAD \"A\"'!AL13/'NAGS HEAD \"A\"'!AM13)*3)))","v":0},null,{"$f":"IF('NAGS HEAD \"A\"'!AP13=\"\",0,(SUM(('NAGS HEAD \"A\"'!AP13/'NAGS HEAD \"A\"'!AQ13)*3)))","v":0},null,{"$f":"IF('NAGS HEAD \"A\"'!AT13=\"\",0,(SUM(('NAGS HEAD \"A\"'!AT13/'NAGS HEAD \"A\"'!AU13)*3)))","v":0},null,{"$f":"IF('NAGS HEAD \"A\"'!AX13=\"\",0,(SUM(('NAGS HEAD \"A\"'!AX13/'NAGS HEAD \"A\"'!AY13)*3)))","v":0},null,{"$f":"IF('NAGS HEAD \"A\"'!BB13=\"\",0,(SUM(('NAGS HEAD \"A\"'!BB13/'NAGS HEAD \"A\"'!BC13)*3)))","v":0},null,{"$f":"IF('NAGS HEAD \"A\"'!BF13=\"\",0,(SUM(('NAGS HEAD \"A\"'!BF13/'NAGS HEAD \"A\"'!BG13)*3)))","v":0},null,{"$f":"IF('NAGS HEAD \"A\"'!BJ13=\"\",0,(SUM(('NAGS HEAD \"A\"'!BJ13/'NAGS HEAD \"A\"'!BK13)*3)))","v":0},null,{"$f":"IF('NAGS HEAD \"A\"'!BN13=\"\",0,(SUM(('NAGS HEAD \"A\"'!BN13/'NAGS HEAD \"A\"'!BO13)*3)))","v":0},null,{"$f":"IF('NAGS HEAD \"A\"'!BR13=\"\",0,(SUM(('NAGS HEAD \"A\"'!BR13/'NAGS HEAD \"A\"'!BS13)*3)))","v":0},null,{"$f":"IF('NAGS HEAD \"A\"'!BV13=\"\",0,(SUM(('NAGS HEAD \"A\"'!BV13/'NAGS HEAD \"A\"'!BW13)*3)))","v":0},null,{"$f":"IF('NAGS HEAD \"A\"'!BZ13=\"\",0,(SUM(('NAGS HEAD \"A\"'!BZ13/'NAGS HEAD \"A\"'!CA13)*3)))","v":0},null,{"$f":"IF('NAGS HEAD \"A\"'!CD13=\"\",0,(SUM(('NAGS HEAD \"A\"'!CD13/'NAGS HEAD \"A\"'!CE13)*3)))","v":0},null,{"$f":"IF('NAGS HEAD \"A\"'!CH13=\"\",0,(SUM(('NAGS HEAD \"A\"'!CH13/'NAGS HEAD \"A\"'!CI13)*3)))","v":0}]
[null,{"$f":"IF('NAGS HEAD \"A\"'!B14=\"\",0,(SUM(('NAGS HEAD \"A\"'!B14/'NAGS HEAD \"A\"'!C14)*3)))","v":0},null,{"$f":"IF('NAGS HEAD \"A\"'!F14=\"\",0,(SUM(('NAGS HEAD \"A\"'!F14/'NAGS HEAD \"A\"'!G14)*3)))","v":0},null,{"$f":"IF('NAGS HEAD \"A\"'!J14=\"\",0,(SUM(('NAGS HEAD \"A\"'!J14/'NAGS HEAD \"A\"'!K14)*3)))","v":0},null,{"$f":"IF('NAGS HEAD \"A\"'!N14=\"\",0,(SUM(('NAGS HEAD \"A\"'!N14/'NAGS HEAD \"A\"'!O14)*3)))","v":0},null,{"$f":"IF('NAGS HEAD \"A\"'!R14=\"\",0,(SUM(('NAGS HEAD \"A\"'!R14/'NAGS HEAD \"A\"'!S14)*3)))","v":0},null,{"$f":"IF('NAGS HEAD \"A\"'!V14=\"\",0,(SUM(('NAGS HEAD \"A\"'!V14/'NAGS HEAD \"A\"'!W14)*3)))","v":0},null,{"$f":"IF('NAGS HEAD \"A\"'!Z14=\"\",0,(SUM(('NAGS HEAD \"A\"'!Z14/'NAGS HEAD \"A\"'!AA14)*3)))","v":0},null,{"$f":"IF('NAGS HEAD \"A\"'!AD14=\"\",0,(SUM(('NAGS HEAD \"A\"'!AD14/'NAGS HEAD \"A\"'!AE14)*3)))","v":0},null,{"$f":"IF('NAGS HEAD \"A\"'!AH14=\"\",0,(SUM(('NAGS HEAD \"A\"'!AH14/'NAGS HEAD \"A\"'!AI14)*3)))","v":0},null,{"$f":"IF('NAGS HEAD \"A\"'!AL14=\"\",0,(SUM(('NAGS HEAD \"A\"'!AL14/'NAGS HEAD \"A\"'!AM14)*3)))","v":0},null,{"$f":"IF('NAGS HEAD \"A\"'!AP14=\"\",0,(SUM(('NAGS HEAD \"A\"'!AP14/'NAGS HEAD \"A\"'!AQ14)*3)))","v":0},null,{"$f":"IF('NAGS HEAD \"A\"'!AT14=\"\",0,(SUM(('NAGS HEAD \"A\"'!AT14/'NAGS HEAD \"A\"'!AU14)*3)))","v":0},null,{"$f":"IF('NAGS HEAD \"A\"'!AX14=\"\",0,(SUM(('NAGS HEAD \"A\"'!AX14/'NAGS HEAD \"A\"'!AY14)*3)))","v":0},null,{"$f":"IF('NAGS HEAD \"A\"'!BB14=\"\",0,(SUM(('NAGS HEAD \"A\"'!BB14/'NAGS HEAD \"A\"'!BC14)*3)))","v":0},null,{"$f":"IF('NAGS HEAD \"A\"'!BF14=\"\",0,(SUM(('NAGS HEAD \"A\"'!BF14/'NAGS HEAD \"A\"'!BG14)*3)))","v":0},null,{"$f":"IF('NAGS HEAD \"A\"'!BJ14=\"\",0,(SUM(('NAGS HEAD \"A\"'!BJ14/'NAGS HEAD \"A\"'!BK14)*3)))","v":0},null,{"$f":"IF('NAGS HEAD \"A\"'!BN14=\"\",0,(SUM(('NAGS HEAD \"A\"'!BN14/'NAGS HEAD \"A\"'!BO14)*3)))","v":0},null,{"$f":"IF('NAGS HEAD \"A\"'!BR14=\"\",0,(SUM(('NAGS HEAD \"A\"'!BR14/'NAGS HEAD \"A\"'!BS14)*3)))","v":0},null,{"$f":"IF('NAGS HEAD \"A\"'!BV14=\"\",0,(SUM(('NAGS HEAD \"A\"'!BV14/'NAGS HEAD \"A\"'!BW14)*3)))","v":0},null,{"$f":"IF('NAGS HEAD \"A\"'!BZ14=\"\",0,(SUM(('NAGS HEAD \"A\"'!BZ14/'NAGS HEAD \"A\"'!CA14)*3)))","v":0},null,{"$f":"IF('NAGS HEAD \"A\"'!CD14=\"\",0,(SUM(('NAGS HEAD \"A\"'!CD14/'NAGS HEAD \"A\"'!CE14)*3)))","v":0},null,{"$f":"IF('NAGS HEAD \"A\"'!CH14=\"\",0,(SUM(('NAGS HEAD \"A\"'!CH14/'NAGS HEAD \"A\"'!CI14)*3)))","v":0}]
[]
["STANDARD A","10/09/2007\nV\nSTANDARD 'B'\n (A)",null,"17/09/2007\nV\nBYE\n (H)",null,"24/09/2007\nV\nWMC\n (H)",null,"1/10/2007\nV\nCRICKET CLUB\n (A)",null,"15/10/2007\nV\nGOLDEN LION 'B'\n (H)",null,"29/10/2007\nV\nGOLDEN LION 'A'\n (A)",null,"5/11/2007\nV\nSPORTSMANS\n (A)",null,"12/11/2007\nV\nNAGS HEAD\n (H)",null,"26/11/2007\nV\nBOWLING CLUB\n (A)",null,"03/12/2007\nV\nRAFA 'B'\n(H)",null,"17/12/2007\nV\nRAFA 'A'\n(A)",null,"07/01/2008\nV\nSTANDARD 'B'\n(H)",null,"14/01/2008\nV\nBYE",null,"21/01/2008\nV\nWMC\n(A)",null,"04/02/2008\nV\nCRICKET CLUB\n(H)",null,"11/02/2008\nV\nGOLDEN LION 'B'\n(A)",null,"25/02/2008\nV\nGOLDEN LION 'A'\n(H)",null,"10/03/2008\nV\nSPORTSMANS\n(H)",null,"17/03/2008\nV\nNAGS HEAD\n(A)",null,"31/03/2008\nV\nBOWLING CLUB\n(H)",null,"14/04/2008\nV\nRAFA 'B'\n(A)",null,"21/04/2008\nV\nRAFA 'A'\n(A)"]
[null,"W/L","AVG","W/L","AVG","W/L","AVG","W/L","AVG","W/L","AVG","W/L","AVG","W/L","AVG","W/L","AVG","W/L","AVG","W/L","AVG","W/L","AVG","W/L","AVG","W/L","AVG","W/L","AVG","W/L","AVG","W/L","AVG","W/L","AVG","W/L","AVG","W/L","AVG","W/L","AVG","W/L","AVG","W/L","AVG"]
[{"$f":"'ODD FELLOWS'!A3","v":"Steve Monk"},{"$f":"IF(C336=1,B336,\"\")","v":""},{"$f":"IF(B348>0,B348,\"\")","v":""},{"$f":"IF(E336=1,D336,\"\")","v":""},{"$f":"IF(D348>0,D348,\"\")","v":""},{"$f":"IF(G336=1,F336,\"\")","v":"LOST"},{"$f":"IF(F348>0,F348,\"\")","v":46.111111111111114},{"$f":"IF(I336=1,H336,\"\")","v":"WON"},{"$f":"IF(H348>0,H348,\"\")","v":42.06},{"$f":"IF(K336=1,J336,\"\")","v":""},{"$f":"IF(J348>0,J348,\"\")","v":""},{"$f":"IF(M336=1,L336,\"\")","v":""},{"$f":"IF(L348>0,L348,\"\")","v":""},{"$f":"IF(O336=1,N336,\"\")","v":""},{"$f":"IF(N348>0,N348,\"\")","v":""},{"$f":"IF(Q336=1,P336,\"\")","v":""},{"$f":"IF(P348>0,P348,\"\")","v":""},{"$f":"IF(S336=1,R336,\"\")","v":"LOST"},{"$f":"IF(R348>0,R348,\"\")","v":45.266666666666666},{"$f":"IF(U336=1,T336,\"\")","v":""},{"$f":"IF(T348>0,T348,\"\")","v":""},{"$f":"IF(W336=1,V336,\"\")","v":"LOST"},{"$f":"IF(V348>0,V348,\"\")","v":47.076923076923073},{"$f":"IF(Y336=1,X336,\"\")","v":"LOST"},{"$f":"IF(X348>0,X348,\"\")","v":53.07692307692308},{"$f":"IF(AA336=1,Z336,\"\")","v":"LOST"},{"$f":"IF(Z348>0,Z348,\"\")","v":43.6875},{"$f":"IF(AC336=1,AB336,\"\")","v":"LOST"},{"$f":"IF(AB348>0,AB348,\"\")","v":57.81818181818182},{"$f":"IF(AE336=1,AD336,\"\")","v":"LOST"},{"$f":"IF(AD348>0,AD348,\"\")","v":52.538461538461547},{"$f":"IF(AG336=1,AF336,\"\")","v":"WON"},{"$f":"IF(AF348>0,AF348,\"\")","v":46.733333333333334},{"$f":"IF(AI336=1,AH336,\"\")","v":""},{"$f":"IF(AH348>0,AH348,\"\")","v":""},{"$f":"IF(AK336=1,AJ336,\"\")","v":"LOST"},{"$f":"IF(AJ348>0,AJ348,\"\")","v":36.599999999999994},{"$f":"IF(AM336=1,AL336,\"\")","v":""},{"$f":"IF(AL348>0,AL348,\"\")","v":""},{"$f":"IF(AO336=1,AN336,\"\")","v":""},{"$f":"IF(AN348>0,AN348,\"\")","v":""},{"$f":"IF(AQ336=1,AP336,\"\")","v":""},{"$f":"IF(AP348>0,AP348,\"\")","v":""},{"$f":"IF(AS336=1,AR336,\"\")","v":""},{"$f":"IF(AR348>0,AR348,\"\")","v":""}]
[{"$f":"'ODD FELLOWS'!A4","v":"Craig Monk"},{"$f":"IF(C337=1,B337,\"\")","v":"WON"},{"$f":"IF(B349>0,B349,\"\")","v":100.14285714285714},{"$f":"IF(E337=1,D337,\"\")","v":"WON"},{"$f":"IF(D349>0,D349,\"\")","v":56.837837837837839},{"$f":"IF(G337=1,F337,\"\")","v":"WON"},{"$f":"IF(F349>0,F349,\"\")","v":70.099999999999994},{"$f":"IF(I337=1,H337,\"\")","v":"WON"},{"$f":"IF(H349>0,H349,\"\")","v":84.12},{"$f":"IF(K337=1,J337,\"\")","v":"WON"},{"$f":"IF(J349>0,J349,\"\")","v":61.852941176470587},{"$f":"IF(M337=1,L337,\"\")","v":"WON"},{"$f":"IF(L349>0,L349,\"\")","v":84.12},{"$f":"IF(O337=1,N337,\"\")","v":"WON"},{"$f":"IF(N349>0,N349,\"\")","v":61.852941176470587},{"$f":"IF(Q337=1,P337,\"\")","v":""},{"$f":"IF(P349>0,P349,\"\")","v":""},{"$f":"IF(S337=1,R337,\"\")","v":"WON"},{"$f":"IF(R349>0,R349,\"\")","v":75.107142857142861},{"$f":"IF(U337=1,T337,\"\")","v":"WON"},{"$f":"IF(T349>0,T349,\"\")","v":75.107142857142861},{"$f":"IF(W337=1,V337,\"\")","v":"LOST"},{"$f":"IF(V349>0,V349,\"\")","v":53.53846153846154},{"$f":"IF(Y337=1,X337,\"\")","v":"LOST"},{"$f":"IF(X349>0,X349,\"\")","v":74.333333333333343},{"$f":"IF(AA337=1,Z337,\"\")","v":"LOST"},{"$f":"IF(Z349>0,Z349,\"\")","v":52.38461538461538},{"$f":"IF(AC337=1,AB337,\"\")","v":"WON"},{"$f":"IF(AB349>0,AB349,\"\")","v":52.574999999999996},{"$f":"IF(AE337=1,AD337,\"\")","v":"WON"},{"$f":"IF(AD349>0,AD349,\"\")","v":67.838709677419359},{"$f":"IF(AG337=1,AF337,\"\")","v":"WON"},{"$f":"IF(AF349>0,AF349,\"\")","v":60.085714285714289},{"$f":"IF(AI337=1,AH337,\"\")","v":""},{"$f":"IF(AH349>0,AH349,\"\")","v":""},{"$f":"IF(AK337=1,AJ337,\"\")","v":"WON"},{"$f":"IF(AJ349>0,AJ349,\"\")","v":87.625},{"$f":"IF(AM337=1,AL337,\"\")","v":""},{"$f":"IF(AL349>0,AL349,\"\")","v":""},{"$f":"IF(AO337=1,AN337,\"\")","v":""},{"$f":"IF(AN349>0,AN349,\"\")","v":""},{"$f":"IF(AQ337=1,AP337,\"\")","v":""},{"$f":"IF(AP349>0,AP349,\"\")","v":""},{"$f":"IF(AS337=1,AR337,\"\")","v":""},{"$f":"IF(AR349>0,AR349,\"\")","v":""}]
[{"$f":"'ODD FELLOWS'!A5","v":"Liam Monk"},"","","","","","","","","","","","","","","","","","","","","","","","","","","","","","","","","","","","","","","","","","","",""]
[{"$f":"'ODD FELLOWS'!A6","v":"Alan Martin"},"WON",56.837837837837839,"WON",53.92307692307692,"WON",80.884615384615387,"","","WON",75.107142857142861,"WON",63.727272727272727,"WON",63.727272727272727,"","","WON",43.8125,"WON",61.852941176470587,"WON",65.71875,"WON",67.838709677419359,"LOST",68.5,"WON",70.099999999999994,"LOST",53.769230769230774,"WON",51.292682926829272,"","","WON",56.837837837837839,"","","","","","","",""]
[{"$f":"'ODD FELLOWS'!A7","v":"Tim Whiting JNR"},"WON",38.944444444444443,"LOST",52.38461538461538,"LOST",47.833333333333336,"WON",63.727272727272727,"WON",52.574999999999996,"LOST",50.555555555555557,"WON",48.906976744186039,"","","LOST",42.230769230769226,"WON",51.292682926829272,"WON",56.837837837837839,"LOST",52.38461538461538,"LOST",52.666666666666671,"WON",72.517241379310349,"LOST",62.272727272727273,"WON",52.574999999999996,"","","WON",58.416666666666664,"","","","","","","",""]
[{"$f":"'ODD FELLOWS'!A8","v":"Tim Whiting SNR"},"","","","","","","","","","","","","","","","","","","","","","","","","","","","","","","","","","","","","","","","","","","",""]
[{"$f":"'ODD FELLOWS'!A9","v":"Darren Downs"},"LOST",34.349999999999994,"","","","","WON",36.89473684210526,"LOST",38.833333333333336,"LOST",36.454545454545453,"","","","","","","WON",48.906976744186039,"","","","","LOST",38.454545454545453,"","","LOST",60.666666666666664,"","","","","LOST",43.6875,"","","","","","","",""]
[{"$f":"'ODD FELLOWS'!A10","v":"Dennis Clarkson"},"LOST",49.928571428571431,"WON",56.837837837837839,"WON",72.517241379310349,"WON",77.888888888888886,"WON",65.71875,"WON",72.517241379310349,"WON",70.099999999999994,"","","LOST",72.555555555555557,"WON",65.71875,"WON",58.416666666666664,"WON",61.852941176470587,"LOST",53.769230769230774,"WON",65.71875,"WON",50.071428571428569,"WON",70.099999999999994,"","","WON",77.888888888888886,"","","","","","","",""]
[{"$f":"'ODD FELLOWS'!A11","v":"Alex Sinclair"},"","","WON",31.863636363636363,"","","LOST",69.142857142857139,"","","","","WON",65.71875,"","","","","","","","","","","","","","","","","","","","","","","","","","","","","",""]
[{"$f":"'ODD FELLOWS'!A12","v":"Carl Bickerton"},"WON",41.235294117647058,"LOST",35.844827586206897,"LOST",46.06666666666667,"","","LOST",41.25,"LOST",46.571428571428569,"WON",48.906976744186039,"","","WON",45.717391304347828,"WON",44.744680851063826,"","","LOST",33.692307692307693,"","","LOST",44.733333333333334,"","","WON",50.071428571428569,"","","","","","","","","","","",""]
[{"$f":"'ODD FELLOWS'!A13","v":0},"","","","","","","","","","","","","","","","","","","","","","","","","","","","","","","","","","","","","","","","","","","",""]
[{"$f":"'ODD FELLOWS'!A14","v":0},"","","","","","","","","","","","","","","","","","","","","","","","","","","","","","","","","","","","","","","","","","","",""]
[]
["STANDARD A",{"$f":"IF('ODD FELLOWS'!B3=701,\"WON\",\"LOST\")","v":"LOST"},{"$f":"IF('ODD FELLOWS'!B3>0,1,0)","v":0},{"$f":"IF('ODD FELLOWS'!F3=701,\"WON\",\"LOST\")","v":"LOST"},{"$f":"IF('ODD FELLOWS'!F3>0,1,0)","v":0},{"$f":"IF('ODD FELLOWS'!J3=701,\"WON\",\"LOST\")","v":"LOST"},{"$f":"IF('ODD FELLOWS'!J3>0,1,0)","v":1},{"$f":"IF('ODD FELLOWS'!N3=701,\"WON\",\"LOST\")","v":"WON"},{"$f":"IF('ODD FELLOWS'!N3>0,1,0)","v":1},{"$f":"IF('ODD FELLOWS'!R3=701,\"WON\",\"LOST\")","v":"LOST"},{"$f":"IF('ODD FELLOWS'!R3>0,1,0)","v":0},{"$f":"IF('ODD FELLOWS'!V3=701,\"WON\",\"LOST\")","v":"LOST"},{"$f":"IF('ODD FELLOWS'!V3>0,1,0)","v":0},{"$f":"IF('ODD FELLOWS'!Z3=701,\"WON\",\"LOST\")","v":"LOST"},{"$f":"IF('ODD FELLOWS'!Z3>0,1,0)","v":0},{"$f":"IF('ODD FELLOWS'!AD3=701,\"WON\",\"LOST\")","v":"LOST"},{"$f":"IF('ODD FELLOWS'!AD3>0,1,0)","v":0},{"$f":"IF('ODD FELLOWS'!AH3=701,\"WON\",\"LOST\")","v":"LOST"},{"$f":"IF('ODD FELLOWS'!AH3>0,1,0)","v":1},{"$f":"IF('ODD FELLOWS'!AL3=701,\"WON\",\"LOST\")","v":"LOST"},{"$f":"IF('ODD FELLOWS'!AL3>0,1,0)","v":0},{"$f":"IF('ODD FELLOWS'!AP3=701,\"WON\",\"LOST\")","v":"LOST"},{"$f":"IF('ODD FELLOWS'!AP3>0,1,0)","v":1},{"$f":"IF('ODD FELLOWS'!AT3=701,\"WON\",\"LOST\")","v":"LOST"},{"$f":"IF('ODD FELLOWS'!AT3>0,1,0)","v":1},{"$f":"IF('ODD FELLOWS'!AX3=701,\"WON\",\"LOST\")","v":"LOST"},{"$f":"IF('ODD FELLOWS'!AX3>0,1,0)","v":1},{"$f":"IF('ODD FELLOWS'!BB3=701,\"WON\",\"LOST\")","v":"LOST"},{"$f":"IF('ODD FELLOWS'!BB3>0,1,0)","v":1},{"$f":"IF('ODD FELLOWS'!BF3=701,\"WON\",\"LOST\")","v":"LOST"},{"$f":"IF('ODD FELLOWS'!BF3>0,1,0)","v":1},{"$f":"IF('ODD FELLOWS'!BJ3=701,\"WON\",\"LOST\")","v":"WON"},{"$f":"IF('ODD FELLOWS'!BJ3>0,1,0)","v":1},{"$f":"IF('ODD FELLOWS'!BN3=701,\"WON\",\"LOST\")","v":"LOST"},{"$f":"IF('ODD FELLOWS'!BN3>0,1,0)","v":0},{"$f":"IF('ODD FELLOWS'!BR3=701,\"WON\",\"LOST\")","v":"LOST"},{"$f":"IF('ODD FELLOWS'!BR3>0,1,0)","v":1},{"$f":"IF('ODD FELLOWS'!BV3=701,\"WON\",\"LOST\")","v":"LOST"},{"$f":"IF('ODD FELLOWS'!BV3>0,1,0)","v":0},{"$f":"IF('ODD FELLOWS'!BZ3=701,\"WON\",\"LOST\")","v":"LOST"},{"$f":"IF('ODD FELLOWS'!BZ3>0,1,0)","v":0},{"$f":"IF('ODD FELLOWS'!CD3=701,\"WON\",\"LOST\")","v":"LOST"},{"$f":"IF('ODD FELLOWS'!CD3>0,1,0)","v":0},{"$f":"IF('ODD FELLOWS'!CH3=701,\"WON\",\"LOST\")","v":"LOST"},{"$f":"IF('ODD FELLOWS'!CH3>0,1,0)","v":0}]
[null,{"$f":"IF('ODD FELLOWS'!B4=701,\"WON\",\"LOST\")","v":"WON"},{"$f":"IF('ODD FELLOWS'!B4>0,1,0)","v":1},{"$f":"IF('ODD FELLOWS'!F4=701,\"WON\",\"LOST\")","v":"WON"},{"$f":"IF('ODD FELLOWS'!F4>0,1,0)","v":1},{"$f":"IF('ODD FELLOWS'!J4=701,\"WON\",\"LOST\")","v":"WON"},{"$f":"IF('ODD FELLOWS'!J4>0,1,0)","v":1},{"$f":"IF('ODD FELLOWS'!N4=701,\"WON\",\"LOST\")","v":"WON"},{"$f":"IF('ODD FELLOWS'!N4>0,1,0)","v":1},{"$f":"IF('ODD FELLOWS'!R4=701,\"WON\",\"LOST\")","v":"WON"},{"$f":"IF('ODD FELLOWS'!R4>0,1,0)","v":1},{"$f":"IF('ODD FELLOWS'!V4=701,\"WON\",\"LOST\")","v":"WON"},{"$f":"IF('ODD FELLOWS'!V4>0,1,0)","v":1},{"$f":"IF('ODD FELLOWS'!Z4=701,\"WON\",\"LOST\")","v":"WON"},{"$f":"IF('ODD FELLOWS'!Z4>0,1,0)","v":1},{"$f":"IF('ODD FELLOWS'!AD4=701,\"WON\",\"LOST\")","v":"LOST"},{"$f":"IF('ODD FELLOWS'!AD4>0,1,0)","v":0},{"$f":"IF('ODD FELLOWS'!AH4=701,\"WON\",\"LOST\")","v":"WON"},{"$f":"IF('ODD FELLOWS'!AH4>0,1,0)","v":1},{"$f":"IF('ODD FELLOWS'!AL4=701,\"WON\",\"LOST\")","v":"WON"},{"$f":"IF('ODD FELLOWS'!AL4>0,1,0)","v":1},{"$f":"IF('ODD FELLOWS'!AP4=701,\"WON\",\"LOST\")","v":"LOST"},{"$f":"IF('ODD FELLOWS'!AP4>0,1,0)","v":1},{"$f":"IF('ODD FELLOWS'!AT4=701,\"WON\",\"LOST\")","v":"LOST"},{"$f":"IF('ODD FELLOWS'!AT4>0,1,0)","v":1},{"$f":"IF('ODD FELLOWS'!AX4=701,\"WON\",\"LOST\")","v":"LOST"},{"$f":"IF('ODD FELLOWS'!AX4>0,1,0)","v":1},{"$f":"IF('ODD FELLOWS'!BB4=701,\"WON\",\"LOST\")","v":"WON"},{"$f":"IF('ODD FELLOWS'!BB4>0,1,0)","v":1},{"$f":"IF('ODD FELLOWS'!BF4=701,\"WON\",\"LOST\")","v":"WON"},{"$f":"IF('ODD FELLOWS'!BF4>0,1,0)","v":1},{"$f":"IF('ODD FELLOWS'!BJ4=701,\"WON\",\"LOST\")","v":"WON"},{"$f":"IF('ODD FELLOWS'!BJ4>0,1,0)","v":1},{"$f":"IF('ODD FELLOWS'!BN4=701,\"WON\",\"LOST\")","v":"LOST"},{"$f":"IF('ODD FELLOWS'!BN4>0,1,0)","v":0},{"$f":"IF('ODD FELLOWS'!BR4=701,\"WON\",\"LOST\")","v":"WON"},{"$f":"IF('ODD FELLOWS'!BR4>0,1,0)","v":1},{"$f":"IF('ODD FELLOWS'!BV4=701,\"WON\",\"LOST\")","v":"LOST"},{"$f":"IF('ODD FELLOWS'!BV4>0,1,0)","v":0},{"$f":"IF('ODD FELLOWS'!BZ4=701,\"WON\",\"LOST\")","v":"LOST"},{"$f":"IF('ODD FELLOWS'!BZ4>0,1,0)","v":0},{"$f":"IF('ODD FELLOWS'!CD4=701,\"WON\",\"LOST\")","v":"LOST"},{"$f":"IF('ODD FELLOWS'!CD4>0,1,0)","v":0},{"$f":"IF('ODD FELLOWS'!CH4=701,\"WON\",\"LOST\")","v":"LOST"},{"$f":"IF('ODD FELLOWS'!CH4>0,1,0)","v":0}]
[null,{"$f":"IF('ODD FELLOWS'!B5=701,\"WON\",\"LOST\")","v":"LOST"},{"$f":"IF('ODD FELLOWS'!B5>0,1,0)","v":0},{"$f":"IF('ODD FELLOWS'!F5=701,\"WON\",\"LOST\")","v":"LOST"},{"$f":"IF('ODD FELLOWS'!F5>0,1,0)","v":0},{"$f":"IF('ODD FELLOWS'!J5=701,\"WON\",\"LOST\")","v":"LOST"},{"$f":"IF('ODD FELLOWS'!J5>0,1,0)","v":0},{"$f":"IF('ODD FELLOWS'!N5=701,\"WON\",\"LOST\")","v":"LOST"},{"$f":"IF('ODD FELLOWS'!N5>0,1,0)","v":0},{"$f":"IF('ODD FELLOWS'!R5=701,\"WON\",\"LOST\")","v":"LOST"},{"$f":"IF('ODD FELLOWS'!R5>0,1,0)","v":0},{"$f":"IF('ODD FELLOWS'!V5=701,\"WON\",\"LOST\")","v":"LOST"},{"$f":"IF('ODD FELLOWS'!V5>0,1,0)","v":0},{"$f":"IF('ODD FELLOWS'!Z5=701,\"WON\",\"LOST\")","v":"LOST"},{"$f":"IF('ODD FELLOWS'!Z5>0,1,0)","v":0},{"$f":"IF('ODD FELLOWS'!AD5=701,\"WON\",\"LOST\")","v":"LOST"},{"$f":"IF('ODD FELLOWS'!AD5>0,1,0)","v":0},{"$f":"IF('ODD FELLOWS'!AH5=701,\"WON\",\"LOST\")","v":"LOST"},{"$f":"IF('ODD FELLOWS'!AH5>0,1,0)","v":0},{"$f":"IF('ODD FELLOWS'!AL5=701,\"WON\",\"LOST\")","v":"LOST"},{"$f":"IF('ODD FELLOWS'!AL5>0,1,0)","v":0},{"$f":"IF('ODD FELLOWS'!AP5=701,\"WON\",\"LOST\")","v":"LOST"},{"$f":"IF('ODD FELLOWS'!AP5>0,1,0)","v":0},{"$f":"IF('ODD FELLOWS'!AT5=701,\"WON\",\"LOST\")","v":"LOST"},{"$f":"IF('ODD FELLOWS'!AT5>0,1,0)","v":0},{"$f":"IF('ODD FELLOWS'!AX5=701,\"WON\",\"LOST\")","v":"LOST"},{"$f":"IF('ODD FELLOWS'!AX5>0,1,0)","v":0},{"$f":"IF('ODD FELLOWS'!BB5=701,\"WON\",\"LOST\")","v":"LOST"},{"$f":"IF('ODD FELLOWS'!BB5>0,1,0)","v":0},{"$f":"IF('ODD FELLOWS'!BF5=701,\"WON\",\"LOST\")","v":"LOST"},{"$f":"IF('ODD FELLOWS'!BF5>0,1,0)","v":0},{"$f":"IF('ODD FELLOWS'!BJ5=701,\"WON\",\"LOST\")","v":"LOST"},{"$f":"IF('ODD FELLOWS'!BJ5>0,1,0)","v":0},{"$f":"IF('ODD FELLOWS'!BN5=701,\"WON\",\"LOST\")","v":"LOST"},{"$f":"IF('ODD FELLOWS'!BN5>0,1,0)","v":0},{"$f":"IF('ODD FELLOWS'!BR5=701,\"WON\",\"LOST\")","v":"LOST"},{"$f":"IF('ODD FELLOWS'!BR5>0,1,0)","v":0},{"$f":"IF('ODD FELLOWS'!BV5=701,\"WON\",\"LOST\")","v":"LOST"},{"$f":"IF('ODD FELLOWS'!BV5>0,1,0)","v":0},{"$f":"IF('ODD FELLOWS'!BZ5=701,\"WON\",\"LOST\")","v":"LOST"},{"$f":"IF('ODD FELLOWS'!BZ5>0,1,0)","v":0},{"$f":"IF('ODD FELLOWS'!CD5=701,\"WON\",\"LOST\")","v":"LOST"},{"$f":"IF('ODD FELLOWS'!CD5>0,1,0)","v":0},{"$f":"IF('ODD FELLOWS'!CH5=701,\"WON\",\"LOST\")","v":"LOST"},{"$f":"IF('ODD FELLOWS'!CH5>0,1,0)","v":0}]
[null,{"$f":"IF('ODD FELLOWS'!B6=701,\"WON\",\"LOST\")","v":"WON"},{"$f":"IF('ODD FELLOWS'!B6>0,1,0)","v":1},{"$f":"IF('ODD FELLOWS'!F6=701,\"WON\",\"LOST\")","v":"WON"},{"$f":"IF('ODD FELLOWS'!F6>0,1,0)","v":1},{"$f":"IF('ODD FELLOWS'!J6=701,\"WON\",\"LOST\")","v":"WON"},{"$f":"IF('ODD FELLOWS'!J6>0,1,0)","v":1},{"$f":"IF('ODD FELLOWS'!N6=701,\"WON\",\"LOST\")","v":"LOST"},{"$f":"IF('ODD FELLOWS'!N6>0,1,0)","v":0},{"$f":"IF('ODD FELLOWS'!R6=701,\"WON\",\"LOST\")","v":"WON"},{"$f":"IF('ODD FELLOWS'!R6>0,1,0)","v":1},{"$f":"IF('ODD FELLOWS'!V6=701,\"WON\",\"LOST\")","v":"WON"},{"$f":"IF('ODD FELLOWS'!V6>0,1,0)","v":1},{"$f":"IF('ODD FELLOWS'!Z6=701,\"WON\",\"LOST\")","v":"WON"},{"$f":"IF('ODD FELLOWS'!Z6>0,1,0)","v":1},{"$f":"IF('ODD FELLOWS'!AD6=701,\"WON\",\"LOST\")","v":"LOST"},{"$f":"IF('ODD FELLOWS'!AD6>0,1,0)","v":0},{"$f":"IF('ODD FELLOWS'!AH6=701,\"WON\",\"LOST\")","v":"WON"},{"$f":"IF('ODD FELLOWS'!AH6>0,1,0)","v":1},{"$f":"IF('ODD FELLOWS'!AL6=701,\"WON\",\"LOST\")","v":"WON"},{"$f":"IF('ODD FELLOWS'!AL6>0,1,0)","v":1},{"$f":"IF('ODD FELLOWS'!AP6=701,\"WON\",\"LOST\")","v":"WON"},{"$f":"IF('ODD FELLOWS'!AP6>0,1,0)","v":1},{"$f":"IF('ODD FELLOWS'!AT6=701,\"WON\",\"LOST\")","v":"WON"},{"$f":"IF('ODD FELLOWS'!AT6>0,1,0)","v":1},{"$f":"IF('ODD FELLOWS'!AX6=701,\"WON\",\"LOST\")","v":"LOST"},{"$f":"IF('ODD FELLOWS'!AX6>0,1,0)","v":1},{"$f":"IF('ODD FELLOWS'!BB6=701,\"WON\",\"LOST\")","v":"WON"},{"$f":"IF('ODD FELLOWS'!BB6>0,1,0)","v":1},{"$f":"IF('ODD FELLOWS'!BF6=701,\"WON\",\"LOST\")","v":"LOST"},{"$f":"IF('ODD FELLOWS'!BF6>0,1,0)","v":1},{"$f":"IF('ODD FELLOWS'!BJ6=701,\"WON\",\"LOST\")","v":"WON"},{"$f":"IF('ODD FELLOWS'!BJ6>0,1,0)","v":1},{"$f":"IF('ODD FELLOWS'!BN6=701,\"WON\",\"LOST\")","v":"LOST"},{"$f":"IF('ODD FELLOWS'!BN6>0,1,0)","v":0},{"$f":"IF('ODD FELLOWS'!BR6=701,\"WON\",\"LOST\")","v":"WON"},{"$f":"IF('ODD FELLOWS'!BR6>0,1,0)","v":1},{"$f":"IF('ODD FELLOWS'!BV6=701,\"WON\",\"LOST\")","v":"LOST"},{"$f":"IF('ODD FELLOWS'!BV6>0,1,0)","v":0},{"$f":"IF('ODD FELLOWS'!BZ6=701,\"WON\",\"LOST\")","v":"LOST"},{"$f":"IF('ODD FELLOWS'!BZ6>0,1,0)","v":0},{"$f":"IF('ODD FELLOWS'!CD6=701,\"WON\",\"LOST\")","v":"LOST"},{"$f":"IF('ODD FELLOWS'!CD6>0,1,0)","v":0},{"$f":"IF('ODD FELLOWS'!CH6=701,\"WON\",\"LOST\")","v":"LOST"},{"$f":"IF('ODD FELLOWS'!CH6>0,1,0)","v":0}]
[null,{"$f":"IF('ODD FELLOWS'!B7=701,\"WON\",\"LOST\")","v":"WON"},{"$f":"IF('ODD FELLOWS'!B7>0,1,0)","v":1},{"$f":"IF('ODD FELLOWS'!F7=701,\"WON\",\"LOST\")","v":"LOST"},{"$f":"IF('ODD FELLOWS'!F7>0,1,0)","v":1},{"$f":"IF('ODD FELLOWS'!J7=701,\"WON\",\"LOST\")","v":"LOST"},{"$f":"IF('ODD FELLOWS'!J7>0,1,0)","v":1},{"$f":"IF('ODD FELLOWS'!N7=701,\"WON\",\"LOST\")","v":"WON"},{"$f":"IF('ODD FELLOWS'!N7>0,1,0)","v":1},{"$f":"IF('ODD FELLOWS'!R7=701,\"WON\",\"LOST\")","v":"WON"},{"$f":"IF('ODD FELLOWS'!R7>0,1,0)","v":1},{"$f":"IF('ODD FELLOWS'!V7=701,\"WON\",\"LOST\")","v":"LOST"},{"$f":"IF('ODD FELLOWS'!V7>0,1,0)","v":1},{"$f":"IF('ODD FELLOWS'!Z7=701,\"WON\",\"LOST\")","v":"WON"},{"$f":"IF('ODD FELLOWS'!Z7>0,1,0)","v":1},{"$f":"IF('ODD FELLOWS'!AD7=701,\"WON\",\"LOST\")","v":"LOST"},{"$f":"IF('ODD FELLOWS'!AD7>0,1,0)","v":0},{"$f":"IF('ODD FELLOWS'!AH7=701,\"WON\",\"LOST\")","v":"LOST"},{"$f":"IF('ODD FELLOWS'!AH7>0,1,0)","v":1},{"$f":"IF('ODD FELLOWS'!AL7=701,\"WON\",\"LOST\")","v":"WON"},{"$f":"IF('ODD FELLOWS'!AL7>0,1,0)","v":1},{"$f":"IF('ODD FELLOWS'!AP7=701,\"WON\",\"LOST\")","v":"WON"},{"$f":"IF('ODD FELLOWS'!AP7>0,1,0)","v":1},{"$f":"IF('ODD FELLOWS'!AT7=701,\"WON\",\"LOST\")","v":"LOST"},{"$f":"IF('ODD FELLOWS'!AT7>0,1,0)","v":1},{"$f":"IF('ODD FELLOWS'!AX7=701,\"WON\",\"LOST\")","v":"LOST"},{"$f":"IF('ODD FELLOWS'!AX7>0,1,0)","v":1},{"$f":"IF('ODD FELLOWS'!BB7=701,\"WON\",\"LOST\")","v":"WON"},{"$f":"IF('ODD FELLOWS'!BB7>0,1,0)","v":1},{"$f":"IF('ODD FELLOWS'!BF7=701,\"WON\",\"LOST\")","v":"LOST"},{"$f":"IF('ODD FELLOWS'!BF7>0,1,0)","v":1},{"$f":"IF('ODD FELLOWS'!BJ7=701,\"WON\",\"LOST\")","v":"WON"},{"$f":"IF('ODD FELLOWS'!BJ7>0,1,0)","v":1},{"$f":"IF('ODD FELLOWS'!BN7=701,\"WON\",\"LOST\")","v":"LOST"},{"$f":"IF('ODD FELLOWS'!BN7>0,1,0)","v":0},{"$f":"IF('ODD FELLOWS'!BR7=701,\"WON\",\"LOST\")","v":"WON"},{"$f":"IF('ODD FELLOWS'!BR7>0,1,0)","v":1},{"$f":"IF('ODD FELLOWS'!BV7=701,\"WON\",\"LOST\")","v":"LOST"},{"$f":"IF('ODD FELLOWS'!BV7>0,1,0)","v":0},{"$f":"IF('ODD FELLOWS'!BZ7=701,\"WON\",\"LOST\")","v":"LOST"},{"$f":"IF('ODD FELLOWS'!BZ7>0,1,0)","v":0},{"$f":"IF('ODD FELLOWS'!CD7=701,\"WON\",\"LOST\")","v":"LOST"},{"$f":"IF('ODD FELLOWS'!CD7>0,1,0)","v":0},{"$f":"IF('ODD FELLOWS'!CH7=701,\"WON\",\"LOST\")","v":"LOST"},{"$f":"IF('ODD FELLOWS'!CH7>0,1,0)","v":0}]
[null,{"$f":"IF('ODD FELLOWS'!B8=701,\"WON\",\"LOST\")","v":"LOST"},{"$f":"IF('ODD FELLOWS'!B8>0,1,0)","v":0},{"$f":"IF('ODD FELLOWS'!F8=701,\"WON\",\"LOST\")","v":"LOST"},{"$f":"IF('ODD FELLOWS'!F8>0,1,0)","v":0},{"$f":"IF('ODD FELLOWS'!J8=701,\"WON\",\"LOST\")","v":"LOST"},{"$f":"IF('ODD FELLOWS'!J8>0,1,0)","v":0},{"$f":"IF('ODD FELLOWS'!N8=701,\"WON\",\"LOST\")","v":"LOST"},{"$f":"IF('ODD FELLOWS'!N8>0,1,0)","v":0},{"$f":"IF('ODD FELLOWS'!R8=701,\"WON\",\"LOST\")","v":"LOST"},{"$f":"IF('ODD FELLOWS'!R8>0,1,0)","v":0},{"$f":"IF('ODD FELLOWS'!V8=701,\"WON\",\"LOST\")","v":"LOST"},{"$f":"IF('ODD FELLOWS'!V8>0,1,0)","v":0},{"$f":"IF('ODD FELLOWS'!Z8=701,\"WON\",\"LOST\")","v":"LOST"},{"$f":"IF('ODD FELLOWS'!Z8>0,1,0)","v":0},{"$f":"IF('ODD FELLOWS'!AD8=701,\"WON\",\"LOST\")","v":"LOST"},{"$f":"IF('ODD FELLOWS'!AD8>0,1,0)","v":0},{"$f":"IF('ODD FELLOWS'!AH8=701,\"WON\",\"LOST\")","v":"LOST"},{"$f":"IF('ODD FELLOWS'!AH8>0,1,0)","v":0},{"$f":"IF('ODD FELLOWS'!AL8=701,\"WON\",\"LOST\")","v":"LOST"},{"$f":"IF('ODD FELLOWS'!AL8>0,1,0)","v":0},{"$f":"IF('ODD FELLOWS'!AP8=701,\"WON\",\"LOST\")","v":"LOST"},{"$f":"IF('ODD FELLOWS'!AP8>0,1,0)","v":0},{"$f":"IF('ODD FELLOWS'!AT8=701,\"WON\",\"LOST\")","v":"LOST"},{"$f":"IF('ODD FELLOWS'!AT8>0,1,0)","v":0},{"$f":"IF('ODD FELLOWS'!AX8=701,\"WON\",\"LOST\")","v":"LOST"},{"$f":"IF('ODD FELLOWS'!AX8>0,1,0)","v":0},{"$f":"IF('ODD FELLOWS'!BB8=701,\"WON\",\"LOST\")","v":"LOST"},{"$f":"IF('ODD FELLOWS'!BB8>0,1,0)","v":0},{"$f":"IF('ODD FELLOWS'!BF8=701,\"WON\",\"LOST\")","v":"LOST"},{"$f":"IF('ODD FELLOWS'!BF8>0,1,0)","v":0},{"$f":"IF('ODD FELLOWS'!BJ8=701,\"WON\",\"LOST\")","v":"LOST"},{"$f":"IF('ODD FELLOWS'!BJ8>0,1,0)","v":0},{"$f":"IF('ODD FELLOWS'!BN8=701,\"WON\",\"LOST\")","v":"LOST"},{"$f":"IF('ODD FELLOWS'!BN8>0,1,0)","v":0},{"$f":"IF('ODD FELLOWS'!BR8=701,\"WON\",\"LOST\")","v":"LOST"},{"$f":"IF('ODD FELLOWS'!BR8>0,1,0)","v":0},{"$f":"IF('ODD FELLOWS'!BV8=701,\"WON\",\"LOST\")","v":"LOST"},{"$f":"IF('ODD FELLOWS'!BV8>0,1,0)","v":0},{"$f":"IF('ODD FELLOWS'!BZ8=701,\"WON\",\"LOST\")","v":"LOST"},{"$f":"IF('ODD FELLOWS'!BZ8>0,1,0)","v":0},{"$f":"IF('ODD FELLOWS'!CD8=701,\"WON\",\"LOST\")","v":"LOST"},{"$f":"IF('ODD FELLOWS'!CD8>0,1,0)","v":0},{"$f":"IF('ODD FELLOWS'!CH8=701,\"WON\",\"LOST\")","v":"LOST"},{"$f":"IF('ODD FELLOWS'!CH8>0,1,0)","v":0}]
[null,{"$f":"IF('ODD FELLOWS'!B9=701,\"WON\",\"LOST\")","v":"LOST"},{"$f":"IF('ODD FELLOWS'!B9>0,1,0)","v":1},{"$f":"IF('ODD FELLOWS'!F9=701,\"WON\",\"LOST\")","v":"LOST"},{"$f":"IF('ODD FELLOWS'!F9>0,1,0)","v":0},{"$f":"IF('ODD FELLOWS'!J9=701,\"WON\",\"LOST\")","v":"LOST"},{"$f":"IF('ODD FELLOWS'!J9>0,1,0)","v":0},{"$f":"IF('ODD FELLOWS'!N9=701,\"WON\",\"LOST\")","v":"WON"},{"$f":"IF('ODD FELLOWS'!N9>0,1,0)","v":1},{"$f":"IF('ODD FELLOWS'!R9=701,\"WON\",\"LOST\")","v":"LOST"},{"$f":"IF('ODD FELLOWS'!R9>0,1,0)","v":1},{"$f":"IF('ODD FELLOWS'!V9=701,\"WON\",\"LOST\")","v":"LOST"},{"$f":"IF('ODD FELLOWS'!V9>0,1,0)","v":1},{"$f":"IF('ODD FELLOWS'!Z9=701,\"WON\",\"LOST\")","v":"LOST"},{"$f":"IF('ODD FELLOWS'!Z9>0,1,0)","v":0},{"$f":"IF('ODD FELLOWS'!AD9=701,\"WON\",\"LOST\")","v":"LOST"},{"$f":"IF('ODD FELLOWS'!AD9>0,1,0)","v":0},{"$f":"IF('ODD FELLOWS'!AH9=701,\"WON\",\"LOST\")","v":"LOST"},{"$f":"IF('ODD FELLOWS'!AH9>0,1,0)","v":0},{"$f":"IF('ODD FELLOWS'!AL9=701,\"WON\",\"LOST\")","v":"WON"},{"$f":"IF('ODD FELLOWS'!AL9>0,1,0)","v":1},{"$f":"IF('ODD FELLOWS'!AP9=701,\"WON\",\"LOST\")","v":"LOST"},{"$f":"IF('ODD FELLOWS'!AP9>0,1,0)","v":0},{"$f":"IF('ODD FELLOWS'!AT9=701,\"WON\",\"LOST\")","v":"LOST"},{"$f":"IF('ODD FELLOWS'!AT9>0,1,0)","v":0},{"$f":"IF('ODD FELLOWS'!AX9=701,\"WON\",\"LOST\")","v":"LOST"},{"$f":"IF('ODD FELLOWS'!AX9>0,1,0)","v":1},{"$f":"IF('ODD FELLOWS'!BB9=701,\"WON\",\"LOST\")","v":"LOST"},{"$f":"IF('ODD FELLOWS'!BB9>0,1,0)","v":0},{"$f":"IF('ODD FELLOWS'!BF9=701,\"WON\",\"LOST\")","v":"LOST"},{"$f":"IF('ODD FELLOWS'!BF9>0,1,0)","v":1},{"$f":"IF('ODD FELLOWS'!BJ9=701,\"WON\",\"LOST\")","v":"LOST"},{"$f":"IF('ODD FELLOWS'!BJ9>0,1,0)","v":0},{"$f":"IF('ODD FELLOWS'!BN9=701,\"WON\",\"LOST\")","v":"LOST"},{"$f":"IF('ODD FELLOWS'!BN9>0,1,0)","v":0},{"$f":"IF('ODD FELLOWS'!BR9=701,\"WON\",\"LOST\")","v":"LOST"},{"$f":"IF('ODD FELLOWS'!BR9>0,1,0)","v":1},{"$f":"IF('ODD FELLOWS'!BV9=701,\"WON\",\"LOST\")","v":"LOST"},{"$f":"IF('ODD FELLOWS'!BV9>0,1,0)","v":0},{"$f":"IF('ODD FELLOWS'!BZ9=701,\"WON\",\"LOST\")","v":"LOST"},{"$f":"IF('ODD FELLOWS'!BZ9>0,1,0)","v":0},{"$f":"IF('ODD FELLOWS'!CD9=701,\"WON\",\"LOST\")","v":"LOST"},{"$f":"IF('ODD FELLOWS'!CD9>0,1,0)","v":0},{"$f":"IF('ODD FELLOWS'!CH9=701,\"WON\",\"LOST\")","v":"LOST"},{"$f":"IF('ODD FELLOWS'!CH9>0,1,0)","v":0}]
[null,{"$f":"IF('ODD FELLOWS'!B10=701,\"WON\",\"LOST\")","v":"LOST"},{"$f":"IF('ODD FELLOWS'!B10>0,1,0)","v":1},{"$f":"IF('ODD FELLOWS'!F10=701,\"WON\",\"LOST\")","v":"WON"},{"$f":"IF('ODD FELLOWS'!F10>0,1,0)","v":1},{"$f":"IF('ODD FELLOWS'!J10=701,\"WON\",\"LOST\")","v":"WON"},{"$f":"IF('ODD FELLOWS'!J10>0,1,0)","v":1},{"$f":"IF('ODD FELLOWS'!N10=701,\"WON\",\"LOST\")","v":"WON"},{"$f":"IF('ODD FELLOWS'!N10>0,1,0)","v":1},{"$f":"IF('ODD FELLOWS'!R10=701,\"WON\",\"LOST\")","v":"WON"},{"$f":"IF('ODD FELLOWS'!R10>0,1,0)","v":1},{"$f":"IF('ODD FELLOWS'!V10=701,\"WON\",\"LOST\")","v":"WON"},{"$f":"IF('ODD FELLOWS'!V10>0,1,0)","v":1},{"$f":"IF('ODD FELLOWS'!Z10=701,\"WON\",\"LOST\")","v":"WON"},{"$f":"IF('ODD FELLOWS'!Z10>0,1,0)","v":1},{"$f":"IF('ODD FELLOWS'!AD10=701,\"WON\",\"LOST\")","v":"LOST"},{"$f":"IF('ODD FELLOWS'!AD10>0,1,0)","v":0},{"$f":"IF('ODD FELLOWS'!AH10=701,\"WON\",\"LOST\")","v":"LOST"},{"$f":"IF('ODD FELLOWS'!AH10>0,1,0)","v":1},{"$f":"IF('ODD FELLOWS'!AL10=701,\"WON\",\"LOST\")","v":"WON"},{"$f":"IF('ODD FELLOWS'!AL10>0,1,0)","v":1},{"$f":"IF('ODD FELLOWS'!AP10=701,\"WON\",\"LOST\")","v":"WON"},{"$f":"IF('ODD FELLOWS'!AP10>0,1,0)","v":1},{"$f":"IF('ODD FELLOWS'!AT10=701,\"WON\",\"LOST\")","v":"WON"},{"$f":"IF('ODD FELLOWS'!AT10>0,1,0)","v":1},{"$f":"IF('ODD FELLOWS'!AX10=701,\"WON\",\"LOST\")","v":"LOST"},{"$f":"IF('ODD FELLOWS'!AX10>0,1,0)","v":1},{"$f":"IF('ODD FELLOWS'!BB10=701,\"WON\",\"LOST\")","v":"WON"},{"$f":"IF('ODD FELLOWS'!BB10>0,1,0)","v":1},{"$f":"IF('ODD FELLOWS'!BF10=701,\"WON\",\"LOST\")","v":"WON"},{"$f":"IF('ODD FELLOWS'!BF10>0,1,0)","v":1},{"$f":"IF('ODD FELLOWS'!BJ10=701,\"WON\",\"LOST\")","v":"WON"},{"$f":"IF('ODD FELLOWS'!BJ10>0,1,0)","v":1},{"$f":"IF('ODD FELLOWS'!BN10=701,\"WON\",\"LOST\")","v":"LOST"},{"$f":"IF('ODD FELLOWS'!BN10>0,1,0)","v":0},{"$f":"IF('ODD FELLOWS'!BR10=701,\"WON\",\"LOST\")","v":"WON"},{"$f":"IF('ODD FELLOWS'!BR10>0,1,0)","v":1},{"$f":"IF('ODD FELLOWS'!BV10=701,\"WON\",\"LOST\")","v":"LOST"},{"$f":"IF('ODD FELLOWS'!BV10>0,1,0)","v":0},{"$f":"IF('ODD FELLOWS'!BZ10=701,\"WON\",\"LOST\")","v":"LOST"},{"$f":"IF('ODD FELLOWS'!BZ10>0,1,0)","v":0},{"$f":"IF('ODD FELLOWS'!CD10=701,\"WON\",\"LOST\")","v":"LOST"},{"$f":"IF('ODD FELLOWS'!CD10>0,1,0)","v":0},{"$f":"IF('ODD FELLOWS'!CH10=701,\"WON\",\"LOST\")","v":"LOST"},{"$f":"IF('ODD FELLOWS'!CH10>0,1,0)","v":0}]
[null,{"$f":"IF('ODD FELLOWS'!B11=701,\"WON\",\"LOST\")","v":"LOST"},{"$f":"IF('ODD FELLOWS'!B11>0,1,0)","v":0},{"$f":"IF('ODD FELLOWS'!F11=701,\"WON\",\"LOST\")","v":"WON"},{"$f":"IF('ODD FELLOWS'!F11>0,1,0)","v":1},{"$f":"IF('ODD FELLOWS'!J11=701,\"WON\",\"LOST\")","v":"LOST"},{"$f":"IF('ODD FELLOWS'!J11>0,1,0)","v":0},{"$f":"IF('ODD FELLOWS'!N11=701,\"WON\",\"LOST\")","v":"LOST"},{"$f":"IF('ODD FELLOWS'!N11>0,1,0)","v":1},{"$f":"IF('ODD FELLOWS'!R11=701,\"WON\",\"LOST\")","v":"LOST"},{"$f":"IF('ODD FELLOWS'!R11>0,1,0)","v":0},{"$f":"IF('ODD FELLOWS'!V11=701,\"WON\",\"LOST\")","v":"LOST"},{"$f":"IF('ODD FELLOWS'!V11>0,1,0)","v":0},{"$f":"IF('ODD FELLOWS'!Z11=701,\"WON\",\"LOST\")","v":"WON"},{"$f":"IF('ODD FELLOWS'!Z11>0,1,0)","v":1},{"$f":"IF('ODD FELLOWS'!AD11=701,\"WON\",\"LOST\")","v":"LOST"},{"$f":"IF('ODD FELLOWS'!AD11>0,1,0)","v":0},{"$f":"IF('ODD FELLOWS'!AH11=701,\"WON\",\"LOST\")","v":"LOST"},{"$f":"IF('ODD FELLOWS'!AH11>0,1,0)","v":0},{"$f":"IF('ODD FELLOWS'!AL11=701,\"WON\",\"LOST\")","v":"LOST"},{"$f":"IF('ODD FELLOWS'!AL11>0,1,0)","v":0},{"$f":"IF('ODD FELLOWS'!AP11=701,\"WON\",\"LOST\")","v":"LOST"},{"$f":"IF('ODD FELLOWS'!AP11>0,1,0)","v":0},{"$f":"IF('ODD FELLOWS'!AT11=701,\"WON\",\"LOST\")","v":"LOST"},{"$f":"IF('ODD FELLOWS'!AT11>0,1,0)","v":0},{"$f":"IF('ODD FELLOWS'!AX11=701,\"WON\",\"LOST\")","v":"LOST"},{"$f":"IF('ODD FELLOWS'!AX11>0,1,0)","v":0},{"$f":"IF('ODD FELLOWS'!BB11=701,\"WON\",\"LOST\")","v":"LOST"},{"$f":"IF('ODD FELLOWS'!BB11>0,1,0)","v":0},{"$f":"IF('ODD FELLOWS'!BF11=701,\"WON\",\"LOST\")","v":"LOST"},{"$f":"IF('ODD FELLOWS'!BF11>0,1,0)","v":0},{"$f":"IF('ODD FELLOWS'!BJ11=701,\"WON\",\"LOST\")","v":"LOST"},{"$f":"IF('ODD FELLOWS'!BJ11>0,1,0)","v":0},{"$f":"IF('ODD FELLOWS'!BN11=701,\"WON\",\"LOST\")","v":"LOST"},{"$f":"IF('ODD FELLOWS'!BN11>0,1,0)","v":0},{"$f":"IF('ODD FELLOWS'!BR11=701,\"WON\",\"LOST\")","v":"LOST"},{"$f":"IF('ODD FELLOWS'!BR11>0,1,0)","v":0},{"$f":"IF('ODD FELLOWS'!BV11=701,\"WON\",\"LOST\")","v":"LOST"},{"$f":"IF('ODD FELLOWS'!BV11>0,1,0)","v":0},{"$f":"IF('ODD FELLOWS'!BZ11=701,\"WON\",\"LOST\")","v":"LOST"},{"$f":"IF('ODD FELLOWS'!BZ11>0,1,0)","v":0},{"$f":"IF('ODD FELLOWS'!CD11=701,\"WON\",\"LOST\")","v":"LOST"},{"$f":"IF('ODD FELLOWS'!CD11>0,1,0)","v":0},{"$f":"IF('ODD FELLOWS'!CH11=701,\"WON\",\"LOST\")","v":"LOST"},{"$f":"IF('ODD FELLOWS'!CH11>0,1,0)","v":0}]
[null,{"$f":"IF('ODD FELLOWS'!B12=701,\"WON\",\"LOST\")","v":"WON"},{"$f":"IF('ODD FELLOWS'!B12>0,1,0)","v":1},{"$f":"IF('ODD FELLOWS'!F12=701,\"WON\",\"LOST\")","v":"LOST"},{"$f":"IF('ODD FELLOWS'!F12>0,1,0)","v":1},{"$f":"IF('ODD FELLOWS'!J12=701,\"WON\",\"LOST\")","v":"LOST"},{"$f":"IF('ODD FELLOWS'!J12>0,1,0)","v":1},{"$f":"IF('ODD FELLOWS'!N12=701,\"WON\",\"LOST\")","v":"LOST"},{"$f":"IF('ODD FELLOWS'!N12>0,1,0)","v":0},{"$f":"IF('ODD FELLOWS'!R12=701,\"WON\",\"LOST\")","v":"LOST"},{"$f":"IF('ODD FELLOWS'!R12>0,1,0)","v":1},{"$f":"IF('ODD FELLOWS'!V12=701,\"WON\",\"LOST\")","v":"LOST"},{"$f":"IF('ODD FELLOWS'!V12>0,1,0)","v":1},{"$f":"IF('ODD FELLOWS'!Z12=701,\"WON\",\"LOST\")","v":"WON"},{"$f":"IF('ODD FELLOWS'!Z12>0,1,0)","v":1},{"$f":"IF('ODD FELLOWS'!AD12=701,\"WON\",\"LOST\")","v":"LOST"},{"$f":"IF('ODD FELLOWS'!AD12>0,1,0)","v":0},{"$f":"IF('ODD FELLOWS'!AH12=701,\"WON\",\"LOST\")","v":"WON"},{"$f":"IF('ODD FELLOWS'!AH12>0,1,0)","v":1},{"$f":"IF('ODD FELLOWS'!AL12=701,\"WON\",\"LOST\")","v":"WON"},{"$f":"IF('ODD FELLOWS'!AL12>0,1,0)","v":1},{"$f":"IF('ODD FELLOWS'!AP12=701,\"WON\",\"LOST\")","v":"LOST"},{"$f":"IF('ODD FELLOWS'!AP12>0,1,0)","v":0},{"$f":"IF('ODD FELLOWS'!AT12=701,\"WON\",\"LOST\")","v":"LOST"},{"$f":"IF('ODD FELLOWS'!AT12>0,1,0)","v":1},{"$f":"IF('ODD FELLOWS'!AX12=701,\"WON\",\"LOST\")","v":"LOST"},{"$f":"IF('ODD FELLOWS'!AX12>0,1,0)","v":0},{"$f":"IF('ODD FELLOWS'!BB12=701,\"WON\",\"LOST\")","v":"LOST"},{"$f":"IF('ODD FELLOWS'!BB12>0,1,0)","v":1},{"$f":"IF('ODD FELLOWS'!BF12=701,\"WON\",\"LOST\")","v":"LOST"},{"$f":"IF('ODD FELLOWS'!BF12>0,1,0)","v":0},{"$f":"IF('ODD FELLOWS'!BJ12=701,\"WON\",\"LOST\")","v":"WON"},{"$f":"IF('ODD FELLOWS'!BJ12>0,1,0)","v":1},{"$f":"IF('ODD FELLOWS'!BN12=701,\"WON\",\"LOST\")","v":"LOST"},{"$f":"IF('ODD FELLOWS'!BN12>0,1,0)","v":0},{"$f":"IF('ODD FELLOWS'!BR12=701,\"WON\",\"LOST\")","v":"LOST"},{"$f":"IF('ODD FELLOWS'!BR12>0,1,0)","v":0},{"$f":"IF('ODD FELLOWS'!BV12=701,\"WON\",\"LOST\")","v":"LOST"},{"$f":"IF('ODD FELLOWS'!BV12>0,1,0)","v":0},{"$f":"IF('ODD FELLOWS'!BZ12=701,\"WON\",\"LOST\")","v":"LOST"},{"$f":"IF('ODD FELLOWS'!BZ12>0,1,0)","v":0},{"$f":"IF('ODD FELLOWS'!CD12=701,\"WON\",\"LOST\")","v":"LOST"},{"$f":"IF('ODD FELLOWS'!CD12>0,1,0)","v":0},{"$f":"IF('ODD FELLOWS'!CH12=701,\"WON\",\"LOST\")","v":"LOST"},{"$f":"IF('ODD FELLOWS'!CH12>0,1,0)","v":0}]
[null,{"$f":"IF('ODD FELLOWS'!B13=701,\"WON\",\"LOST\")","v":"LOST"},{"$f":"IF('ODD FELLOWS'!B13>0,1,0)","v":0},{"$f":"IF('ODD FELLOWS'!F13=701,\"WON\",\"LOST\")","v":"LOST"},{"$f":"IF('ODD FELLOWS'!F13>0,1,0)","v":0},{"$f":"IF('ODD FELLOWS'!J13=701,\"WON\",\"LOST\")","v":"LOST"},{"$f":"IF('ODD FELLOWS'!J13>0,1,0)","v":0},{"$f":"IF('ODD FELLOWS'!N13=701,\"WON\",\"LOST\")","v":"LOST"},{"$f":"IF('ODD FELLOWS'!N13>0,1,0)","v":0},{"$f":"IF('ODD FELLOWS'!R13=701,\"WON\",\"LOST\")","v":"LOST"},{"$f":"IF('ODD FELLOWS'!R13>0,1,0)","v":0},{"$f":"IF('ODD FELLOWS'!V13=701,\"WON\",\"LOST\")","v":"LOST"},{"$f":"IF('ODD FELLOWS'!V13>0,1,0)","v":0},{"$f":"IF('ODD FELLOWS'!Z13=701,\"WON\",\"LOST\")","v":"LOST"},{"$f":"IF('ODD FELLOWS'!Z13>0,1,0)","v":0},{"$f":"IF('ODD FELLOWS'!AD13=701,\"WON\",\"LOST\")","v":"LOST"},{"$f":"IF('ODD FELLOWS'!AD13>0,1,0)","v":0},{"$f":"IF('ODD FELLOWS'!AH13=701,\"WON\",\"LOST\")","v":"LOST"},{"$f":"IF('ODD FELLOWS'!AH13>0,1,0)","v":0},{"$f":"IF('ODD FELLOWS'!AL13=701,\"WON\",\"LOST\")","v":"LOST"},{"$f":"IF('ODD FELLOWS'!AL13>0,1,0)","v":0},{"$f":"IF('ODD FELLOWS'!AP13=701,\"WON\",\"LOST\")","v":"LOST"},{"$f":"IF('ODD FELLOWS'!AP13>0,1,0)","v":0},{"$f":"IF('ODD FELLOWS'!AT13=701,\"WON\",\"LOST\")","v":"LOST"},{"$f":"IF('ODD FELLOWS'!AT13>0,1,0)","v":0},{"$f":"IF('ODD FELLOWS'!AX13=701,\"WON\",\"LOST\")","v":"LOST"},{"$f":"IF('ODD FELLOWS'!AX13>0,1,0)","v":0},{"$f":"IF('ODD FELLOWS'!BB13=701,\"WON\",\"LOST\")","v":"LOST"},{"$f":"IF('ODD FELLOWS'!BB13>0,1,0)","v":0},{"$f":"IF('ODD FELLOWS'!BF13=701,\"WON\",\"LOST\")","v":"LOST"},{"$f":"IF('ODD FELLOWS'!BF13>0,1,0)","v":0},{"$f":"IF('ODD FELLOWS'!BJ13=701,\"WON\",\"LOST\")","v":"LOST"},{"$f":"IF('ODD FELLOWS'!BJ13>0,1,0)","v":0},{"$f":"IF('ODD FELLOWS'!BN13=701,\"WON\",\"LOST\")","v":"LOST"},{"$f":"IF('ODD FELLOWS'!BN13>0,1,0)","v":0},{"$f":"IF('ODD FELLOWS'!BR13=701,\"WON\",\"LOST\")","v":"LOST"},{"$f":"IF('ODD FELLOWS'!BR13>0,1,0)","v":0},{"$f":"IF('ODD FELLOWS'!BV13=701,\"WON\",\"LOST\")","v":"LOST"},{"$f":"IF('ODD FELLOWS'!BV13>0,1,0)","v":0},{"$f":"IF('ODD FELLOWS'!BZ13=701,\"WON\",\"LOST\")","v":"LOST"},{"$f":"IF('ODD FELLOWS'!BZ13>0,1,0)","v":0},{"$f":"IF('ODD FELLOWS'!CD13=701,\"WON\",\"LOST\")","v":"LOST"},{"$f":"IF('ODD FELLOWS'!CD13>0,1,0)","v":0},{"$f":"IF('ODD FELLOWS'!CH13=701,\"WON\",\"LOST\")","v":"LOST"},{"$f":"IF('ODD FELLOWS'!CH13>0,1,0)","v":0}]
[null,{"$f":"IF('ODD FELLOWS'!B14=701,\"WON\",\"LOST\")","v":"LOST"},{"$f":"IF('ODD FELLOWS'!B14>0,1,0)","v":0},{"$f":"IF('ODD FELLOWS'!F14=701,\"WON\",\"LOST\")","v":"LOST"},{"$f":"IF('ODD FELLOWS'!F14>0,1,0)","v":0},{"$f":"IF('ODD FELLOWS'!J14=701,\"WON\",\"LOST\")","v":"LOST"},{"$f":"IF('ODD FELLOWS'!J14>0,1,0)","v":0},{"$f":"IF('ODD FELLOWS'!N14=701,\"WON\",\"LOST\")","v":"LOST"},{"$f":"IF('ODD FELLOWS'!N14>0,1,0)","v":0},{"$f":"IF('ODD FELLOWS'!R14=701,\"WON\",\"LOST\")","v":"LOST"},{"$f":"IF('ODD FELLOWS'!R14>0,1,0)","v":0},{"$f":"IF('ODD FELLOWS'!V14=701,\"WON\",\"LOST\")","v":"LOST"},{"$f":"IF('ODD FELLOWS'!V14>0,1,0)","v":0},{"$f":"IF('ODD FELLOWS'!Z14=701,\"WON\",\"LOST\")","v":"LOST"},{"$f":"IF('ODD FELLOWS'!Z14>0,1,0)","v":0},{"$f":"IF('ODD FELLOWS'!AD14=701,\"WON\",\"LOST\")","v":"LOST"},{"$f":"IF('ODD FELLOWS'!AD14>0,1,0)","v":0},{"$f":"IF('ODD FELLOWS'!AH14=701,\"WON\",\"LOST\")","v":"LOST"},{"$f":"IF('ODD FELLOWS'!AH14>0,1,0)","v":0},{"$f":"IF('ODD FELLOWS'!AL14=701,\"WON\",\"LOST\")","v":"LOST"},{"$f":"IF('ODD FELLOWS'!AL14>0,1,0)","v":0},{"$f":"IF('ODD FELLOWS'!AP14=701,\"WON\",\"LOST\")","v":"LOST"},{"$f":"IF('ODD FELLOWS'!AP14>0,1,0)","v":0},{"$f":"IF('ODD FELLOWS'!AT14=701,\"WON\",\"LOST\")","v":"LOST"},{"$f":"IF('ODD FELLOWS'!AT14>0,1,0)","v":0},{"$f":"IF('ODD FELLOWS'!AX14=701,\"WON\",\"LOST\")","v":"LOST"},{"$f":"IF('ODD FELLOWS'!AX14>0,1,0)","v":0},{"$f":"IF('ODD FELLOWS'!BB14=701,\"WON\",\"LOST\")","v":"LOST"},{"$f":"IF('ODD FELLOWS'!BB14>0,1,0)","v":0},{"$f":"IF('ODD FELLOWS'!BF14=701,\"WON\",\"LOST\")","v":"LOST"},{"$f":"IF('ODD FELLOWS'!BF14>0,1,0)","v":0},{"$f":"IF('ODD FELLOWS'!BJ14=701,\"WON\",\"LOST\")","v":"LOST"},{"$f":"IF('ODD FELLOWS'!BJ14>0,1,0)","v":0},{"$f":"IF('ODD FELLOWS'!BN14=701,\"WON\",\"LOST\")","v":"LOST"},{"$f":"IF('ODD FELLOWS'!BN14>0,1,0)","v":0},{"$f":"IF('ODD FELLOWS'!BR14=701,\"WON\",\"LOST\")","v":"LOST"},{"$f":"IF('ODD FELLOWS'!BR14>0,1,0)","v":0},{"$f":"IF('ODD FELLOWS'!BV14=701,\"WON\",\"LOST\")","v":"LOST"},{"$f":"IF('ODD FELLOWS'!BV14>0,1,0)","v":0},{"$f":"IF('ODD FELLOWS'!BZ14=701,\"WON\",\"LOST\")","v":"LOST"},{"$f":"IF('ODD FELLOWS'!BZ14>0,1,0)","v":0},{"$f":"IF('ODD FELLOWS'!CD14=701,\"WON\",\"LOST\")","v":"LOST"},{"$f":"IF('ODD FELLOWS'!CD14>0,1,0)","v":0},{"$f":"IF('ODD FELLOWS'!CH14=701,\"WON\",\"LOST\")","v":"LOST"},{"$f":"IF('ODD FELLOWS'!CH14>0,1,0)","v":0}]
[null,{"$f":"IF('ODD FELLOWS'!B3=\"\",0,(SUM(('ODD FELLOWS'!B3/'ODD FELLOWS'!C3)*3)))","v":0},null,{"$f":"IF('ODD FELLOWS'!F3=\"\",0,(SUM(('ODD FELLOWS'!F3/'ODD FELLOWS'!G3)*3)))","v":0},null,{"$f":"IF('ODD FELLOWS'!J3=\"\",0,(SUM(('ODD FELLOWS'!J3/'ODD FELLOWS'!K3)*3)))","v":46.111111111111114},null,{"$f":"IF('ODD FELLOWS'!N3=\"\",0,(SUM(('ODD FELLOWS'!N3/'ODD FELLOWS'!O3)*3)))","v":42.06},null,{"$f":"IF('ODD FELLOWS'!R3=\"\",0,(SUM(('ODD FELLOWS'!R3/'ODD FELLOWS'!S3)*3)))","v":0},null,{"$f":"IF('ODD FELLOWS'!V3=\"\",0,(SUM(('ODD FELLOWS'!V3/'ODD FELLOWS'!W3)*3)))","v":0},null,{"$f":"IF('ODD FELLOWS'!Z3=\"\",0,(SUM(('ODD FELLOWS'!Z3/'ODD FELLOWS'!AA3)*3)))","v":0},null,{"$f":"IF('ODD FELLOWS'!AD3=\"\",0,(SUM(('ODD FELLOWS'!AD3/'ODD FELLOWS'!AE3)*3)))","v":0},null,{"$f":"IF('ODD FELLOWS'!AH3=\"\",0,(SUM(('ODD FELLOWS'!AH3/'ODD FELLOWS'!AI3)*3)))","v":45.266666666666666},null,{"$f":"IF('ODD FELLOWS'!AL3=\"\",0,(SUM(('ODD FELLOWS'!AL3/'ODD FELLOWS'!AM3)*3)))","v":0},null,{"$f":"IF('ODD FELLOWS'!AP3=\"\",0,(SUM(('ODD FELLOWS'!AP3/'ODD FELLOWS'!AQ3)*3)))","v":47.076923076923073},null,{"$f":"IF('ODD FELLOWS'!AT3=\"\",0,(SUM(('ODD FELLOWS'!AT3/'ODD FELLOWS'!AU3)*3)))","v":53.07692307692308},null,{"$f":"IF('ODD FELLOWS'!AX3=\"\",0,(SUM(('ODD FELLOWS'!AX3/'ODD FELLOWS'!AY3)*3)))","v":43.6875},null,{"$f":"IF('ODD FELLOWS'!BB3=\"\",0,(SUM(('ODD FELLOWS'!BB3/'ODD FELLOWS'!BC3)*3)))","v":57.81818181818182},null,{"$f":"IF('ODD FELLOWS'!BF3=\"\",0,(SUM(('ODD FELLOWS'!BF3/'ODD FELLOWS'!BG3)*3)))","v":52.538461538461547},null,{"$f":"IF('ODD FELLOWS'!BJ3=\"\",0,(SUM(('ODD FELLOWS'!BJ3/'ODD FELLOWS'!BK3)*3)))","v":46.733333333333334},null,{"$f":"IF('ODD FELLOWS'!BN3=\"\",0,(SUM(('ODD FELLOWS'!BN3/'ODD FELLOWS'!BO3)*3)))","v":0},null,{"$f":"IF('ODD FELLOWS'!BR3=\"\",0,(SUM(('ODD FELLOWS'!BR3/'ODD FELLOWS'!BS3)*3)))","v":36.599999999999994},null,{"$f":"IF('ODD FELLOWS'!BV3=\"\",0,(SUM(('ODD FELLOWS'!BV3/'ODD FELLOWS'!BW3)*3)))","v":0},null,{"$f":"IF('ODD FELLOWS'!BZ3=\"\",0,(SUM(('ODD FELLOWS'!BZ3/'ODD FELLOWS'!CA3)*3)))","v":0},null,{"$f":"IF('ODD FELLOWS'!CD3=\"\",0,(SUM(('ODD FELLOWS'!CD3/'ODD FELLOWS'!CE3)*3)))","v":0},null,{"$f":"IF('ODD FELLOWS'!CH3=\"\",0,(SUM(('ODD FELLOWS'!CH3/'ODD FELLOWS'!CI3)*3)))","v":0}]
[null,{"$f":"IF('ODD FELLOWS'!B4=\"\",0,(SUM(('ODD FELLOWS'!B4/'ODD FELLOWS'!C4)*3)))","v":100.14285714285714},null,{"$f":"IF('ODD FELLOWS'!F4=\"\",0,(SUM(('ODD FELLOWS'!F4/'ODD FELLOWS'!G4)*3)))","v":56.837837837837839},null,{"$f":"IF('ODD FELLOWS'!J4=\"\",0,(SUM(('ODD FELLOWS'!J4/'ODD FELLOWS'!K4)*3)))","v":70.099999999999994},null,{"$f":"IF('ODD FELLOWS'!N4=\"\",0,(SUM(('ODD FELLOWS'!N4/'ODD FELLOWS'!O4)*3)))","v":84.12},null,{"$f":"IF('ODD FELLOWS'!R4=\"\",0,(SUM(('ODD FELLOWS'!R4/'ODD FELLOWS'!S4)*3)))","v":61.852941176470587},null,{"$f":"IF('ODD FELLOWS'!V4=\"\",0,(SUM(('ODD FELLOWS'!V4/'ODD FELLOWS'!W4)*3)))","v":84.12},null,{"$f":"IF('ODD FELLOWS'!Z4=\"\",0,(SUM(('ODD FELLOWS'!Z4/'ODD FELLOWS'!AA4)*3)))","v":61.852941176470587},null,{"$f":"IF('ODD FELLOWS'!AD4=\"\",0,(SUM(('ODD FELLOWS'!AD4/'ODD FELLOWS'!AE4)*3)))","v":0},null,{"$f":"IF('ODD FELLOWS'!AH4=\"\",0,(SUM(('ODD FELLOWS'!AH4/'ODD FELLOWS'!AI4)*3)))","v":75.107142857142861},null,{"$f":"IF('ODD FELLOWS'!AL4=\"\",0,(SUM(('ODD FELLOWS'!AL4/'ODD FELLOWS'!AM4)*3)))","v":75.107142857142861},null,{"$f":"IF('ODD FELLOWS'!AP4=\"\",0,(SUM(('ODD FELLOWS'!AP4/'ODD FELLOWS'!AQ4)*3)))","v":53.53846153846154},null,{"$f":"IF('ODD FELLOWS'!AT4=\"\",0,(SUM(('ODD FELLOWS'!AT4/'ODD FELLOWS'!AU4)*3)))","v":74.333333333333343},null,{"$f":"IF('ODD FELLOWS'!AX4=\"\",0,(SUM(('ODD FELLOWS'!AX4/'ODD FELLOWS'!AY4)*3)))","v":52.38461538461538},null,{"$f":"IF('ODD FELLOWS'!BB4=\"\",0,(SUM(('ODD FELLOWS'!BB4/'ODD FELLOWS'!BC4)*3)))","v":52.574999999999996},null,{"$f":"IF('ODD FELLOWS'!BF4=\"\",0,(SUM(('ODD FELLOWS'!BF4/'ODD FELLOWS'!BG4)*3)))","v":67.838709677419359},null,{"$f":"IF('ODD FELLOWS'!BJ4=\"\",0,(SUM(('ODD FELLOWS'!BJ4/'ODD FELLOWS'!BK4)*3)))","v":60.085714285714289},null,{"$f":"IF('ODD FELLOWS'!BN4=\"\",0,(SUM(('ODD FELLOWS'!BN4/'ODD FELLOWS'!BO4)*3)))","v":0},null,{"$f":"IF('ODD FELLOWS'!BR4=\"\",0,(SUM(('ODD FELLOWS'!BR4/'ODD FELLOWS'!BS4)*3)))","v":87.625},null,{"$f":"IF('ODD FELLOWS'!BV4=\"\",0,(SUM(('ODD FELLOWS'!BV4/'ODD FELLOWS'!BW4)*3)))","v":0},null,{"$f":"IF('ODD FELLOWS'!BZ4=\"\",0,(SUM(('ODD FELLOWS'!BZ4/'ODD FELLOWS'!CA4)*3)))","v":0},null,{"$f":"IF('ODD FELLOWS'!CD4=\"\",0,(SUM(('ODD FELLOWS'!CD4/'ODD FELLOWS'!CE4)*3)))","v":0},null,{"$f":"IF('ODD FELLOWS'!CH4=\"\",0,(SUM(('ODD FELLOWS'!CH4/'ODD FELLOWS'!CI4)*3)))","v":0}]
[null,{"$f":"IF('ODD FELLOWS'!B5=\"\",0,(SUM(('ODD FELLOWS'!B5/'ODD FELLOWS'!C5)*3)))","v":0},null,{"$f":"IF('ODD FELLOWS'!F5=\"\",0,(SUM(('ODD FELLOWS'!F5/'ODD FELLOWS'!G5)*3)))","v":0},null,{"$f":"IF('ODD FELLOWS'!J5=\"\",0,(SUM(('ODD FELLOWS'!J5/'ODD FELLOWS'!K5)*3)))","v":0},null,{"$f":"IF('ODD FELLOWS'!N5=\"\",0,(SUM(('ODD FELLOWS'!N5/'ODD FELLOWS'!O5)*3)))","v":0},null,{"$f":"IF('ODD FELLOWS'!R5=\"\",0,(SUM(('ODD FELLOWS'!R5/'ODD FELLOWS'!S5)*3)))","v":0},null,{"$f":"IF('ODD FELLOWS'!V5=\"\",0,(SUM(('ODD FELLOWS'!V5/'ODD FELLOWS'!W5)*3)))","v":0},null,{"$f":"IF('ODD FELLOWS'!Z5=\"\",0,(SUM(('ODD FELLOWS'!Z5/'ODD FELLOWS'!AA5)*3)))","v":0},null,{"$f":"IF('ODD FELLOWS'!AD5=\"\",0,(SUM(('ODD FELLOWS'!AD5/'ODD FELLOWS'!AE5)*3)))","v":0},null,{"$f":"IF('ODD FELLOWS'!AH5=\"\",0,(SUM(('ODD FELLOWS'!AH5/'ODD FELLOWS'!AI5)*3)))","v":0},null,{"$f":"IF('ODD FELLOWS'!AL5=\"\",0,(SUM(('ODD FELLOWS'!AL5/'ODD FELLOWS'!AM5)*3)))","v":0},null,{"$f":"IF('ODD FELLOWS'!AP5=\"\",0,(SUM(('ODD FELLOWS'!AP5/'ODD FELLOWS'!AQ5)*3)))","v":0},null,{"$f":"IF('ODD FELLOWS'!AT5=\"\",0,(SUM(('ODD FELLOWS'!AT5/'ODD FELLOWS'!AU5)*3)))","v":0},null,{"$f":"IF('ODD FELLOWS'!AX5=\"\",0,(SUM(('ODD FELLOWS'!AX5/'ODD FELLOWS'!AY5)*3)))","v":0},null,{"$f":"IF('ODD FELLOWS'!BB5=\"\",0,(SUM(('ODD FELLOWS'!BB5/'ODD FELLOWS'!BC5)*3)))","v":0},null,{"$f":"IF('ODD FELLOWS'!BF5=\"\",0,(SUM(('ODD FELLOWS'!BF5/'ODD FELLOWS'!BG5)*3)))","v":0},null,{"$f":"IF('ODD FELLOWS'!BJ5=\"\",0,(SUM(('ODD FELLOWS'!BJ5/'ODD FELLOWS'!BK5)*3)))","v":0},null,{"$f":"IF('ODD FELLOWS'!BN5=\"\",0,(SUM(('ODD FELLOWS'!BN5/'ODD FELLOWS'!BO5)*3)))","v":0},null,{"$f":"IF('ODD FELLOWS'!BR5=\"\",0,(SUM(('ODD FELLOWS'!BR5/'ODD FELLOWS'!BS5)*3)))","v":0},null,{"$f":"IF('ODD FELLOWS'!BV5=\"\",0,(SUM(('ODD FELLOWS'!BV5/'ODD FELLOWS'!BW5)*3)))","v":0},null,{"$f":"IF('ODD FELLOWS'!BZ5=\"\",0,(SUM(('ODD FELLOWS'!BZ5/'ODD FELLOWS'!CA5)*3)))","v":0},null,{"$f":"IF('ODD FELLOWS'!CD5=\"\",0,(SUM(('ODD FELLOWS'!CD5/'ODD FELLOWS'!CE5)*3)))","v":0},null,{"$f":"IF('ODD FELLOWS'!CH5=\"\",0,(SUM(('ODD FELLOWS'!CH5/'ODD FELLOWS'!CI5)*3)))","v":0}]
[null,{"$f":"IF('ODD FELLOWS'!B6=\"\",0,(SUM(('ODD FELLOWS'!B6/'ODD FELLOWS'!C6)*3)))","v":56.837837837837839},null,{"$f":"IF('ODD FELLOWS'!F6=\"\",0,(SUM(('ODD FELLOWS'!F6/'ODD FELLOWS'!G6)*3)))","v":53.92307692307692},null,{"$f":"IF('ODD FELLOWS'!J6=\"\",0,(SUM(('ODD FELLOWS'!J6/'ODD FELLOWS'!K6)*3)))","v":80.884615384615387},null,{"$f":"IF('ODD FELLOWS'!N6=\"\",0,(SUM(('ODD FELLOWS'!N6/'ODD FELLOWS'!O6)*3)))","v":0},null,{"$f":"IF('ODD FELLOWS'!R6=\"\",0,(SUM(('ODD FELLOWS'!R6/'ODD FELLOWS'!S6)*3)))","v":75.107142857142861},null,{"$f":"IF('ODD FELLOWS'!V6=\"\",0,(SUM(('ODD FELLOWS'!V6/'ODD FELLOWS'!W6)*3)))","v":63.727272727272727},null,{"$f":"IF('ODD FELLOWS'!Z6=\"\",0,(SUM(('ODD FELLOWS'!Z6/'ODD FELLOWS'!AA6)*3)))","v":63.727272727272727},null,{"$f":"IF('ODD FELLOWS'!AD6=\"\",0,(SUM(('ODD FELLOWS'!AD6/'ODD FELLOWS'!AE6)*3)))","v":0},null,{"$f":"IF('ODD FELLOWS'!AH6=\"\",0,(SUM(('ODD FELLOWS'!AH6/'ODD FELLOWS'!AI6)*3)))","v":43.8125},null,{"$f":"IF('ODD FELLOWS'!AL6=\"\",0,(SUM(('ODD FELLOWS'!AL6/'ODD FELLOWS'!AM6)*3)))","v":61.852941176470587},null,{"$f":"IF('ODD FELLOWS'!AP6=\"\",0,(SUM(('ODD FELLOWS'!AP6/'ODD FELLOWS'!AQ6)*3)))","v":65.71875},null,{"$f":"IF('ODD FELLOWS'!AT6=\"\",0,(SUM(('ODD FELLOWS'!AT6/'ODD FELLOWS'!AU6)*3)))","v":67.838709677419359},null,{"$f":"IF('ODD FELLOWS'!AX6=\"\",0,(SUM(('ODD FELLOWS'!AX6/'ODD FELLOWS'!AY6)*3)))","v":68.5},null,{"$f":"IF('ODD FELLOWS'!BB6=\"\",0,(SUM(('ODD FELLOWS'!BB6/'ODD FELLOWS'!BC6)*3)))","v":70.099999999999994},null,{"$f":"IF('ODD FELLOWS'!BF6=\"\",0,(SUM(('ODD FELLOWS'!BF6/'ODD FELLOWS'!BG6)*3)))","v":53.769230769230774},null,{"$f":"IF('ODD FELLOWS'!BJ6=\"\",0,(SUM(('ODD FELLOWS'!BJ6/'ODD FELLOWS'!BK6)*3)))","v":51.292682926829272},null,{"$f":"IF('ODD FELLOWS'!BN6=\"\",0,(SUM(('ODD FELLOWS'!BN6/'ODD FELLOWS'!BO6)*3)))","v":0},null,{"$f":"IF('ODD FELLOWS'!BR6=\"\",0,(SUM(('ODD FELLOWS'!BR6/'ODD FELLOWS'!BS6)*3)))","v":56.837837837837839},null,{"$f":"IF('ODD FELLOWS'!BV6=\"\",0,(SUM(('ODD FELLOWS'!BV6/'ODD FELLOWS'!BW6)*3)))","v":0},null,{"$f":"IF('ODD FELLOWS'!BZ6=\"\",0,(SUM(('ODD FELLOWS'!BZ6/'ODD FELLOWS'!CA6)*3)))","v":0},null,{"$f":"IF('ODD FELLOWS'!CD6=\"\",0,(SUM(('ODD FELLOWS'!CD6/'ODD FELLOWS'!CE6)*3)))","v":0},null,{"$f":"IF('ODD FELLOWS'!CH6=\"\",0,(SUM(('ODD FELLOWS'!CH6/'ODD FELLOWS'!CI6)*3)))","v":0}]
[null,{"$f":"IF('ODD FELLOWS'!B7=\"\",0,(SUM(('ODD FELLOWS'!B7/'ODD FELLOWS'!C7)*3)))","v":38.944444444444443},null,{"$f":"IF('ODD FELLOWS'!F7=\"\",0,(SUM(('ODD FELLOWS'!F7/'ODD FELLOWS'!G7)*3)))","v":52.38461538461538},null,{"$f":"IF('ODD FELLOWS'!J7=\"\",0,(SUM(('ODD FELLOWS'!J7/'ODD FELLOWS'!K7)*3)))","v":47.833333333333336},null,{"$f":"IF('ODD FELLOWS'!N7=\"\",0,(SUM(('ODD FELLOWS'!N7/'ODD FELLOWS'!O7)*3)))","v":63.727272727272727},null,{"$f":"IF('ODD FELLOWS'!R7=\"\",0,(SUM(('ODD FELLOWS'!R7/'ODD FELLOWS'!S7)*3)))","v":52.574999999999996},null,{"$f":"IF('ODD FELLOWS'!V7=\"\",0,(SUM(('ODD FELLOWS'!V7/'ODD FELLOWS'!W7)*3)))","v":50.555555555555557},null,{"$f":"IF('ODD FELLOWS'!Z7=\"\",0,(SUM(('ODD FELLOWS'!Z7/'ODD FELLOWS'!AA7)*3)))","v":48.906976744186039},null,{"$f":"IF('ODD FELLOWS'!AD7=\"\",0,(SUM(('ODD FELLOWS'!AD7/'ODD FELLOWS'!AE7)*3)))","v":0},null,{"$f":"IF('ODD FELLOWS'!AH7=\"\",0,(SUM(('ODD FELLOWS'!AH7/'ODD FELLOWS'!AI7)*3)))","v":42.230769230769226},null,{"$f":"IF('ODD FELLOWS'!AL7=\"\",0,(SUM(('ODD FELLOWS'!AL7/'ODD FELLOWS'!AM7)*3)))","v":51.292682926829272},null,{"$f":"IF('ODD FELLOWS'!AP7=\"\",0,(SUM(('ODD FELLOWS'!AP7/'ODD FELLOWS'!AQ7)*3)))","v":56.837837837837839},null,{"$f":"IF('ODD FELLOWS'!AT7=\"\",0,(SUM(('ODD FELLOWS'!AT7/'ODD FELLOWS'!AU7)*3)))","v":52.38461538461538},null,{"$f":"IF('ODD FELLOWS'!AX7=\"\",0,(SUM(('ODD FELLOWS'!AX7/'ODD FELLOWS'!AY7)*3)))","v":52.666666666666671},null,{"$f":"IF('ODD FELLOWS'!BB7=\"\",0,(SUM(('ODD FELLOWS'!BB7/'ODD FELLOWS'!BC7)*3)))","v":72.517241379310349},null,{"$f":"IF('ODD FELLOWS'!BF7=\"\",0,(SUM(('ODD FELLOWS'!BF7/'ODD FELLOWS'!BG7)*3)))","v":62.272727272727273},null,{"$f":"IF('ODD FELLOWS'!BJ7=\"\",0,(SUM(('ODD FELLOWS'!BJ7/'ODD FELLOWS'!BK7)*3)))","v":52.574999999999996},null,{"$f":"IF('ODD FELLOWS'!BN7=\"\",0,(SUM(('ODD FELLOWS'!BN7/'ODD FELLOWS'!BO7)*3)))","v":0},null,{"$f":"IF('ODD FELLOWS'!BR7=\"\",0,(SUM(('ODD FELLOWS'!BR7/'ODD FELLOWS'!BS7)*3)))","v":58.416666666666664},null,{"$f":"IF('ODD FELLOWS'!BV7=\"\",0,(SUM(('ODD FELLOWS'!BV7/'ODD FELLOWS'!BW7)*3)))","v":0},null,{"$f":"IF('ODD FELLOWS'!BZ7=\"\",0,(SUM(('ODD FELLOWS'!BZ7/'ODD FELLOWS'!CA7)*3)))","v":0},null,{"$f":"IF('ODD FELLOWS'!CD7=\"\",0,(SUM(('ODD FELLOWS'!CD7/'ODD FELLOWS'!CE7)*3)))","v":0},null,{"$f":"IF('ODD FELLOWS'!CH7=\"\",0,(SUM(('ODD FELLOWS'!CH7/'ODD FELLOWS'!CI7)*3)))","v":0}]
[null,{"$f":"IF('ODD FELLOWS'!B8=\"\",0,(SUM(('ODD FELLOWS'!B8/'ODD FELLOWS'!C8)*3)))","v":0},null,{"$f":"IF('ODD FELLOWS'!F8=\"\",0,(SUM(('ODD FELLOWS'!F8/'ODD FELLOWS'!G8)*3)))","v":0},null,{"$f":"IF('ODD FELLOWS'!J8=\"\",0,(SUM(('ODD FELLOWS'!J8/'ODD FELLOWS'!K8)*3)))","v":0},null,{"$f":"IF('ODD FELLOWS'!N8=\"\",0,(SUM(('ODD FELLOWS'!N8/'ODD FELLOWS'!O8)*3)))","v":0},null,{"$f":"IF('ODD FELLOWS'!R8=\"\",0,(SUM(('ODD FELLOWS'!R8/'ODD FELLOWS'!S8)*3)))","v":0},null,{"$f":"IF('ODD FELLOWS'!V8=\"\",0,(SUM(('ODD FELLOWS'!V8/'ODD FELLOWS'!W8)*3)))","v":0},null,{"$f":"IF('ODD FELLOWS'!Z8=\"\",0,(SUM(('ODD FELLOWS'!Z8/'ODD FELLOWS'!AA8)*3)))","v":0},null,{"$f":"IF('ODD FELLOWS'!AD8=\"\",0,(SUM(('ODD FELLOWS'!AD8/'ODD FELLOWS'!AE8)*3)))","v":0},null,{"$f":"IF('ODD FELLOWS'!AH8=\"\",0,(SUM(('ODD FELLOWS'!AH8/'ODD FELLOWS'!AI8)*3)))","v":0},null,{"$f":"IF('ODD FELLOWS'!AL8=\"\",0,(SUM(('ODD FELLOWS'!AL8/'ODD FELLOWS'!AM8)*3)))","v":0},null,{"$f":"IF('ODD FELLOWS'!AP8=\"\",0,(SUM(('ODD FELLOWS'!AP8/'ODD FELLOWS'!AQ8)*3)))","v":0},null,{"$f":"IF('ODD FELLOWS'!AT8=\"\",0,(SUM(('ODD FELLOWS'!AT8/'ODD FELLOWS'!AU8)*3)))","v":0},null,{"$f":"IF('ODD FELLOWS'!AX8=\"\",0,(SUM(('ODD FELLOWS'!AX8/'ODD FELLOWS'!AY8)*3)))","v":0},null,{"$f":"IF('ODD FELLOWS'!BB8=\"\",0,(SUM(('ODD FELLOWS'!BB8/'ODD FELLOWS'!BC8)*3)))","v":0},null,{"$f":"IF('ODD FELLOWS'!BF8=\"\",0,(SUM(('ODD FELLOWS'!BF8/'ODD FELLOWS'!BG8)*3)))","v":0},null,{"$f":"IF('ODD FELLOWS'!BJ8=\"\",0,(SUM(('ODD FELLOWS'!BJ8/'ODD FELLOWS'!BK8)*3)))","v":0},null,{"$f":"IF('ODD FELLOWS'!BN8=\"\",0,(SUM(('ODD FELLOWS'!BN8/'ODD FELLOWS'!BO8)*3)))","v":0},null,{"$f":"IF('ODD FELLOWS'!BR8=\"\",0,(SUM(('ODD FELLOWS'!BR8/'ODD FELLOWS'!BS8)*3)))","v":0},null,{"$f":"IF('ODD FELLOWS'!BV8=\"\",0,(SUM(('ODD FELLOWS'!BV8/'ODD FELLOWS'!BW8)*3)))","v":0},null,{"$f":"IF('ODD FELLOWS'!BZ8=\"\",0,(SUM(('ODD FELLOWS'!BZ8/'ODD FELLOWS'!CA8)*3)))","v":0},null,{"$f":"IF('ODD FELLOWS'!CD8=\"\",0,(SUM(('ODD FELLOWS'!CD8/'ODD FELLOWS'!CE8)*3)))","v":0},null,{"$f":"IF('ODD FELLOWS'!CH8=\"\",0,(SUM(('ODD FELLOWS'!CH8/'ODD FELLOWS'!CI8)*3)))","v":0}]
[null,{"$f":"IF('ODD FELLOWS'!B9=\"\",0,(SUM(('ODD FELLOWS'!B9/'ODD FELLOWS'!C9)*3)))","v":34.349999999999994},null,{"$f":"IF('ODD FELLOWS'!F9=\"\",0,(SUM(('ODD FELLOWS'!F9/'ODD FELLOWS'!G9)*3)))","v":0},null,{"$f":"IF('ODD FELLOWS'!J9=\"\",0,(SUM(('ODD FELLOWS'!J9/'ODD FELLOWS'!K9)*3)))","v":0},null,{"$f":"IF('ODD FELLOWS'!N9=\"\",0,(SUM(('ODD FELLOWS'!N9/'ODD FELLOWS'!O9)*3)))","v":36.89473684210526},null,{"$f":"IF('ODD FELLOWS'!R9=\"\",0,(SUM(('ODD FELLOWS'!R9/'ODD FELLOWS'!S9)*3)))","v":38.833333333333336},null,{"$f":"IF('ODD FELLOWS'!V9=\"\",0,(SUM(('ODD FELLOWS'!V9/'ODD FELLOWS'!W9)*3)))","v":36.454545454545453},null,{"$f":"IF('ODD FELLOWS'!Z9=\"\",0,(SUM(('ODD FELLOWS'!Z9/'ODD FELLOWS'!AA9)*3)))","v":0},null,{"$f":"IF('ODD FELLOWS'!AD9=\"\",0,(SUM(('ODD FELLOWS'!AD9/'ODD FELLOWS'!AE9)*3)))","v":0},null,{"$f":"IF('ODD FELLOWS'!AH9=\"\",0,(SUM(('ODD FELLOWS'!AH9/'ODD FELLOWS'!AI9)*3)))","v":0},null,{"$f":"IF('ODD FELLOWS'!AL9=\"\",0,(SUM(('ODD FELLOWS'!AL9/'ODD FELLOWS'!AM9)*3)))","v":48.906976744186039},null,{"$f":"IF('ODD FELLOWS'!AP9=\"\",0,(SUM(('ODD FELLOWS'!AP9/'ODD FELLOWS'!AQ9)*3)))","v":0},null,{"$f":"IF('ODD FELLOWS'!AT9=\"\",0,(SUM(('ODD FELLOWS'!AT9/'ODD FELLOWS'!AU9)*3)))","v":0},null,{"$f":"IF('ODD FELLOWS'!AX9=\"\",0,(SUM(('ODD FELLOWS'!AX9/'ODD FELLOWS'!AY9)*3)))","v":38.454545454545453},null,{"$f":"IF('ODD FELLOWS'!BB9=\"\",0,(SUM(('ODD FELLOWS'!BB9/'ODD FELLOWS'!BC9)*3)))","v":0},null,{"$f":"IF('ODD FELLOWS'!BF9=\"\",0,(SUM(('ODD FELLOWS'!BF9/'ODD FELLOWS'!BG9)*3)))","v":60.666666666666664},null,{"$f":"IF('ODD FELLOWS'!BJ9=\"\",0,(SUM(('ODD FELLOWS'!BJ9/'ODD FELLOWS'!BK9)*3)))","v":0},null,{"$f":"IF('ODD FELLOWS'!BN9=\"\",0,(SUM(('ODD FELLOWS'!BN9/'ODD FELLOWS'!BO9)*3)))","v":0},null,{"$f":"IF('ODD FELLOWS'!BR9=\"\",0,(SUM(('ODD FELLOWS'!BR9/'ODD FELLOWS'!BS9)*3)))","v":43.6875},null,{"$f":"IF('ODD FELLOWS'!BV9=\"\",0,(SUM(('ODD FELLOWS'!BV9/'ODD FELLOWS'!BW9)*3)))","v":0},null,{"$f":"IF('ODD FELLOWS'!BZ9=\"\",0,(SUM(('ODD FELLOWS'!BZ9/'ODD FELLOWS'!CA9)*3)))","v":0},null,{"$f":"IF('ODD FELLOWS'!CD9=\"\",0,(SUM(('ODD FELLOWS'!CD9/'ODD FELLOWS'!CE9)*3)))","v":0},null,{"$f":"IF('ODD FELLOWS'!CH9=\"\",0,(SUM(('ODD FELLOWS'!CH9/'ODD FELLOWS'!CI9)*3)))","v":0}]
[null,{"$f":"IF('ODD FELLOWS'!B10=\"\",0,(SUM(('ODD FELLOWS'!B10/'ODD FELLOWS'!C10)*3)))","v":49.928571428571431},null,{"$f":"IF('ODD FELLOWS'!F10=\"\",0,(SUM(('ODD FELLOWS'!F10/'ODD FELLOWS'!G10)*3)))","v":56.837837837837839},null,{"$f":"IF('ODD FELLOWS'!J10=\"\",0,(SUM(('ODD FELLOWS'!J10/'ODD FELLOWS'!K10)*3)))","v":72.517241379310349},null,{"$f":"IF('ODD FELLOWS'!N10=\"\",0,(SUM(('ODD FELLOWS'!N10/'ODD FELLOWS'!O10)*3)))","v":77.888888888888886},null,{"$f":"IF('ODD FELLOWS'!R10=\"\",0,(SUM(('ODD FELLOWS'!R10/'ODD FELLOWS'!S10)*3)))","v":65.71875},null,{"$f":"IF('ODD FELLOWS'!V10=\"\",0,(SUM(('ODD FELLOWS'!V10/'ODD FELLOWS'!W10)*3)))","v":72.517241379310349},null,{"$f":"IF('ODD FELLOWS'!Z10=\"\",0,(SUM(('ODD FELLOWS'!Z10/'ODD FELLOWS'!AA10)*3)))","v":70.099999999999994},null,{"$f":"IF('ODD FELLOWS'!AD10=\"\",0,(SUM(('ODD FELLOWS'!AD10/'ODD FELLOWS'!AE10)*3)))","v":0},null,{"$f":"IF('ODD FELLOWS'!AH10=\"\",0,(SUM(('ODD FELLOWS'!AH10/'ODD FELLOWS'!AI10)*3)))","v":72.555555555555557},null,{"$f":"IF('ODD FELLOWS'!AL10=\"\",0,(SUM(('ODD FELLOWS'!AL10/'ODD FELLOWS'!AM10)*3)))","v":65.71875},null,{"$f":"IF('ODD FELLOWS'!AP10=\"\",0,(SUM(('ODD FELLOWS'!AP10/'ODD FELLOWS'!AQ10)*3)))","v":58.416666666666664},null,{"$f":"IF('ODD FELLOWS'!AT10=\"\",0,(SUM(('ODD FELLOWS'!AT10/'ODD FELLOWS'!AU10)*3)))","v":61.852941176470587},null,{"$f":"IF('ODD FELLOWS'!AX10=\"\",0,(SUM(('ODD FELLOWS'!AX10/'ODD FELLOWS'!AY10)*3)))","v":53.769230769230774},null,{"$f":"IF('ODD FELLOWS'!BB10=\"\",0,(SUM(('ODD FELLOWS'!BB10/'ODD FELLOWS'!BC10)*3)))","v":65.71875},null,{"$f":"IF('ODD FELLOWS'!BF10=\"\",0,(SUM(('ODD FELLOWS'!BF10/'ODD FELLOWS'!BG10)*3)))","v":50.071428571428569},null,{"$f":"IF('ODD FELLOWS'!BJ10=\"\",0,(SUM(('ODD FELLOWS'!BJ10/'ODD FELLOWS'!BK10)*3)))","v":70.099999999999994},null,{"$f":"IF('ODD FELLOWS'!BN10=\"\",0,(SUM(('ODD FELLOWS'!BN10/'ODD FELLOWS'!BO10)*3)))","v":0},null,{"$f":"IF('ODD FELLOWS'!BR10=\"\",0,(SUM(('ODD FELLOWS'!BR10/'ODD FELLOWS'!BS10)*3)))","v":77.888888888888886},null,{"$f":"IF('ODD FELLOWS'!BV10=\"\",0,(SUM(('ODD FELLOWS'!BV10/'ODD FELLOWS'!BW10)*3)))","v":0},null,{"$f":"IF('ODD FELLOWS'!BZ10=\"\",0,(SUM(('ODD FELLOWS'!BZ10/'ODD FELLOWS'!CA10)*3)))","v":0},null,{"$f":"IF('ODD FELLOWS'!CD10=\"\",0,(SUM(('ODD FELLOWS'!CD10/'ODD FELLOWS'!CE10)*3)))","v":0},null,{"$f":"IF('ODD FELLOWS'!CH10=\"\",0,(SUM(('ODD FELLOWS'!CH10/'ODD FELLOWS'!CI10)*3)))","v":0}]
[null,{"$f":"IF('ODD FELLOWS'!B11=\"\",0,(SUM(('ODD FELLOWS'!B11/'ODD FELLOWS'!C11)*3)))","v":0},null,{"$f":"IF('ODD FELLOWS'!F11=\"\",0,(SUM(('ODD FELLOWS'!F11/'ODD FELLOWS'!G11)*3)))","v":31.863636363636363},null,{"$f":"IF('ODD FELLOWS'!J11=\"\",0,(SUM(('ODD FELLOWS'!J11/'ODD FELLOWS'!K11)*3)))","v":0},null,{"$f":"IF('ODD FELLOWS'!N11=\"\",0,(SUM(('ODD FELLOWS'!N11/'ODD FELLOWS'!O11)*3)))","v":69.142857142857139},null,{"$f":"IF('ODD FELLOWS'!R11=\"\",0,(SUM(('ODD FELLOWS'!R11/'ODD FELLOWS'!S11)*3)))","v":0},null,{"$f":"IF('ODD FELLOWS'!V11=\"\",0,(SUM(('ODD FELLOWS'!V11/'ODD FELLOWS'!W11)*3)))","v":0},null,{"$f":"IF('ODD FELLOWS'!Z11=\"\",0,(SUM(('ODD FELLOWS'!Z11/'ODD FELLOWS'!AA11)*3)))","v":65.71875},null,{"$f":"IF('ODD FELLOWS'!AD11=\"\",0,(SUM(('ODD FELLOWS'!AD11/'ODD FELLOWS'!AE11)*3)))","v":0},null,{"$f":"IF('ODD FELLOWS'!AH11=\"\",0,(SUM(('ODD FELLOWS'!AH11/'ODD FELLOWS'!AI11)*3)))","v":0},null,{"$f":"IF('ODD FELLOWS'!AL11=\"\",0,(SUM(('ODD FELLOWS'!AL11/'ODD FELLOWS'!AM11)*3)))","v":0},null,{"$f":"IF('ODD FELLOWS'!AP11=\"\",0,(SUM(('ODD FELLOWS'!AP11/'ODD FELLOWS'!AQ11)*3)))","v":0},null,{"$f":"IF('ODD FELLOWS'!AT11=\"\",0,(SUM(('ODD FELLOWS'!AT11/'ODD FELLOWS'!AU11)*3)))","v":0},null,{"$f":"IF('ODD FELLOWS'!AX11=\"\",0,(SUM(('ODD FELLOWS'!AX11/'ODD FELLOWS'!AY11)*3)))","v":0},null,{"$f":"IF('ODD FELLOWS'!BB11=\"\",0,(SUM(('ODD FELLOWS'!BB11/'ODD FELLOWS'!BC11)*3)))","v":0},null,{"$f":"IF('ODD FELLOWS'!BF11=\"\",0,(SUM(('ODD FELLOWS'!BF11/'ODD FELLOWS'!BG11)*3)))","v":0},null,{"$f":"IF('ODD FELLOWS'!BJ11=\"\",0,(SUM(('ODD FELLOWS'!BJ11/'ODD FELLOWS'!BK11)*3)))","v":0},null,{"$f":"IF('ODD FELLOWS'!BN11=\"\",0,(SUM(('ODD FELLOWS'!BN11/'ODD FELLOWS'!BO11)*3)))","v":0},null,{"$f":"IF('ODD FELLOWS'!BR11=\"\",0,(SUM(('ODD FELLOWS'!BR11/'ODD FELLOWS'!BS11)*3)))","v":0},null,{"$f":"IF('ODD FELLOWS'!BV11=\"\",0,(SUM(('ODD FELLOWS'!BV11/'ODD FELLOWS'!BW11)*3)))","v":0},null,{"$f":"IF('ODD FELLOWS'!BZ11=\"\",0,(SUM(('ODD FELLOWS'!BZ11/'ODD FELLOWS'!CA11)*3)))","v":0},null,{"$f":"IF('ODD FELLOWS'!CD11=\"\",0,(SUM(('ODD FELLOWS'!CD11/'ODD FELLOWS'!CE11)*3)))","v":0},null,{"$f":"IF('ODD FELLOWS'!CH11=\"\",0,(SUM(('ODD FELLOWS'!CH11/'ODD FELLOWS'!CI11)*3)))","v":0}]
[null,{"$f":"IF('ODD FELLOWS'!B12=\"\",0,(SUM(('ODD FELLOWS'!B12/'ODD FELLOWS'!C12)*3)))","v":41.235294117647058},null,{"$f":"IF('ODD FELLOWS'!F12=\"\",0,(SUM(('ODD FELLOWS'!F12/'ODD FELLOWS'!G12)*3)))","v":35.844827586206897},null,{"$f":"IF('ODD FELLOWS'!J12=\"\",0,(SUM(('ODD FELLOWS'!J12/'ODD FELLOWS'!K12)*3)))","v":46.06666666666667},null,{"$f":"IF('ODD FELLOWS'!N12=\"\",0,(SUM(('ODD FELLOWS'!N12/'ODD FELLOWS'!O12)*3)))","v":0},null,{"$f":"IF('ODD FELLOWS'!R12=\"\",0,(SUM(('ODD FELLOWS'!R12/'ODD FELLOWS'!S12)*3)))","v":41.25},null,{"$f":"IF('ODD FELLOWS'!V12=\"\",0,(SUM(('ODD FELLOWS'!V12/'ODD FELLOWS'!W12)*3)))","v":46.571428571428569},null,{"$f":"IF('ODD FELLOWS'!Z12=\"\",0,(SUM(('ODD FELLOWS'!Z12/'ODD FELLOWS'!AA12)*3)))","v":48.906976744186039},null,{"$f":"IF('ODD FELLOWS'!AD12=\"\",0,(SUM(('ODD FELLOWS'!AD12/'ODD FELLOWS'!AE12)*3)))","v":0},null,{"$f":"IF('ODD FELLOWS'!AH12=\"\",0,(SUM(('ODD FELLOWS'!AH12/'ODD FELLOWS'!AI12)*3)))","v":45.717391304347828},null,{"$f":"IF('ODD FELLOWS'!AL12=\"\",0,(SUM(('ODD FELLOWS'!AL12/'ODD FELLOWS'!AM12)*3)))","v":44.744680851063826},null,{"$f":"IF('ODD FELLOWS'!AP12=\"\",0,(SUM(('ODD FELLOWS'!AP12/'ODD FELLOWS'!AQ12)*3)))","v":0},null,{"$f":"IF('ODD FELLOWS'!AT12=\"\",0,(SUM(('ODD FELLOWS'!AT12/'ODD FELLOWS'!AU12)*3)))","v":33.692307692307693},null,{"$f":"IF('ODD FELLOWS'!AX12=\"\",0,(SUM(('ODD FELLOWS'!AX12/'ODD FELLOWS'!AY12)*3)))","v":0},null,{"$f":"IF('ODD FELLOWS'!BB12=\"\",0,(SUM(('ODD FELLOWS'!BB12/'ODD FELLOWS'!BC12)*3)))","v":44.733333333333334},null,{"$f":"IF('ODD FELLOWS'!BF12=\"\",0,(SUM(('ODD FELLOWS'!BF12/'ODD FELLOWS'!BG12)*3)))","v":0},null,{"$f":"IF('ODD FELLOWS'!BJ12=\"\",0,(SUM(('ODD FELLOWS'!BJ12/'ODD FELLOWS'!BK12)*3)))","v":50.071428571428569},null,{"$f":"IF('ODD FELLOWS'!BN12=\"\",0,(SUM(('ODD FELLOWS'!BN12/'ODD FELLOWS'!BO12)*3)))","v":0},null,{"$f":"IF('ODD FELLOWS'!BR12=\"\",0,(SUM(('ODD FELLOWS'!BR12/'ODD FELLOWS'!BS12)*3)))","v":0},null,{"$f":"IF('ODD FELLOWS'!BV12=\"\",0,(SUM(('ODD FELLOWS'!BV12/'ODD FELLOWS'!BW12)*3)))","v":0},null,{"$f":"IF('ODD FELLOWS'!BZ12=\"\",0,(SUM(('ODD FELLOWS'!BZ12/'ODD FELLOWS'!CA12)*3)))","v":0},null,{"$f":"IF('ODD FELLOWS'!CD12=\"\",0,(SUM(('ODD FELLOWS'!CD12/'ODD FELLOWS'!CE12)*3)))","v":0},null,{"$f":"IF('ODD FELLOWS'!CH12=\"\",0,(SUM(('ODD FELLOWS'!CH12/'ODD FELLOWS'!CI12)*3)))","v":0}]
[null,{"$f":"IF('ODD FELLOWS'!B13=\"\",0,(SUM(('ODD FELLOWS'!B13/'ODD FELLOWS'!C13)*3)))","v":0},null,{"$f":"IF('ODD FELLOWS'!F13=\"\",0,(SUM(('ODD FELLOWS'!F13/'ODD FELLOWS'!G13)*3)))","v":0},null,{"$f":"IF('ODD FELLOWS'!J13=\"\",0,(SUM(('ODD FELLOWS'!J13/'ODD FELLOWS'!K13)*3)))","v":0},null,{"$f":"IF('ODD FELLOWS'!N13=\"\",0,(SUM(('ODD FELLOWS'!N13/'ODD FELLOWS'!O13)*3)))","v":0},null,{"$f":"IF('ODD FELLOWS'!R13=\"\",0,(SUM(('ODD FELLOWS'!R13/'ODD FELLOWS'!S13)*3)))","v":0},null,{"$f":"IF('ODD FELLOWS'!V13=\"\",0,(SUM(('ODD FELLOWS'!V13/'ODD FELLOWS'!W13)*3)))","v":0},null,{"$f":"IF('ODD FELLOWS'!Z13=\"\",0,(SUM(('ODD FELLOWS'!Z13/'ODD FELLOWS'!AA13)*3)))","v":0},null,{"$f":"IF('ODD FELLOWS'!AD13=\"\",0,(SUM(('ODD FELLOWS'!AD13/'ODD FELLOWS'!AE13)*3)))","v":0},null,{"$f":"IF('ODD FELLOWS'!AH13=\"\",0,(SUM(('ODD FELLOWS'!AH13/'ODD FELLOWS'!AI13)*3)))","v":0},null,{"$f":"IF('ODD FELLOWS'!AL13=\"\",0,(SUM(('ODD FELLOWS'!AL13/'ODD FELLOWS'!AM13)*3)))","v":0},null,{"$f":"IF('ODD FELLOWS'!AP13=\"\",0,(SUM(('ODD FELLOWS'!AP13/'ODD FELLOWS'!AQ13)*3)))","v":0},null,{"$f":"IF('ODD FELLOWS'!AT13=\"\",0,(SUM(('ODD FELLOWS'!AT13/'ODD FELLOWS'!AU13)*3)))","v":0},null,{"$f":"IF('ODD FELLOWS'!AX13=\"\",0,(SUM(('ODD FELLOWS'!AX13/'ODD FELLOWS'!AY13)*3)))","v":0},null,{"$f":"IF('ODD FELLOWS'!BB13=\"\",0,(SUM(('ODD FELLOWS'!BB13/'ODD FELLOWS'!BC13)*3)))","v":0},null,{"$f":"IF('ODD FELLOWS'!BF13=\"\",0,(SUM(('ODD FELLOWS'!BF13/'ODD FELLOWS'!BG13)*3)))","v":0},null,{"$f":"IF('ODD FELLOWS'!BJ13=\"\",0,(SUM(('ODD FELLOWS'!BJ13/'ODD FELLOWS'!BK13)*3)))","v":0},null,{"$f":"IF('ODD FELLOWS'!BN13=\"\",0,(SUM(('ODD FELLOWS'!BN13/'ODD FELLOWS'!BO13)*3)))","v":0},null,{"$f":"IF('ODD FELLOWS'!BR13=\"\",0,(SUM(('ODD FELLOWS'!BR13/'ODD FELLOWS'!BS13)*3)))","v":0},null,{"$f":"IF('ODD FELLOWS'!BV13=\"\",0,(SUM(('ODD FELLOWS'!BV13/'ODD FELLOWS'!BW13)*3)))","v":0},null,{"$f":"IF('ODD FELLOWS'!BZ13=\"\",0,(SUM(('ODD FELLOWS'!BZ13/'ODD FELLOWS'!CA13)*3)))","v":0},null,{"$f":"IF('ODD FELLOWS'!CD13=\"\",0,(SUM(('ODD FELLOWS'!CD13/'ODD FELLOWS'!CE13)*3)))","v":0},null,{"$f":"IF('ODD FELLOWS'!CH13=\"\",0,(SUM(('ODD FELLOWS'!CH13/'ODD FELLOWS'!CI13)*3)))","v":0}]
[null,{"$f":"IF('ODD FELLOWS'!B14=\"\",0,(SUM(('ODD FELLOWS'!B14/'ODD FELLOWS'!C14)*3)))","v":0},null,{"$f":"IF('ODD FELLOWS'!F14=\"\",0,(SUM(('ODD FELLOWS'!F14/'ODD FELLOWS'!G14)*3)))","v":0},null,{"$f":"IF('ODD FELLOWS'!J14=\"\",0,(SUM(('ODD FELLOWS'!J14/'ODD FELLOWS'!K14)*3)))","v":0},null,{"$f":"IF('ODD FELLOWS'!N14=\"\",0,(SUM(('ODD FELLOWS'!N14/'ODD FELLOWS'!O14)*3)))","v":0},null,{"$f":"IF('ODD FELLOWS'!R14=\"\",0,(SUM(('ODD FELLOWS'!R14/'ODD FELLOWS'!S14)*3)))","v":0},null,{"$f":"IF('ODD FELLOWS'!V14=\"\",0,(SUM(('ODD FELLOWS'!V14/'ODD FELLOWS'!W14)*3)))","v":0},null,{"$f":"IF('ODD FELLOWS'!Z14=\"\",0,(SUM(('ODD FELLOWS'!Z14/'ODD FELLOWS'!AA14)*3)))","v":0},null,{"$f":"IF('ODD FELLOWS'!AD14=\"\",0,(SUM(('ODD FELLOWS'!AD14/'ODD FELLOWS'!AE14)*3)))","v":0},null,{"$f":"IF('ODD FELLOWS'!AH14=\"\",0,(SUM(('ODD FELLOWS'!AH14/'ODD FELLOWS'!AI14)*3)))","v":0},null,{"$f":"IF('ODD FELLOWS'!AL14=\"\",0,(SUM(('ODD FELLOWS'!AL14/'ODD FELLOWS'!AM14)*3)))","v":0},null,{"$f":"IF('ODD FELLOWS'!AP14=\"\",0,(SUM(('ODD FELLOWS'!AP14/'ODD FELLOWS'!AQ14)*3)))","v":0},null,{"$f":"IF('ODD FELLOWS'!AT14=\"\",0,(SUM(('ODD FELLOWS'!AT14/'ODD FELLOWS'!AU14)*3)))","v":0},null,{"$f":"IF('ODD FELLOWS'!AX14=\"\",0,(SUM(('ODD FELLOWS'!AX14/'ODD FELLOWS'!AY14)*3)))","v":0},null,{"$f":"IF('ODD FELLOWS'!BB14=\"\",0,(SUM(('ODD FELLOWS'!BB14/'ODD FELLOWS'!BC14)*3)))","v":0},null,{"$f":"IF('ODD FELLOWS'!BF14=\"\",0,(SUM(('ODD FELLOWS'!BF14/'ODD FELLOWS'!BG14)*3)))","v":0},null,{"$f":"IF('ODD FELLOWS'!BJ14=\"\",0,(SUM(('ODD FELLOWS'!BJ14/'ODD FELLOWS'!BK14)*3)))","v":0},null,{"$f":"IF('ODD FELLOWS'!BN14=\"\",0,(SUM(('ODD FELLOWS'!BN14/'ODD FELLOWS'!BO14)*3)))","v":0},null,{"$f":"IF('ODD FELLOWS'!BR14=\"\",0,(SUM(('ODD FELLOWS'!BR14/'ODD FELLOWS'!BS14)*3)))","v":0},null,{"$f":"IF('ODD FELLOWS'!BV14=\"\",0,(SUM(('ODD FELLOWS'!BV14/'ODD FELLOWS'!BW14)*3)))","v":0},null,{"$f":"IF('ODD FELLOWS'!BZ14=\"\",0,(SUM(('ODD FELLOWS'!BZ14/'ODD FELLOWS'!CA14)*3)))","v":0},null,{"$f":"IF('ODD FELLOWS'!CD14=\"\",0,(SUM(('ODD FELLOWS'!CD14/'ODD FELLOWS'!CE14)*3)))","v":0},null,{"$f":"IF('ODD FELLOWS'!CH14=\"\",0,(SUM(('ODD FELLOWS'!CH14/'ODD FELLOWS'!CI14)*3)))","v":0}]
[]
["STANDARD B","10/09/2007\nV\nSTANDARD 'A'\n (H)",null,"17/09/2007\nV\nGOLDEN LION 'B'\n (A)",null,"24/09/2007\nV\nGOLDEN LION 'A'\n (A)",null,"1/10/2007\nV\nSPORTSMANS\n (H)",null,"15/10/2007\nV\nNAGS HEAD\n (A)",null,"29/10/2007\nV\nBOWLING CLUB\n (A)",null,"5/11/2007\nV\nRAFA 'B'\n (H)",null,"12/11/2007\nV\nRAFA 'A'\n (A)",null,"26/11/2007\nV\nCRICKET CLUB\n (H)",null,"03/12/2007\nV\nBYE",null,"17/12/2007\nV\nWMC\n(H)",null,"07/01/2008\nV\nSTANDARD 'A'\n(A)",null,"14/01/2008\nV\nGOLDEN LION 'B'\n(H)",null,"21/01/2008\nV\nGOLDEN LION 'A'\n(H)",null,"04/02/2008\nV\nSPORTSMANS\n(A)",null,"11/02/2008\nV\nNAGS HEAD\n(H)",null,"25/02/2008\nV\nBOWLING CLUB\n(H)",null,"10/03/2008\nV\nRAFA 'B'\n(A)",null,"17/03/2008\nV\nRAFA 'A'\n(H)",null,"31/03/2008\nV\nCRICKET CLUB\n(A)",null,"14/04/2008\nV\nBYE",null,"21/04/2008\nV\nWMC\n(A)"]
[null,"W/L","AVG","W/L","AVG","W/L","AVG","W/L","AVG","W/L","AVG","W/L","AVG","W/L","AVG","W/L","AVG","W/L","AVG","W/L","AVG","W/L","AVG","W/L","AVG","W/L","AVG","W/L","AVG","W/L","AVG","W/L","AVG","W/L","AVG","W/L","AVG","W/L","AVG","W/L","AVG","W/L","AVG","W/L","AVG"]
[{"$f":"SPORTSMANS!A3","v":"Nigel Outram"},{"$f":"IF(C376=1,B376,\"\")","v":"WON"},{"$f":"IF(B388>0,B388,\"\")","v":41.235294117647058},{"$f":"IF(E376=1,D376,\"\")","v":"LOST"},{"$f":"IF(D388>0,D388,\"\")","v":50.3},{"$f":"IF(G376=1,F376,\"\")","v":"LOST"},{"$f":"IF(F388>0,F388,\"\")","v":51.333333333333329},{"$f":"IF(I376=1,H376,\"\")","v":"LOST"},{"$f":"IF(H388>0,H388,\"\")","v":57.545454545454547},{"$f":"IF(K376=1,J376,\"\")","v":"WON"},{"$f":"IF(J388>0,J388,\"\")","v":77.888888888888886},{"$f":"IF(M376=1,L376,\"\")","v":"WON"},{"$f":"IF(L388>0,L388,\"\")","v":60.085714285714289},{"$f":"IF(O376=1,N376,\"\")","v":""},{"$f":"IF(N388>0,N388,\"\")","v":""},{"$f":"IF(Q376=1,P376,\"\")","v":"WON"},{"$f":"IF(P388>0,P388,\"\")","v":65.71875},{"$f":"IF(S376=1,R376,\"\")","v":"WON"},{"$f":"IF(R388>0,R388,\"\")","v":91.434782608695656},{"$f":"IF(U376=1,T376,\"\")","v":"WON"},{"$f":"IF(T388>0,T388,\"\")","v":65.71875},{"$f":"IF(W376=1,V376,\"\")","v":"WON"},{"$f":"IF(V388>0,V388,\"\")","v":52.574999999999996},{"$f":"IF(Y376=1,X376,\"\")","v":"WON"},{"$f":"IF(X388>0,X388,\"\")","v":58.416666666666664},{"$f":"IF(AA376=1,Z376,\"\")","v":"WON"},{"$f":"IF(Z388>0,Z388,\"\")","v":55.34210526315789},{"$f":"IF(AC376=1,AB376,\"\")","v":"WON"},{"$f":"IF(AB388>0,AB388,\"\")","v":58.416666666666664},{"$f":"IF(AE376=1,AD376,\"\")","v":"LOST"},{"$f":"IF(AD388>0,AD388,\"\")","v":49.923076923076927},{"$f":"IF(AG376=1,AF376,\"\")","v":""},{"$f":"IF(AF388>0,AF388,\"\")","v":""},{"$f":"IF(AI376=1,AH376,\"\")","v":"WON"},{"$f":"IF(AH388>0,AH388,\"\")","v":60.085714285714289},{"$f":"IF(AK376=1,AJ376,\"\")","v":"WON"},{"$f":"IF(AJ388>0,AJ388,\"\")","v":65.71875},{"$f":"IF(AM376=1,AL376,\"\")","v":""},{"$f":"IF(AL388>0,AL388,\"\")","v":""},{"$f":"IF(AO376=1,AN376,\"\")","v":""},{"$f":"IF(AN388>0,AN388,\"\")","v":""},{"$f":"IF(AQ376=1,AP376,\"\")","v":""},{"$f":"IF(AP388>0,AP388,\"\")","v":""},{"$f":"IF(AS376=1,AR376,\"\")","v":""},{"$f":"IF(AR388>0,AR388,\"\")","v":""}]
[{"$f":"SPORTSMANS!A4","v":"Martin Young"},{"$f":"IF(C377=1,B377,\"\")","v":"WON"},{"$f":"IF(B389>0,B389,\"\")","v":51.292682926829272},{"$f":"IF(E377=1,D377,\"\")","v":"LOST"},{"$f":"IF(D389>0,D389,\"\")","v":63.100000000000009},{"$f":"IF(G377=1,F377,\"\")","v":"WON"},{"$f":"IF(F389>0,F389,\"\")","v":33.91935483870968},{"$f":"IF(I377=1,H377,\"\")","v":"LOST"},{"$f":"IF(H389>0,H389,\"\")","v":53.769230769230774},{"$f":"IF(K377=1,J377,\"\")","v":"LOST"},{"$f":"IF(J389>0,J389,\"\")","v":32.133333333333333},{"$f":"IF(M377=1,L377,\"\")","v":"LOST"},{"$f":"IF(L389>0,L389,\"\")","v":71.111111111111114},{"$f":"IF(O377=1,N377,\"\")","v":""},{"$f":"IF(N389>0,N389,\"\")","v":""},{"$f":"IF(Q377=1,P377,\"\")","v":"LOST"},{"$f":"IF(P389>0,P389,\"\")","v":50.545454545454547},{"$f":"IF(S377=1,R377,\"\")","v":"WON"},{"$f":"IF(R389>0,R389,\"\")","v":44.744680851063826},{"$f":"IF(U377=1,T377,\"\")","v":"WON"},{"$f":"IF(T389>0,T389,\"\")","v":43.8125},{"$f":"IF(W377=1,V377,\"\")","v":"LOST"},{"$f":"IF(V389>0,V389,\"\")","v":50.416666666666671},{"$f":"IF(Y377=1,X377,\"\")","v":"WON"},{"$f":"IF(X389>0,X389,\"\")","v":55.34210526315789},{"$f":"IF(AA377=1,Z377,\"\")","v":"LOST"},{"$f":"IF(Z389>0,Z389,\"\")","v":73.444444444444443},{"$f":"IF(AC377=1,AB377,\"\")","v":"WON"},{"$f":"IF(AB389>0,AB389,\"\")","v":61.852941176470587},{"$f":"IF(AE377=1,AD377,\"\")","v":"LOST"},{"$f":"IF(AD389>0,AD389,\"\")","v":62.5},{"$f":"IF(AG377=1,AF377,\"\")","v":""},{"$f":"IF(AF389>0,AF389,\"\")","v":""},{"$f":"IF(AI377=1,AH377,\"\")","v":"WON"},{"$f":"IF(AH389>0,AH389,\"\")","v":77.888888888888886},{"$f":"IF(AK377=1,AJ377,\"\")","v":"WON"},{"$f":"IF(AJ389>0,AJ389,\"\")","v":56.837837837837839},{"$f":"IF(AM377=1,AL377,\"\")","v":""},{"$f":"IF(AL389>0,AL389,\"\")","v":""},{"$f":"IF(AO377=1,AN377,\"\")","v":""},{"$f":"IF(AN389>0,AN389,\"\")","v":""},{"$f":"IF(AQ377=1,AP377,\"\")","v":""},{"$f":"IF(AP389>0,AP389,\"\")","v":""},{"$f":"IF(AS377=1,AR377,\"\")","v":""},{"$f":"IF(AR389>0,AR389,\"\")","v":""}]
[{"$f":"SPORTSMANS!A5","v":"Andy Monk"},"WON",43.8125,"LOST",49.61538461538462,"WON",58.416666666666664,"LOST",51.46153846153846,"LOST",46.642857142857139,"LOST",52.199999999999996,"","","LOST",53.15384615384616,"LOST",46.2,"WON",44.744680851063826,"LOST",55.888888888888886,"WON",60.085714285714289,"WON",53.92307692307692,"WON",65.71875,"WON",55.34210526315789,"","","LOST",55.9,"WON",43.8125,"","","","","","","",""]
[{"$f":"SPORTSMANS!A6","v":"Pete Young"},"","","","","","","","","LOST",35.75,"","","","","","","","","","","LOST",38.81818181818182,"LOST",56.75,"","","","","","","","","","","","","","","","","","","",""]
[{"$f":"SPORTSMANS!A7","v":"Kyle Young"},"WON",63.727272727272727,"WON",50.071428571428569,"LOST",72.444444444444443,"WON",50.071428571428569,"","","WON",87.625,"","","WON",53.92307692307692,"WON",72.517241379310349,"WON",72.517241379310349,"WON",56.837837837837839,"WON",45.717391304347828,"WON",72.517241379310349,"WON",70.099999999999994,"WON",77.888888888888886,"","","WON",70.099999999999994,"WON",44.744680851063826,"","","","","","","",""]
[{"$f":"SPORTSMANS!A8","v":"Baz Pearson"},"LOST",38.833333333333336,"WON",38.944444444444443,"WON",53.92307692307692,"WON",50.071428571428569,"LOST",49.357142857142861,"LOST",37.125,"","","LOST",41.199999999999996,"WON",63.727272727272727,"","","WON",41.235294117647058,"","","LOST",37.666666666666664,"WON",50.071428571428569,"WON",50.071428571428569,"","","","","WON",39.679245283018872,"","","","","","","",""]
[{"$f":"SPORTSMANS!A9","v":"Ian Whittaker"},"WON",52.574999999999996,"WON",65.71875,"WON",77.888888888888886,"WON",61.852941176470587,"WON",72.517241379310349,"WON",72.517241379310349,"","","LOST",58.25,"WON",75.107142857142861,"WON",52.574999999999996,"","","LOST",66.100000000000009,"WON",53.92307692307692,"WON",50.071428571428569,"WON",61.852941176470587,"","","LOST",50.545454545454547,"WON",44.744680851063826,"","","","","","","",""]
[{"$f":"SPORTSMANS!A10","v":"Ian Windress"},"","","","","","","","","","","","","","","","","","","","","","","","","","","","","","","","","","","","","","","","","","","",""]
[{"$f":"SPORTSMANS!A11","v":"Dan Clarke"},"","","","","","","","","","","","","","","","","","","","","","","","","","","","","","","","","","","","","","","","","","","",""]
[{"$f":"SPORTSMANS!A12","v":"Jack Stevenson"},"","","","","","","","","","","","","","","","","","","LOST",41.076923076923073,"","","","","","","","","","","","","WON",48.906976744186039,"","","","","","","","","",""]
[{"$f":"SPORTSMANS!A13","v":0},"","","","","","","","","","","","","","","","","","","","","","","","","","","","","","","","","","","","","","","","","","","",""]
[{"$f":"SPORTSMANS!A14","v":0},"","","","","","","","","","","","","","","","","","","","","","","","","","","","","","","","","","","","","","","","","","","",""]
[]
["STANDARD B",{"$f":"IF(SPORTSMANS!B3=701,\"WON\",\"LOST\")","v":"WON"},{"$f":"IF(SPORTSMANS!B3>0,1,0)","v":1},{"$f":"IF(SPORTSMANS!F3=701,\"WON\",\"LOST\")","v":"LOST"},{"$f":"IF(SPORTSMANS!F3>0,1,0)","v":1},{"$f":"IF(SPORTSMANS!J3=701,\"WON\",\"LOST\")","v":"LOST"},{"$f":"IF(SPORTSMANS!J3>0,1,0)","v":1},{"$f":"IF(SPORTSMANS!N3=701,\"WON\",\"LOST\")","v":"LOST"},{"$f":"IF(SPORTSMANS!N3>0,1,0)","v":1},{"$f":"IF(SPORTSMANS!R3=701,\"WON\",\"LOST\")","v":"WON"},{"$f":"IF(SPORTSMANS!R3>0,1,0)","v":1},{"$f":"IF(SPORTSMANS!V3=701,\"WON\",\"LOST\")","v":"WON"},{"$f":"IF(SPORTSMANS!V3>0,1,0)","v":1},{"$f":"IF(SPORTSMANS!Z3=701,\"WON\",\"LOST\")","v":"LOST"},{"$f":"IF(SPORTSMANS!Z3>0,1,0)","v":0},{"$f":"IF(SPORTSMANS!AD3=701,\"WON\",\"LOST\")","v":"WON"},{"$f":"IF(SPORTSMANS!AD3>0,1,0)","v":1},{"$f":"IF(SPORTSMANS!AH3=701,\"WON\",\"LOST\")","v":"WON"},{"$f":"IF(SPORTSMANS!AH3>0,1,0)","v":1},{"$f":"IF(SPORTSMANS!AL3=701,\"WON\",\"LOST\")","v":"WON"},{"$f":"IF(SPORTSMANS!AL3>0,1,0)","v":1},{"$f":"IF(SPORTSMANS!AP3=701,\"WON\",\"LOST\")","v":"WON"},{"$f":"IF(SPORTSMANS!AP3>0,1,0)","v":1},{"$f":"IF(SPORTSMANS!AT3=701,\"WON\",\"LOST\")","v":"WON"},{"$f":"IF(SPORTSMANS!AT3>0,1,0)","v":1},{"$f":"IF(SPORTSMANS!AX3=701,\"WON\",\"LOST\")","v":"WON"},{"$f":"IF(SPORTSMANS!AX3>0,1,0)","v":1},{"$f":"IF(SPORTSMANS!BB3=701,\"WON\",\"LOST\")","v":"WON"},{"$f":"IF(SPORTSMANS!BB3>0,1,0)","v":1},{"$f":"IF(SPORTSMANS!BF3=701,\"WON\",\"LOST\")","v":"LOST"},{"$f":"IF(SPORTSMANS!BF3>0,1,0)","v":1},{"$f":"IF(SPORTSMANS!BJ3=701,\"WON\",\"LOST\")","v":"LOST"},{"$f":"IF(SPORTSMANS!BJ3>0,1,0)","v":0},{"$f":"IF(SPORTSMANS!BN3=701,\"WON\",\"LOST\")","v":"WON"},{"$f":"IF(SPORTSMANS!BN3>0,1,0)","v":1},{"$f":"IF(SPORTSMANS!BR3=701,\"WON\",\"LOST\")","v":"WON"},{"$f":"IF(SPORTSMANS!BR3>0,1,0)","v":1},{"$f":"IF(SPORTSMANS!BV3=701,\"WON\",\"LOST\")","v":"LOST"},{"$f":"IF(SPORTSMANS!BV3>0,1,0)","v":0},{"$f":"IF(SPORTSMANS!BZ3=701,\"WON\",\"LOST\")","v":"LOST"},{"$f":"IF(SPORTSMANS!BZ3>0,1,0)","v":0},{"$f":"IF(SPORTSMANS!CD3=701,\"WON\",\"LOST\")","v":"LOST"},{"$f":"IF(SPORTSMANS!CD3>0,1,0)","v":0},{"$f":"IF(SPORTSMANS!CH3=701,\"WON\",\"LOST\")","v":"LOST"},{"$f":"IF(SPORTSMANS!CH3>0,1,0)","v":0}]
[null,{"$f":"IF(SPORTSMANS!B4=701,\"WON\",\"LOST\")","v":"WON"},{"$f":"IF(SPORTSMANS!B4>0,1,0)","v":1},{"$f":"IF(SPORTSMANS!F4=701,\"WON\",\"LOST\")","v":"LOST"},{"$f":"IF(SPORTSMANS!F4>0,1,0)","v":1},{"$f":"IF(SPORTSMANS!J4=701,\"WON\",\"LOST\")","v":"WON"},{"$f":"IF(SPORTSMANS!J4>0,1,0)","v":1},{"$f":"IF(SPORTSMANS!N4=701,\"WON\",\"LOST\")","v":"LOST"},{"$f":"IF(SPORTSMANS!N4>0,1,0)","v":1},{"$f":"IF(SPORTSMANS!R4=701,\"WON\",\"LOST\")","v":"LOST"},{"$f":"IF(SPORTSMANS!R4>0,1,0)","v":1},{"$f":"IF(SPORTSMANS!V4=701,\"WON\",\"LOST\")","v":"LOST"},{"$f":"IF(SPORTSMANS!V4>0,1,0)","v":1},{"$f":"IF(SPORTSMANS!Z4=701,\"WON\",\"LOST\")","v":"LOST"},{"$f":"IF(SPORTSMANS!Z4>0,1,0)","v":0},{"$f":"IF(SPORTSMANS!AD4=701,\"WON\",\"LOST\")","v":"LOST"},{"$f":"IF(SPORTSMANS!AD4>0,1,0)","v":1},{"$f":"IF(SPORTSMANS!AH4=701,\"WON\",\"LOST\")","v":"WON"},{"$f":"IF(SPORTSMANS!AH4>0,1,0)","v":1},{"$f":"IF(SPORTSMANS!AL4=701,\"WON\",\"LOST\")","v":"WON"},{"$f":"IF(SPORTSMANS!AL4>0,1,0)","v":1},{"$f":"IF(SPORTSMANS!AP4=701,\"WON\",\"LOST\")","v":"LOST"},{"$f":"IF(SPORTSMANS!AP4>0,1,0)","v":1},{"$f":"IF(SPORTSMANS!AT4=701,\"WON\",\"LOST\")","v":"WON"},{"$f":"IF(SPORTSMANS!AT4>0,1,0)","v":1},{"$f":"IF(SPORTSMANS!AX4=701,\"WON\",\"LOST\")","v":"LOST"},{"$f":"IF(SPORTSMANS!AX4>0,1,0)","v":1},{"$f":"IF(SPORTSMANS!BB4=701,\"WON\",\"LOST\")","v":"WON"},{"$f":"IF(SPORTSMANS!BB4>0,1,0)","v":1},{"$f":"IF(SPORTSMANS!BF4=701,\"WON\",\"LOST\")","v":"LOST"},{"$f":"IF(SPORTSMANS!BF4>0,1,0)","v":1},{"$f":"IF(SPORTSMANS!BJ4=701,\"WON\",\"LOST\")","v":"LOST"},{"$f":"IF(SPORTSMANS!BJ4>0,1,0)","v":0},{"$f":"IF(SPORTSMANS!BN4=701,\"WON\",\"LOST\")","v":"WON"},{"$f":"IF(SPORTSMANS!BN4>0,1,0)","v":1},{"$f":"IF(SPORTSMANS!BR4=701,\"WON\",\"LOST\")","v":"WON"},{"$f":"IF(SPORTSMANS!BR4>0,1,0)","v":1},{"$f":"IF(SPORTSMANS!BV4=701,\"WON\",\"LOST\")","v":"LOST"},{"$f":"IF(SPORTSMANS!BV4>0,1,0)","v":0},{"$f":"IF(SPORTSMANS!BZ4=701,\"WON\",\"LOST\")","v":"LOST"},{"$f":"IF(SPORTSMANS!BZ4>0,1,0)","v":0},{"$f":"IF(SPORTSMANS!CD4=701,\"WON\",\"LOST\")","v":"LOST"},{"$f":"IF(SPORTSMANS!CD4>0,1,0)","v":0},{"$f":"IF(SPORTSMANS!CH4=701,\"WON\",\"LOST\")","v":"LOST"},{"$f":"IF(SPORTSMANS!CH4>0,1,0)","v":0}]
[null,{"$f":"IF(SPORTSMANS!B5=701,\"WON\",\"LOST\")","v":"WON"},{"$f":"IF(SPORTSMANS!B5>0,1,0)","v":1},{"$f":"IF(SPORTSMANS!F5=701,\"WON\",\"LOST\")","v":"LOST"},{"$f":"IF(SPORTSMANS!F5>0,1,0)","v":1},{"$f":"IF(SPORTSMANS!J5=701,\"WON\",\"LOST\")","v":"WON"},{"$f":"IF(SPORTSMANS!J5>0,1,0)","v":1},{"$f":"IF(SPORTSMANS!N5=701,\"WON\",\"LOST\")","v":"LOST"},{"$f":"IF(SPORTSMANS!N5>0,1,0)","v":1},{"$f":"IF(SPORTSMANS!R5=701,\"WON\",\"LOST\")","v":"LOST"},{"$f":"IF(SPORTSMANS!R5>0,1,0)","v":1},{"$f":"IF(SPORTSMANS!V5=701,\"WON\",\"LOST\")","v":"LOST"},{"$f":"IF(SPORTSMANS!V5>0,1,0)","v":1},{"$f":"IF(SPORTSMANS!Z5=701,\"WON\",\"LOST\")","v":"LOST"},{"$f":"IF(SPORTSMANS!Z5>0,1,0)","v":0},{"$f":"IF(SPORTSMANS!AD5=701,\"WON\",\"LOST\")","v":"LOST"},{"$f":"IF(SPORTSMANS!AD5>0,1,0)","v":1},{"$f":"IF(SPORTSMANS!AH5=701,\"WON\",\"LOST\")","v":"LOST"},{"$f":"IF(SPORTSMANS!AH5>0,1,0)","v":1},{"$f":"IF(SPORTSMANS!AL5=701,\"WON\",\"LOST\")","v":"WON"},{"$f":"IF(SPORTSMANS!AL5>0,1,0)","v":1},{"$f":"IF(SPORTSMANS!AP5=701,\"WON\",\"LOST\")","v":"LOST"},{"$f":"IF(SPORTSMANS!AP5>0,1,0)","v":1},{"$f":"IF(SPORTSMANS!AT5=701,\"WON\",\"LOST\")","v":"WON"},{"$f":"IF(SPORTSMANS!AT5>0,1,0)","v":1},{"$f":"IF(SPORTSMANS!AX5=701,\"WON\",\"LOST\")","v":"WON"},{"$f":"IF(SPORTSMANS!AX5>0,1,0)","v":1},{"$f":"IF(SPORTSMANS!BB5=701,\"WON\",\"LOST\")","v":"WON"},{"$f":"IF(SPORTSMANS!BB5>0,1,0)","v":1},{"$f":"IF(SPORTSMANS!BF5=701,\"WON\",\"LOST\")","v":"WON"},{"$f":"IF(SPORTSMANS!BF5>0,1,0)","v":1},{"$f":"IF(SPORTSMANS!BJ5=701,\"WON\",\"LOST\")","v":"LOST"},{"$f":"IF(SPORTSMANS!BJ5>0,1,0)","v":0},{"$f":"IF(SPORTSMANS!BN5=701,\"WON\",\"LOST\")","v":"LOST"},{"$f":"IF(SPORTSMANS!BN5>0,1,0)","v":1},{"$f":"IF(SPORTSMANS!BR5=701,\"WON\",\"LOST\")","v":"WON"},{"$f":"IF(SPORTSMANS!BR5>0,1,0)","v":1},{"$f":"IF(SPORTSMANS!BV5=701,\"WON\",\"LOST\")","v":"LOST"},{"$f":"IF(SPORTSMANS!BV5>0,1,0)","v":0},{"$f":"IF(SPORTSMANS!BZ5=701,\"WON\",\"LOST\")","v":"LOST"},{"$f":"IF(SPORTSMANS!BZ5>0,1,0)","v":0},{"$f":"IF(SPORTSMANS!CD5=701,\"WON\",\"LOST\")","v":"LOST"},{"$f":"IF(SPORTSMANS!CD5>0,1,0)","v":0},{"$f":"IF(SPORTSMANS!CH5=701,\"WON\",\"LOST\")","v":"LOST"},{"$f":"IF(SPORTSMANS!CH5>0,1,0)","v":0}]
[null,{"$f":"IF(SPORTSMANS!B6=701,\"WON\",\"LOST\")","v":"LOST"},{"$f":"IF(SPORTSMANS!B6>0,1,0)","v":0},{"$f":"IF(SPORTSMANS!F6=701,\"WON\",\"LOST\")","v":"LOST"},{"$f":"IF(SPORTSMANS!F6>0,1,0)","v":0},{"$f":"IF(SPORTSMANS!J6=701,\"WON\",\"LOST\")","v":"LOST"},{"$f":"IF(SPORTSMANS!J6>0,1,0)","v":0},{"$f":"IF(SPORTSMANS!N6=701,\"WON\",\"LOST\")","v":"LOST"},{"$f":"IF(SPORTSMANS!N6>0,1,0)","v":0},{"$f":"IF(SPORTSMANS!R6=701,\"WON\",\"LOST\")","v":"LOST"},{"$f":"IF(SPORTSMANS!R6>0,1,0)","v":1},{"$f":"IF(SPORTSMANS!V6=701,\"WON\",\"LOST\")","v":"LOST"},{"$f":"IF(SPORTSMANS!V6>0,1,0)","v":0},{"$f":"IF(SPORTSMANS!Z6=701,\"WON\",\"LOST\")","v":"LOST"},{"$f":"IF(SPORTSMANS!Z6>0,1,0)","v":0},{"$f":"IF(SPORTSMANS!AD6=701,\"WON\",\"LOST\")","v":"LOST"},{"$f":"IF(SPORTSMANS!AD6>0,1,0)","v":0},{"$f":"IF(SPORTSMANS!AH6=701,\"WON\",\"LOST\")","v":"LOST"},{"$f":"IF(SPORTSMANS!AH6>0,1,0)","v":0},{"$f":"IF(SPORTSMANS!AL6=701,\"WON\",\"LOST\")","v":"LOST"},{"$f":"IF(SPORTSMANS!AL6>0,1,0)","v":0},{"$f":"IF(SPORTSMANS!AP6=701,\"WON\",\"LOST\")","v":"LOST"},{"$f":"IF(SPORTSMANS!AP6>0,1,0)","v":1},{"$f":"IF(SPORTSMANS!AT6=701,\"WON\",\"LOST\")","v":"LOST"},{"$f":"IF(SPORTSMANS!AT6>0,1,0)","v":1},{"$f":"IF(SPORTSMANS!AX6=701,\"WON\",\"LOST\")","v":"LOST"},{"$f":"IF(SPORTSMANS!AX6>0,1,0)","v":0},{"$f":"IF(SPORTSMANS!BB6=701,\"WON\",\"LOST\")","v":"LOST"},{"$f":"IF(SPORTSMANS!BB6>0,1,0)","v":0},{"$f":"IF(SPORTSMANS!BF6=701,\"WON\",\"LOST\")","v":"LOST"},{"$f":"IF(SPORTSMANS!BF6>0,1,0)","v":0},{"$f":"IF(SPORTSMANS!BJ6=701,\"WON\",\"LOST\")","v":"LOST"},{"$f":"IF(SPORTSMANS!BJ6>0,1,0)","v":0},{"$f":"IF(SPORTSMANS!BN6=701,\"WON\",\"LOST\")","v":"LOST"},{"$f":"IF(SPORTSMANS!BN6>0,1,0)","v":0},{"$f":"IF(SPORTSMANS!BR6=701,\"WON\",\"LOST\")","v":"LOST"},{"$f":"IF(SPORTSMANS!BR6>0,1,0)","v":0},{"$f":"IF(SPORTSMANS!BV6=701,\"WON\",\"LOST\")","v":"LOST"},{"$f":"IF(SPORTSMANS!BV6>0,1,0)","v":0},{"$f":"IF(SPORTSMANS!BZ6=701,\"WON\",\"LOST\")","v":"LOST"},{"$f":"IF(SPORTSMANS!BZ6>0,1,0)","v":0},{"$f":"IF(SPORTSMANS!CD6=701,\"WON\",\"LOST\")","v":"LOST"},{"$f":"IF(SPORTSMANS!CD6>0,1,0)","v":0},{"$f":"IF(SPORTSMANS!CH6=701,\"WON\",\"LOST\")","v":"LOST"},{"$f":"IF(SPORTSMANS!CH6>0,1,0)","v":0}]
[null,{"$f":"IF(SPORTSMANS!B7=701,\"WON\",\"LOST\")","v":"WON"},{"$f":"IF(SPORTSMANS!B7>0,1,0)","v":1},{"$f":"IF(SPORTSMANS!F7=701,\"WON\",\"LOST\")","v":"WON"},{"$f":"IF(SPORTSMANS!F7>0,1,0)","v":1},{"$f":"IF(SPORTSMANS!J7=701,\"WON\",\"LOST\")","v":"LOST"},{"$f":"IF(SPORTSMANS!J7>0,1,0)","v":1},{"$f":"IF(SPORTSMANS!N7=701,\"WON\",\"LOST\")","v":"WON"},{"$f":"IF(SPORTSMANS!N7>0,1,0)","v":1},{"$f":"IF(SPORTSMANS!R7=701,\"WON\",\"LOST\")","v":"LOST"},{"$f":"IF(SPORTSMANS!R7>0,1,0)","v":0},{"$f":"IF(SPORTSMANS!V7=701,\"WON\",\"LOST\")","v":"WON"},{"$f":"IF(SPORTSMANS!V7>0,1,0)","v":1},{"$f":"IF(SPORTSMANS!Z7=701,\"WON\",\"LOST\")","v":"LOST"},{"$f":"IF(SPORTSMANS!Z7>0,1,0)","v":0},{"$f":"IF(SPORTSMANS!AD7=701,\"WON\",\"LOST\")","v":"WON"},{"$f":"IF(SPORTSMANS!AD7>0,1,0)","v":1},{"$f":"IF(SPORTSMANS!AH7=701,\"WON\",\"LOST\")","v":"WON"},{"$f":"IF(SPORTSMANS!AH7>0,1,0)","v":1},{"$f":"IF(SPORTSMANS!AL7=701,\"WON\",\"LOST\")","v":"WON"},{"$f":"IF(SPORTSMANS!AL7>0,1,0)","v":1},{"$f":"IF(SPORTSMANS!AP7=701,\"WON\",\"LOST\")","v":"WON"},{"$f":"IF(SPORTSMANS!AP7>0,1,0)","v":1},{"$f":"IF(SPORTSMANS!AT7=701,\"WON\",\"LOST\")","v":"WON"},{"$f":"IF(SPORTSMANS!AT7>0,1,0)","v":1},{"$f":"IF(SPORTSMANS!AX7=701,\"WON\",\"LOST\")","v":"WON"},{"$f":"IF(SPORTSMANS!AX7>0,1,0)","v":1},{"$f":"IF(SPORTSMANS!BB7=701,\"WON\",\"LOST\")","v":"WON"},{"$f":"IF(SPORTSMANS!BB7>0,1,0)","v":1},{"$f":"IF(SPORTSMANS!BF7=701,\"WON\",\"LOST\")","v":"WON"},{"$f":"IF(SPORTSMANS!BF7>0,1,0)","v":1},{"$f":"IF(SPORTSMANS!BJ7=701,\"WON\",\"LOST\")","v":"LOST"},{"$f":"IF(SPORTSMANS!BJ7>0,1,0)","v":0},{"$f":"IF(SPORTSMANS!BN7=701,\"WON\",\"LOST\")","v":"WON"},{"$f":"IF(SPORTSMANS!BN7>0,1,0)","v":1},{"$f":"IF(SPORTSMANS!BR7=701,\"WON\",\"LOST\")","v":"WON"},{"$f":"IF(SPORTSMANS!BR7>0,1,0)","v":1},{"$f":"IF(SPORTSMANS!BV7=701,\"WON\",\"LOST\")","v":"LOST"},{"$f":"IF(SPORTSMANS!BV7>0,1,0)","v":0},{"$f":"IF(SPORTSMANS!BZ7=701,\"WON\",\"LOST\")","v":"LOST"},{"$f":"IF(SPORTSMANS!BZ7>0,1,0)","v":0},{"$f":"IF(SPORTSMANS!CD7=701,\"WON\",\"LOST\")","v":"LOST"},{"$f":"IF(SPORTSMANS!CD7>0,1,0)","v":0},{"$f":"IF(SPORTSMANS!CH7=701,\"WON\",\"LOST\")","v":"LOST"},{"$f":"IF(SPORTSMANS!CH7>0,1,0)","v":0}]
[null,{"$f":"IF(SPORTSMANS!B8=701,\"WON\",\"LOST\")","v":"LOST"},{"$f":"IF(SPORTSMANS!B8>0,1,0)","v":1},{"$f":"IF(SPORTSMANS!F8=701,\"WON\",\"LOST\")","v":"WON"},{"$f":"IF(SPORTSMANS!F8>0,1,0)","v":1},{"$f":"IF(SPORTSMANS!J8=701,\"WON\",\"LOST\")","v":"WON"},{"$f":"IF(SPORTSMANS!J8>0,1,0)","v":1},{"$f":"IF(SPORTSMANS!N8=701,\"WON\",\"LOST\")","v":"WON"},{"$f":"IF(SPORTSMANS!N8>0,1,0)","v":1},{"$f":"IF(SPORTSMANS!R8=701,\"WON\",\"LOST\")","v":"LOST"},{"$f":"IF(SPORTSMANS!R8>0,1,0)","v":1},{"$f":"IF(SPORTSMANS!V8=701,\"WON\",\"LOST\")","v":"LOST"},{"$f":"IF(SPORTSMANS!V8>0,1,0)","v":1},{"$f":"IF(SPORTSMANS!Z8=701,\"WON\",\"LOST\")","v":"LOST"},{"$f":"IF(SPORTSMANS!Z8>0,1,0)","v":0},{"$f":"IF(SPORTSMANS!AD8=701,\"WON\",\"LOST\")","v":"LOST"},{"$f":"IF(SPORTSMANS!AD8>0,1,0)","v":1},{"$f":"IF(SPORTSMANS!AH8=701,\"WON\",\"LOST\")","v":"WON"},{"$f":"IF(SPORTSMANS!AH8>0,1,0)","v":1},{"$f":"IF(SPORTSMANS!AL8=701,\"WON\",\"LOST\")","v":"LOST"},{"$f":"IF(SPORTSMANS!AL8>0,1,0)","v":0},{"$f":"IF(SPORTSMANS!AP8=701,\"WON\",\"LOST\")","v":"WON"},{"$f":"IF(SPORTSMANS!AP8>0,1,0)","v":1},{"$f":"IF(SPORTSMANS!AT8=701,\"WON\",\"LOST\")","v":"LOST"},{"$f":"IF(SPORTSMANS!AT8>0,1,0)","v":0},{"$f":"IF(SPORTSMANS!AX8=701,\"WON\",\"LOST\")","v":"LOST"},{"$f":"IF(SPORTSMANS!AX8>0,1,0)","v":1},{"$f":"IF(SPORTSMANS!BB8=701,\"WON\",\"LOST\")","v":"WON"},{"$f":"IF(SPORTSMANS!BB8>0,1,0)","v":1},{"$f":"IF(SPORTSMANS!BF8=701,\"WON\",\"LOST\")","v":"WON"},{"$f":"IF(SPORTSMANS!BF8>0,1,0)","v":1},{"$f":"IF(SPORTSMANS!BJ8=701,\"WON\",\"LOST\")","v":"LOST"},{"$f":"IF(SPORTSMANS!BJ8>0,1,0)","v":0},{"$f":"IF(SPORTSMANS!BN8=701,\"WON\",\"LOST\")","v":"LOST"},{"$f":"IF(SPORTSMANS!BN8>0,1,0)","v":0},{"$f":"IF(SPORTSMANS!BR8=701,\"WON\",\"LOST\")","v":"WON"},{"$f":"IF(SPORTSMANS!BR8>0,1,0)","v":1},{"$f":"IF(SPORTSMANS!BV8=701,\"WON\",\"LOST\")","v":"LOST"},{"$f":"IF(SPORTSMANS!BV8>0,1,0)","v":0},{"$f":"IF(SPORTSMANS!BZ8=701,\"WON\",\"LOST\")","v":"LOST"},{"$f":"IF(SPORTSMANS!BZ8>0,1,0)","v":0},{"$f":"IF(SPORTSMANS!CD8=701,\"WON\",\"LOST\")","v":"LOST"},{"$f":"IF(SPORTSMANS!CD8>0,1,0)","v":0},{"$f":"IF(SPORTSMANS!CH8=701,\"WON\",\"LOST\")","v":"LOST"},{"$f":"IF(SPORTSMANS!CH8>0,1,0)","v":0}]
[null,{"$f":"IF(SPORTSMANS!B9=701,\"WON\",\"LOST\")","v":"WON"},{"$f":"IF(SPORTSMANS!B9>0,1,0)","v":1},{"$f":"IF(SPORTSMANS!F9=701,\"WON\",\"LOST\")","v":"WON"},{"$f":"IF(SPORTSMANS!F9>0,1,0)","v":1},{"$f":"IF(SPORTSMANS!J9=701,\"WON\",\"LOST\")","v":"WON"},{"$f":"IF(SPORTSMANS!J9>0,1,0)","v":1},{"$f":"IF(SPORTSMANS!N9=701,\"WON\",\"LOST\")","v":"WON"},{"$f":"IF(SPORTSMANS!N9>0,1,0)","v":1},{"$f":"IF(SPORTSMANS!R9=701,\"WON\",\"LOST\")","v":"WON"},{"$f":"IF(SPORTSMANS!R9>0,1,0)","v":1},{"$f":"IF(SPORTSMANS!V9=701,\"WON\",\"LOST\")","v":"WON"},{"$f":"IF(SPORTSMANS!V9>0,1,0)","v":1},{"$f":"IF(SPORTSMANS!Z9=701,\"WON\",\"LOST\")","v":"LOST"},{"$f":"IF(SPORTSMANS!Z9>0,1,0)","v":0},{"$f":"IF(SPORTSMANS!AD9=701,\"WON\",\"LOST\")","v":"LOST"},{"$f":"IF(SPORTSMANS!AD9>0,1,0)","v":1},{"$f":"IF(SPORTSMANS!AH9=701,\"WON\",\"LOST\")","v":"WON"},{"$f":"IF(SPORTSMANS!AH9>0,1,0)","v":1},{"$f":"IF(SPORTSMANS!AL9=701,\"WON\",\"LOST\")","v":"WON"},{"$f":"IF(SPORTSMANS!AL9>0,1,0)","v":1},{"$f":"IF(SPORTSMANS!AP9=701,\"WON\",\"LOST\")","v":"LOST"},{"$f":"IF(SPORTSMANS!AP9>0,1,0)","v":0},{"$f":"IF(SPORTSMANS!AT9=701,\"WON\",\"LOST\")","v":"LOST"},{"$f":"IF(SPORTSMANS!AT9>0,1,0)","v":1},{"$f":"IF(SPORTSMANS!AX9=701,\"WON\",\"LOST\")","v":"WON"},{"$f":"IF(SPORTSMANS!AX9>0,1,0)","v":1},{"$f":"IF(SPORTSMANS!BB9=701,\"WON\",\"LOST\")","v":"WON"},{"$f":"IF(SPORTSMANS!BB9>0,1,0)","v":1},{"$f":"IF(SPORTSMANS!BF9=701,\"WON\",\"LOST\")","v":"WON"},{"$f":"IF(SPORTSMANS!BF9>0,1,0)","v":1},{"$f":"IF(SPORTSMANS!BJ9=701,\"WON\",\"LOST\")","v":"LOST"},{"$f":"IF(SPORTSMANS!BJ9>0,1,0)","v":0},{"$f":"IF(SPORTSMANS!BN9=701,\"WON\",\"LOST\")","v":"LOST"},{"$f":"IF(SPORTSMANS!BN9>0,1,0)","v":1},{"$f":"IF(SPORTSMANS!BR9=701,\"WON\",\"LOST\")","v":"WON"},{"$f":"IF(SPORTSMANS!BR9>0,1,0)","v":1},{"$f":"IF(SPORTSMANS!BV9=701,\"WON\",\"LOST\")","v":"LOST"},{"$f":"IF(SPORTSMANS!BV9>0,1,0)","v":0},{"$f":"IF(SPORTSMANS!BZ9=701,\"WON\",\"LOST\")","v":"LOST"},{"$f":"IF(SPORTSMANS!BZ9>0,1,0)","v":0},{"$f":"IF(SPORTSMANS!CD9=701,\"WON\",\"LOST\")","v":"LOST"},{"$f":"IF(SPORTSMANS!CD9>0,1,0)","v":0},{"$f":"IF(SPORTSMANS!CH9=701,\"WON\",\"LOST\")","v":"LOST"},{"$f":"IF(SPORTSMANS!CH9>0,1,0)","v":0}]
[null,{"$f":"IF(SPORTSMANS!B10=701,\"WON\",\"LOST\")","v":"LOST"},{"$f":"IF(SPORTSMANS!B10>0,1,0)","v":0},{"$f":"IF(SPORTSMANS!F10=701,\"WON\",\"LOST\")","v":"LOST"},{"$f":"IF(SPORTSMANS!F10>0,1,0)","v":0},{"$f":"IF(SPORTSMANS!J10=701,\"WON\",\"LOST\")","v":"LOST"},{"$f":"IF(SPORTSMANS!J10>0,1,0)","v":0},{"$f":"IF(SPORTSMANS!N10=701,\"WON\",\"LOST\")","v":"LOST"},{"$f":"IF(SPORTSMANS!N10>0,1,0)","v":0},{"$f":"IF(SPORTSMANS!R10=701,\"WON\",\"LOST\")","v":"LOST"},{"$f":"IF(SPORTSMANS!R10>0,1,0)","v":0},{"$f":"IF(SPORTSMANS!V10=701,\"WON\",\"LOST\")","v":"LOST"},{"$f":"IF(SPORTSMANS!V10>0,1,0)","v":0},{"$f":"IF(SPORTSMANS!Z10=701,\"WON\",\"LOST\")","v":"LOST"},{"$f":"IF(SPORTSMANS!Z10>0,1,0)","v":0},{"$f":"IF(SPORTSMANS!AD10=701,\"WON\",\"LOST\")","v":"LOST"},{"$f":"IF(SPORTSMANS!AD10>0,1,0)","v":0},{"$f":"IF(SPORTSMANS!AH10=701,\"WON\",\"LOST\")","v":"LOST"},{"$f":"IF(SPORTSMANS!AH10>0,1,0)","v":0},{"$f":"IF(SPORTSMANS!AL10=701,\"WON\",\"LOST\")","v":"LOST"},{"$f":"IF(SPORTSMANS!AL10>0,1,0)","v":0},{"$f":"IF(SPORTSMANS!AP10=701,\"WON\",\"LOST\")","v":"LOST"},{"$f":"IF(SPORTSMANS!AP10>0,1,0)","v":0},{"$f":"IF(SPORTSMANS!AT10=701,\"WON\",\"LOST\")","v":"LOST"},{"$f":"IF(SPORTSMANS!AT10>0,1,0)","v":0},{"$f":"IF(SPORTSMANS!AX10=701,\"WON\",\"LOST\")","v":"LOST"},{"$f":"IF(SPORTSMANS!AX10>0,1,0)","v":0},{"$f":"IF(SPORTSMANS!BB10=701,\"WON\",\"LOST\")","v":"LOST"},{"$f":"IF(SPORTSMANS!BB10>0,1,0)","v":0},{"$f":"IF(SPORTSMANS!BF10=701,\"WON\",\"LOST\")","v":"LOST"},{"$f":"IF(SPORTSMANS!BF10>0,1,0)","v":0},{"$f":"IF(SPORTSMANS!BJ10=701,\"WON\",\"LOST\")","v":"LOST"},{"$f":"IF(SPORTSMANS!BJ10>0,1,0)","v":0},{"$f":"IF(SPORTSMANS!BN10=701,\"WON\",\"LOST\")","v":"LOST"},{"$f":"IF(SPORTSMANS!BN10>0,1,0)","v":0},{"$f":"IF(SPORTSMANS!BR10=701,\"WON\",\"LOST\")","v":"LOST"},{"$f":"IF(SPORTSMANS!BR10>0,1,0)","v":0},{"$f":"IF(SPORTSMANS!BV10=701,\"WON\",\"LOST\")","v":"LOST"},{"$f":"IF(SPORTSMANS!BV10>0,1,0)","v":0},{"$f":"IF(SPORTSMANS!BZ10=701,\"WON\",\"LOST\")","v":"LOST"},{"$f":"IF(SPORTSMANS!BZ10>0,1,0)","v":0},{"$f":"IF(SPORTSMANS!CD10=701,\"WON\",\"LOST\")","v":"LOST"},{"$f":"IF(SPORTSMANS!CD10>0,1,0)","v":0},{"$f":"IF(SPORTSMANS!CH10=701,\"WON\",\"LOST\")","v":"LOST"},{"$f":"IF(SPORTSMANS!CH10>0,1,0)","v":0}]
[null,{"$f":"IF(SPORTSMANS!B11=701,\"WON\",\"LOST\")","v":"LOST"},{"$f":"IF(SPORTSMANS!B11>0,1,0)","v":0},{"$f":"IF(SPORTSMANS!F11=701,\"WON\",\"LOST\")","v":"LOST"},{"$f":"IF(SPORTSMANS!F11>0,1,0)","v":0},{"$f":"IF(SPORTSMANS!J11=701,\"WON\",\"LOST\")","v":"LOST"},{"$f":"IF(SPORTSMANS!J11>0,1,0)","v":0},{"$f":"IF(SPORTSMANS!N11=701,\"WON\",\"LOST\")","v":"LOST"},{"$f":"IF(SPORTSMANS!N11>0,1,0)","v":0},{"$f":"IF(SPORTSMANS!R11=701,\"WON\",\"LOST\")","v":"LOST"},{"$f":"IF(SPORTSMANS!R11>0,1,0)","v":0},{"$f":"IF(SPORTSMANS!V11=701,\"WON\",\"LOST\")","v":"LOST"},{"$f":"IF(SPORTSMANS!V11>0,1,0)","v":0},{"$f":"IF(SPORTSMANS!Z11=701,\"WON\",\"LOST\")","v":"LOST"},{"$f":"IF(SPORTSMANS!Z11>0,1,0)","v":0},{"$f":"IF(SPORTSMANS!AD11=701,\"WON\",\"LOST\")","v":"LOST"},{"$f":"IF(SPORTSMANS!AD11>0,1,0)","v":0},{"$f":"IF(SPORTSMANS!AH11=701,\"WON\",\"LOST\")","v":"LOST"},{"$f":"IF(SPORTSMANS!AH11>0,1,0)","v":0},{"$f":"IF(SPORTSMANS!AL11=701,\"WON\",\"LOST\")","v":"LOST"},{"$f":"IF(SPORTSMANS!AL11>0,1,0)","v":0},{"$f":"IF(SPORTSMANS!AP11=701,\"WON\",\"LOST\")","v":"LOST"},{"$f":"IF(SPORTSMANS!AP11>0,1,0)","v":0},{"$f":"IF(SPORTSMANS!AT11=701,\"WON\",\"LOST\")","v":"LOST"},{"$f":"IF(SPORTSMANS!AT11>0,1,0)","v":0},{"$f":"IF(SPORTSMANS!AX11=701,\"WON\",\"LOST\")","v":"LOST"},{"$f":"IF(SPORTSMANS!AX11>0,1,0)","v":0},{"$f":"IF(SPORTSMANS!BB11=701,\"WON\",\"LOST\")","v":"LOST"},{"$f":"IF(SPORTSMANS!BB11>0,1,0)","v":0},{"$f":"IF(SPORTSMANS!BF11=701,\"WON\",\"LOST\")","v":"LOST"},{"$f":"IF(SPORTSMANS!BF11>0,1,0)","v":0},{"$f":"IF(SPORTSMANS!BJ11=701,\"WON\",\"LOST\")","v":"LOST"},{"$f":"IF(SPORTSMANS!BJ11>0,1,0)","v":0},{"$f":"IF(SPORTSMANS!BN11=701,\"WON\",\"LOST\")","v":"LOST"},{"$f":"IF(SPORTSMANS!BN11>0,1,0)","v":0},{"$f":"IF(SPORTSMANS!BR11=701,\"WON\",\"LOST\")","v":"LOST"},{"$f":"IF(SPORTSMANS!BR11>0,1,0)","v":0},{"$f":"IF(SPORTSMANS!BV11=701,\"WON\",\"LOST\")","v":"LOST"},{"$f":"IF(SPORTSMANS!BV11>0,1,0)","v":0},{"$f":"IF(SPORTSMANS!BZ11=701,\"WON\",\"LOST\")","v":"LOST"},{"$f":"IF(SPORTSMANS!BZ11>0,1,0)","v":0},{"$f":"IF(SPORTSMANS!CD11=701,\"WON\",\"LOST\")","v":"LOST"},{"$f":"IF(SPORTSMANS!CD11>0,1,0)","v":0},{"$f":"IF(SPORTSMANS!CH11=701,\"WON\",\"LOST\")","v":"LOST"},{"$f":"IF(SPORTSMANS!CH11>0,1,0)","v":0}]
[null,{"$f":"IF(SPORTSMANS!B12=701,\"WON\",\"LOST\")","v":"LOST"},{"$f":"IF(SPORTSMANS!B12>0,1,0)","v":0},{"$f":"IF(SPORTSMANS!F12=701,\"WON\",\"LOST\")","v":"LOST"},{"$f":"IF(SPORTSMANS!F12>0,1,0)","v":0},{"$f":"IF(SPORTSMANS!J12=701,\"WON\",\"LOST\")","v":"LOST"},{"$f":"IF(SPORTSMANS!J12>0,1,0)","v":0},{"$f":"IF(SPORTSMANS!N12=701,\"WON\",\"LOST\")","v":"LOST"},{"$f":"IF(SPORTSMANS!N12>0,1,0)","v":0},{"$f":"IF(SPORTSMANS!R12=701,\"WON\",\"LOST\")","v":"LOST"},{"$f":"IF(SPORTSMANS!R12>0,1,0)","v":0},{"$f":"IF(SPORTSMANS!V12=701,\"WON\",\"LOST\")","v":"LOST"},{"$f":"IF(SPORTSMANS!V12>0,1,0)","v":0},{"$f":"IF(SPORTSMANS!Z12=701,\"WON\",\"LOST\")","v":"LOST"},{"$f":"IF(SPORTSMANS!Z12>0,1,0)","v":0},{"$f":"IF(SPORTSMANS!AD12=701,\"WON\",\"LOST\")","v":"LOST"},{"$f":"IF(SPORTSMANS!AD12>0,1,0)","v":0},{"$f":"IF(SPORTSMANS!AH12=701,\"WON\",\"LOST\")","v":"LOST"},{"$f":"IF(SPORTSMANS!AH12>0,1,0)","v":0},{"$f":"IF(SPORTSMANS!AL12=701,\"WON\",\"LOST\")","v":"LOST"},{"$f":"IF(SPORTSMANS!AL12>0,1,0)","v":1},{"$f":"IF(SPORTSMANS!AP12=701,\"WON\",\"LOST\")","v":"LOST"},{"$f":"IF(SPORTSMANS!AP12>0,1,0)","v":0},{"$f":"IF(SPORTSMANS!AT12=701,\"WON\",\"LOST\")","v":"LOST"},{"$f":"IF(SPORTSMANS!AT12>0,1,0)","v":0},{"$f":"IF(SPORTSMANS!AX12=701,\"WON\",\"LOST\")","v":"LOST"},{"$f":"IF(SPORTSMANS!AX12>0,1,0)","v":0},{"$f":"IF(SPORTSMANS!BB12=701,\"WON\",\"LOST\")","v":"LOST"},{"$f":"IF(SPORTSMANS!BB12>0,1,0)","v":0},{"$f":"IF(SPORTSMANS!BF12=701,\"WON\",\"LOST\")","v":"LOST"},{"$f":"IF(SPORTSMANS!BF12>0,1,0)","v":0},{"$f":"IF(SPORTSMANS!BJ12=701,\"WON\",\"LOST\")","v":"LOST"},{"$f":"IF(SPORTSMANS!BJ12>0,1,0)","v":0},{"$f":"IF(SPORTSMANS!BN12=701,\"WON\",\"LOST\")","v":"WON"},{"$f":"IF(SPORTSMANS!BN12>0,1,0)","v":1},{"$f":"IF(SPORTSMANS!BR12=701,\"WON\",\"LOST\")","v":"LOST"},{"$f":"IF(SPORTSMANS!BR12>0,1,0)","v":0},{"$f":"IF(SPORTSMANS!BV12=701,\"WON\",\"LOST\")","v":"LOST"},{"$f":"IF(SPORTSMANS!BV12>0,1,0)","v":0},{"$f":"IF(SPORTSMANS!BZ12=701,\"WON\",\"LOST\")","v":"LOST"},{"$f":"IF(SPORTSMANS!BZ12>0,1,0)","v":0},{"$f":"IF(SPORTSMANS!CD12=701,\"WON\",\"LOST\")","v":"LOST"},{"$f":"IF(SPORTSMANS!CD12>0,1,0)","v":0},{"$f":"IF(SPORTSMANS!CH12=701,\"WON\",\"LOST\")","v":"LOST"},{"$f":"IF(SPORTSMANS!CH12>0,1,0)","v":0}]
[null,{"$f":"IF(SPORTSMANS!B13=701,\"WON\",\"LOST\")","v":"LOST"},{"$f":"IF(SPORTSMANS!B13>0,1,0)","v":0},{"$f":"IF(SPORTSMANS!F13=701,\"WON\",\"LOST\")","v":"LOST"},{"$f":"IF(SPORTSMANS!F13>0,1,0)","v":0},{"$f":"IF(SPORTSMANS!J13=701,\"WON\",\"LOST\")","v":"LOST"},{"$f":"IF(SPORTSMANS!J13>0,1,0)","v":0},{"$f":"IF(SPORTSMANS!N13=701,\"WON\",\"LOST\")","v":"LOST"},{"$f":"IF(SPORTSMANS!N13>0,1,0)","v":0},{"$f":"IF(SPORTSMANS!R13=701,\"WON\",\"LOST\")","v":"LOST"},{"$f":"IF(SPORTSMANS!R13>0,1,0)","v":0},{"$f":"IF(SPORTSMANS!V13=701,\"WON\",\"LOST\")","v":"LOST"},{"$f":"IF(SPORTSMANS!V13>0,1,0)","v":0},{"$f":"IF(SPORTSMANS!Z13=701,\"WON\",\"LOST\")","v":"LOST"},{"$f":"IF(SPORTSMANS!Z13>0,1,0)","v":0},{"$f":"IF(SPORTSMANS!AD13=701,\"WON\",\"LOST\")","v":"LOST"},{"$f":"IF(SPORTSMANS!AD13>0,1,0)","v":0},{"$f":"IF(SPORTSMANS!AH13=701,\"WON\",\"LOST\")","v":"LOST"},{"$f":"IF(SPORTSMANS!AH13>0,1,0)","v":0},{"$f":"IF(SPORTSMANS!AL13=701,\"WON\",\"LOST\")","v":"LOST"},{"$f":"IF(SPORTSMANS!AL13>0,1,0)","v":0},{"$f":"IF(SPORTSMANS!AP13=701,\"WON\",\"LOST\")","v":"LOST"},{"$f":"IF(SPORTSMANS!AP13>0,1,0)","v":0},{"$f":"IF(SPORTSMANS!AT13=701,\"WON\",\"LOST\")","v":"LOST"},{"$f":"IF(SPORTSMANS!AT13>0,1,0)","v":0},{"$f":"IF(SPORTSMANS!AX13=701,\"WON\",\"LOST\")","v":"LOST"},{"$f":"IF(SPORTSMANS!AX13>0,1,0)","v":0},{"$f":"IF(SPORTSMANS!BB13=701,\"WON\",\"LOST\")","v":"LOST"},{"$f":"IF(SPORTSMANS!BB13>0,1,0)","v":0},{"$f":"IF(SPORTSMANS!BF13=701,\"WON\",\"LOST\")","v":"LOST"},{"$f":"IF(SPORTSMANS!BF13>0,1,0)","v":0},{"$f":"IF(SPORTSMANS!BJ13=701,\"WON\",\"LOST\")","v":"LOST"},{"$f":"IF(SPORTSMANS!BJ13>0,1,0)","v":0},{"$f":"IF(SPORTSMANS!BN13=701,\"WON\",\"LOST\")","v":"LOST"},{"$f":"IF(SPORTSMANS!BN13>0,1,0)","v":0},{"$f":"IF(SPORTSMANS!BR13=701,\"WON\",\"LOST\")","v":"LOST"},{"$f":"IF(SPORTSMANS!BR13>0,1,0)","v":0},{"$f":"IF(SPORTSMANS!BV13=701,\"WON\",\"LOST\")","v":"LOST"},{"$f":"IF(SPORTSMANS!BV13>0,1,0)","v":0},{"$f":"IF(SPORTSMANS!BZ13=701,\"WON\",\"LOST\")","v":"LOST"},{"$f":"IF(SPORTSMANS!BZ13>0,1,0)","v":0},{"$f":"IF(SPORTSMANS!CD13=701,\"WON\",\"LOST\")","v":"LOST"},{"$f":"IF(SPORTSMANS!CD13>0,1,0)","v":0},{"$f":"IF(SPORTSMANS!CH13=701,\"WON\",\"LOST\")","v":"LOST"},{"$f":"IF(SPORTSMANS!CH13>0,1,0)","v":0}]
[null,{"$f":"IF(SPORTSMANS!B14=701,\"WON\",\"LOST\")","v":"LOST"},{"$f":"IF(SPORTSMANS!B14>0,1,0)","v":0},{"$f":"IF(SPORTSMANS!F14=701,\"WON\",\"LOST\")","v":"LOST"},{"$f":"IF(SPORTSMANS!F14>0,1,0)","v":0},{"$f":"IF(SPORTSMANS!J14=701,\"WON\",\"LOST\")","v":"LOST"},{"$f":"IF(SPORTSMANS!J14>0,1,0)","v":0},{"$f":"IF(SPORTSMANS!N14=701,\"WON\",\"LOST\")","v":"LOST"},{"$f":"IF(SPORTSMANS!N14>0,1,0)","v":0},{"$f":"IF(SPORTSMANS!R14=701,\"WON\",\"LOST\")","v":"LOST"},{"$f":"IF(SPORTSMANS!R14>0,1,0)","v":0},{"$f":"IF(SPORTSMANS!V14=701,\"WON\",\"LOST\")","v":"LOST"},{"$f":"IF(SPORTSMANS!V14>0,1,0)","v":0},{"$f":"IF(SPORTSMANS!Z14=701,\"WON\",\"LOST\")","v":"LOST"},{"$f":"IF(SPORTSMANS!Z14>0,1,0)","v":0},{"$f":"IF(SPORTSMANS!AD14=701,\"WON\",\"LOST\")","v":"LOST"},{"$f":"IF(SPORTSMANS!AD14>0,1,0)","v":0},{"$f":"IF(SPORTSMANS!AH14=701,\"WON\",\"LOST\")","v":"LOST"},{"$f":"IF(SPORTSMANS!AH14>0,1,0)","v":0},{"$f":"IF(SPORTSMANS!AL14=701,\"WON\",\"LOST\")","v":"LOST"},{"$f":"IF(SPORTSMANS!AL14>0,1,0)","v":0},{"$f":"IF(SPORTSMANS!AP14=701,\"WON\",\"LOST\")","v":"LOST"},{"$f":"IF(SPORTSMANS!AP14>0,1,0)","v":0},{"$f":"IF(SPORTSMANS!AT14=701,\"WON\",\"LOST\")","v":"LOST"},{"$f":"IF(SPORTSMANS!AT14>0,1,0)","v":0},{"$f":"IF(SPORTSMANS!AX14=701,\"WON\",\"LOST\")","v":"LOST"},{"$f":"IF(SPORTSMANS!AX14>0,1,0)","v":0},{"$f":"IF(SPORTSMANS!BB14=701,\"WON\",\"LOST\")","v":"LOST"},{"$f":"IF(SPORTSMANS!BB14>0,1,0)","v":0},{"$f":"IF(SPORTSMANS!BF14=701,\"WON\",\"LOST\")","v":"LOST"},{"$f":"IF(SPORTSMANS!BF14>0,1,0)","v":0},{"$f":"IF(SPORTSMANS!BJ14=701,\"WON\",\"LOST\")","v":"LOST"},{"$f":"IF(SPORTSMANS!BJ14>0,1,0)","v":0},{"$f":"IF(SPORTSMANS!BN14=701,\"WON\",\"LOST\")","v":"LOST"},{"$f":"IF(SPORTSMANS!BN14>0,1,0)","v":0},{"$f":"IF(SPORTSMANS!BR14=701,\"WON\",\"LOST\")","v":"LOST"},{"$f":"IF(SPORTSMANS!BR14>0,1,0)","v":0},{"$f":"IF(SPORTSMANS!BV14=701,\"WON\",\"LOST\")","v":"LOST"},{"$f":"IF(SPORTSMANS!BV14>0,1,0)","v":0},{"$f":"IF(SPORTSMANS!BZ14=701,\"WON\",\"LOST\")","v":"LOST"},{"$f":"IF(SPORTSMANS!BZ14>0,1,0)","v":0},{"$f":"IF(SPORTSMANS!CD14=701,\"WON\",\"LOST\")","v":"LOST"},{"$f":"IF(SPORTSMANS!CD14>0,1,0)","v":0},{"$f":"IF(SPORTSMANS!CH14=701,\"WON\",\"LOST\")","v":"LOST"},{"$f":"IF(SPORTSMANS!CH14>0,1,0)","v":0}]
[null,{"$f":"IF(SPORTSMANS!B3=\"\",0,(SUM((SPORTSMANS!B3/SPORTSMANS!C3)*3)))","v":41.235294117647058},null,{"$f":"IF(SPORTSMANS!F3=\"\",0,(SUM((SPORTSMANS!F3/SPORTSMANS!G3)*3)))","v":50.3},null,{"$f":"IF(SPORTSMANS!J3=\"\",0,(SUM((SPORTSMANS!J3/SPORTSMANS!K3)*3)))","v":51.333333333333329},null,{"$f":"IF(SPORTSMANS!N3=\"\",0,(SUM((SPORTSMANS!N3/SPORTSMANS!O3)*3)))","v":57.545454545454547},null,{"$f":"IF(SPORTSMANS!R3=\"\",0,(SUM((SPORTSMANS!R3/SPORTSMANS!S3)*3)))","v":77.888888888888886},null,{"$f":"IF(SPORTSMANS!V3=\"\",0,(SUM((SPORTSMANS!V3/SPORTSMANS!W3)*3)))","v":60.085714285714289},null,{"$f":"IF(SPORTSMANS!Z3=\"\",0,(SUM((SPORTSMANS!Z3/SPORTSMANS!AA3)*3)))","v":0},null,{"$f":"IF(SPORTSMANS!AD3=\"\",0,(SUM((SPORTSMANS!AD3/SPORTSMANS!AE3)*3)))","v":65.71875},null,{"$f":"IF(SPORTSMANS!AH3=\"\",0,(SUM((SPORTSMANS!AH3/SPORTSMANS!AI3)*3)))","v":91.434782608695656},null,{"$f":"IF(SPORTSMANS!AL3=\"\",0,(SUM((SPORTSMANS!AL3/SPORTSMANS!AM3)*3)))","v":65.71875},null,{"$f":"IF(SPORTSMANS!AP3=\"\",0,(SUM((SPORTSMANS!AP3/SPORTSMANS!AQ3)*3)))","v":52.574999999999996},null,{"$f":"IF(SPORTSMANS!AT3=\"\",0,(SUM((SPORTSMANS!AT3/SPORTSMANS!AU3)*3)))","v":58.416666666666664},null,{"$f":"IF(SPORTSMANS!AX3=\"\",0,(SUM((SPORTSMANS!AX3/SPORTSMANS!AY3)*3)))","v":55.34210526315789},null,{"$f":"IF(SPORTSMANS!BB3=\"\",0,(SUM((SPORTSMANS!BB3/SPORTSMANS!BC3)*3)))","v":58.416666666666664},null,{"$f":"IF(SPORTSMANS!BF3=\"\",0,(SUM((SPORTSMANS!BF3/SPORTSMANS!BG3)*3)))","v":49.923076923076927},null,{"$f":"IF(SPORTSMANS!BJ3=\"\",0,(SUM((SPORTSMANS!BJ3/SPORTSMANS!BK3)*3)))","v":0},null,{"$f":"IF(SPORTSMANS!BN3=\"\",0,(SUM((SPORTSMANS!BN3/SPORTSMANS!BO3)*3)))","v":60.085714285714289},null,{"$f":"IF(SPORTSMANS!BR3=\"\",0,(SUM((SPORTSMANS!BR3/SPORTSMANS!BS3)*3)))","v":65.71875},null,{"$f":"IF(SPORTSMANS!BV3=\"\",0,(SUM((SPORTSMANS!BV3/SPORTSMANS!BW3)*3)))","v":0},null,{"$f":"IF(SPORTSMANS!BZ3=\"\",0,(SUM((SPORTSMANS!BZ3/SPORTSMANS!CA3)*3)))","v":0},null,{"$f":"IF(SPORTSMANS!CD3=\"\",0,(SUM((SPORTSMANS!CD3/SPORTSMANS!CE3)*3)))","v":0},null,{"$f":"IF(SPORTSMANS!CH3=\"\",0,(SUM((SPORTSMANS!CH3/SPORTSMANS!CI3)*3)))","v":0}]
[null,{"$f":"IF(SPORTSMANS!B4=\"\",0,(SUM((SPORTSMANS!B4/SPORTSMANS!C4)*3)))","v":51.292682926829272},null,{"$f":"IF(SPORTSMANS!F4=\"\",0,(SUM((SPORTSMANS!F4/SPORTSMANS!G4)*3)))","v":63.100000000000009},null,{"$f":"IF(SPORTSMANS!J4=\"\",0,(SUM((SPORTSMANS!J4/SPORTSMANS!K4)*3)))","v":33.91935483870968},null,{"$f":"IF(SPORTSMANS!N4=\"\",0,(SUM((SPORTSMANS!N4/SPORTSMANS!O4)*3)))","v":53.769230769230774},null,{"$f":"IF(SPORTSMANS!R4=\"\",0,(SUM((SPORTSMANS!R4/SPORTSMANS!S4)*3)))","v":32.133333333333333},null,{"$f":"IF(SPORTSMANS!V4=\"\",0,(SUM((SPORTSMANS!V4/SPORTSMANS!W4)*3)))","v":71.111111111111114},null,{"$f":"IF(SPORTSMANS!Z4=\"\",0,(SUM((SPORTSMANS!Z4/SPORTSMANS!AA4)*3)))","v":0},null,{"$f":"IF(SPORTSMANS!AD4=\"\",0,(SUM((SPORTSMANS!AD4/SPORTSMANS!AE4)*3)))","v":50.545454545454547},null,{"$f":"IF(SPORTSMANS!AH4=\"\",0,(SUM((SPORTSMANS!AH4/SPORTSMANS!AI4)*3)))","v":44.744680851063826},null,{"$f":"IF(SPORTSMANS!AL4=\"\",0,(SUM((SPORTSMANS!AL4/SPORTSMANS!AM4)*3)))","v":43.8125},null,{"$f":"IF(SPORTSMANS!AP4=\"\",0,(SUM((SPORTSMANS!AP4/SPORTSMANS!AQ4)*3)))","v":50.416666666666671},null,{"$f":"IF(SPORTSMANS!AT4=\"\",0,(SUM((SPORTSMANS!AT4/SPORTSMANS!AU4)*3)))","v":55.34210526315789},null,{"$f":"IF(SPORTSMANS!AX4=\"\",0,(SUM((SPORTSMANS!AX4/SPORTSMANS!AY4)*3)))","v":73.444444444444443},null,{"$f":"IF(SPORTSMANS!BB4=\"\",0,(SUM((SPORTSMANS!BB4/SPORTSMANS!BC4)*3)))","v":61.852941176470587},null,{"$f":"IF(SPORTSMANS!BF4=\"\",0,(SUM((SPORTSMANS!BF4/SPORTSMANS!BG4)*3)))","v":62.5},null,{"$f":"IF(SPORTSMANS!BJ4=\"\",0,(SUM((SPORTSMANS!BJ4/SPORTSMANS!BK4)*3)))","v":0},null,{"$f":"IF(SPORTSMANS!BN4=\"\",0,(SUM((SPORTSMANS!BN4/SPORTSMANS!BO4)*3)))","v":77.888888888888886},null,{"$f":"IF(SPORTSMANS!BR4=\"\",0,(SUM((SPORTSMANS!BR4/SPORTSMANS!BS4)*3)))","v":56.837837837837839},null,{"$f":"IF(SPORTSMANS!BV4=\"\",0,(SUM((SPORTSMANS!BV4/SPORTSMANS!BW4)*3)))","v":0},null,{"$f":"IF(SPORTSMANS!BZ4=\"\",0,(SUM((SPORTSMANS!BZ4/SPORTSMANS!CA4)*3)))","v":0},null,{"$f":"IF(SPORTSMANS!CD4=\"\",0,(SUM((SPORTSMANS!CD4/SPORTSMANS!CE4)*3)))","v":0},null,{"$f":"IF(SPORTSMANS!CH4=\"\",0,(SUM((SPORTSMANS!CH4/SPORTSMANS!CI4)*3)))","v":0}]
[null,{"$f":"IF(SPORTSMANS!B5=\"\",0,(SUM((SPORTSMANS!B5/SPORTSMANS!C5)*3)))","v":43.8125},null,{"$f":"IF(SPORTSMANS!F5=\"\",0,(SUM((SPORTSMANS!F5/SPORTSMANS!G5)*3)))","v":49.61538461538462},null,{"$f":"IF(SPORTSMANS!J5=\"\",0,(SUM((SPORTSMANS!J5/SPORTSMANS!K5)*3)))","v":58.416666666666664},null,{"$f":"IF(SPORTSMANS!N5=\"\",0,(SUM((SPORTSMANS!N5/SPORTSMANS!O5)*3)))","v":51.46153846153846},null,{"$f":"IF(SPORTSMANS!R5=\"\",0,(SUM((SPORTSMANS!R5/SPORTSMANS!S5)*3)))","v":46.642857142857139},null,{"$f":"IF(SPORTSMANS!V5=\"\",0,(SUM((SPORTSMANS!V5/SPORTSMANS!W5)*3)))","v":52.199999999999996},null,{"$f":"IF(SPORTSMANS!Z5=\"\",0,(SUM((SPORTSMANS!Z5/SPORTSMANS!AA5)*3)))","v":0},null,{"$f":"IF(SPORTSMANS!AD5=\"\",0,(SUM((SPORTSMANS!AD5/SPORTSMANS!AE5)*3)))","v":53.15384615384616},null,{"$f":"IF(SPORTSMANS!AH5=\"\",0,(SUM((SPORTSMANS!AH5/SPORTSMANS!AI5)*3)))","v":46.2},null,{"$f":"IF(SPORTSMANS!AL5=\"\",0,(SUM((SPORTSMANS!AL5/SPORTSMANS!AM5)*3)))","v":44.744680851063826},null,{"$f":"IF(SPORTSMANS!AP5=\"\",0,(SUM((SPORTSMANS!AP5/SPORTSMANS!AQ5)*3)))","v":55.888888888888886},null,{"$f":"IF(SPORTSMANS!AT5=\"\",0,(SUM((SPORTSMANS!AT5/SPORTSMANS!AU5)*3)))","v":60.085714285714289},null,{"$f":"IF(SPORTSMANS!AX5=\"\",0,(SUM((SPORTSMANS!AX5/SPORTSMANS!AY5)*3)))","v":53.92307692307692},null,{"$f":"IF(SPORTSMANS!BB5=\"\",0,(SUM((SPORTSMANS!BB5/SPORTSMANS!BC5)*3)))","v":65.71875},null,{"$f":"IF(SPORTSMANS!BF5=\"\",0,(SUM((SPORTSMANS!BF5/SPORTSMANS!BG5)*3)))","v":55.34210526315789},null,{"$f":"IF(SPORTSMANS!BJ5=\"\",0,(SUM((SPORTSMANS!BJ5/SPORTSMANS!BK5)*3)))","v":0},null,{"$f":"IF(SPORTSMANS!BN5=\"\",0,(SUM((SPORTSMANS!BN5/SPORTSMANS!BO5)*3)))","v":55.9},null,{"$f":"IF(SPORTSMANS!BR5=\"\",0,(SUM((SPORTSMANS!BR5/SPORTSMANS!BS5)*3)))","v":43.8125},null,{"$f":"IF(SPORTSMANS!BV5=\"\",0,(SUM((SPORTSMANS!BV5/SPORTSMANS!BW5)*3)))","v":0},null,{"$f":"IF(SPORTSMANS!BZ5=\"\",0,(SUM((SPORTSMANS!BZ5/SPORTSMANS!CA5)*3)))","v":0},null,{"$f":"IF(SPORTSMANS!CD5=\"\",0,(SUM((SPORTSMANS!CD5/SPORTSMANS!CE5)*3)))","v":0},null,{"$f":"IF(SPORTSMANS!CH5=\"\",0,(SUM((SPORTSMANS!CH5/SPORTSMANS!CI5)*3)))","v":0}]
[null,{"$f":"IF(SPORTSMANS!B6=\"\",0,(SUM((SPORTSMANS!B6/SPORTSMANS!C6)*3)))","v":0},null,{"$f":"IF(SPORTSMANS!F6=\"\",0,(SUM((SPORTSMANS!F6/SPORTSMANS!G6)*3)))","v":0},null,{"$f":"IF(SPORTSMANS!J6=\"\",0,(SUM((SPORTSMANS!J6/SPORTSMANS!K6)*3)))","v":0},null,{"$f":"IF(SPORTSMANS!N6=\"\",0,(SUM((SPORTSMANS!N6/SPORTSMANS!O6)*3)))","v":0},null,{"$f":"IF(SPORTSMANS!R6=\"\",0,(SUM((SPORTSMANS!R6/SPORTSMANS!S6)*3)))","v":35.75},null,{"$f":"IF(SPORTSMANS!V6=\"\",0,(SUM((SPORTSMANS!V6/SPORTSMANS!W6)*3)))","v":0},null,{"$f":"IF(SPORTSMANS!Z6=\"\",0,(SUM((SPORTSMANS!Z6/SPORTSMANS!AA6)*3)))","v":0},null,{"$f":"IF(SPORTSMANS!AD6=\"\",0,(SUM((SPORTSMANS!AD6/SPORTSMANS!AE6)*3)))","v":0},null,{"$f":"IF(SPORTSMANS!AH6=\"\",0,(SUM((SPORTSMANS!AH6/SPORTSMANS!AI6)*3)))","v":0},null,{"$f":"IF(SPORTSMANS!AL6=\"\",0,(SUM((SPORTSMANS!AL6/SPORTSMANS!AM6)*3)))","v":0},null,{"$f":"IF(SPORTSMANS!AP6=\"\",0,(SUM((SPORTSMANS!AP6/SPORTSMANS!AQ6)*3)))","v":38.81818181818182},null,{"$f":"IF(SPORTSMANS!AT6=\"\",0,(SUM((SPORTSMANS!AT6/SPORTSMANS!AU6)*3)))","v":56.75},null,{"$f":"IF(SPORTSMANS!AX6=\"\",0,(SUM((SPORTSMANS!AX6/SPORTSMANS!AY6)*3)))","v":0},null,{"$f":"IF(SPORTSMANS!BB6=\"\",0,(SUM((SPORTSMANS!BB6/SPORTSMANS!BC6)*3)))","v":0},null,{"$f":"IF(SPORTSMANS!BF6=\"\",0,(SUM((SPORTSMANS!BF6/SPORTSMANS!BG6)*3)))","v":0},null,{"$f":"IF(SPORTSMANS!BJ6=\"\",0,(SUM((SPORTSMANS!BJ6/SPORTSMANS!BK6)*3)))","v":0},null,{"$f":"IF(SPORTSMANS!BN6=\"\",0,(SUM((SPORTSMANS!BN6/SPORTSMANS!BO6)*3)))","v":0},null,{"$f":"IF(SPORTSMANS!BR6=\"\",0,(SUM((SPORTSMANS!BR6/SPORTSMANS!BS6)*3)))","v":0},null,{"$f":"IF(SPORTSMANS!BV6=\"\",0,(SUM((SPORTSMANS!BV6/SPORTSMANS!BW6)*3)))","v":0},null,{"$f":"IF(SPORTSMANS!BZ6=\"\",0,(SUM((SPORTSMANS!BZ6/SPORTSMANS!CA6)*3)))","v":0},null,{"$f":"IF(SPORTSMANS!CD6=\"\",0,(SUM((SPORTSMANS!CD6/SPORTSMANS!CE6)*3)))","v":0},null,{"$f":"IF(SPORTSMANS!CH6=\"\",0,(SUM((SPORTSMANS!CH6/SPORTSMANS!CI6)*3)))","v":0}]
[null,{"$f":"IF(SPORTSMANS!B7=\"\",0,(SUM((SPORTSMANS!B7/SPORTSMANS!C7)*3)))","v":63.727272727272727},null,{"$f":"IF(SPORTSMANS!F7=\"\",0,(SUM((SPORTSMANS!F7/SPORTSMANS!G7)*3)))","v":50.071428571428569},null,{"$f":"IF(SPORTSMANS!J7=\"\",0,(SUM((SPORTSMANS!J7/SPORTSMANS!K7)*3)))","v":72.444444444444443},null,{"$f":"IF(SPORTSMANS!N7=\"\",0,(SUM((SPORTSMANS!N7/SPORTSMANS!O7)*3)))","v":50.071428571428569},null,{"$f":"IF(SPORTSMANS!R7=\"\",0,(SUM((SPORTSMANS!R7/SPORTSMANS!S7)*3)))","v":0},null,{"$f":"IF(SPORTSMANS!V7=\"\",0,(SUM((SPORTSMANS!V7/SPORTSMANS!W7)*3)))","v":87.625},null,{"$f":"IF(SPORTSMANS!Z7=\"\",0,(SUM((SPORTSMANS!Z7/SPORTSMANS!AA7)*3)))","v":0},null,{"$f":"IF(SPORTSMANS!AD7=\"\",0,(SUM((SPORTSMANS!AD7/SPORTSMANS!AE7)*3)))","v":53.92307692307692},null,{"$f":"IF(SPORTSMANS!AH7=\"\",0,(SUM((SPORTSMANS!AH7/SPORTSMANS!AI7)*3)))","v":72.517241379310349},null,{"$f":"IF(SPORTSMANS!AL7=\"\",0,(SUM((SPORTSMANS!AL7/SPORTSMANS!AM7)*3)))","v":72.517241379310349},null,{"$f":"IF(SPORTSMANS!AP7=\"\",0,(SUM((SPORTSMANS!AP7/SPORTSMANS!AQ7)*3)))","v":56.837837837837839},null,{"$f":"IF(SPORTSMANS!AT7=\"\",0,(SUM((SPORTSMANS!AT7/SPORTSMANS!AU7)*3)))","v":45.717391304347828},null,{"$f":"IF(SPORTSMANS!AX7=\"\",0,(SUM((SPORTSMANS!AX7/SPORTSMANS!AY7)*3)))","v":72.517241379310349},null,{"$f":"IF(SPORTSMANS!BB7=\"\",0,(SUM((SPORTSMANS!BB7/SPORTSMANS!BC7)*3)))","v":70.099999999999994},null,{"$f":"IF(SPORTSMANS!BF7=\"\",0,(SUM((SPORTSMANS!BF7/SPORTSMANS!BG7)*3)))","v":77.888888888888886},null,{"$f":"IF(SPORTSMANS!BJ7=\"\",0,(SUM((SPORTSMANS!BJ7/SPORTSMANS!BK7)*3)))","v":0},null,{"$f":"IF(SPORTSMANS!BN7=\"\",0,(SUM((SPORTSMANS!BN7/SPORTSMANS!BO7)*3)))","v":70.099999999999994},null,{"$f":"IF(SPORTSMANS!BR7=\"\",0,(SUM((SPORTSMANS!BR7/SPORTSMANS!BS7)*3)))","v":44.744680851063826},null,{"$f":"IF(SPORTSMANS!BV7=\"\",0,(SUM((SPORTSMANS!BV7/SPORTSMANS!BW7)*3)))","v":0},null,{"$f":"IF(SPORTSMANS!BZ7=\"\",0,(SUM((SPORTSMANS!BZ7/SPORTSMANS!CA7)*3)))","v":0},null,{"$f":"IF(SPORTSMANS!CD7=\"\",0,(SUM((SPORTSMANS!CD7/SPORTSMANS!CE7)*3)))","v":0},null,{"$f":"IF(SPORTSMANS!CH7=\"\",0,(SUM((SPORTSMANS!CH7/SPORTSMANS!CI7)*3)))","v":0}]
[null,{"$f":"IF(SPORTSMANS!B8=\"\",0,(SUM((SPORTSMANS!B8/SPORTSMANS!C8)*3)))","v":38.833333333333336},null,{"$f":"IF(SPORTSMANS!F8=\"\",0,(SUM((SPORTSMANS!F8/SPORTSMANS!G8)*3)))","v":38.944444444444443},null,{"$f":"IF(SPORTSMANS!J8=\"\",0,(SUM((SPORTSMANS!J8/SPORTSMANS!K8)*3)))","v":53.92307692307692},null,{"$f":"IF(SPORTSMANS!N8=\"\",0,(SUM((SPORTSMANS!N8/SPORTSMANS!O8)*3)))","v":50.071428571428569},null,{"$f":"IF(SPORTSMANS!R8=\"\",0,(SUM((SPORTSMANS!R8/SPORTSMANS!S8)*3)))","v":49.357142857142861},null,{"$f":"IF(SPORTSMANS!V8=\"\",0,(SUM((SPORTSMANS!V8/SPORTSMANS!W8)*3)))","v":37.125},null,{"$f":"IF(SPORTSMANS!Z8=\"\",0,(SUM((SPORTSMANS!Z8/SPORTSMANS!AA8)*3)))","v":0},null,{"$f":"IF(SPORTSMANS!AD8=\"\",0,(SUM((SPORTSMANS!AD8/SPORTSMANS!AE8)*3)))","v":41.199999999999996},null,{"$f":"IF(SPORTSMANS!AH8=\"\",0,(SUM((SPORTSMANS!AH8/SPORTSMANS!AI8)*3)))","v":63.727272727272727},null,{"$f":"IF(SPORTSMANS!AL8=\"\",0,(SUM((SPORTSMANS!AL8/SPORTSMANS!AM8)*3)))","v":0},null,{"$f":"IF(SPORTSMANS!AP8=\"\",0,(SUM((SPORTSMANS!AP8/SPORTSMANS!AQ8)*3)))","v":41.235294117647058},null,{"$f":"IF(SPORTSMANS!AT8=\"\",0,(SUM((SPORTSMANS!AT8/SPORTSMANS!AU8)*3)))","v":0},null,{"$f":"IF(SPORTSMANS!AX8=\"\",0,(SUM((SPORTSMANS!AX8/SPORTSMANS!AY8)*3)))","v":37.666666666666664},null,{"$f":"IF(SPORTSMANS!BB8=\"\",0,(SUM((SPORTSMANS!BB8/SPORTSMANS!BC8)*3)))","v":50.071428571428569},null,{"$f":"IF(SPORTSMANS!BF8=\"\",0,(SUM((SPORTSMANS!BF8/SPORTSMANS!BG8)*3)))","v":50.071428571428569},null,{"$f":"IF(SPORTSMANS!BJ8=\"\",0,(SUM((SPORTSMANS!BJ8/SPORTSMANS!BK8)*3)))","v":0},null,{"$f":"IF(SPORTSMANS!BN8=\"\",0,(SUM((SPORTSMANS!BN8/SPORTSMANS!BO8)*3)))","v":0},null,{"$f":"IF(SPORTSMANS!BR8=\"\",0,(SUM((SPORTSMANS!BR8/SPORTSMANS!BS8)*3)))","v":39.679245283018872},null,{"$f":"IF(SPORTSMANS!BV8=\"\",0,(SUM((SPORTSMANS!BV8/SPORTSMANS!BW8)*3)))","v":0},null,{"$f":"IF(SPORTSMANS!BZ8=\"\",0,(SUM((SPORTSMANS!BZ8/SPORTSMANS!CA8)*3)))","v":0},null,{"$f":"IF(SPORTSMANS!CD8=\"\",0,(SUM((SPORTSMANS!CD8/SPORTSMANS!CE8)*3)))","v":0},null,{"$f":"IF(SPORTSMANS!CH8=\"\",0,(SUM((SPORTSMANS!CH8/SPORTSMANS!CI8)*3)))","v":0}]
[null,{"$f":"IF(SPORTSMANS!B9=\"\",0,(SUM((SPORTSMANS!B9/SPORTSMANS!C9)*3)))","v":52.574999999999996},null,{"$f":"IF(SPORTSMANS!F9=\"\",0,(SUM((SPORTSMANS!F9/SPORTSMANS!G9)*3)))","v":65.71875},null,{"$f":"IF(SPORTSMANS!J9=\"\",0,(SUM((SPORTSMANS!J9/SPORTSMANS!K9)*3)))","v":77.888888888888886},null,{"$f":"IF(SPORTSMANS!N9=\"\",0,(SUM((SPORTSMANS!N9/SPORTSMANS!O9)*3)))","v":61.852941176470587},null,{"$f":"IF(SPORTSMANS!R9=\"\",0,(SUM((SPORTSMANS!R9/SPORTSMANS!S9)*3)))","v":72.517241379310349},null,{"$f":"IF(SPORTSMANS!V9=\"\",0,(SUM((SPORTSMANS!V9/SPORTSMANS!W9)*3)))","v":72.517241379310349},null,{"$f":"IF(SPORTSMANS!Z9=\"\",0,(SUM((SPORTSMANS!Z9/SPORTSMANS!AA9)*3)))","v":0},null,{"$f":"IF(SPORTSMANS!AD9=\"\",0,(SUM((SPORTSMANS!AD9/SPORTSMANS!AE9)*3)))","v":58.25},null,{"$f":"IF(SPORTSMANS!AH9=\"\",0,(SUM((SPORTSMANS!AH9/SPORTSMANS!AI9)*3)))","v":75.107142857142861},null,{"$f":"IF(SPORTSMANS!AL9=\"\",0,(SUM((SPORTSMANS!AL9/SPORTSMANS!AM9)*3)))","v":52.574999999999996},null,{"$f":"IF(SPORTSMANS!AP9=\"\",0,(SUM((SPORTSMANS!AP9/SPORTSMANS!AQ9)*3)))","v":0},null,{"$f":"IF(SPORTSMANS!AT9=\"\",0,(SUM((SPORTSMANS!AT9/SPORTSMANS!AU9)*3)))","v":66.100000000000009},null,{"$f":"IF(SPORTSMANS!AX9=\"\",0,(SUM((SPORTSMANS!AX9/SPORTSMANS!AY9)*3)))","v":53.92307692307692},null,{"$f":"IF(SPORTSMANS!BB9=\"\",0,(SUM((SPORTSMANS!BB9/SPORTSMANS!BC9)*3)))","v":50.071428571428569},null,{"$f":"IF(SPORTSMANS!BF9=\"\",0,(SUM((SPORTSMANS!BF9/SPORTSMANS!BG9)*3)))","v":61.852941176470587},null,{"$f":"IF(SPORTSMANS!BJ9=\"\",0,(SUM((SPORTSMANS!BJ9/SPORTSMANS!BK9)*3)))","v":0},null,{"$f":"IF(SPORTSMANS!BN9=\"\",0,(SUM((SPORTSMANS!BN9/SPORTSMANS!BO9)*3)))","v":50.545454545454547},null,{"$f":"IF(SPORTSMANS!BR9=\"\",0,(SUM((SPORTSMANS!BR9/SPORTSMANS!BS9)*3)))","v":44.744680851063826},null,{"$f":"IF(SPORTSMANS!BV9=\"\",0,(SUM((SPORTSMANS!BV9/SPORTSMANS!BW9)*3)))","v":0},null,{"$f":"IF(SPORTSMANS!BZ9=\"\",0,(SUM((SPORTSMANS!BZ9/SPORTSMANS!CA9)*3)))","v":0},null,{"$f":"IF(SPORTSMANS!CD9=\"\",0,(SUM((SPORTSMANS!CD9/SPORTSMANS!CE9)*3)))","v":0},null,{"$f":"IF(SPORTSMANS!CH9=\"\",0,(SUM((SPORTSMANS!CH9/SPORTSMANS!CI9)*3)))","v":0}]
[null,{"$f":"IF(SPORTSMANS!B10=\"\",0,(SUM((SPORTSMANS!B10/SPORTSMANS!C10)*3)))","v":0},null,{"$f":"IF(SPORTSMANS!F10=\"\",0,(SUM((SPORTSMANS!F10/SPORTSMANS!G10)*3)))","v":0},null,{"$f":"IF(SPORTSMANS!J10=\"\",0,(SUM((SPORTSMANS!J10/SPORTSMANS!K10)*3)))","v":0},null,{"$f":"IF(SPORTSMANS!N10=\"\",0,(SUM((SPORTSMANS!N10/SPORTSMANS!O10)*3)))","v":0},null,{"$f":"IF(SPORTSMANS!R10=\"\",0,(SUM((SPORTSMANS!R10/SPORTSMANS!S10)*3)))","v":0},null,{"$f":"IF(SPORTSMANS!V10=\"\",0,(SUM((SPORTSMANS!V10/SPORTSMANS!W10)*3)))","v":0},null,{"$f":"IF(SPORTSMANS!Z10=\"\",0,(SUM((SPORTSMANS!Z10/SPORTSMANS!AA10)*3)))","v":0},null,{"$f":"IF(SPORTSMANS!AD10=\"\",0,(SUM((SPORTSMANS!AD10/SPORTSMANS!AE10)*3)))","v":0},null,{"$f":"IF(SPORTSMANS!AH10=\"\",0,(SUM((SPORTSMANS!AH10/SPORTSMANS!AI10)*3)))","v":0},null,{"$f":"IF(SPORTSMANS!AL10=\"\",0,(SUM((SPORTSMANS!AL10/SPORTSMANS!AM10)*3)))","v":0},null,{"$f":"IF(SPORTSMANS!AP10=\"\",0,(SUM((SPORTSMANS!AP10/SPORTSMANS!AQ10)*3)))","v":0},null,{"$f":"IF(SPORTSMANS!AT10=\"\",0,(SUM((SPORTSMANS!AT10/SPORTSMANS!AU10)*3)))","v":0},null,{"$f":"IF(SPORTSMANS!AX10=\"\",0,(SUM((SPORTSMANS!AX10/SPORTSMANS!AY10)*3)))","v":0},null,{"$f":"IF(SPORTSMANS!BB10=\"\",0,(SUM((SPORTSMANS!BB10/SPORTSMANS!BC10)*3)))","v":0},null,{"$f":"IF(SPORTSMANS!BF10=\"\",0,(SUM((SPORTSMANS!BF10/SPORTSMANS!BG10)*3)))","v":0},null,{"$f":"IF(SPORTSMANS!BJ10=\"\",0,(SUM((SPORTSMANS!BJ10/SPORTSMANS!BK10)*3)))","v":0},null,{"$f":"IF(SPORTSMANS!BN10=\"\",0,(SUM((SPORTSMANS!BN10/SPORTSMANS!BO10)*3)))","v":0},null,{"$f":"IF(SPORTSMANS!BR10=\"\",0,(SUM((SPORTSMANS!BR10/SPORTSMANS!BS10)*3)))","v":0},null,{"$f":"IF(SPORTSMANS!BV10=\"\",0,(SUM((SPORTSMANS!BV10/SPORTSMANS!BW10)*3)))","v":0},null,{"$f":"IF(SPORTSMANS!BZ10=\"\",0,(SUM((SPORTSMANS!BZ10/SPORTSMANS!CA10)*3)))","v":0},null,{"$f":"IF(SPORTSMANS!CD10=\"\",0,(SUM((SPORTSMANS!CD10/SPORTSMANS!CE10)*3)))","v":0},null,{"$f":"IF(SPORTSMANS!CH10=\"\",0,(SUM((SPORTSMANS!CH10/SPORTSMANS!CI10)*3)))","v":0}]
[null,{"$f":"IF(SPORTSMANS!B11=\"\",0,(SUM((SPORTSMANS!B11/SPORTSMANS!C11)*3)))","v":0},null,{"$f":"IF(SPORTSMANS!F11=\"\",0,(SUM((SPORTSMANS!F11/SPORTSMANS!G11)*3)))","v":0},null,{"$f":"IF(SPORTSMANS!J11=\"\",0,(SUM((SPORTSMANS!J11/SPORTSMANS!K11)*3)))","v":0},null,{"$f":"IF(SPORTSMANS!N11=\"\",0,(SUM((SPORTSMANS!N11/SPORTSMANS!O11)*3)))","v":0},null,{"$f":"IF(SPORTSMANS!R11=\"\",0,(SUM((SPORTSMANS!R11/SPORTSMANS!S11)*3)))","v":0},null,{"$f":"IF(SPORTSMANS!V11=\"\",0,(SUM((SPORTSMANS!V11/SPORTSMANS!W11)*3)))","v":0},null,{"$f":"IF(SPORTSMANS!Z11=\"\",0,(SUM((SPORTSMANS!Z11/SPORTSMANS!AA11)*3)))","v":0},null,{"$f":"IF(SPORTSMANS!AD11=\"\",0,(SUM((SPORTSMANS!AD11/SPORTSMANS!AE11)*3)))","v":0},null,{"$f":"IF(SPORTSMANS!AH11=\"\",0,(SUM((SPORTSMANS!AH11/SPORTSMANS!AI11)*3)))","v":0},null,{"$f":"IF(SPORTSMANS!AL11=\"\",0,(SUM((SPORTSMANS!AL11/SPORTSMANS!AM11)*3)))","v":0},null,{"$f":"IF(SPORTSMANS!AP11=\"\",0,(SUM((SPORTSMANS!AP11/SPORTSMANS!AQ11)*3)))","v":0},null,{"$f":"IF(SPORTSMANS!AT11=\"\",0,(SUM((SPORTSMANS!AT11/SPORTSMANS!AU11)*3)))","v":0},null,{"$f":"IF(SPORTSMANS!AX11=\"\",0,(SUM((SPORTSMANS!AX11/SPORTSMANS!AY11)*3)))","v":0},null,{"$f":"IF(SPORTSMANS!BB11=\"\",0,(SUM((SPORTSMANS!BB11/SPORTSMANS!BC11)*3)))","v":0},null,{"$f":"IF(SPORTSMANS!BF11=\"\",0,(SUM((SPORTSMANS!BF11/SPORTSMANS!BG11)*3)))","v":0},null,{"$f":"IF(SPORTSMANS!BJ11=\"\",0,(SUM((SPORTSMANS!BJ11/SPORTSMANS!BK11)*3)))","v":0},null,{"$f":"IF(SPORTSMANS!BN11=\"\",0,(SUM((SPORTSMANS!BN11/SPORTSMANS!BO11)*3)))","v":0},null,{"$f":"IF(SPORTSMANS!BR11=\"\",0,(SUM((SPORTSMANS!BR11/SPORTSMANS!BS11)*3)))","v":0},null,{"$f":"IF(SPORTSMANS!BV11=\"\",0,(SUM((SPORTSMANS!BV11/SPORTSMANS!BW11)*3)))","v":0},null,{"$f":"IF(SPORTSMANS!BZ11=\"\",0,(SUM((SPORTSMANS!BZ11/SPORTSMANS!CA11)*3)))","v":0},null,{"$f":"IF(SPORTSMANS!CD11=\"\",0,(SUM((SPORTSMANS!CD11/SPORTSMANS!CE11)*3)))","v":0},null,{"$f":"IF(SPORTSMANS!CH11=\"\",0,(SUM((SPORTSMANS!CH11/SPORTSMANS!CI11)*3)))","v":0}]
[null,{"$f":"IF(SPORTSMANS!B12=\"\",0,(SUM((SPORTSMANS!B12/SPORTSMANS!C12)*3)))","v":0},null,{"$f":"IF(SPORTSMANS!F12=\"\",0,(SUM((SPORTSMANS!F12/SPORTSMANS!G12)*3)))","v":0},null,{"$f":"IF(SPORTSMANS!J12=\"\",0,(SUM((SPORTSMANS!J12/SPORTSMANS!K12)*3)))","v":0},null,{"$f":"IF(SPORTSMANS!N12=\"\",0,(SUM((SPORTSMANS!N12/SPORTSMANS!O12)*3)))","v":0},null,{"$f":"IF(SPORTSMANS!R12=\"\",0,(SUM((SPORTSMANS!R12/SPORTSMANS!S12)*3)))","v":0},null,{"$f":"IF(SPORTSMANS!V12=\"\",0,(SUM((SPORTSMANS!V12/SPORTSMANS!W12)*3)))","v":0},null,{"$f":"IF(SPORTSMANS!Z12=\"\",0,(SUM((SPORTSMANS!Z12/SPORTSMANS!AA12)*3)))","v":0},null,{"$f":"IF(SPORTSMANS!AD12=\"\",0,(SUM((SPORTSMANS!AD12/SPORTSMANS!AE12)*3)))","v":0},null,{"$f":"IF(SPORTSMANS!AH12=\"\",0,(SUM((SPORTSMANS!AH12/SPORTSMANS!AI12)*3)))","v":0},null,{"$f":"IF(SPORTSMANS!AL12=\"\",0,(SUM((SPORTSMANS!AL12/SPORTSMANS!AM12)*3)))","v":41.076923076923073},null,{"$f":"IF(SPORTSMANS!AP12=\"\",0,(SUM((SPORTSMANS!AP12/SPORTSMANS!AQ12)*3)))","v":0},null,{"$f":"IF(SPORTSMANS!AT12=\"\",0,(SUM((SPORTSMANS!AT12/SPORTSMANS!AU12)*3)))","v":0},null,{"$f":"IF(SPORTSMANS!AX12=\"\",0,(SUM((SPORTSMANS!AX12/SPORTSMANS!AY12)*3)))","v":0},null,{"$f":"IF(SPORTSMANS!BB12=\"\",0,(SUM((SPORTSMANS!BB12/SPORTSMANS!BC12)*3)))","v":0},null,{"$f":"IF(SPORTSMANS!BF12=\"\",0,(SUM((SPORTSMANS!BF12/SPORTSMANS!BG12)*3)))","v":0},null,{"$f":"IF(SPORTSMANS!BJ12=\"\",0,(SUM((SPORTSMANS!BJ12/SPORTSMANS!BK12)*3)))","v":0},null,{"$f":"IF(SPORTSMANS!BN12=\"\",0,(SUM((SPORTSMANS!BN12/SPORTSMANS!BO12)*3)))","v":48.906976744186039},null,{"$f":"IF(SPORTSMANS!BR12=\"\",0,(SUM((SPORTSMANS!BR12/SPORTSMANS!BS12)*3)))","v":0},null,{"$f":"IF(SPORTSMANS!BV12=\"\",0,(SUM((SPORTSMANS!BV12/SPORTSMANS!BW12)*3)))","v":0},null,{"$f":"IF(SPORTSMANS!BZ12=\"\",0,(SUM((SPORTSMANS!BZ12/SPORTSMANS!CA12)*3)))","v":0},null,{"$f":"IF(SPORTSMANS!CD12=\"\",0,(SUM((SPORTSMANS!CD12/SPORTSMANS!CE12)*3)))","v":0},null,{"$f":"IF(SPORTSMANS!CH12=\"\",0,(SUM((SPORTSMANS!CH12/SPORTSMANS!CI12)*3)))","v":0}]
[null,{"$f":"IF(SPORTSMANS!B13=\"\",0,(SUM((SPORTSMANS!B13/SPORTSMANS!C13)*3)))","v":0},null,{"$f":"IF(SPORTSMANS!F13=\"\",0,(SUM((SPORTSMANS!F13/SPORTSMANS!G13)*3)))","v":0},null,{"$f":"IF(SPORTSMANS!J13=\"\",0,(SUM((SPORTSMANS!J13/SPORTSMANS!K13)*3)))","v":0},null,{"$f":"IF(SPORTSMANS!N13=\"\",0,(SUM((SPORTSMANS!N13/SPORTSMANS!O13)*3)))","v":0},null,{"$f":"IF(SPORTSMANS!R13=\"\",0,(SUM((SPORTSMANS!R13/SPORTSMANS!S13)*3)))","v":0},null,{"$f":"IF(SPORTSMANS!V13=\"\",0,(SUM((SPORTSMANS!V13/SPORTSMANS!W13)*3)))","v":0},null,{"$f":"IF(SPORTSMANS!Z13=\"\",0,(SUM((SPORTSMANS!Z13/SPORTSMANS!AA13)*3)))","v":0},null,{"$f":"IF(SPORTSMANS!AD13=\"\",0,(SUM((SPORTSMANS!AD13/SPORTSMANS!AE13)*3)))","v":0},null,{"$f":"IF(SPORTSMANS!AH13=\"\",0,(SUM((SPORTSMANS!AH13/SPORTSMANS!AI13)*3)))","v":0},null,{"$f":"IF(SPORTSMANS!AL13=\"\",0,(SUM((SPORTSMANS!AL13/SPORTSMANS!AM13)*3)))","v":0},null,{"$f":"IF(SPORTSMANS!AP13=\"\",0,(SUM((SPORTSMANS!AP13/SPORTSMANS!AQ13)*3)))","v":0},null,{"$f":"IF(SPORTSMANS!AT13=\"\",0,(SUM((SPORTSMANS!AT13/SPORTSMANS!AU13)*3)))","v":0},null,{"$f":"IF(SPORTSMANS!AX13=\"\",0,(SUM((SPORTSMANS!AX13/SPORTSMANS!AY13)*3)))","v":0},null,{"$f":"IF(SPORTSMANS!BB13=\"\",0,(SUM((SPORTSMANS!BB13/SPORTSMANS!BC13)*3)))","v":0},null,{"$f":"IF(SPORTSMANS!BF13=\"\",0,(SUM((SPORTSMANS!BF13/SPORTSMANS!BG13)*3)))","v":0},null,{"$f":"IF(SPORTSMANS!BJ13=\"\",0,(SUM((SPORTSMANS!BJ13/SPORTSMANS!BK13)*3)))","v":0},null,{"$f":"IF(SPORTSMANS!BN13=\"\",0,(SUM((SPORTSMANS!BN13/SPORTSMANS!BO13)*3)))","v":0},null,{"$f":"IF(SPORTSMANS!BR13=\"\",0,(SUM((SPORTSMANS!BR13/SPORTSMANS!BS13)*3)))","v":0},null,{"$f":"IF(SPORTSMANS!BV13=\"\",0,(SUM((SPORTSMANS!BV13/SPORTSMANS!BW13)*3)))","v":0},null,{"$f":"IF(SPORTSMANS!BZ13=\"\",0,(SUM((SPORTSMANS!BZ13/SPORTSMANS!CA13)*3)))","v":0},null,{"$f":"IF(SPORTSMANS!CD13=\"\",0,(SUM((SPORTSMANS!CD13/SPORTSMANS!CE13)*3)))","v":0},null,{"$f":"IF(SPORTSMANS!CH13=\"\",0,(SUM((SPORTSMANS!CH13/SPORTSMANS!CI13)*3)))","v":0}]
[null,{"$f":"IF(SPORTSMANS!B14=\"\",0,(SUM((SPORTSMANS!B14/SPORTSMANS!C14)*3)))","v":0},null,{"$f":"IF(SPORTSMANS!F14=\"\",0,(SUM((SPORTSMANS!F14/SPORTSMANS!G14)*3)))","v":0},null,{"$f":"IF(SPORTSMANS!J14=\"\",0,(SUM((SPORTSMANS!J14/SPORTSMANS!K14)*3)))","v":0},null,{"$f":"IF(SPORTSMANS!N14=\"\",0,(SUM((SPORTSMANS!N14/SPORTSMANS!O14)*3)))","v":0},null,{"$f":"IF(SPORTSMANS!R14=\"\",0,(SUM((SPORTSMANS!R14/SPORTSMANS!S14)*3)))","v":0},null,{"$f":"IF(SPORTSMANS!V14=\"\",0,(SUM((SPORTSMANS!V14/SPORTSMANS!W14)*3)))","v":0},null,{"$f":"IF(SPORTSMANS!Z14=\"\",0,(SUM((SPORTSMANS!Z14/SPORTSMANS!AA14)*3)))","v":0},null,{"$f":"IF(SPORTSMANS!AD14=\"\",0,(SUM((SPORTSMANS!AD14/SPORTSMANS!AE14)*3)))","v":0},null,{"$f":"IF(SPORTSMANS!AH14=\"\",0,(SUM((SPORTSMANS!AH14/SPORTSMANS!AI14)*3)))","v":0},null,{"$f":"IF(SPORTSMANS!AL14=\"\",0,(SUM((SPORTSMANS!AL14/SPORTSMANS!AM14)*3)))","v":0},null,{"$f":"IF(SPORTSMANS!AP14=\"\",0,(SUM((SPORTSMANS!AP14/SPORTSMANS!AQ14)*3)))","v":0},null,{"$f":"IF(SPORTSMANS!AT14=\"\",0,(SUM((SPORTSMANS!AT14/SPORTSMANS!AU14)*3)))","v":0},null,{"$f":"IF(SPORTSMANS!AX14=\"\",0,(SUM((SPORTSMANS!AX14/SPORTSMANS!AY14)*3)))","v":0},null,{"$f":"IF(SPORTSMANS!BB14=\"\",0,(SUM((SPORTSMANS!BB14/SPORTSMANS!BC14)*3)))","v":0},null,{"$f":"IF(SPORTSMANS!BF14=\"\",0,(SUM((SPORTSMANS!BF14/SPORTSMANS!BG14)*3)))","v":0},null,{"$f":"IF(SPORTSMANS!BJ14=\"\",0,(SUM((SPORTSMANS!BJ14/SPORTSMANS!BK14)*3)))","v":0},null,{"$f":"IF(SPORTSMANS!BN14=\"\",0,(SUM((SPORTSMANS!BN14/SPORTSMANS!BO14)*3)))","v":0},null,{"$f":"IF(SPORTSMANS!BR14=\"\",0,(SUM((SPORTSMANS!BR14/SPORTSMANS!BS14)*3)))","v":0},null,{"$f":"IF(SPORTSMANS!BV14=\"\",0,(SUM((SPORTSMANS!BV14/SPORTSMANS!BW14)*3)))","v":0},null,{"$f":"IF(SPORTSMANS!BZ14=\"\",0,(SUM((SPORTSMANS!BZ14/SPORTSMANS!CA14)*3)))","v":0},null,{"$f":"IF(SPORTSMANS!CD14=\"\",0,(SUM((SPORTSMANS!CD14/SPORTSMANS!CE14)*3)))","v":0},null,{"$f":"IF(SPORTSMANS!CH14=\"\",0,(SUM((SPORTSMANS!CH14/SPORTSMANS!CI14)*3)))","v":0}]
[]
["WMC","11/09/2006\nV\nRAFA 'A' (A)"]
[null,"W/L","AVG","W/L","AVG","W/L","AVG","W/L","AVG","W/L","AVG","W/L","AVG","W/L","AVG","W/L","AVG","W/L","AVG","W/L","AVG","W/L","AVG","W/L","AVG","W/L","AVG","W/L","AVG","W/L","AVG","W/L","AVG","W/L","AVG","W/L","AVG","W/L","AVG","W/L","AVG","W/L","AVG","W/L","AVG"]
[{"$f":"'WORKMENS CLUB \"B\"'!A3","v":"Chris Whiting"},{"$f":"IF(C416=1,B416,\"\")","v":""},{"$f":"IF(B428>0,B428,\"\")","v":""},{"$f":"IF(E416=1,D416,\"\")","v":""},{"$f":"IF(D428>0,D428,\"\")","v":""},{"$f":"IF(G416=1,F416,\"\")","v":"WON"},{"$f":"IF(F428>0,F428,\"\")","v":40.442307692307693},{"$f":"IF(I416=1,H416,\"\")","v":"WON"},{"$f":"IF(H428>0,H428,\"\")","v":60.085714285714289},{"$f":"IF(K416=1,J416,\"\")","v":"LOST"},{"$f":"IF(J428>0,J428,\"\")","v":40.818181818181813},{"$f":"IF(M416=1,L416,\"\")","v":""},{"$f":"IF(L428>0,L428,\"\")","v":""},{"$f":"IF(O416=1,N416,\"\")","v":""},{"$f":"IF(N428>0,N428,\"\")","v":""},{"$f":"IF(Q416=1,P416,\"\")","v":""},{"$f":"IF(P428>0,P428,\"\")","v":""},{"$f":"IF(S416=1,R416,\"\")","v":""},{"$f":"IF(R428>0,R428,\"\")","v":""},{"$f":"IF(U416=1,T416,\"\")","v":"LOST"},{"$f":"IF(T428>0,T428,\"\")","v":38.833333333333336},{"$f":"IF(W416=1,V416,\"\")","v":"LOST"},{"$f":"IF(V428>0,V428,\"\")","v":33.642857142857139},{"$f":"IF(Y416=1,X416,\"\")","v":"LOST"},{"$f":"IF(X428>0,X428,\"\")","v":39.25},{"$f":"IF(AA416=1,Z416,\"\")","v":"LOST"},{"$f":"IF(Z428>0,Z428,\"\")","v":42.620689655172413},{"$f":"IF(AC416=1,AB416,\"\")","v":""},{"$f":"IF(AB428>0,AB428,\"\")","v":""},{"$f":"IF(AE416=1,AD416,\"\")","v":""},{"$f":"IF(AD428>0,AD428,\"\")","v":""},{"$f":"IF(AG416=1,AF416,\"\")","v":""},{"$f":"IF(AF428>0,AF428,\"\")","v":""},{"$f":"IF(AI416=1,AH416,\"\")","v":""},{"$f":"IF(AH428>0,AH428,\"\")","v":""},{"$f":"IF(AK416=1,AJ416,\"\")","v":""},{"$f":"IF(AJ428>0,AJ428,\"\")","v":""},{"$f":"IF(AM416=1,AL416,\"\")","v":""},{"$f":"IF(AL428>0,AL428,\"\")","v":""},{"$f":"IF(AO416=1,AN416,\"\")","v":""},{"$f":"IF(AN428>0,AN428,\"\")","v":""},{"$f":"IF(AQ416=1,AP416,\"\")","v":""},{"$f":"IF(AP428>0,AP428,\"\")","v":""},{"$f":"IF(AS416=1,AR416,\"\")","v":""},{"$f":"IF(AR428>0,AR428,\"\")","v":""}]
[{"$f":"'WORKMENS CLUB \"B\"'!A4","v":"Phil Wells"},{"$f":"IF(C417=1,B417,\"\")","v":"LOST"},{"$f":"IF(B429>0,B429,\"\")","v":43.615384615384613},{"$f":"IF(E417=1,D417,\"\")","v":"LOST"},{"$f":"IF(D429>0,D429,\"\")","v":35.666666666666671},{"$f":"IF(G417=1,F417,\"\")","v":""},{"$f":"IF(F429>0,F429,\"\")","v":""},{"$f":"IF(I417=1,H417,\"\")","v":""},{"$f":"IF(H429>0,H429,\"\")","v":""},{"$f":"IF(K417=1,J417,\"\")","v":""},{"$f":"IF(J429>0,J429,\"\")","v":""},{"$f":"IF(M417=1,L417,\"\")","v":""},{"$f":"IF(L429>0,L429,\"\")","v":""},{"$f":"IF(O417=1,N417,\"\")","v":""},{"$f":"IF(N429>0,N429,\"\")","v":""},{"$f":"IF(Q417=1,P417,\"\")","v":"LOST"},{"$f":"IF(P429>0,P429,\"\")","v":41.0625},{"$f":"IF(S417=1,R417,\"\")","v":"LOST"},{"$f":"IF(R429>0,R429,\"\")","v":53.75},{"$f":"IF(U417=1,T417,\"\")","v":"LOST"},{"$f":"IF(T429>0,T429,\"\")","v":47.846153846153847},{"$f":"IF(W417=1,V417,\"\")","v":"LOST"},{"$f":"IF(V429>0,V429,\"\")","v":43.909090909090907},{"$f":"IF(Y417=1,X417,\"\")","v":""},{"$f":"IF(X429>0,X429,\"\")","v":""},{"$f":"IF(AA417=1,Z417,\"\")","v":""},{"$f":"IF(Z429>0,Z429,\"\")","v":""},{"$f":"IF(AC417=1,AB417,\"\")","v":""},{"$f":"IF(AB429>0,AB429,\"\")","v":""},{"$f":"IF(AE417=1,AD417,\"\")","v":""},{"$f":"IF(AD429>0,AD429,\"\")","v":""},{"$f":"IF(AG417=1,AF417,\"\")","v":"WON"},{"$f":"IF(AF429>0,AF429,\"\")","v":33.91935483870968},{"$f":"IF(AI417=1,AH417,\"\")","v":"WON"},{"$f":"IF(AH429>0,AH429,\"\")","v":46.733333333333334},{"$f":"IF(AK417=1,AJ417,\"\")","v":"WON"},{"$f":"IF(AJ429>0,AJ429,\"\")","v":55.34210526315789},{"$f":"IF(AM417=1,AL417,\"\")","v":""},{"$f":"IF(AL429>0,AL429,\"\")","v":""},{"$f":"IF(AO417=1,AN417,\"\")","v":""},{"$f":"IF(AN429>0,AN429,\"\")","v":""},{"$f":"IF(AQ417=1,AP417,\"\")","v":""},{"$f":"IF(AP429>0,AP429,\"\")","v":""},{"$f":"IF(AS417=1,AR417,\"\")","v":""},{"$f":"IF(AR429>0,AR429,\"\")","v":""}]
[{"$f":"'WORKMENS CLUB \"B\"'!A5","v":"Ian Richards"},"LOST",50.666666666666671,"WON",60.085714285714289,"WON",48.906976744186039,"LOST",56.454545454545453,"WON",42.918367346938773,"","","WON",58.416666666666664,"WON",48.906976744186039,"","","","","","","LOST",62.63636363636364,"LOST",53.692307692307693,"LOST",60.090909090909093,"","","LOST",45.599999999999994,"WON",41.235294117647058,"WON",70.099999999999994,"","","","","","","",""]
[{"$f":"'WORKMENS CLUB \"B\"'!A6","v":"Adam Richards"},"","","","","","","","","","","","","","","","","","","","","","","","","","","","","","","","","","","","","","","","","","","",""]
[{"$f":"'WORKMENS CLUB \"B\"'!A7","v":"Alex Watson"},"","","","","","","","","","","","","LOST",38.533333333333331,"LOST",50.53846153846154,"","","WON",46.733333333333334,"LOST",59,"WON",51.292682926829272,"","","WON",63.727272727272727,"","","WON",36.258620689655174,"LOST",44.214285714285708,"LOST",34.650000000000006,"","","","","","","",""]
[{"$f":"'WORKMENS CLUB \"B\"'!A8","v":"Ian Appleby"},"","","","","","","","","","","","","","","","","","","","","","","","","","","","","","","","","","","","","","","","","","","",""]
[{"$f":"'WORKMENS CLUB \"B\"'!A9","v":"Bob Carter"},"LOST",62.818181818181813,"LOST",58.25,"WON",45.717391304347828,"WON",50.071428571428569,"LOST",39.900000000000006,"","","WON",50.071428571428569,"WON",47.795454545454547,"WON",43.8125,"LOST",55.083333333333329,"","","","","WON",77.888888888888886,"LOST",57.300000000000004,"","","LOST",59.699999999999996,"WON",53.92307692307692,"WON",52.574999999999996,"","","","","","","",""]
[{"$f":"'WORKMENS CLUB \"B\"'!A10","v":"B. Dawson"},"LOST",56.18181818181818,"LOST",42.1,"WON",40.442307692307693,"LOST",44.307692307692307,"WON",36.89473684210526,"","","LOST",38.058823529411761,"LOST",38.533333333333331,"LOST",46.4,"","","LOST",50.666666666666671,"LOST",41.9375,"LOST",40.89473684210526,"WON",45.717391304347828,"","","","","","","","","","","","","","","",""]
[{"$f":"'WORKMENS CLUB \"B\"'!A11","v":"Trevor Brown"},"WON",40.442307692307693,"WON",51.292682926829272,"LOST",49.357142857142861,"LOST",35.230769230769226,"LOST",52.38461538461538,"","","WON",42.918367346938773,"","","WON",42.918367346938773,"LOST",47.785714285714285,"LOST",51.900000000000006,"WON",56.837837837837839,"LOST",44.083333333333336,"LOST",74,"","","WON",40.442307692307693,"WON",38.944444444444443,"LOST",36.789473684210527,"","","","","","","",""]
[{"$f":"'WORKMENS CLUB \"B\"'!A12","v":"Mark Cox"},"LOST",59.363636363636367,"LOST",54.7,"WON",43.8125,"WON",53.92307692307692,"LOST",60.5,"","","LOST",41,"WON",51.292682926829272,"WON",61.852941176470587,"LOST",84.5,"LOST",56.090909090909086,"WON",51.292682926829272,"WON",46.733333333333334,"LOST",46.285714285714285,"","","LOST",44.909090909090907,"WON",67.838709677419359,"WON",60.085714285714289,"","","","","","","",""]
[{"$f":"'WORKMENS CLUB \"B\"'!A13","v":0},"","","","","","","","","","","","","","","","","","","","","","","","","","","","","","","","","","","","","","","","","","","",""]
[{"$f":"'WORKMENS CLUB \"B\"'!A14","v":0},"","","","","","","","","","","","","","","","","","","","","","","","","","","","","","","","","","","","","","","","","","","",""]
[]
["WMC",{"$f":"IF('WORKMENS CLUB \"B\"'!B3=701,\"WON\",\"LOST\")","v":"LOST"},{"$f":"IF('WORKMENS CLUB \"B\"'!B3>0,1,0)","v":0},{"$f":"IF('WORKMENS CLUB \"B\"'!F3=701,\"WON\",\"LOST\")","v":"LOST"},{"$f":"IF('WORKMENS CLUB \"B\"'!F3>0,1,0)","v":0},{"$f":"IF('WORKMENS CLUB \"B\"'!J3=701,\"WON\",\"LOST\")","v":"WON"},{"$f":"IF('WORKMENS CLUB \"B\"'!J3>0,1,0)","v":1},{"$f":"IF('WORKMENS CLUB \"B\"'!N3=701,\"WON\",\"LOST\")","v":"WON"},{"$f":"IF('WORKMENS CLUB \"B\"'!N3>0,1,0)","v":1},{"$f":"IF('WORKMENS CLUB \"B\"'!R3=701,\"WON\",\"LOST\")","v":"LOST"},{"$f":"IF('WORKMENS CLUB \"B\"'!R3>0,1,0)","v":1},{"$f":"IF('WORKMENS CLUB \"B\"'!V3=701,\"WON\",\"LOST\")","v":"LOST"},{"$f":"IF('WORKMENS CLUB \"B\"'!V3>0,1,0)","v":0},{"$f":"IF('WORKMENS CLUB \"B\"'!Z3=701,\"WON\",\"LOST\")","v":"LOST"},{"$f":"IF('WORKMENS CLUB \"B\"'!Z3>0,1,0)","v":0},{"$f":"IF('WORKMENS CLUB \"B\"'!AD3=701,\"WON\",\"LOST\")","v":"LOST"},{"$f":"IF('WORKMENS CLUB \"B\"'!AD3>0,1,0)","v":0},{"$f":"IF('WORKMENS CLUB \"B\"'!AH3=701,\"WON\",\"LOST\")","v":"LOST"},{"$f":"IF('WORKMENS CLUB \"B\"'!AH3>0,1,0)","v":0},{"$f":"IF('WORKMENS CLUB \"B\"'!AL3=701,\"WON\",\"LOST\")","v":"LOST"},{"$f":"IF('WORKMENS CLUB \"B\"'!AL3>0,1,0)","v":1},{"$f":"IF('WORKMENS CLUB \"B\"'!AP3=701,\"WON\",\"LOST\")","v":"LOST"},{"$f":"IF('WORKMENS CLUB \"B\"'!AP3>0,1,0)","v":1},{"$f":"IF('WORKMENS CLUB \"B\"'!AT3=701,\"WON\",\"LOST\")","v":"LOST"},{"$f":"IF('WORKMENS CLUB \"B\"'!AT3>0,1,0)","v":1},{"$f":"IF('WORKMENS CLUB \"B\"'!AX3=701,\"WON\",\"LOST\")","v":"LOST"},{"$f":"IF('WORKMENS CLUB \"B\"'!AX3>0,1,0)","v":1},{"$f":"IF('WORKMENS CLUB \"B\"'!BB3=701,\"WON\",\"LOST\")","v":"LOST"},{"$f":"IF('WORKMENS CLUB \"B\"'!BB3>0,1,0)","v":0},{"$f":"IF('WORKMENS CLUB \"B\"'!BF3=701,\"WON\",\"LOST\")","v":"LOST"},{"$f":"IF('WORKMENS CLUB \"B\"'!BF3>0,1,0)","v":0},{"$f":"IF('WORKMENS CLUB \"B\"'!BJ3=701,\"WON\",\"LOST\")","v":"LOST"},{"$f":"IF('WORKMENS CLUB \"B\"'!BJ3>0,1,0)","v":0},{"$f":"IF('WORKMENS CLUB \"B\"'!BN3=701,\"WON\",\"LOST\")","v":"LOST"},{"$f":"IF('WORKMENS CLUB \"B\"'!BN3>0,1,0)","v":0},{"$f":"IF('WORKMENS CLUB \"B\"'!BR3=701,\"WON\",\"LOST\")","v":"LOST"},{"$f":"IF('WORKMENS CLUB \"B\"'!BR3>0,1,0)","v":0},{"$f":"IF('WORKMENS CLUB \"B\"'!BV3=701,\"WON\",\"LOST\")","v":"LOST"},{"$f":"IF('WORKMENS CLUB \"B\"'!BV3>0,1,0)","v":0},{"$f":"IF('WORKMENS CLUB \"B\"'!BZ3=701,\"WON\",\"LOST\")","v":"LOST"},{"$f":"IF('WORKMENS CLUB \"B\"'!BZ3>0,1,0)","v":0},{"$f":"IF('WORKMENS CLUB \"B\"'!CD3=701,\"WON\",\"LOST\")","v":"LOST"},{"$f":"IF('WORKMENS CLUB \"B\"'!CD3>0,1,0)","v":0},{"$f":"IF('WORKMENS CLUB \"B\"'!CH3=701,\"WON\",\"LOST\")","v":"LOST"},{"$f":"IF('WORKMENS CLUB \"B\"'!CH3>0,1,0)","v":0}]
[null,{"$f":"IF('WORKMENS CLUB \"B\"'!B4=701,\"WON\",\"LOST\")","v":"LOST"},{"$f":"IF('WORKMENS CLUB \"B\"'!B4>0,1,0)","v":1},{"$f":"IF('WORKMENS CLUB \"B\"'!F4=701,\"WON\",\"LOST\")","v":"LOST"},{"$f":"IF('WORKMENS CLUB \"B\"'!F4>0,1,0)","v":1},{"$f":"IF('WORKMENS CLUB \"B\"'!J4=701,\"WON\",\"LOST\")","v":"LOST"},{"$f":"IF('WORKMENS CLUB \"B\"'!J4>0,1,0)","v":0},{"$f":"IF('WORKMENS CLUB \"B\"'!N4=701,\"WON\",\"LOST\")","v":"LOST"},{"$f":"IF('WORKMENS CLUB \"B\"'!N4>0,1,0)","v":0},{"$f":"IF('WORKMENS CLUB \"B\"'!R4=701,\"WON\",\"LOST\")","v":"LOST"},{"$f":"IF('WORKMENS CLUB \"B\"'!R4>0,1,0)","v":0},{"$f":"IF('WORKMENS CLUB \"B\"'!V4=701,\"WON\",\"LOST\")","v":"LOST"},{"$f":"IF('WORKMENS CLUB \"B\"'!V4>0,1,0)","v":0},{"$f":"IF('WORKMENS CLUB \"B\"'!Z4=701,\"WON\",\"LOST\")","v":"LOST"},{"$f":"IF('WORKMENS CLUB \"B\"'!Z4>0,1,0)","v":0},{"$f":"IF('WORKMENS CLUB \"B\"'!AD4=701,\"WON\",\"LOST\")","v":"LOST"},{"$f":"IF('WORKMENS CLUB \"B\"'!AD4>0,1,0)","v":1},{"$f":"IF('WORKMENS CLUB \"B\"'!AH4=701,\"WON\",\"LOST\")","v":"LOST"},{"$f":"IF('WORKMENS CLUB \"B\"'!AH4>0,1,0)","v":1},{"$f":"IF('WORKMENS CLUB \"B\"'!AL4=701,\"WON\",\"LOST\")","v":"LOST"},{"$f":"IF('WORKMENS CLUB \"B\"'!AL4>0,1,0)","v":1},{"$f":"IF('WORKMENS CLUB \"B\"'!AP4=701,\"WON\",\"LOST\")","v":"LOST"},{"$f":"IF('WORKMENS CLUB \"B\"'!AP4>0,1,0)","v":1},{"$f":"IF('WORKMENS CLUB \"B\"'!AT4=701,\"WON\",\"LOST\")","v":"LOST"},{"$f":"IF('WORKMENS CLUB \"B\"'!AT4>0,1,0)","v":0},{"$f":"IF('WORKMENS CLUB \"B\"'!AX4=701,\"WON\",\"LOST\")","v":"LOST"},{"$f":"IF('WORKMENS CLUB \"B\"'!AX4>0,1,0)","v":0},{"$f":"IF('WORKMENS CLUB \"B\"'!BB4=701,\"WON\",\"LOST\")","v":"LOST"},{"$f":"IF('WORKMENS CLUB \"B\"'!BB4>0,1,0)","v":0},{"$f":"IF('WORKMENS CLUB \"B\"'!BF4=701,\"WON\",\"LOST\")","v":"LOST"},{"$f":"IF('WORKMENS CLUB \"B\"'!BF4>0,1,0)","v":0},{"$f":"IF('WORKMENS CLUB \"B\"'!BJ4=701,\"WON\",\"LOST\")","v":"WON"},{"$f":"IF('WORKMENS CLUB \"B\"'!BJ4>0,1,0)","v":1},{"$f":"IF('WORKMENS CLUB \"B\"'!BN4=701,\"WON\",\"LOST\")","v":"WON"},{"$f":"IF('WORKMENS CLUB \"B\"'!BN4>0,1,0)","v":1},{"$f":"IF('WORKMENS CLUB \"B\"'!BR4=701,\"WON\",\"LOST\")","v":"WON"},{"$f":"IF('WORKMENS CLUB \"B\"'!BR4>0,1,0)","v":1},{"$f":"IF('WORKMENS CLUB \"B\"'!BV4=701,\"WON\",\"LOST\")","v":"LOST"},{"$f":"IF('WORKMENS CLUB \"B\"'!BV4>0,1,0)","v":0},{"$f":"IF('WORKMENS CLUB \"B\"'!BZ4=701,\"WON\",\"LOST\")","v":"LOST"},{"$f":"IF('WORKMENS CLUB \"B\"'!BZ4>0,1,0)","v":0},{"$f":"IF('WORKMENS CLUB \"B\"'!CD4=701,\"WON\",\"LOST\")","v":"LOST"},{"$f":"IF('WORKMENS CLUB \"B\"'!CD4>0,1,0)","v":0},{"$f":"IF('WORKMENS CLUB \"B\"'!CH4=701,\"WON\",\"LOST\")","v":"LOST"},{"$f":"IF('WORKMENS CLUB \"B\"'!CH4>0,1,0)","v":0}]
[null,{"$f":"IF('WORKMENS CLUB \"B\"'!B5=701,\"WON\",\"LOST\")","v":"LOST"},{"$f":"IF('WORKMENS CLUB \"B\"'!B5>0,1,0)","v":1},{"$f":"IF('WORKMENS CLUB \"B\"'!F5=701,\"WON\",\"LOST\")","v":"WON"},{"$f":"IF('WORKMENS CLUB \"B\"'!F5>0,1,0)","v":1},{"$f":"IF('WORKMENS CLUB \"B\"'!J5=701,\"WON\",\"LOST\")","v":"WON"},{"$f":"IF('WORKMENS CLUB \"B\"'!J5>0,1,0)","v":1},{"$f":"IF('WORKMENS CLUB \"B\"'!N5=701,\"WON\",\"LOST\")","v":"LOST"},{"$f":"IF('WORKMENS CLUB \"B\"'!N5>0,1,0)","v":1},{"$f":"IF('WORKMENS CLUB \"B\"'!R5=701,\"WON\",\"LOST\")","v":"WON"},{"$f":"IF('WORKMENS CLUB \"B\"'!R5>0,1,0)","v":1},{"$f":"IF('WORKMENS CLUB \"B\"'!V5=701,\"WON\",\"LOST\")","v":"LOST"},{"$f":"IF('WORKMENS CLUB \"B\"'!V5>0,1,0)","v":0},{"$f":"IF('WORKMENS CLUB \"B\"'!Z5=701,\"WON\",\"LOST\")","v":"WON"},{"$f":"IF('WORKMENS CLUB \"B\"'!Z5>0,1,0)","v":1},{"$f":"IF('WORKMENS CLUB \"B\"'!AD5=701,\"WON\",\"LOST\")","v":"WON"},{"$f":"IF('WORKMENS CLUB \"B\"'!AD5>0,1,0)","v":1},{"$f":"IF('WORKMENS CLUB \"B\"'!AH5=701,\"WON\",\"LOST\")","v":"LOST"},{"$f":"IF('WORKMENS CLUB \"B\"'!AH5>0,1,0)","v":0},{"$f":"IF('WORKMENS CLUB \"B\"'!AL5=701,\"WON\",\"LOST\")","v":"LOST"},{"$f":"IF('WORKMENS CLUB \"B\"'!AL5>0,1,0)","v":0},{"$f":"IF('WORKMENS CLUB \"B\"'!AP5=701,\"WON\",\"LOST\")","v":"LOST"},{"$f":"IF('WORKMENS CLUB \"B\"'!AP5>0,1,0)","v":0},{"$f":"IF('WORKMENS CLUB \"B\"'!AT5=701,\"WON\",\"LOST\")","v":"LOST"},{"$f":"IF('WORKMENS CLUB \"B\"'!AT5>0,1,0)","v":1},{"$f":"IF('WORKMENS CLUB \"B\"'!AX5=701,\"WON\",\"LOST\")","v":"LOST"},{"$f":"IF('WORKMENS CLUB \"B\"'!AX5>0,1,0)","v":1},{"$f":"IF('WORKMENS CLUB \"B\"'!BB5=701,\"WON\",\"LOST\")","v":"LOST"},{"$f":"IF('WORKMENS CLUB \"B\"'!BB5>0,1,0)","v":1},{"$f":"IF('WORKMENS CLUB \"B\"'!BF5=701,\"WON\",\"LOST\")","v":"LOST"},{"$f":"IF('WORKMENS CLUB \"B\"'!BF5>0,1,0)","v":0},{"$f":"IF('WORKMENS CLUB \"B\"'!BJ5=701,\"WON\",\"LOST\")","v":"LOST"},{"$f":"IF('WORKMENS CLUB \"B\"'!BJ5>0,1,0)","v":1},{"$f":"IF('WORKMENS CLUB \"B\"'!BN5=701,\"WON\",\"LOST\")","v":"WON"},{"$f":"IF('WORKMENS CLUB \"B\"'!BN5>0,1,0)","v":1},{"$f":"IF('WORKMENS CLUB \"B\"'!BR5=701,\"WON\",\"LOST\")","v":"WON"},{"$f":"IF('WORKMENS CLUB \"B\"'!BR5>0,1,0)","v":1},{"$f":"IF('WORKMENS CLUB \"B\"'!BV5=701,\"WON\",\"LOST\")","v":"LOST"},{"$f":"IF('WORKMENS CLUB \"B\"'!BV5>0,1,0)","v":0},{"$f":"IF('WORKMENS CLUB \"B\"'!BZ5=701,\"WON\",\"LOST\")","v":"LOST"},{"$f":"IF('WORKMENS CLUB \"B\"'!BZ5>0,1,0)","v":0},{"$f":"IF('WORKMENS CLUB \"B\"'!CD5=701,\"WON\",\"LOST\")","v":"LOST"},{"$f":"IF('WORKMENS CLUB \"B\"'!CD5>0,1,0)","v":0},{"$f":"IF('WORKMENS CLUB \"B\"'!CH5=701,\"WON\",\"LOST\")","v":"LOST"},{"$f":"IF('WORKMENS CLUB \"B\"'!CH5>0,1,0)","v":0}]
[null,{"$f":"IF('WORKMENS CLUB \"B\"'!B6=701,\"WON\",\"LOST\")","v":"LOST"},{"$f":"IF('WORKMENS CLUB \"B\"'!B6>0,1,0)","v":0},{"$f":"IF('WORKMENS CLUB \"B\"'!F6=701,\"WON\",\"LOST\")","v":"LOST"},{"$f":"IF('WORKMENS CLUB \"B\"'!F6>0,1,0)","v":0},{"$f":"IF('WORKMENS CLUB \"B\"'!J6=701,\"WON\",\"LOST\")","v":"LOST"},{"$f":"IF('WORKMENS CLUB \"B\"'!J6>0,1,0)","v":0},{"$f":"IF('WORKMENS CLUB \"B\"'!N6=701,\"WON\",\"LOST\")","v":"LOST"},{"$f":"IF('WORKMENS CLUB \"B\"'!N6>0,1,0)","v":0},{"$f":"IF('WORKMENS CLUB \"B\"'!R6=701,\"WON\",\"LOST\")","v":"LOST"},{"$f":"IF('WORKMENS CLUB \"B\"'!R6>0,1,0)","v":0},{"$f":"IF('WORKMENS CLUB \"B\"'!V6=701,\"WON\",\"LOST\")","v":"LOST"},{"$f":"IF('WORKMENS CLUB \"B\"'!V6>0,1,0)","v":0},{"$f":"IF('WORKMENS CLUB \"B\"'!Z6=701,\"WON\",\"LOST\")","v":"LOST"},{"$f":"IF('WORKMENS CLUB \"B\"'!Z6>0,1,0)","v":0},{"$f":"IF('WORKMENS CLUB \"B\"'!AD6=701,\"WON\",\"LOST\")","v":"LOST"},{"$f":"IF('WORKMENS CLUB \"B\"'!AD6>0,1,0)","v":0},{"$f":"IF('WORKMENS CLUB \"B\"'!AH6=701,\"WON\",\"LOST\")","v":"LOST"},{"$f":"IF('WORKMENS CLUB \"B\"'!AH6>0,1,0)","v":0},{"$f":"IF('WORKMENS CLUB \"B\"'!AL6=701,\"WON\",\"LOST\")","v":"LOST"},{"$f":"IF('WORKMENS CLUB \"B\"'!AL6>0,1,0)","v":0},{"$f":"IF('WORKMENS CLUB \"B\"'!AP6=701,\"WON\",\"LOST\")","v":"LOST"},{"$f":"IF('WORKMENS CLUB \"B\"'!AP6>0,1,0)","v":0},{"$f":"IF('WORKMENS CLUB \"B\"'!AT6=701,\"WON\",\"LOST\")","v":"LOST"},{"$f":"IF('WORKMENS CLUB \"B\"'!AT6>0,1,0)","v":0},{"$f":"IF('WORKMENS CLUB \"B\"'!AX6=701,\"WON\",\"LOST\")","v":"LOST"},{"$f":"IF('WORKMENS CLUB \"B\"'!AX6>0,1,0)","v":0},{"$f":"IF('WORKMENS CLUB \"B\"'!BB6=701,\"WON\",\"LOST\")","v":"LOST"},{"$f":"IF('WORKMENS CLUB \"B\"'!BB6>0,1,0)","v":0},{"$f":"IF('WORKMENS CLUB \"B\"'!BF6=701,\"WON\",\"LOST\")","v":"LOST"},{"$f":"IF('WORKMENS CLUB \"B\"'!BF6>0,1,0)","v":0},{"$f":"IF('WORKMENS CLUB \"B\"'!BJ6=701,\"WON\",\"LOST\")","v":"LOST"},{"$f":"IF('WORKMENS CLUB \"B\"'!BJ6>0,1,0)","v":0},{"$f":"IF('WORKMENS CLUB \"B\"'!BN6=701,\"WON\",\"LOST\")","v":"LOST"},{"$f":"IF('WORKMENS CLUB \"B\"'!BN6>0,1,0)","v":0},{"$f":"IF('WORKMENS CLUB \"B\"'!BR6=701,\"WON\",\"LOST\")","v":"LOST"},{"$f":"IF('WORKMENS CLUB \"B\"'!BR6>0,1,0)","v":0},{"$f":"IF('WORKMENS CLUB \"B\"'!BV6=701,\"WON\",\"LOST\")","v":"LOST"},{"$f":"IF('WORKMENS CLUB \"B\"'!BV6>0,1,0)","v":0},{"$f":"IF('WORKMENS CLUB \"B\"'!BZ6=701,\"WON\",\"LOST\")","v":"LOST"},{"$f":"IF('WORKMENS CLUB \"B\"'!BZ6>0,1,0)","v":0},{"$f":"IF('WORKMENS CLUB \"B\"'!CD6=701,\"WON\",\"LOST\")","v":"LOST"},{"$f":"IF('WORKMENS CLUB \"B\"'!CD6>0,1,0)","v":0},{"$f":"IF('WORKMENS CLUB \"B\"'!CH6=701,\"WON\",\"LOST\")","v":"LOST"},{"$f":"IF('WORKMENS CLUB \"B\"'!CH6>0,1,0)","v":0}]
[null,{"$f":"IF('WORKMENS CLUB \"B\"'!B7=701,\"WON\",\"LOST\")","v":"LOST"},{"$f":"IF('WORKMENS CLUB \"B\"'!B7>0,1,0)","v":0},{"$f":"IF('WORKMENS CLUB \"B\"'!F7=701,\"WON\",\"LOST\")","v":"LOST"},{"$f":"IF('WORKMENS CLUB \"B\"'!F7>0,1,0)","v":0},{"$f":"IF('WORKMENS CLUB \"B\"'!J7=701,\"WON\",\"LOST\")","v":"LOST"},{"$f":"IF('WORKMENS CLUB \"B\"'!J7>0,1,0)","v":0},{"$f":"IF('WORKMENS CLUB \"B\"'!N7=701,\"WON\",\"LOST\")","v":"LOST"},{"$f":"IF('WORKMENS CLUB \"B\"'!N7>0,1,0)","v":0},{"$f":"IF('WORKMENS CLUB \"B\"'!R7=701,\"WON\",\"LOST\")","v":"LOST"},{"$f":"IF('WORKMENS CLUB \"B\"'!R7>0,1,0)","v":0},{"$f":"IF('WORKMENS CLUB \"B\"'!V7=701,\"WON\",\"LOST\")","v":"LOST"},{"$f":"IF('WORKMENS CLUB \"B\"'!V7>0,1,0)","v":0},{"$f":"IF('WORKMENS CLUB \"B\"'!Z7=701,\"WON\",\"LOST\")","v":"LOST"},{"$f":"IF('WORKMENS CLUB \"B\"'!Z7>0,1,0)","v":1},{"$f":"IF('WORKMENS CLUB \"B\"'!AD7=701,\"WON\",\"LOST\")","v":"LOST"},{"$f":"IF('WORKMENS CLUB \"B\"'!AD7>0,1,0)","v":1},{"$f":"IF('WORKMENS CLUB \"B\"'!AH7=701,\"WON\",\"LOST\")","v":"LOST"},{"$f":"IF('WORKMENS CLUB \"B\"'!AH7>0,1,0)","v":0},{"$f":"IF('WORKMENS CLUB \"B\"'!AL7=701,\"WON\",\"LOST\")","v":"WON"},{"$f":"IF('WORKMENS CLUB \"B\"'!AL7>0,1,0)","v":1},{"$f":"IF('WORKMENS CLUB \"B\"'!AP7=701,\"WON\",\"LOST\")","v":"LOST"},{"$f":"IF('WORKMENS CLUB \"B\"'!AP7>0,1,0)","v":1},{"$f":"IF('WORKMENS CLUB \"B\"'!AT7=701,\"WON\",\"LOST\")","v":"WON"},{"$f":"IF('WORKMENS CLUB \"B\"'!AT7>0,1,0)","v":1},{"$f":"IF('WORKMENS CLUB \"B\"'!AX7=701,\"WON\",\"LOST\")","v":"LOST"},{"$f":"IF('WORKMENS CLUB \"B\"'!AX7>0,1,0)","v":0},{"$f":"IF('WORKMENS CLUB \"B\"'!BB7=701,\"WON\",\"LOST\")","v":"WON"},{"$f":"IF('WORKMENS CLUB \"B\"'!BB7>0,1,0)","v":1},{"$f":"IF('WORKMENS CLUB \"B\"'!BF7=701,\"WON\",\"LOST\")","v":"LOST"},{"$f":"IF('WORKMENS CLUB \"B\"'!BF7>0,1,0)","v":0},{"$f":"IF('WORKMENS CLUB \"B\"'!BJ7=701,\"WON\",\"LOST\")","v":"WON"},{"$f":"IF('WORKMENS CLUB \"B\"'!BJ7>0,1,0)","v":1},{"$f":"IF('WORKMENS CLUB \"B\"'!BN7=701,\"WON\",\"LOST\")","v":"LOST"},{"$f":"IF('WORKMENS CLUB \"B\"'!BN7>0,1,0)","v":1},{"$f":"IF('WORKMENS CLUB \"B\"'!BR7=701,\"WON\",\"LOST\")","v":"LOST"},{"$f":"IF('WORKMENS CLUB \"B\"'!BR7>0,1,0)","v":1},{"$f":"IF('WORKMENS CLUB \"B\"'!BV7=701,\"WON\",\"LOST\")","v":"LOST"},{"$f":"IF('WORKMENS CLUB \"B\"'!BV7>0,1,0)","v":0},{"$f":"IF('WORKMENS CLUB \"B\"'!BZ7=701,\"WON\",\"LOST\")","v":"LOST"},{"$f":"IF('WORKMENS CLUB \"B\"'!BZ7>0,1,0)","v":0},{"$f":"IF('WORKMENS CLUB \"B\"'!CD7=701,\"WON\",\"LOST\")","v":"LOST"},{"$f":"IF('WORKMENS CLUB \"B\"'!CD7>0,1,0)","v":0},{"$f":"IF('WORKMENS CLUB \"B\"'!CH7=701,\"WON\",\"LOST\")","v":"LOST"},{"$f":"IF('WORKMENS CLUB \"B\"'!CH7>0,1,0)","v":0}]
[null,{"$f":"IF('WORKMENS CLUB \"B\"'!B8=701,\"WON\",\"LOST\")","v":"LOST"},{"$f":"IF('WORKMENS CLUB \"B\"'!B8>0,1,0)","v":0},{"$f":"IF('WORKMENS CLUB \"B\"'!F8=701,\"WON\",\"LOST\")","v":"LOST"},{"$f":"IF('WORKMENS CLUB \"B\"'!F8>0,1,0)","v":0},{"$f":"IF('WORKMENS CLUB \"B\"'!J8=701,\"WON\",\"LOST\")","v":"LOST"},{"$f":"IF('WORKMENS CLUB \"B\"'!J8>0,1,0)","v":0},{"$f":"IF('WORKMENS CLUB \"B\"'!N8=701,\"WON\",\"LOST\")","v":"LOST"},{"$f":"IF('WORKMENS CLUB \"B\"'!N8>0,1,0)","v":0},{"$f":"IF('WORKMENS CLUB \"B\"'!R8=701,\"WON\",\"LOST\")","v":"LOST"},{"$f":"IF('WORKMENS CLUB \"B\"'!R8>0,1,0)","v":0},{"$f":"IF('WORKMENS CLUB \"B\"'!V8=701,\"WON\",\"LOST\")","v":"LOST"},{"$f":"IF('WORKMENS CLUB \"B\"'!V8>0,1,0)","v":0},{"$f":"IF('WORKMENS CLUB \"B\"'!Z8=701,\"WON\",\"LOST\")","v":"LOST"},{"$f":"IF('WORKMENS CLUB \"B\"'!Z8>0,1,0)","v":0},{"$f":"IF('WORKMENS CLUB \"B\"'!AD8=701,\"WON\",\"LOST\")","v":"LOST"},{"$f":"IF('WORKMENS CLUB \"B\"'!AD8>0,1,0)","v":0},{"$f":"IF('WORKMENS CLUB \"B\"'!AH8=701,\"WON\",\"LOST\")","v":"LOST"},{"$f":"IF('WORKMENS CLUB \"B\"'!AH8>0,1,0)","v":0},{"$f":"IF('WORKMENS CLUB \"B\"'!AL8=701,\"WON\",\"LOST\")","v":"LOST"},{"$f":"IF('WORKMENS CLUB \"B\"'!AL8>0,1,0)","v":0},{"$f":"IF('WORKMENS CLUB \"B\"'!AP8=701,\"WON\",\"LOST\")","v":"LOST"},{"$f":"IF('WORKMENS CLUB \"B\"'!AP8>0,1,0)","v":0},{"$f":"IF('WORKMENS CLUB \"B\"'!AT8=701,\"WON\",\"LOST\")","v":"LOST"},{"$f":"IF('WORKMENS CLUB \"B\"'!AT8>0,1,0)","v":0},{"$f":"IF('WORKMENS CLUB \"B\"'!AX8=701,\"WON\",\"LOST\")","v":"LOST"},{"$f":"IF('WORKMENS CLUB \"B\"'!AX8>0,1,0)","v":0},{"$f":"IF('WORKMENS CLUB \"B\"'!BB8=701,\"WON\",\"LOST\")","v":"LOST"},{"$f":"IF('WORKMENS CLUB \"B\"'!BB8>0,1,0)","v":0},{"$f":"IF('WORKMENS CLUB \"B\"'!BF8=701,\"WON\",\"LOST\")","v":"LOST"},{"$f":"IF('WORKMENS CLUB \"B\"'!BF8>0,1,0)","v":0},{"$f":"IF('WORKMENS CLUB \"B\"'!BJ8=701,\"WON\",\"LOST\")","v":"LOST"},{"$f":"IF('WORKMENS CLUB \"B\"'!BJ8>0,1,0)","v":0},{"$f":"IF('WORKMENS CLUB \"B\"'!BN8=701,\"WON\",\"LOST\")","v":"LOST"},{"$f":"IF('WORKMENS CLUB \"B\"'!BN8>0,1,0)","v":0},{"$f":"IF('WORKMENS CLUB \"B\"'!BR8=701,\"WON\",\"LOST\")","v":"LOST"},{"$f":"IF('WORKMENS CLUB \"B\"'!BR8>0,1,0)","v":0},{"$f":"IF('WORKMENS CLUB \"B\"'!BV8=701,\"WON\",\"LOST\")","v":"LOST"},{"$f":"IF('WORKMENS CLUB \"B\"'!BV8>0,1,0)","v":0},{"$f":"IF('WORKMENS CLUB \"B\"'!BZ8=701,\"WON\",\"LOST\")","v":"LOST"},{"$f":"IF('WORKMENS CLUB \"B\"'!BZ8>0,1,0)","v":0},{"$f":"IF('WORKMENS CLUB \"B\"'!CD8=701,\"WON\",\"LOST\")","v":"LOST"},{"$f":"IF('WORKMENS CLUB \"B\"'!CD8>0,1,0)","v":0},{"$f":"IF('WORKMENS CLUB \"B\"'!CH8=701,\"WON\",\"LOST\")","v":"LOST"},{"$f":"IF('WORKMENS CLUB \"B\"'!CH8>0,1,0)","v":0}]
[null,{"$f":"IF('WORKMENS CLUB \"B\"'!B9=701,\"WON\",\"LOST\")","v":"LOST"},{"$f":"IF('WORKMENS CLUB \"B\"'!B9>0,1,0)","v":1},{"$f":"IF('WORKMENS CLUB \"B\"'!F9=701,\"WON\",\"LOST\")","v":"LOST"},{"$f":"IF('WORKMENS CLUB \"B\"'!F9>0,1,0)","v":1},{"$f":"IF('WORKMENS CLUB \"B\"'!J9=701,\"WON\",\"LOST\")","v":"WON"},{"$f":"IF('WORKMENS CLUB \"B\"'!J9>0,1,0)","v":1},{"$f":"IF('WORKMENS CLUB \"B\"'!N9=701,\"WON\",\"LOST\")","v":"WON"},{"$f":"IF('WORKMENS CLUB \"B\"'!N9>0,1,0)","v":1},{"$f":"IF('WORKMENS CLUB \"B\"'!R9=701,\"WON\",\"LOST\")","v":"LOST"},{"$f":"IF('WORKMENS CLUB \"B\"'!R9>0,1,0)","v":1},{"$f":"IF('WORKMENS CLUB \"B\"'!V9=701,\"WON\",\"LOST\")","v":"LOST"},{"$f":"IF('WORKMENS CLUB \"B\"'!V9>0,1,0)","v":0},{"$f":"IF('WORKMENS CLUB \"B\"'!Z9=701,\"WON\",\"LOST\")","v":"WON"},{"$f":"IF('WORKMENS CLUB \"B\"'!Z9>0,1,0)","v":1},{"$f":"IF('WORKMENS CLUB \"B\"'!AD9=701,\"WON\",\"LOST\")","v":"WON"},{"$f":"IF('WORKMENS CLUB \"B\"'!AD9>0,1,0)","v":1},{"$f":"IF('WORKMENS CLUB \"B\"'!AH9=701,\"WON\",\"LOST\")","v":"WON"},{"$f":"IF('WORKMENS CLUB \"B\"'!AH9>0,1,0)","v":1},{"$f":"IF('WORKMENS CLUB \"B\"'!AL9=701,\"WON\",\"LOST\")","v":"LOST"},{"$f":"IF('WORKMENS CLUB \"B\"'!AL9>0,1,0)","v":1},{"$f":"IF('WORKMENS CLUB \"B\"'!AP9=701,\"WON\",\"LOST\")","v":"LOST"},{"$f":"IF('WORKMENS CLUB \"B\"'!AP9>0,1,0)","v":0},{"$f":"IF('WORKMENS CLUB \"B\"'!AT9=701,\"WON\",\"LOST\")","v":"LOST"},{"$f":"IF('WORKMENS CLUB \"B\"'!AT9>0,1,0)","v":0},{"$f":"IF('WORKMENS CLUB \"B\"'!AX9=701,\"WON\",\"LOST\")","v":"WON"},{"$f":"IF('WORKMENS CLUB \"B\"'!AX9>0,1,0)","v":1},{"$f":"IF('WORKMENS CLUB \"B\"'!BB9=701,\"WON\",\"LOST\")","v":"LOST"},{"$f":"IF('WORKMENS CLUB \"B\"'!BB9>0,1,0)","v":1},{"$f":"IF('WORKMENS CLUB \"B\"'!BF9=701,\"WON\",\"LOST\")","v":"LOST"},{"$f":"IF('WORKMENS CLUB \"B\"'!BF9>0,1,0)","v":0},{"$f":"IF('WORKMENS CLUB \"B\"'!BJ9=701,\"WON\",\"LOST\")","v":"LOST"},{"$f":"IF('WORKMENS CLUB \"B\"'!BJ9>0,1,0)","v":1},{"$f":"IF('WORKMENS CLUB \"B\"'!BN9=701,\"WON\",\"LOST\")","v":"WON"},{"$f":"IF('WORKMENS CLUB \"B\"'!BN9>0,1,0)","v":1},{"$f":"IF('WORKMENS CLUB \"B\"'!BR9=701,\"WON\",\"LOST\")","v":"WON"},{"$f":"IF('WORKMENS CLUB \"B\"'!BR9>0,1,0)","v":1},{"$f":"IF('WORKMENS CLUB \"B\"'!BV9=701,\"WON\",\"LOST\")","v":"LOST"},{"$f":"IF('WORKMENS CLUB \"B\"'!BV9>0,1,0)","v":0},{"$f":"IF('WORKMENS CLUB \"B\"'!BZ9=701,\"WON\",\"LOST\")","v":"LOST"},{"$f":"IF('WORKMENS CLUB \"B\"'!BZ9>0,1,0)","v":0},{"$f":"IF('WORKMENS CLUB \"B\"'!CD9=701,\"WON\",\"LOST\")","v":"LOST"},{"$f":"IF('WORKMENS CLUB \"B\"'!CD9>0,1,0)","v":0},{"$f":"IF('WORKMENS CLUB \"B\"'!CH9=701,\"WON\",\"LOST\")","v":"LOST"},{"$f":"IF('WORKMENS CLUB \"B\"'!CH9>0,1,0)","v":0}]
[null,{"$f":"IF('WORKMENS CLUB \"B\"'!B10=701,\"WON\",\"LOST\")","v":"LOST"},{"$f":"IF('WORKMENS CLUB \"B\"'!B10>0,1,0)","v":1},{"$f":"IF('WORKMENS CLUB \"B\"'!F10=701,\"WON\",\"LOST\")","v":"LOST"},{"$f":"IF('WORKMENS CLUB \"B\"'!F10>0,1,0)","v":1},{"$f":"IF('WORKMENS CLUB \"B\"'!J10=701,\"WON\",\"LOST\")","v":"WON"},{"$f":"IF('WORKMENS CLUB \"B\"'!J10>0,1,0)","v":1},{"$f":"IF('WORKMENS CLUB \"B\"'!N10=701,\"WON\",\"LOST\")","v":"LOST"},{"$f":"IF('WORKMENS CLUB \"B\"'!N10>0,1,0)","v":1},{"$f":"IF('WORKMENS CLUB \"B\"'!R10=701,\"WON\",\"LOST\")","v":"WON"},{"$f":"IF('WORKMENS CLUB \"B\"'!R10>0,1,0)","v":1},{"$f":"IF('WORKMENS CLUB \"B\"'!V10=701,\"WON\",\"LOST\")","v":"LOST"},{"$f":"IF('WORKMENS CLUB \"B\"'!V10>0,1,0)","v":0},{"$f":"IF('WORKMENS CLUB \"B\"'!Z10=701,\"WON\",\"LOST\")","v":"LOST"},{"$f":"IF('WORKMENS CLUB \"B\"'!Z10>0,1,0)","v":1},{"$f":"IF('WORKMENS CLUB \"B\"'!AD10=701,\"WON\",\"LOST\")","v":"LOST"},{"$f":"IF('WORKMENS CLUB \"B\"'!AD10>0,1,0)","v":1},{"$f":"IF('WORKMENS CLUB \"B\"'!AH10=701,\"WON\",\"LOST\")","v":"LOST"},{"$f":"IF('WORKMENS CLUB \"B\"'!AH10>0,1,0)","v":1},{"$f":"IF('WORKMENS CLUB \"B\"'!AL10=701,\"WON\",\"LOST\")","v":"LOST"},{"$f":"IF('WORKMENS CLUB \"B\"'!AL10>0,1,0)","v":0},{"$f":"IF('WORKMENS CLUB \"B\"'!AP10=701,\"WON\",\"LOST\")","v":"LOST"},{"$f":"IF('WORKMENS CLUB \"B\"'!AP10>0,1,0)","v":1},{"$f":"IF('WORKMENS CLUB \"B\"'!AT10=701,\"WON\",\"LOST\")","v":"LOST"},{"$f":"IF('WORKMENS CLUB \"B\"'!AT10>0,1,0)","v":1},{"$f":"IF('WORKMENS CLUB \"B\"'!AX10=701,\"WON\",\"LOST\")","v":"LOST"},{"$f":"IF('WORKMENS CLUB \"B\"'!AX10>0,1,0)","v":1},{"$f":"IF('WORKMENS CLUB \"B\"'!BB10=701,\"WON\",\"LOST\")","v":"WON"},{"$f":"IF('WORKMENS CLUB \"B\"'!BB10>0,1,0)","v":1},{"$f":"IF('WORKMENS CLUB \"B\"'!BF10=701,\"WON\",\"LOST\")","v":"LOST"},{"$f":"IF('WORKMENS CLUB \"B\"'!BF10>0,1,0)","v":0},{"$f":"IF('WORKMENS CLUB \"B\"'!BJ10=701,\"WON\",\"LOST\")","v":"LOST"},{"$f":"IF('WORKMENS CLUB \"B\"'!BJ10>0,1,0)","v":0},{"$f":"IF('WORKMENS CLUB \"B\"'!BN10=701,\"WON\",\"LOST\")","v":"LOST"},{"$f":"IF('WORKMENS CLUB \"B\"'!BN10>0,1,0)","v":0},{"$f":"IF('WORKMENS CLUB \"B\"'!BR10=701,\"WON\",\"LOST\")","v":"LOST"},{"$f":"IF('WORKMENS CLUB \"B\"'!BR10>0,1,0)","v":0},{"$f":"IF('WORKMENS CLUB \"B\"'!BV10=701,\"WON\",\"LOST\")","v":"LOST"},{"$f":"IF('WORKMENS CLUB \"B\"'!BV10>0,1,0)","v":0},{"$f":"IF('WORKMENS CLUB \"B\"'!BZ10=701,\"WON\",\"LOST\")","v":"LOST"},{"$f":"IF('WORKMENS CLUB \"B\"'!BZ10>0,1,0)","v":0},{"$f":"IF('WORKMENS CLUB \"B\"'!CD10=701,\"WON\",\"LOST\")","v":"LOST"},{"$f":"IF('WORKMENS CLUB \"B\"'!CD10>0,1,0)","v":0},{"$f":"IF('WORKMENS CLUB \"B\"'!CH10=701,\"WON\",\"LOST\")","v":"LOST"},{"$f":"IF('WORKMENS CLUB \"B\"'!CH10>0,1,0)","v":0}]
[null,{"$f":"IF('WORKMENS CLUB \"B\"'!B11=701,\"WON\",\"LOST\")","v":"WON"},{"$f":"IF('WORKMENS CLUB \"B\"'!B11>0,1,0)","v":1},{"$f":"IF('WORKMENS CLUB \"B\"'!F11=701,\"WON\",\"LOST\")","v":"WON"},{"$f":"IF('WORKMENS CLUB \"B\"'!F11>0,1,0)","v":1},{"$f":"IF('WORKMENS CLUB \"B\"'!J11=701,\"WON\",\"LOST\")","v":"LOST"},{"$f":"IF('WORKMENS CLUB \"B\"'!J11>0,1,0)","v":1},{"$f":"IF('WORKMENS CLUB \"B\"'!N11=701,\"WON\",\"LOST\")","v":"LOST"},{"$f":"IF('WORKMENS CLUB \"B\"'!N11>0,1,0)","v":1},{"$f":"IF('WORKMENS CLUB \"B\"'!R11=701,\"WON\",\"LOST\")","v":"LOST"},{"$f":"IF('WORKMENS CLUB \"B\"'!R11>0,1,0)","v":1},{"$f":"IF('WORKMENS CLUB \"B\"'!V11=701,\"WON\",\"LOST\")","v":"LOST"},{"$f":"IF('WORKMENS CLUB \"B\"'!V11>0,1,0)","v":0},{"$f":"IF('WORKMENS CLUB \"B\"'!Z11=701,\"WON\",\"LOST\")","v":"WON"},{"$f":"IF('WORKMENS CLUB \"B\"'!Z11>0,1,0)","v":1},{"$f":"IF('WORKMENS CLUB \"B\"'!AD11=701,\"WON\",\"LOST\")","v":"LOST"},{"$f":"IF('WORKMENS CLUB \"B\"'!AD11>0,1,0)","v":0},{"$f":"IF('WORKMENS CLUB \"B\"'!AH11=701,\"WON\",\"LOST\")","v":"WON"},{"$f":"IF('WORKMENS CLUB \"B\"'!AH11>0,1,0)","v":1},{"$f":"IF('WORKMENS CLUB \"B\"'!AL11=701,\"WON\",\"LOST\")","v":"LOST"},{"$f":"IF('WORKMENS CLUB \"B\"'!AL11>0,1,0)","v":1},{"$f":"IF('WORKMENS CLUB \"B\"'!AP11=701,\"WON\",\"LOST\")","v":"LOST"},{"$f":"IF('WORKMENS CLUB \"B\"'!AP11>0,1,0)","v":1},{"$f":"IF('WORKMENS CLUB \"B\"'!AT11=701,\"WON\",\"LOST\")","v":"WON"},{"$f":"IF('WORKMENS CLUB \"B\"'!AT11>0,1,0)","v":1},{"$f":"IF('WORKMENS CLUB \"B\"'!AX11=701,\"WON\",\"LOST\")","v":"LOST"},{"$f":"IF('WORKMENS CLUB \"B\"'!AX11>0,1,0)","v":1},{"$f":"IF('WORKMENS CLUB \"B\"'!BB11=701,\"WON\",\"LOST\")","v":"LOST"},{"$f":"IF('WORKMENS CLUB \"B\"'!BB11>0,1,0)","v":1},{"$f":"IF('WORKMENS CLUB \"B\"'!BF11=701,\"WON\",\"LOST\")","v":"LOST"},{"$f":"IF('WORKMENS CLUB \"B\"'!BF11>0,1,0)","v":0},{"$f":"IF('WORKMENS CLUB \"B\"'!BJ11=701,\"WON\",\"LOST\")","v":"WON"},{"$f":"IF('WORKMENS CLUB \"B\"'!BJ11>0,1,0)","v":1},{"$f":"IF('WORKMENS CLUB \"B\"'!BN11=701,\"WON\",\"LOST\")","v":"WON"},{"$f":"IF('WORKMENS CLUB \"B\"'!BN11>0,1,0)","v":1},{"$f":"IF('WORKMENS CLUB \"B\"'!BR11=701,\"WON\",\"LOST\")","v":"LOST"},{"$f":"IF('WORKMENS CLUB \"B\"'!BR11>0,1,0)","v":1},{"$f":"IF('WORKMENS CLUB \"B\"'!BV11=701,\"WON\",\"LOST\")","v":"LOST"},{"$f":"IF('WORKMENS CLUB \"B\"'!BV11>0,1,0)","v":0},{"$f":"IF('WORKMENS CLUB \"B\"'!BZ11=701,\"WON\",\"LOST\")","v":"LOST"},{"$f":"IF('WORKMENS CLUB \"B\"'!BZ11>0,1,0)","v":0},{"$f":"IF('WORKMENS CLUB \"B\"'!CD11=701,\"WON\",\"LOST\")","v":"LOST"},{"$f":"IF('WORKMENS CLUB \"B\"'!CD11>0,1,0)","v":0},{"$f":"IF('WORKMENS CLUB \"B\"'!CH11=701,\"WON\",\"LOST\")","v":"LOST"},{"$f":"IF('WORKMENS CLUB \"B\"'!CH11>0,1,0)","v":0}]
[null,{"$f":"IF('WORKMENS CLUB \"B\"'!B12=701,\"WON\",\"LOST\")","v":"LOST"},{"$f":"IF('WORKMENS CLUB \"B\"'!B12>0,1,0)","v":1},{"$f":"IF('WORKMENS CLUB \"B\"'!F12=701,\"WON\",\"LOST\")","v":"LOST"},{"$f":"IF('WORKMENS CLUB \"B\"'!F12>0,1,0)","v":1},{"$f":"IF('WORKMENS CLUB \"B\"'!J12=701,\"WON\",\"LOST\")","v":"WON"},{"$f":"IF('WORKMENS CLUB \"B\"'!J12>0,1,0)","v":1},{"$f":"IF('WORKMENS CLUB \"B\"'!N12=701,\"WON\",\"LOST\")","v":"WON"},{"$f":"IF('WORKMENS CLUB \"B\"'!N12>0,1,0)","v":1},{"$f":"IF('WORKMENS CLUB \"B\"'!R12=701,\"WON\",\"LOST\")","v":"LOST"},{"$f":"IF('WORKMENS CLUB \"B\"'!R12>0,1,0)","v":1},{"$f":"IF('WORKMENS CLUB \"B\"'!V12=701,\"WON\",\"LOST\")","v":"LOST"},{"$f":"IF('WORKMENS CLUB \"B\"'!V12>0,1,0)","v":0},{"$f":"IF('WORKMENS CLUB \"B\"'!Z12=701,\"WON\",\"LOST\")","v":"LOST"},{"$f":"IF('WORKMENS CLUB \"B\"'!Z12>0,1,0)","v":1},{"$f":"IF('WORKMENS CLUB \"B\"'!AD12=701,\"WON\",\"LOST\")","v":"WON"},{"$f":"IF('WORKMENS CLUB \"B\"'!AD12>0,1,0)","v":1},{"$f":"IF('WORKMENS CLUB \"B\"'!AH12=701,\"WON\",\"LOST\")","v":"WON"},{"$f":"IF('WORKMENS CLUB \"B\"'!AH12>0,1,0)","v":1},{"$f":"IF('WORKMENS CLUB \"B\"'!AL12=701,\"WON\",\"LOST\")","v":"LOST"},{"$f":"IF('WORKMENS CLUB \"B\"'!AL12>0,1,0)","v":1},{"$f":"IF('WORKMENS CLUB \"B\"'!AP12=701,\"WON\",\"LOST\")","v":"LOST"},{"$f":"IF('WORKMENS CLUB \"B\"'!AP12>0,1,0)","v":1},{"$f":"IF('WORKMENS CLUB \"B\"'!AT12=701,\"WON\",\"LOST\")","v":"WON"},{"$f":"IF('WORKMENS CLUB \"B\"'!AT12>0,1,0)","v":1},{"$f":"IF('WORKMENS CLUB \"B\"'!AX12=701,\"WON\",\"LOST\")","v":"WON"},{"$f":"IF('WORKMENS CLUB \"B\"'!AX12>0,1,0)","v":1},{"$f":"IF('WORKMENS CLUB \"B\"'!BB12=701,\"WON\",\"LOST\")","v":"LOST"},{"$f":"IF('WORKMENS CLUB \"B\"'!BB12>0,1,0)","v":1},{"$f":"IF('WORKMENS CLUB \"B\"'!BF12=701,\"WON\",\"LOST\")","v":"LOST"},{"$f":"IF('WORKMENS CLUB \"B\"'!BF12>0,1,0)","v":0},{"$f":"IF('WORKMENS CLUB \"B\"'!BJ12=701,\"WON\",\"LOST\")","v":"LOST"},{"$f":"IF('WORKMENS CLUB \"B\"'!BJ12>0,1,0)","v":1},{"$f":"IF('WORKMENS CLUB \"B\"'!BN12=701,\"WON\",\"LOST\")","v":"WON"},{"$f":"IF('WORKMENS CLUB \"B\"'!BN12>0,1,0)","v":1},{"$f":"IF('WORKMENS CLUB \"B\"'!BR12=701,\"WON\",\"LOST\")","v":"WON"},{"$f":"IF('WORKMENS CLUB \"B\"'!BR12>0,1,0)","v":1},{"$f":"IF('WORKMENS CLUB \"B\"'!BV12=701,\"WON\",\"LOST\")","v":"LOST"},{"$f":"IF('WORKMENS CLUB \"B\"'!BV12>0,1,0)","v":0},{"$f":"IF('WORKMENS CLUB \"B\"'!BZ12=701,\"WON\",\"LOST\")","v":"LOST"},{"$f":"IF('WORKMENS CLUB \"B\"'!BZ12>0,1,0)","v":0},{"$f":"IF('WORKMENS CLUB \"B\"'!CD12=701,\"WON\",\"LOST\")","v":"LOST"},{"$f":"IF('WORKMENS CLUB \"B\"'!CD12>0,1,0)","v":0},{"$f":"IF('WORKMENS CLUB \"B\"'!CH12=701,\"WON\",\"LOST\")","v":"LOST"},{"$f":"IF('WORKMENS CLUB \"B\"'!CH12>0,1,0)","v":0}]
[null,{"$f":"IF('WORKMENS CLUB \"B\"'!B13=701,\"WON\",\"LOST\")","v":"LOST"},{"$f":"IF('WORKMENS CLUB \"B\"'!B13>0,1,0)","v":0},{"$f":"IF('WORKMENS CLUB \"B\"'!F13=701,\"WON\",\"LOST\")","v":"LOST"},{"$f":"IF('WORKMENS CLUB \"B\"'!F13>0,1,0)","v":0},{"$f":"IF('WORKMENS CLUB \"B\"'!J13=701,\"WON\",\"LOST\")","v":"LOST"},{"$f":"IF('WORKMENS CLUB \"B\"'!J13>0,1,0)","v":0},{"$f":"IF('WORKMENS CLUB \"B\"'!N13=701,\"WON\",\"LOST\")","v":"LOST"},{"$f":"IF('WORKMENS CLUB \"B\"'!N13>0,1,0)","v":0},{"$f":"IF('WORKMENS CLUB \"B\"'!R13=701,\"WON\",\"LOST\")","v":"LOST"},{"$f":"IF('WORKMENS CLUB \"B\"'!R13>0,1,0)","v":0},{"$f":"IF('WORKMENS CLUB \"B\"'!V13=701,\"WON\",\"LOST\")","v":"LOST"},{"$f":"IF('WORKMENS CLUB \"B\"'!V13>0,1,0)","v":0},{"$f":"IF('WORKMENS CLUB \"B\"'!Z13=701,\"WON\",\"LOST\")","v":"LOST"},{"$f":"IF('WORKMENS CLUB \"B\"'!Z13>0,1,0)","v":0},{"$f":"IF('WORKMENS CLUB \"B\"'!AD13=701,\"WON\",\"LOST\")","v":"LOST"},{"$f":"IF('WORKMENS CLUB \"B\"'!AD13>0,1,0)","v":0},{"$f":"IF('WORKMENS CLUB \"B\"'!AH13=701,\"WON\",\"LOST\")","v":"LOST"},{"$f":"IF('WORKMENS CLUB \"B\"'!AH13>0,1,0)","v":0},{"$f":"IF('WORKMENS CLUB \"B\"'!AL13=701,\"WON\",\"LOST\")","v":"LOST"},{"$f":"IF('WORKMENS CLUB \"B\"'!AL13>0,1,0)","v":0},{"$f":"IF('WORKMENS CLUB \"B\"'!AP13=701,\"WON\",\"LOST\")","v":"LOST"},{"$f":"IF('WORKMENS CLUB \"B\"'!AP13>0,1,0)","v":0},{"$f":"IF('WORKMENS CLUB \"B\"'!AT13=701,\"WON\",\"LOST\")","v":"LOST"},{"$f":"IF('WORKMENS CLUB \"B\"'!AT13>0,1,0)","v":0},{"$f":"IF('WORKMENS CLUB \"B\"'!AX13=701,\"WON\",\"LOST\")","v":"LOST"},{"$f":"IF('WORKMENS CLUB \"B\"'!AX13>0,1,0)","v":0},{"$f":"IF('WORKMENS CLUB \"B\"'!BB13=701,\"WON\",\"LOST\")","v":"LOST"},{"$f":"IF('WORKMENS CLUB \"B\"'!BB13>0,1,0)","v":0},{"$f":"IF('WORKMENS CLUB \"B\"'!BF13=701,\"WON\",\"LOST\")","v":"LOST"},{"$f":"IF('WORKMENS CLUB \"B\"'!BF13>0,1,0)","v":0},{"$f":"IF('WORKMENS CLUB \"B\"'!BJ13=701,\"WON\",\"LOST\")","v":"LOST"},{"$f":"IF('WORKMENS CLUB \"B\"'!BJ13>0,1,0)","v":0},{"$f":"IF('WORKMENS CLUB \"B\"'!BN13=701,\"WON\",\"LOST\")","v":"LOST"},{"$f":"IF('WORKMENS CLUB \"B\"'!BN13>0,1,0)","v":0},{"$f":"IF('WORKMENS CLUB \"B\"'!BR13=701,\"WON\",\"LOST\")","v":"LOST"},{"$f":"IF('WORKMENS CLUB \"B\"'!BR13>0,1,0)","v":0},{"$f":"IF('WORKMENS CLUB \"B\"'!BV13=701,\"WON\",\"LOST\")","v":"LOST"},{"$f":"IF('WORKMENS CLUB \"B\"'!BV13>0,1,0)","v":0},{"$f":"IF('WORKMENS CLUB \"B\"'!BZ13=701,\"WON\",\"LOST\")","v":"LOST"},{"$f":"IF('WORKMENS CLUB \"B\"'!BZ13>0,1,0)","v":0},{"$f":"IF('WORKMENS CLUB \"B\"'!CD13=701,\"WON\",\"LOST\")","v":"LOST"},{"$f":"IF('WORKMENS CLUB \"B\"'!CD13>0,1,0)","v":0},{"$f":"IF('WORKMENS CLUB \"B\"'!CH13=701,\"WON\",\"LOST\")","v":"LOST"},{"$f":"IF('WORKMENS CLUB \"B\"'!CH13>0,1,0)","v":0}]
[null,{"$f":"IF('WORKMENS CLUB \"B\"'!B14=701,\"WON\",\"LOST\")","v":"LOST"},{"$f":"IF('WORKMENS CLUB \"B\"'!B14>0,1,0)","v":0},{"$f":"IF('WORKMENS CLUB \"B\"'!F14=701,\"WON\",\"LOST\")","v":"LOST"},{"$f":"IF('WORKMENS CLUB \"B\"'!F14>0,1,0)","v":0},{"$f":"IF('WORKMENS CLUB \"B\"'!J14=701,\"WON\",\"LOST\")","v":"LOST"},{"$f":"IF('WORKMENS CLUB \"B\"'!J14>0,1,0)","v":0},{"$f":"IF('WORKMENS CLUB \"B\"'!N14=701,\"WON\",\"LOST\")","v":"LOST"},{"$f":"IF('WORKMENS CLUB \"B\"'!N14>0,1,0)","v":0},{"$f":"IF('WORKMENS CLUB \"B\"'!R14=701,\"WON\",\"LOST\")","v":"LOST"},{"$f":"IF('WORKMENS CLUB \"B\"'!R14>0,1,0)","v":0},{"$f":"IF('WORKMENS CLUB \"B\"'!V14=701,\"WON\",\"LOST\")","v":"LOST"},{"$f":"IF('WORKMENS CLUB \"B\"'!V14>0,1,0)","v":0},{"$f":"IF('WORKMENS CLUB \"B\"'!Z14=701,\"WON\",\"LOST\")","v":"LOST"},{"$f":"IF('WORKMENS CLUB \"B\"'!Z14>0,1,0)","v":0},{"$f":"IF('WORKMENS CLUB \"B\"'!AD14=701,\"WON\",\"LOST\")","v":"LOST"},{"$f":"IF('WORKMENS CLUB \"B\"'!AD14>0,1,0)","v":0},{"$f":"IF('WORKMENS CLUB \"B\"'!AH14=701,\"WON\",\"LOST\")","v":"LOST"},{"$f":"IF('WORKMENS CLUB \"B\"'!AH14>0,1,0)","v":0},{"$f":"IF('WORKMENS CLUB \"B\"'!AL14=701,\"WON\",\"LOST\")","v":"LOST"},{"$f":"IF('WORKMENS CLUB \"B\"'!AL14>0,1,0)","v":0},{"$f":"IF('WORKMENS CLUB \"B\"'!AP14=701,\"WON\",\"LOST\")","v":"LOST"},{"$f":"IF('WORKMENS CLUB \"B\"'!AP14>0,1,0)","v":0},{"$f":"IF('WORKMENS CLUB \"B\"'!AT14=701,\"WON\",\"LOST\")","v":"LOST"},{"$f":"IF('WORKMENS CLUB \"B\"'!AT14>0,1,0)","v":0},{"$f":"IF('WORKMENS CLUB \"B\"'!AX14=701,\"WON\",\"LOST\")","v":"LOST"},{"$f":"IF('WORKMENS CLUB \"B\"'!AX14>0,1,0)","v":0},{"$f":"IF('WORKMENS CLUB \"B\"'!BB14=701,\"WON\",\"LOST\")","v":"LOST"},{"$f":"IF('WORKMENS CLUB \"B\"'!BB14>0,1,0)","v":0},{"$f":"IF('WORKMENS CLUB \"B\"'!BF14=701,\"WON\",\"LOST\")","v":"LOST"},{"$f":"IF('WORKMENS CLUB \"B\"'!BF14>0,1,0)","v":0},{"$f":"IF('WORKMENS CLUB \"B\"'!BJ14=701,\"WON\",\"LOST\")","v":"LOST"},{"$f":"IF('WORKMENS CLUB \"B\"'!BJ14>0,1,0)","v":0},{"$f":"IF('WORKMENS CLUB \"B\"'!BN14=701,\"WON\",\"LOST\")","v":"LOST"},{"$f":"IF('WORKMENS CLUB \"B\"'!BN14>0,1,0)","v":0},{"$f":"IF('WORKMENS CLUB \"B\"'!BR14=701,\"WON\",\"LOST\")","v":"LOST"},{"$f":"IF('WORKMENS CLUB \"B\"'!BR14>0,1,0)","v":0},{"$f":"IF('WORKMENS CLUB \"B\"'!BV14=701,\"WON\",\"LOST\")","v":"LOST"},{"$f":"IF('WORKMENS CLUB \"B\"'!BV14>0,1,0)","v":0},{"$f":"IF('WORKMENS CLUB \"B\"'!BZ14=701,\"WON\",\"LOST\")","v":"LOST"},{"$f":"IF('WORKMENS CLUB \"B\"'!BZ14>0,1,0)","v":0},{"$f":"IF('WORKMENS CLUB \"B\"'!CD14=701,\"WON\",\"LOST\")","v":"LOST"},{"$f":"IF('WORKMENS CLUB \"B\"'!CD14>0,1,0)","v":0},{"$f":"IF('WORKMENS CLUB \"B\"'!CH14=701,\"WON\",\"LOST\")","v":"LOST"},{"$f":"IF('WORKMENS CLUB \"B\"'!CH14>0,1,0)","v":0}]
[null,{"$f":"IF('WORKMENS CLUB \"B\"'!B3=\"\",0,(SUM(('WORKMENS CLUB \"B\"'!B3/'WORKMENS CLUB \"B\"'!C3)*3)))","v":0},null,{"$f":"IF('WORKMENS CLUB \"B\"'!F3=\"\",0,(SUM(('WORKMENS CLUB \"B\"'!F3/'WORKMENS CLUB \"B\"'!G3)*3)))","v":0},null,{"$f":"IF('WORKMENS CLUB \"B\"'!J3=\"\",0,(SUM(('WORKMENS CLUB \"B\"'!J3/'WORKMENS CLUB \"B\"'!K3)*3)))","v":40.442307692307693},null,{"$f":"IF('WORKMENS CLUB \"B\"'!N3=\"\",0,(SUM(('WORKMENS CLUB \"B\"'!N3/'WORKMENS CLUB \"B\"'!O3)*3)))","v":60.085714285714289},null,{"$f":"IF('WORKMENS CLUB \"B\"'!R3=\"\",0,(SUM(('WORKMENS CLUB \"B\"'!R3/'WORKMENS CLUB \"B\"'!S3)*3)))","v":40.818181818181813},null,{"$f":"IF('WORKMENS CLUB \"B\"'!V3=\"\",0,(SUM(('WORKMENS CLUB \"B\"'!V3/'WORKMENS CLUB \"B\"'!W3)*3)))","v":0},null,{"$f":"IF('WORKMENS CLUB \"B\"'!Z3=\"\",0,(SUM(('WORKMENS CLUB \"B\"'!Z3/'WORKMENS CLUB \"B\"'!AA3)*3)))","v":0},null,{"$f":"IF('WORKMENS CLUB \"B\"'!AD3=\"\",0,(SUM(('WORKMENS CLUB \"B\"'!AD3/'WORKMENS CLUB \"B\"'!AE3)*3)))","v":0},null,{"$f":"IF('WORKMENS CLUB \"B\"'!AH3=\"\",0,(SUM(('WORKMENS CLUB \"B\"'!AH3/'WORKMENS CLUB \"B\"'!AI3)*3)))","v":0},null,{"$f":"IF('WORKMENS CLUB \"B\"'!AL3=\"\",0,(SUM(('WORKMENS CLUB \"B\"'!AL3/'WORKMENS CLUB \"B\"'!AM3)*3)))","v":38.833333333333336},null,{"$f":"IF('WORKMENS CLUB \"B\"'!AP3=\"\",0,(SUM(('WORKMENS CLUB \"B\"'!AP3/'WORKMENS CLUB \"B\"'!AQ3)*3)))","v":33.642857142857139},null,{"$f":"IF('WORKMENS CLUB \"B\"'!AT3=\"\",0,(SUM(('WORKMENS CLUB \"B\"'!AT3/'WORKMENS CLUB \"B\"'!AU3)*3)))","v":39.25},null,{"$f":"IF('WORKMENS CLUB \"B\"'!AX3=\"\",0,(SUM(('WORKMENS CLUB \"B\"'!AX3/'WORKMENS CLUB \"B\"'!AY3)*3)))","v":42.620689655172413},null,{"$f":"IF('WORKMENS CLUB \"B\"'!BB3=\"\",0,(SUM(('WORKMENS CLUB \"B\"'!BB3/'WORKMENS CLUB \"B\"'!BC3)*3)))","v":0},null,{"$f":"IF('WORKMENS CLUB \"B\"'!BF3=\"\",0,(SUM(('WORKMENS CLUB \"B\"'!BF3/'WORKMENS CLUB \"B\"'!BG3)*3)))","v":0},null,{"$f":"IF('WORKMENS CLUB \"B\"'!BJ3=\"\",0,(SUM(('WORKMENS CLUB \"B\"'!BJ3/'WORKMENS CLUB \"B\"'!BK3)*3)))","v":0},null,{"$f":"IF('WORKMENS CLUB \"B\"'!BN3=\"\",0,(SUM(('WORKMENS CLUB \"B\"'!BN3/'WORKMENS CLUB \"B\"'!BO3)*3)))","v":0},null,{"$f":"IF('WORKMENS CLUB \"B\"'!BR3=\"\",0,(SUM(('WORKMENS CLUB \"B\"'!BR3/'WORKMENS CLUB \"B\"'!BS3)*3)))","v":0},null,{"$f":"IF('WORKMENS CLUB \"B\"'!BV3=\"\",0,(SUM(('WORKMENS CLUB \"B\"'!BV3/'WORKMENS CLUB \"B\"'!BW3)*3)))","v":0},null,{"$f":"IF('WORKMENS CLUB \"B\"'!BZ3=\"\",0,(SUM(('WORKMENS CLUB \"B\"'!BZ3/'WORKMENS CLUB \"B\"'!CA3)*3)))","v":0},null,{"$f":"IF('WORKMENS CLUB \"B\"'!CD3=\"\",0,(SUM(('WORKMENS CLUB \"B\"'!CD3/'WORKMENS CLUB \"B\"'!CE3)*3)))","v":0},null,{"$f":"IF('WORKMENS CLUB \"B\"'!CH3=\"\",0,(SUM(('WORKMENS CLUB \"B\"'!CH3/'WORKMENS CLUB \"B\"'!CI3)*3)))","v":0}]
[null,{"$f":"IF('WORKMENS CLUB \"B\"'!B4=\"\",0,(SUM(('WORKMENS CLUB \"B\"'!B4/'WORKMENS CLUB \"B\"'!C4)*3)))","v":43.615384615384613},null,{"$f":"IF('WORKMENS CLUB \"B\"'!F4=\"\",0,(SUM(('WORKMENS CLUB \"B\"'!F4/'WORKMENS CLUB \"B\"'!G4)*3)))","v":35.666666666666671},null,{"$f":"IF('WORKMENS CLUB \"B\"'!J4=\"\",0,(SUM(('WORKMENS CLUB \"B\"'!J4/'WORKMENS CLUB \"B\"'!K4)*3)))","v":0},null,{"$f":"IF('WORKMENS CLUB \"B\"'!N4=\"\",0,(SUM(('WORKMENS CLUB \"B\"'!N4/'WORKMENS CLUB \"B\"'!O4)*3)))","v":0},null,{"$f":"IF('WORKMENS CLUB \"B\"'!R4=\"\",0,(SUM(('WORKMENS CLUB \"B\"'!R4/'WORKMENS CLUB \"B\"'!S4)*3)))","v":0},null,{"$f":"IF('WORKMENS CLUB \"B\"'!V4=\"\",0,(SUM(('WORKMENS CLUB \"B\"'!V4/'WORKMENS CLUB \"B\"'!W4)*3)))","v":0},null,{"$f":"IF('WORKMENS CLUB \"B\"'!Z4=\"\",0,(SUM(('WORKMENS CLUB \"B\"'!Z4/'WORKMENS CLUB \"B\"'!AA4)*3)))","v":0},null,{"$f":"IF('WORKMENS CLUB \"B\"'!AD4=\"\",0,(SUM(('WORKMENS CLUB \"B\"'!AD4/'WORKMENS CLUB \"B\"'!AE4)*3)))","v":41.0625},null,{"$f":"IF('WORKMENS CLUB \"B\"'!AH4=\"\",0,(SUM(('WORKMENS CLUB \"B\"'!AH4/'WORKMENS CLUB \"B\"'!AI4)*3)))","v":53.75},null,{"$f":"IF('WORKMENS CLUB \"B\"'!AL4=\"\",0,(SUM(('WORKMENS CLUB \"B\"'!AL4/'WORKMENS CLUB \"B\"'!AM4)*3)))","v":47.846153846153847},null,{"$f":"IF('WORKMENS CLUB \"B\"'!AP4=\"\",0,(SUM(('WORKMENS CLUB \"B\"'!AP4/'WORKMENS CLUB \"B\"'!AQ4)*3)))","v":43.909090909090907},null,{"$f":"IF('WORKMENS CLUB \"B\"'!AT4=\"\",0,(SUM(('WORKMENS CLUB \"B\"'!AT4/'WORKMENS CLUB \"B\"'!AU4)*3)))","v":0},null,{"$f":"IF('WORKMENS CLUB \"B\"'!AX4=\"\",0,(SUM(('WORKMENS CLUB \"B\"'!AX4/'WORKMENS CLUB \"B\"'!AY4)*3)))","v":0},null,{"$f":"IF('WORKMENS CLUB \"B\"'!BB4=\"\",0,(SUM(('WORKMENS CLUB \"B\"'!BB4/'WORKMENS CLUB \"B\"'!BC4)*3)))","v":0},null,{"$f":"IF('WORKMENS CLUB \"B\"'!BF4=\"\",0,(SUM(('WORKMENS CLUB \"B\"'!BF4/'WORKMENS CLUB \"B\"'!BG4)*3)))","v":0},null,{"$f":"IF('WORKMENS CLUB \"B\"'!BJ4=\"\",0,(SUM(('WORKMENS CLUB \"B\"'!BJ4/'WORKMENS CLUB \"B\"'!BK4)*3)))","v":33.91935483870968},null,{"$f":"IF('WORKMENS CLUB \"B\"'!BN4=\"\",0,(SUM(('WORKMENS CLUB \"B\"'!BN4/'WORKMENS CLUB \"B\"'!BO4)*3)))","v":46.733333333333334},null,{"$f":"IF('WORKMENS CLUB \"B\"'!BR4=\"\",0,(SUM(('WORKMENS CLUB \"B\"'!BR4/'WORKMENS CLUB \"B\"'!BS4)*3)))","v":55.34210526315789},null,{"$f":"IF('WORKMENS CLUB \"B\"'!BV4=\"\",0,(SUM(('WORKMENS CLUB \"B\"'!BV4/'WORKMENS CLUB \"B\"'!BW4)*3)))","v":0},null,{"$f":"IF('WORKMENS CLUB \"B\"'!BZ4=\"\",0,(SUM(('WORKMENS CLUB \"B\"'!BZ4/'WORKMENS CLUB \"B\"'!CA4)*3)))","v":0},null,{"$f":"IF('WORKMENS CLUB \"B\"'!CD4=\"\",0,(SUM(('WORKMENS CLUB \"B\"'!CD4/'WORKMENS CLUB \"B\"'!CE4)*3)))","v":0},null,{"$f":"IF('WORKMENS CLUB \"B\"'!CH4=\"\",0,(SUM(('WORKMENS CLUB \"B\"'!CH4/'WORKMENS CLUB \"B\"'!CI4)*3)))","v":0}]
[null,{"$f":"IF('WORKMENS CLUB \"B\"'!B5=\"\",0,(SUM(('WORKMENS CLUB \"B\"'!B5/'WORKMENS CLUB \"B\"'!C5)*3)))","v":50.666666666666671},null,{"$f":"IF('WORKMENS CLUB \"B\"'!F5=\"\",0,(SUM(('WORKMENS CLUB \"B\"'!F5/'WORKMENS CLUB \"B\"'!G5)*3)))","v":60.085714285714289},null,{"$f":"IF('WORKMENS CLUB \"B\"'!J5=\"\",0,(SUM(('WORKMENS CLUB \"B\"'!J5/'WORKMENS CLUB \"B\"'!K5)*3)))","v":48.906976744186039},null,{"$f":"IF('WORKMENS CLUB \"B\"'!N5=\"\",0,(SUM(('WORKMENS CLUB \"B\"'!N5/'WORKMENS CLUB \"B\"'!O5)*3)))","v":56.454545454545453},null,{"$f":"IF('WORKMENS CLUB \"B\"'!R5=\"\",0,(SUM(('WORKMENS CLUB \"B\"'!R5/'WORKMENS CLUB \"B\"'!S5)*3)))","v":42.918367346938773},null,{"$f":"IF('WORKMENS CLUB \"B\"'!V5=\"\",0,(SUM(('WORKMENS CLUB \"B\"'!V5/'WORKMENS CLUB \"B\"'!W5)*3)))","v":0},null,{"$f":"IF('WORKMENS CLUB \"B\"'!Z5=\"\",0,(SUM(('WORKMENS CLUB \"B\"'!Z5/'WORKMENS CLUB \"B\"'!AA5)*3)))","v":58.416666666666664},null,{"$f":"IF('WORKMENS CLUB \"B\"'!AD5=\"\",0,(SUM(('WORKMENS CLUB \"B\"'!AD5/'WORKMENS CLUB \"B\"'!AE5)*3)))","v":48.906976744186039},null,{"$f":"IF('WORKMENS CLUB \"B\"'!AH5=\"\",0,(SUM(('WORKMENS CLUB \"B\"'!AH5/'WORKMENS CLUB \"B\"'!AI5)*3)))","v":0},null,{"$f":"IF('WORKMENS CLUB \"B\"'!AL5=\"\",0,(SUM(('WORKMENS CLUB \"B\"'!AL5/'WORKMENS CLUB \"B\"'!AM5)*3)))","v":0},null,{"$f":"IF('WORKMENS CLUB \"B\"'!AP5=\"\",0,(SUM(('WORKMENS CLUB \"B\"'!AP5/'WORKMENS CLUB \"B\"'!AQ5)*3)))","v":0},null,{"$f":"IF('WORKMENS CLUB \"B\"'!AT5=\"\",0,(SUM(('WORKMENS CLUB \"B\"'!AT5/'WORKMENS CLUB \"B\"'!AU5)*3)))","v":62.63636363636364},null,{"$f":"IF('WORKMENS CLUB \"B\"'!AX5=\"\",0,(SUM(('WORKMENS CLUB \"B\"'!AX5/'WORKMENS CLUB \"B\"'!AY5)*3)))","v":53.692307692307693},null,{"$f":"IF('WORKMENS CLUB \"B\"'!BB5=\"\",0,(SUM(('WORKMENS CLUB \"B\"'!BB5/'WORKMENS CLUB \"B\"'!BC5)*3)))","v":60.090909090909093},null,{"$f":"IF('WORKMENS CLUB \"B\"'!BF5=\"\",0,(SUM(('WORKMENS CLUB \"B\"'!BF5/'WORKMENS CLUB \"B\"'!BG5)*3)))","v":0},null,{"$f":"IF('WORKMENS CLUB \"B\"'!BJ5=\"\",0,(SUM(('WORKMENS CLUB \"B\"'!BJ5/'WORKMENS CLUB \"B\"'!BK5)*3)))","v":45.599999999999994},null,{"$f":"IF('WORKMENS CLUB \"B\"'!BN5=\"\",0,(SUM(('WORKMENS CLUB \"B\"'!BN5/'WORKMENS CLUB \"B\"'!BO5)*3)))","v":41.235294117647058},null,{"$f":"IF('WORKMENS CLUB \"B\"'!BR5=\"\",0,(SUM(('WORKMENS CLUB \"B\"'!BR5/'WORKMENS CLUB \"B\"'!BS5)*3)))","v":70.099999999999994},null,{"$f":"IF('WORKMENS CLUB \"B\"'!BV5=\"\",0,(SUM(('WORKMENS CLUB \"B\"'!BV5/'WORKMENS CLUB \"B\"'!BW5)*3)))","v":0},null,{"$f":"IF('WORKMENS CLUB \"B\"'!BZ5=\"\",0,(SUM(('WORKMENS CLUB \"B\"'!BZ5/'WORKMENS CLUB \"B\"'!CA5)*3)))","v":0},null,{"$f":"IF('WORKMENS CLUB \"B\"'!CD5=\"\",0,(SUM(('WORKMENS CLUB \"B\"'!CD5/'WORKMENS CLUB \"B\"'!CE5)*3)))","v":0},null,{"$f":"IF('WORKMENS CLUB \"B\"'!CH5=\"\",0,(SUM(('WORKMENS CLUB \"B\"'!CH5/'WORKMENS CLUB \"B\"'!CI5)*3)))","v":0}]
[null,{"$f":"IF('WORKMENS CLUB \"B\"'!B6=\"\",0,(SUM(('WORKMENS CLUB \"B\"'!B6/'WORKMENS CLUB \"B\"'!C6)*3)))","v":0},null,{"$f":"IF('WORKMENS CLUB \"B\"'!F6=\"\",0,(SUM(('WORKMENS CLUB \"B\"'!F6/'WORKMENS CLUB \"B\"'!G6)*3)))","v":0},null,{"$f":"IF('WORKMENS CLUB \"B\"'!J6=\"\",0,(SUM(('WORKMENS CLUB \"B\"'!J6/'WORKMENS CLUB \"B\"'!K6)*3)))","v":0},null,{"$f":"IF('WORKMENS CLUB \"B\"'!N6=\"\",0,(SUM(('WORKMENS CLUB \"B\"'!N6/'WORKMENS CLUB \"B\"'!O6)*3)))","v":0},null,{"$f":"IF('WORKMENS CLUB \"B\"'!R6=\"\",0,(SUM(('WORKMENS CLUB \"B\"'!R6/'WORKMENS CLUB \"B\"'!S6)*3)))","v":0},null,{"$f":"IF('WORKMENS CLUB \"B\"'!V6=\"\",0,(SUM(('WORKMENS CLUB \"B\"'!V6/'WORKMENS CLUB \"B\"'!W6)*3)))","v":0},null,{"$f":"IF('WORKMENS CLUB \"B\"'!Z6=\"\",0,(SUM(('WORKMENS CLUB \"B\"'!Z6/'WORKMENS CLUB \"B\"'!AA6)*3)))","v":0},null,{"$f":"IF('WORKMENS CLUB \"B\"'!AD6=\"\",0,(SUM(('WORKMENS CLUB \"B\"'!AD6/'WORKMENS CLUB \"B\"'!AE6)*3)))","v":0},null,{"$f":"IF('WORKMENS CLUB \"B\"'!AH6=\"\",0,(SUM(('WORKMENS CLUB \"B\"'!AH6/'WORKMENS CLUB \"B\"'!AI6)*3)))","v":0},null,{"$f":"IF('WORKMENS CLUB \"B\"'!AL6=\"\",0,(SUM(('WORKMENS CLUB \"B\"'!AL6/'WORKMENS CLUB \"B\"'!AM6)*3)))","v":0},null,{"$f":"IF('WORKMENS CLUB \"B\"'!AP6=\"\",0,(SUM(('WORKMENS CLUB \"B\"'!AP6/'WORKMENS CLUB \"B\"'!AQ6)*3)))","v":0},null,{"$f":"IF('WORKMENS CLUB \"B\"'!AT6=\"\",0,(SUM(('WORKMENS CLUB \"B\"'!AT6/'WORKMENS CLUB \"B\"'!AU6)*3)))","v":0},null,{"$f":"IF('WORKMENS CLUB \"B\"'!AX6=\"\",0,(SUM(('WORKMENS CLUB \"B\"'!AX6/'WORKMENS CLUB \"B\"'!AY6)*3)))","v":0},null,{"$f":"IF('WORKMENS CLUB \"B\"'!BB6=\"\",0,(SUM(('WORKMENS CLUB \"B\"'!BB6/'WORKMENS CLUB \"B\"'!BC6)*3)))","v":0},null,{"$f":"IF('WORKMENS CLUB \"B\"'!BF6=\"\",0,(SUM(('WORKMENS CLUB \"B\"'!BF6/'WORKMENS CLUB \"B\"'!BG6)*3)))","v":0},null,{"$f":"IF('WORKMENS CLUB \"B\"'!BJ6=\"\",0,(SUM(('WORKMENS CLUB \"B\"'!BJ6/'WORKMENS CLUB \"B\"'!BK6)*3)))","v":0},null,{"$f":"IF('WORKMENS CLUB \"B\"'!BN6=\"\",0,(SUM(('WORKMENS CLUB \"B\"'!BN6/'WORKMENS CLUB \"B\"'!BO6)*3)))","v":0},null,{"$f":"IF('WORKMENS CLUB \"B\"'!BR6=\"\",0,(SUM(('WORKMENS CLUB \"B\"'!BR6/'WORKMENS CLUB \"B\"'!BS6)*3)))","v":0},null,{"$f":"IF('WORKMENS CLUB \"B\"'!BV6=\"\",0,(SUM(('WORKMENS CLUB \"B\"'!BV6/'WORKMENS CLUB \"B\"'!BW6)*3)))","v":0},null,{"$f":"IF('WORKMENS CLUB \"B\"'!BZ6=\"\",0,(SUM(('WORKMENS CLUB \"B\"'!BZ6/'WORKMENS CLUB \"B\"'!CA6)*3)))","v":0},null,{"$f":"IF('WORKMENS CLUB \"B\"'!CD6=\"\",0,(SUM(('WORKMENS CLUB \"B\"'!CD6/'WORKMENS CLUB \"B\"'!CE6)*3)))","v":0},null,{"$f":"IF('WORKMENS CLUB \"B\"'!CH6=\"\",0,(SUM(('WORKMENS CLUB \"B\"'!CH6/'WORKMENS CLUB \"B\"'!CI6)*3)))","v":0}]
[null,{"$f":"IF('WORKMENS CLUB \"B\"'!B7=\"\",0,(SUM(('WORKMENS CLUB \"B\"'!B7/'WORKMENS CLUB \"B\"'!C7)*3)))","v":0},null,{"$f":"IF('WORKMENS CLUB \"B\"'!F7=\"\",0,(SUM(('WORKMENS CLUB \"B\"'!F7/'WORKMENS CLUB \"B\"'!G7)*3)))","v":0},null,{"$f":"IF('WORKMENS CLUB \"B\"'!J7=\"\",0,(SUM(('WORKMENS CLUB \"B\"'!J7/'WORKMENS CLUB \"B\"'!K7)*3)))","v":0},null,{"$f":"IF('WORKMENS CLUB \"B\"'!N7=\"\",0,(SUM(('WORKMENS CLUB \"B\"'!N7/'WORKMENS CLUB \"B\"'!O7)*3)))","v":0},null,{"$f":"IF('WORKMENS CLUB \"B\"'!R7=\"\",0,(SUM(('WORKMENS CLUB \"B\"'!R7/'WORKMENS CLUB \"B\"'!S7)*3)))","v":0},null,{"$f":"IF('WORKMENS CLUB \"B\"'!V7=\"\",0,(SUM(('WORKMENS CLUB \"B\"'!V7/'WORKMENS CLUB \"B\"'!W7)*3)))","v":0},null,{"$f":"IF('WORKMENS CLUB \"B\"'!Z7=\"\",0,(SUM(('WORKMENS CLUB \"B\"'!Z7/'WORKMENS CLUB \"B\"'!AA7)*3)))","v":38.533333333333331},null,{"$f":"IF('WORKMENS CLUB \"B\"'!AD7=\"\",0,(SUM(('WORKMENS CLUB \"B\"'!AD7/'WORKMENS CLUB \"B\"'!AE7)*3)))","v":50.53846153846154},null,{"$f":"IF('WORKMENS CLUB \"B\"'!AH7=\"\",0,(SUM(('WORKMENS CLUB \"B\"'!AH7/'WORKMENS CLUB \"B\"'!AI7)*3)))","v":0},null,{"$f":"IF('WORKMENS CLUB \"B\"'!AL7=\"\",0,(SUM(('WORKMENS CLUB \"B\"'!AL7/'WORKMENS CLUB \"B\"'!AM7)*3)))","v":46.733333333333334},null,{"$f":"IF('WORKMENS CLUB \"B\"'!AP7=\"\",0,(SUM(('WORKMENS CLUB \"B\"'!AP7/'WORKMENS CLUB \"B\"'!AQ7)*3)))","v":59},null,{"$f":"IF('WORKMENS CLUB \"B\"'!AT7=\"\",0,(SUM(('WORKMENS CLUB \"B\"'!AT7/'WORKMENS CLUB \"B\"'!AU7)*3)))","v":51.292682926829272},null,{"$f":"IF('WORKMENS CLUB \"B\"'!AX7=\"\",0,(SUM(('WORKMENS CLUB \"B\"'!AX7/'WORKMENS CLUB \"B\"'!AY7)*3)))","v":0},null,{"$f":"IF('WORKMENS CLUB \"B\"'!BB7=\"\",0,(SUM(('WORKMENS CLUB \"B\"'!BB7/'WORKMENS CLUB \"B\"'!BC7)*3)))","v":63.727272727272727},null,{"$f":"IF('WORKMENS CLUB \"B\"'!BF7=\"\",0,(SUM(('WORKMENS CLUB \"B\"'!BF7/'WORKMENS CLUB \"B\"'!BG7)*3)))","v":0},null,{"$f":"IF('WORKMENS CLUB \"B\"'!BJ7=\"\",0,(SUM(('WORKMENS CLUB \"B\"'!BJ7/'WORKMENS CLUB \"B\"'!BK7)*3)))","v":36.258620689655174},null,{"$f":"IF('WORKMENS CLUB \"B\"'!BN7=\"\",0,(SUM(('WORKMENS CLUB \"B\"'!BN7/'WORKMENS CLUB \"B\"'!BO7)*3)))","v":44.214285714285708},null,{"$f":"IF('WORKMENS CLUB \"B\"'!BR7=\"\",0,(SUM(('WORKMENS CLUB \"B\"'!BR7/'WORKMENS CLUB \"B\"'!BS7)*3)))","v":34.650000000000006},null,{"$f":"IF('WORKMENS CLUB \"B\"'!BV7=\"\",0,(SUM(('WORKMENS CLUB \"B\"'!BV7/'WORKMENS CLUB \"B\"'!BW7)*3)))","v":0},null,{"$f":"IF('WORKMENS CLUB \"B\"'!BZ7=\"\",0,(SUM(('WORKMENS CLUB \"B\"'!BZ7/'WORKMENS CLUB \"B\"'!CA7)*3)))","v":0},null,{"$f":"IF('WORKMENS CLUB \"B\"'!CD7=\"\",0,(SUM(('WORKMENS CLUB \"B\"'!CD7/'WORKMENS CLUB \"B\"'!CE7)*3)))","v":0},null,{"$f":"IF('WORKMENS CLUB \"B\"'!CH7=\"\",0,(SUM(('WORKMENS CLUB \"B\"'!CH7/'WORKMENS CLUB \"B\"'!CI7)*3)))","v":0}]
[null,{"$f":"IF('WORKMENS CLUB \"B\"'!B8=\"\",0,(SUM(('WORKMENS CLUB \"B\"'!B8/'WORKMENS CLUB \"B\"'!C8)*3)))","v":0},null,{"$f":"IF('WORKMENS CLUB \"B\"'!F8=\"\",0,(SUM(('WORKMENS CLUB \"B\"'!F8/'WORKMENS CLUB \"B\"'!G8)*3)))","v":0},null,{"$f":"IF('WORKMENS CLUB \"B\"'!J8=\"\",0,(SUM(('WORKMENS CLUB \"B\"'!J8/'WORKMENS CLUB \"B\"'!K8)*3)))","v":0},null,{"$f":"IF('WORKMENS CLUB \"B\"'!N8=\"\",0,(SUM(('WORKMENS CLUB \"B\"'!N8/'WORKMENS CLUB \"B\"'!O8)*3)))","v":0},null,{"$f":"IF('WORKMENS CLUB \"B\"'!R8=\"\",0,(SUM(('WORKMENS CLUB \"B\"'!R8/'WORKMENS CLUB \"B\"'!S8)*3)))","v":0},null,{"$f":"IF('WORKMENS CLUB \"B\"'!V8=\"\",0,(SUM(('WORKMENS CLUB \"B\"'!V8/'WORKMENS CLUB \"B\"'!W8)*3)))","v":0},null,{"$f":"IF('WORKMENS CLUB \"B\"'!Z8=\"\",0,(SUM(('WORKMENS CLUB \"B\"'!Z8/'WORKMENS CLUB \"B\"'!AA8)*3)))","v":0},null,{"$f":"IF('WORKMENS CLUB \"B\"'!AD8=\"\",0,(SUM(('WORKMENS CLUB \"B\"'!AD8/'WORKMENS CLUB \"B\"'!AE8)*3)))","v":0},null,{"$f":"IF('WORKMENS CLUB \"B\"'!AH8=\"\",0,(SUM(('WORKMENS CLUB \"B\"'!AH8/'WORKMENS CLUB \"B\"'!AI8)*3)))","v":0},null,{"$f":"IF('WORKMENS CLUB \"B\"'!AL8=\"\",0,(SUM(('WORKMENS CLUB \"B\"'!AL8/'WORKMENS CLUB \"B\"'!AM8)*3)))","v":0},null,{"$f":"IF('WORKMENS CLUB \"B\"'!AP8=\"\",0,(SUM(('WORKMENS CLUB \"B\"'!AP8/'WORKMENS CLUB \"B\"'!AQ8)*3)))","v":0},null,{"$f":"IF('WORKMENS CLUB \"B\"'!AT8=\"\",0,(SUM(('WORKMENS CLUB \"B\"'!AT8/'WORKMENS CLUB \"B\"'!AU8)*3)))","v":0},null,{"$f":"IF('WORKMENS CLUB \"B\"'!AX8=\"\",0,(SUM(('WORKMENS CLUB \"B\"'!AX8/'WORKMENS CLUB \"B\"'!AY8)*3)))","v":0},null,{"$f":"IF('WORKMENS CLUB \"B\"'!BB8=\"\",0,(SUM(('WORKMENS CLUB \"B\"'!BB8/'WORKMENS CLUB \"B\"'!BC8)*3)))","v":0},null,{"$f":"IF('WORKMENS CLUB \"B\"'!BF8=\"\",0,(SUM(('WORKMENS CLUB \"B\"'!BF8/'WORKMENS CLUB \"B\"'!BG8)*3)))","v":0},null,{"$f":"IF('WORKMENS CLUB \"B\"'!BJ8=\"\",0,(SUM(('WORKMENS CLUB \"B\"'!BJ8/'WORKMENS CLUB \"B\"'!BK8)*3)))","v":0},null,{"$f":"IF('WORKMENS CLUB \"B\"'!BN8=\"\",0,(SUM(('WORKMENS CLUB \"B\"'!BN8/'WORKMENS CLUB \"B\"'!BO8)*3)))","v":0},null,{"$f":"IF('WORKMENS CLUB \"B\"'!BR8=\"\",0,(SUM(('WORKMENS CLUB \"B\"'!BR8/'WORKMENS CLUB \"B\"'!BS8)*3)))","v":0},null,{"$f":"IF('WORKMENS CLUB \"B\"'!BV8=\"\",0,(SUM(('WORKMENS CLUB \"B\"'!BV8/'WORKMENS CLUB \"B\"'!BW8)*3)))","v":0},null,{"$f":"IF('WORKMENS CLUB \"B\"'!BZ8=\"\",0,(SUM(('WORKMENS CLUB \"B\"'!BZ8/'WORKMENS CLUB \"B\"'!CA8)*3)))","v":0},null,{"$f":"IF('WORKMENS CLUB \"B\"'!CD8=\"\",0,(SUM(('WORKMENS CLUB \"B\"'!CD8/'WORKMENS CLUB \"B\"'!CE8)*3)))","v":0},null,{"$f":"IF('WORKMENS CLUB \"B\"'!CH8=\"\",0,(SUM(('WORKMENS CLUB \"B\"'!CH8/'WORKMENS CLUB \"B\"'!CI8)*3)))","v":0}]
[null,{"$f":"IF('WORKMENS CLUB \"B\"'!B9=\"\",0,(SUM(('WORKMENS CLUB \"B\"'!B9/'WORKMENS CLUB \"B\"'!C9)*3)))","v":62.818181818181813},null,{"$f":"IF('WORKMENS CLUB \"B\"'!F9=\"\",0,(SUM(('WORKMENS CLUB \"B\"'!F9/'WORKMENS CLUB \"B\"'!G9)*3)))","v":58.25},null,{"$f":"IF('WORKMENS CLUB \"B\"'!J9=\"\",0,(SUM(('WORKMENS CLUB \"B\"'!J9/'WORKMENS CLUB \"B\"'!K9)*3)))","v":45.717391304347828},null,{"$f":"IF('WORKMENS CLUB \"B\"'!N9=\"\",0,(SUM(('WORKMENS CLUB \"B\"'!N9/'WORKMENS CLUB \"B\"'!O9)*3)))","v":50.071428571428569},null,{"$f":"IF('WORKMENS CLUB \"B\"'!R9=\"\",0,(SUM(('WORKMENS CLUB \"B\"'!R9/'WORKMENS CLUB \"B\"'!S9)*3)))","v":39.900000000000006},null,{"$f":"IF('WORKMENS CLUB \"B\"'!V9=\"\",0,(SUM(('WORKMENS CLUB \"B\"'!V9/'WORKMENS CLUB \"B\"'!W9)*3)))","v":0},null,{"$f":"IF('WORKMENS CLUB \"B\"'!Z9=\"\",0,(SUM(('WORKMENS CLUB \"B\"'!Z9/'WORKMENS CLUB \"B\"'!AA9)*3)))","v":50.071428571428569},null,{"$f":"IF('WORKMENS CLUB \"B\"'!AD9=\"\",0,(SUM(('WORKMENS CLUB \"B\"'!AD9/'WORKMENS CLUB \"B\"'!AE9)*3)))","v":47.795454545454547},null,{"$f":"IF('WORKMENS CLUB \"B\"'!AH9=\"\",0,(SUM(('WORKMENS CLUB \"B\"'!AH9/'WORKMENS CLUB \"B\"'!AI9)*3)))","v":43.8125},null,{"$f":"IF('WORKMENS CLUB \"B\"'!AL9=\"\",0,(SUM(('WORKMENS CLUB \"B\"'!AL9/'WORKMENS CLUB \"B\"'!AM9)*3)))","v":55.083333333333329},null,{"$f":"IF('WORKMENS CLUB \"B\"'!AP9=\"\",0,(SUM(('WORKMENS CLUB \"B\"'!AP9/'WORKMENS CLUB \"B\"'!AQ9)*3)))","v":0},null,{"$f":"IF('WORKMENS CLUB \"B\"'!AT9=\"\",0,(SUM(('WORKMENS CLUB \"B\"'!AT9/'WORKMENS CLUB \"B\"'!AU9)*3)))","v":0},null,{"$f":"IF('WORKMENS CLUB \"B\"'!AX9=\"\",0,(SUM(('WORKMENS CLUB \"B\"'!AX9/'WORKMENS CLUB \"B\"'!AY9)*3)))","v":77.888888888888886},null,{"$f":"IF('WORKMENS CLUB \"B\"'!BB9=\"\",0,(SUM(('WORKMENS CLUB \"B\"'!BB9/'WORKMENS CLUB \"B\"'!BC9)*3)))","v":57.300000000000004},null,{"$f":"IF('WORKMENS CLUB \"B\"'!BF9=\"\",0,(SUM(('WORKMENS CLUB \"B\"'!BF9/'WORKMENS CLUB \"B\"'!BG9)*3)))","v":0},null,{"$f":"IF('WORKMENS CLUB \"B\"'!BJ9=\"\",0,(SUM(('WORKMENS CLUB \"B\"'!BJ9/'WORKMENS CLUB \"B\"'!BK9)*3)))","v":59.699999999999996},null,{"$f":"IF('WORKMENS CLUB \"B\"'!BN9=\"\",0,(SUM(('WORKMENS CLUB \"B\"'!BN9/'WORKMENS CLUB \"B\"'!BO9)*3)))","v":53.92307692307692},null,{"$f":"IF('WORKMENS CLUB \"B\"'!BR9=\"\",0,(SUM(('WORKMENS CLUB \"B\"'!BR9/'WORKMENS CLUB \"B\"'!BS9)*3)))","v":52.574999999999996},null,{"$f":"IF('WORKMENS CLUB \"B\"'!BV9=\"\",0,(SUM(('WORKMENS CLUB \"B\"'!BV9/'WORKMENS CLUB \"B\"'!BW9)*3)))","v":0},null,{"$f":"IF('WORKMENS CLUB \"B\"'!BZ9=\"\",0,(SUM(('WORKMENS CLUB \"B\"'!BZ9/'WORKMENS CLUB \"B\"'!CA9)*3)))","v":0},null,{"$f":"IF('WORKMENS CLUB \"B\"'!CD9=\"\",0,(SUM(('WORKMENS CLUB \"B\"'!CD9/'WORKMENS CLUB \"B\"'!CE9)*3)))","v":0},null,{"$f":"IF('WORKMENS CLUB \"B\"'!CH9=\"\",0,(SUM(('WORKMENS CLUB \"B\"'!CH9/'WORKMENS CLUB \"B\"'!CI9)*3)))","v":0}]
[null,{"$f":"IF('WORKMENS CLUB \"B\"'!B10=\"\",0,(SUM(('WORKMENS CLUB \"B\"'!B10/'WORKMENS CLUB \"B\"'!C10)*3)))","v":56.18181818181818},null,{"$f":"IF('WORKMENS CLUB \"B\"'!F10=\"\",0,(SUM(('WORKMENS CLUB \"B\"'!F10/'WORKMENS CLUB \"B\"'!G10)*3)))","v":42.1},null,{"$f":"IF('WORKMENS CLUB \"B\"'!J10=\"\",0,(SUM(('WORKMENS CLUB \"B\"'!J10/'WORKMENS CLUB \"B\"'!K10)*3)))","v":40.442307692307693},null,{"$f":"IF('WORKMENS CLUB \"B\"'!N10=\"\",0,(SUM(('WORKMENS CLUB \"B\"'!N10/'WORKMENS CLUB \"B\"'!O10)*3)))","v":44.307692307692307},null,{"$f":"IF('WORKMENS CLUB \"B\"'!R10=\"\",0,(SUM(('WORKMENS CLUB \"B\"'!R10/'WORKMENS CLUB \"B\"'!S10)*3)))","v":36.89473684210526},null,{"$f":"IF('WORKMENS CLUB \"B\"'!V10=\"\",0,(SUM(('WORKMENS CLUB \"B\"'!V10/'WORKMENS CLUB \"B\"'!W10)*3)))","v":0},null,{"$f":"IF('WORKMENS CLUB \"B\"'!Z10=\"\",0,(SUM(('WORKMENS CLUB \"B\"'!Z10/'WORKMENS CLUB \"B\"'!AA10)*3)))","v":38.058823529411761},null,{"$f":"IF('WORKMENS CLUB \"B\"'!AD10=\"\",0,(SUM(('WORKMENS CLUB \"B\"'!AD10/'WORKMENS CLUB \"B\"'!AE10)*3)))","v":38.533333333333331},null,{"$f":"IF('WORKMENS CLUB \"B\"'!AH10=\"\",0,(SUM(('WORKMENS CLUB \"B\"'!AH10/'WORKMENS CLUB \"B\"'!AI10)*3)))","v":46.4},null,{"$f":"IF('WORKMENS CLUB \"B\"'!AL10=\"\",0,(SUM(('WORKMENS CLUB \"B\"'!AL10/'WORKMENS CLUB \"B\"'!AM10)*3)))","v":0},null,{"$f":"IF('WORKMENS CLUB \"B\"'!AP10=\"\",0,(SUM(('WORKMENS CLUB \"B\"'!AP10/'WORKMENS CLUB \"B\"'!AQ10)*3)))","v":50.666666666666671},null,{"$f":"IF('WORKMENS CLUB \"B\"'!AT10=\"\",0,(SUM(('WORKMENS CLUB \"B\"'!AT10/'WORKMENS CLUB \"B\"'!AU10)*3)))","v":41.9375},null,{"$f":"IF('WORKMENS CLUB \"B\"'!AX10=\"\",0,(SUM(('WORKMENS CLUB \"B\"'!AX10/'WORKMENS CLUB \"B\"'!AY10)*3)))","v":40.89473684210526},null,{"$f":"IF('WORKMENS CLUB \"B\"'!BB10=\"\",0,(SUM(('WORKMENS CLUB \"B\"'!BB10/'WORKMENS CLUB \"B\"'!BC10)*3)))","v":45.717391304347828},null,{"$f":"IF('WORKMENS CLUB \"B\"'!BF10=\"\",0,(SUM(('WORKMENS CLUB \"B\"'!BF10/'WORKMENS CLUB \"B\"'!BG10)*3)))","v":0},null,{"$f":"IF('WORKMENS CLUB \"B\"'!BJ10=\"\",0,(SUM(('WORKMENS CLUB \"B\"'!BJ10/'WORKMENS CLUB \"B\"'!BK10)*3)))","v":0},null,{"$f":"IF('WORKMENS CLUB \"B\"'!BN10=\"\",0,(SUM(('WORKMENS CLUB \"B\"'!BN10/'WORKMENS CLUB \"B\"'!BO10)*3)))","v":0},null,{"$f":"IF('WORKMENS CLUB \"B\"'!BR10=\"\",0,(SUM(('WORKMENS CLUB \"B\"'!BR10/'WORKMENS CLUB \"B\"'!BS10)*3)))","v":0},null,{"$f":"IF('WORKMENS CLUB \"B\"'!BV10=\"\",0,(SUM(('WORKMENS CLUB \"B\"'!BV10/'WORKMENS CLUB \"B\"'!BW10)*3)))","v":0},null,{"$f":"IF('WORKMENS CLUB \"B\"'!BZ10=\"\",0,(SUM(('WORKMENS CLUB \"B\"'!BZ10/'WORKMENS CLUB \"B\"'!CA10)*3)))","v":0},null,{"$f":"IF('WORKMENS CLUB \"B\"'!CD10=\"\",0,(SUM(('WORKMENS CLUB \"B\"'!CD10/'WORKMENS CLUB \"B\"'!CE10)*3)))","v":0},null,{"$f":"IF('WORKMENS CLUB \"B\"'!CH10=\"\",0,(SUM(('WORKMENS CLUB \"B\"'!CH10/'WORKMENS CLUB \"B\"'!CI10)*3)))","v":0}]
[null,{"$f":"IF('WORKMENS CLUB \"B\"'!B11=\"\",0,(SUM(('WORKMENS CLUB \"B\"'!B11/'WORKMENS CLUB \"B\"'!C11)*3)))","v":40.442307692307693},null,{"$f":"IF('WORKMENS CLUB \"B\"'!F11=\"\",0,(SUM(('WORKMENS CLUB \"B\"'!F11/'WORKMENS CLUB \"B\"'!G11)*3)))","v":51.292682926829272},null,{"$f":"IF('WORKMENS CLUB \"B\"'!J11=\"\",0,(SUM(('WORKMENS CLUB \"B\"'!J11/'WORKMENS CLUB \"B\"'!K11)*3)))","v":49.357142857142861},null,{"$f":"IF('WORKMENS CLUB \"B\"'!N11=\"\",0,(SUM(('WORKMENS CLUB \"B\"'!N11/'WORKMENS CLUB \"B\"'!O11)*3)))","v":35.230769230769226},null,{"$f":"IF('WORKMENS CLUB \"B\"'!R11=\"\",0,(SUM(('WORKMENS CLUB \"B\"'!R11/'WORKMENS CLUB \"B\"'!S11)*3)))","v":52.38461538461538},null,{"$f":"IF('WORKMENS CLUB \"B\"'!V11=\"\",0,(SUM(('WORKMENS CLUB \"B\"'!V11/'WORKMENS CLUB \"B\"'!W11)*3)))","v":0},null,{"$f":"IF('WORKMENS CLUB \"B\"'!Z11=\"\",0,(SUM(('WORKMENS CLUB \"B\"'!Z11/'WORKMENS CLUB \"B\"'!AA11)*3)))","v":42.918367346938773},null,{"$f":"IF('WORKMENS CLUB \"B\"'!AD11=\"\",0,(SUM(('WORKMENS CLUB \"B\"'!AD11/'WORKMENS CLUB \"B\"'!AE11)*3)))","v":0},null,{"$f":"IF('WORKMENS CLUB \"B\"'!AH11=\"\",0,(SUM(('WORKMENS CLUB \"B\"'!AH11/'WORKMENS CLUB \"B\"'!AI11)*3)))","v":42.918367346938773},null,{"$f":"IF('WORKMENS CLUB \"B\"'!AL11=\"\",0,(SUM(('WORKMENS CLUB \"B\"'!AL11/'WORKMENS CLUB \"B\"'!AM11)*3)))","v":47.785714285714285},null,{"$f":"IF('WORKMENS CLUB \"B\"'!AP11=\"\",0,(SUM(('WORKMENS CLUB \"B\"'!AP11/'WORKMENS CLUB \"B\"'!AQ11)*3)))","v":51.900000000000006},null,{"$f":"IF('WORKMENS CLUB \"B\"'!AT11=\"\",0,(SUM(('WORKMENS CLUB \"B\"'!AT11/'WORKMENS CLUB \"B\"'!AU11)*3)))","v":56.837837837837839},null,{"$f":"IF('WORKMENS CLUB \"B\"'!AX11=\"\",0,(SUM(('WORKMENS CLUB \"B\"'!AX11/'WORKMENS CLUB \"B\"'!AY11)*3)))","v":44.083333333333336},null,{"$f":"IF('WORKMENS CLUB \"B\"'!BB11=\"\",0,(SUM(('WORKMENS CLUB \"B\"'!BB11/'WORKMENS CLUB \"B\"'!BC11)*3)))","v":74},null,{"$f":"IF('WORKMENS CLUB \"B\"'!BF11=\"\",0,(SUM(('WORKMENS CLUB \"B\"'!BF11/'WORKMENS CLUB \"B\"'!BG11)*3)))","v":0},null,{"$f":"IF('WORKMENS CLUB \"B\"'!BJ11=\"\",0,(SUM(('WORKMENS CLUB \"B\"'!BJ11/'WORKMENS CLUB \"B\"'!BK11)*3)))","v":40.442307692307693},null,{"$f":"IF('WORKMENS CLUB \"B\"'!BN11=\"\",0,(SUM(('WORKMENS CLUB \"B\"'!BN11/'WORKMENS CLUB \"B\"'!BO11)*3)))","v":38.944444444444443},null,{"$f":"IF('WORKMENS CLUB \"B\"'!BR11=\"\",0,(SUM(('WORKMENS CLUB \"B\"'!BR11/'WORKMENS CLUB \"B\"'!BS11)*3)))","v":36.789473684210527},null,{"$f":"IF('WORKMENS CLUB \"B\"'!BV11=\"\",0,(SUM(('WORKMENS CLUB \"B\"'!BV11/'WORKMENS CLUB \"B\"'!BW11)*3)))","v":0},null,{"$f":"IF('WORKMENS CLUB \"B\"'!BZ11=\"\",0,(SUM(('WORKMENS CLUB \"B\"'!BZ11/'WORKMENS CLUB \"B\"'!CA11)*3)))","v":0},null,{"$f":"IF('WORKMENS CLUB \"B\"'!CD11=\"\",0,(SUM(('WORKMENS CLUB \"B\"'!CD11/'WORKMENS CLUB \"B\"'!CE11)*3)))","v":0},null,{"$f":"IF('WORKMENS CLUB \"B\"'!CH11=\"\",0,(SUM(('WORKMENS CLUB \"B\"'!CH11/'WORKMENS CLUB \"B\"'!CI11)*3)))","v":0}]
[null,{"$f":"IF('WORKMENS CLUB \"B\"'!B12=\"\",0,(SUM(('WORKMENS CLUB \"B\"'!B12/'WORKMENS CLUB \"B\"'!C12)*3)))","v":59.363636363636367},null,{"$f":"IF('WORKMENS CLUB \"B\"'!F12=\"\",0,(SUM(('WORKMENS CLUB \"B\"'!F12/'WORKMENS CLUB \"B\"'!G12)*3)))","v":54.7},null,{"$f":"IF('WORKMENS CLUB \"B\"'!J12=\"\",0,(SUM(('WORKMENS CLUB \"B\"'!J12/'WORKMENS CLUB \"B\"'!K12)*3)))","v":43.8125},null,{"$f":"IF('WORKMENS CLUB \"B\"'!N12=\"\",0,(SUM(('WORKMENS CLUB \"B\"'!N12/'WORKMENS CLUB \"B\"'!O12)*3)))","v":53.92307692307692},null,{"$f":"IF('WORKMENS CLUB \"B\"'!R12=\"\",0,(SUM(('WORKMENS CLUB \"B\"'!R12/'WORKMENS CLUB \"B\"'!S12)*3)))","v":60.5},null,{"$f":"IF('WORKMENS CLUB \"B\"'!V12=\"\",0,(SUM(('WORKMENS CLUB \"B\"'!V12/'WORKMENS CLUB \"B\"'!W12)*3)))","v":0},null,{"$f":"IF('WORKMENS CLUB \"B\"'!Z12=\"\",0,(SUM(('WORKMENS CLUB \"B\"'!Z12/'WORKMENS CLUB \"B\"'!AA12)*3)))","v":41},null,{"$f":"IF('WORKMENS CLUB \"B\"'!AD12=\"\",0,(SUM(('WORKMENS CLUB \"B\"'!AD12/'WORKMENS CLUB \"B\"'!AE12)*3)))","v":51.292682926829272},null,{"$f":"IF('WORKMENS CLUB \"B\"'!AH12=\"\",0,(SUM(('WORKMENS CLUB \"B\"'!AH12/'WORKMENS CLUB \"B\"'!AI12)*3)))","v":61.852941176470587},null,{"$f":"IF('WORKMENS CLUB \"B\"'!AL12=\"\",0,(SUM(('WORKMENS CLUB \"B\"'!AL12/'WORKMENS CLUB \"B\"'!AM12)*3)))","v":84.5},null,{"$f":"IF('WORKMENS CLUB \"B\"'!AP12=\"\",0,(SUM(('WORKMENS CLUB \"B\"'!AP12/'WORKMENS CLUB \"B\"'!AQ12)*3)))","v":56.090909090909086},null,{"$f":"IF('WORKMENS CLUB \"B\"'!AT12=\"\",0,(SUM(('WORKMENS CLUB \"B\"'!AT12/'WORKMENS CLUB \"B\"'!AU12)*3)))","v":51.292682926829272},null,{"$f":"IF('WORKMENS CLUB \"B\"'!AX12=\"\",0,(SUM(('WORKMENS CLUB \"B\"'!AX12/'WORKMENS CLUB \"B\"'!AY12)*3)))","v":46.733333333333334},null,{"$f":"IF('WORKMENS CLUB \"B\"'!BB12=\"\",0,(SUM(('WORKMENS CLUB \"B\"'!BB12/'WORKMENS CLUB \"B\"'!BC12)*3)))","v":46.285714285714285},null,{"$f":"IF('WORKMENS CLUB \"B\"'!BF12=\"\",0,(SUM(('WORKMENS CLUB \"B\"'!BF12/'WORKMENS CLUB \"B\"'!BG12)*3)))","v":0},null,{"$f":"IF('WORKMENS CLUB \"B\"'!BJ12=\"\",0,(SUM(('WORKMENS CLUB \"B\"'!BJ12/'WORKMENS CLUB \"B\"'!BK12)*3)))","v":44.909090909090907},null,{"$f":"IF('WORKMENS CLUB \"B\"'!BN12=\"\",0,(SUM(('WORKMENS CLUB \"B\"'!BN12/'WORKMENS CLUB \"B\"'!BO12)*3)))","v":67.838709677419359},null,{"$f":"IF('WORKMENS CLUB \"B\"'!BR12=\"\",0,(SUM(('WORKMENS CLUB \"B\"'!BR12/'WORKMENS CLUB \"B\"'!BS12)*3)))","v":60.085714285714289},null,{"$f":"IF('WORKMENS CLUB \"B\"'!BV12=\"\",0,(SUM(('WORKMENS CLUB \"B\"'!BV12/'WORKMENS CLUB \"B\"'!BW12)*3)))","v":0},null,{"$f":"IF('WORKMENS CLUB \"B\"'!BZ12=\"\",0,(SUM(('WORKMENS CLUB \"B\"'!BZ12/'WORKMENS CLUB \"B\"'!CA12)*3)))","v":0},null,{"$f":"IF('WORKMENS CLUB \"B\"'!CD12=\"\",0,(SUM(('WORKMENS CLUB \"B\"'!CD12/'WORKMENS CLUB \"B\"'!CE12)*3)))","v":0},null,{"$f":"IF('WORKMENS CLUB \"B\"'!CH12=\"\",0,(SUM(('WORKMENS CLUB \"B\"'!CH12/'WORKMENS CLUB \"B\"'!CI12)*3)))","v":0}]
[null,{"$f":"IF('WORKMENS CLUB \"B\"'!B13=\"\",0,(SUM(('WORKMENS CLUB \"B\"'!B13/'WORKMENS CLUB \"B\"'!C13)*3)))","v":0},null,{"$f":"IF('WORKMENS CLUB \"B\"'!F13=\"\",0,(SUM(('WORKMENS CLUB \"B\"'!F13/'WORKMENS CLUB \"B\"'!G13)*3)))","v":0},null,{"$f":"IF('WORKMENS CLUB \"B\"'!J13=\"\",0,(SUM(('WORKMENS CLUB \"B\"'!J13/'WORKMENS CLUB \"B\"'!K13)*3)))","v":0},null,{"$f":"IF('WORKMENS CLUB \"B\"'!N13=\"\",0,(SUM(('WORKMENS CLUB \"B\"'!N13/'WORKMENS CLUB \"B\"'!O13)*3)))","v":0},null,{"$f":"IF('WORKMENS CLUB \"B\"'!R13=\"\",0,(SUM(('WORKMENS CLUB \"B\"'!R13/'WORKMENS CLUB \"B\"'!S13)*3)))","v":0},null,{"$f":"IF('WORKMENS CLUB \"B\"'!V13=\"\",0,(SUM(('WORKMENS CLUB \"B\"'!V13/'WORKMENS CLUB \"B\"'!W13)*3)))","v":0},null,{"$f":"IF('WORKMENS CLUB \"B\"'!Z13=\"\",0,(SUM(('WORKMENS CLUB \"B\"'!Z13/'WORKMENS CLUB \"B\"'!AA13)*3)))","v":0},null,{"$f":"IF('WORKMENS CLUB \"B\"'!AD13=\"\",0,(SUM(('WORKMENS CLUB \"B\"'!AD13/'WORKMENS CLUB \"B\"'!AE13)*3)))","v":0},null,{"$f":"IF('WORKMENS CLUB \"B\"'!AH13=\"\",0,(SUM(('WORKMENS CLUB \"B\"'!AH13/'WORKMENS CLUB \"B\"'!AI13)*3)))","v":0},null,{"$f":"IF('WORKMENS CLUB \"B\"'!AL13=\"\",0,(SUM(('WORKMENS CLUB \"B\"'!AL13/'WORKMENS CLUB \"B\"'!AM13)*3)))","v":0},null,{"$f":"IF('WORKMENS CLUB \"B\"'!AP13=\"\",0,(SUM(('WORKMENS CLUB \"B\"'!AP13/'WORKMENS CLUB \"B\"'!AQ13)*3)))","v":0},null,{"$f":"IF('WORKMENS CLUB \"B\"'!AT13=\"\",0,(SUM(('WORKMENS CLUB \"B\"'!AT13/'WORKMENS CLUB \"B\"'!AU13)*3)))","v":0},null,{"$f":"IF('WORKMENS CLUB \"B\"'!AX13=\"\",0,(SUM(('WORKMENS CLUB \"B\"'!AX13/'WORKMENS CLUB \"B\"'!AY13)*3)))","v":0},null,{"$f":"IF('WORKMENS CLUB \"B\"'!BB13=\"\",0,(SUM(('WORKMENS CLUB \"B\"'!BB13/'WORKMENS CLUB \"B\"'!BC13)*3)))","v":0},null,{"$f":"IF('WORKMENS CLUB \"B\"'!BF13=\"\",0,(SUM(('WORKMENS CLUB \"B\"'!BF13/'WORKMENS CLUB \"B\"'!BG13)*3)))","v":0},null,{"$f":"IF('WORKMENS CLUB \"B\"'!BJ13=\"\",0,(SUM(('WORKMENS CLUB \"B\"'!BJ13/'WORKMENS CLUB \"B\"'!BK13)*3)))","v":0},null,{"$f":"IF('WORKMENS CLUB \"B\"'!BN13=\"\",0,(SUM(('WORKMENS CLUB \"B\"'!BN13/'WORKMENS CLUB \"B\"'!BO13)*3)))","v":0},null,{"$f":"IF('WORKMENS CLUB \"B\"'!BR13=\"\",0,(SUM(('WORKMENS CLUB \"B\"'!BR13/'WORKMENS CLUB \"B\"'!BS13)*3)))","v":0},null,{"$f":"IF('WORKMENS CLUB \"B\"'!BV13=\"\",0,(SUM(('WORKMENS CLUB \"B\"'!BV13/'WORKMENS CLUB \"B\"'!BW13)*3)))","v":0},null,{"$f":"IF('WORKMENS CLUB \"B\"'!BZ13=\"\",0,(SUM(('WORKMENS CLUB \"B\"'!BZ13/'WORKMENS CLUB \"B\"'!CA13)*3)))","v":0},null,{"$f":"IF('WORKMENS CLUB \"B\"'!CD13=\"\",0,(SUM(('WORKMENS CLUB \"B\"'!CD13/'WORKMENS CLUB \"B\"'!CE13)*3)))","v":0},null,{"$f":"IF('WORKMENS CLUB \"B\"'!CH13=\"\",0,(SUM(('WORKMENS CLUB \"B\"'!CH13/'WORKMENS CLUB \"B\"'!CI13)*3)))","v":0}]
[null,{"$f":"IF('WORKMENS CLUB \"B\"'!B14=\"\",0,(SUM(('WORKMENS CLUB \"B\"'!B14/'WORKMENS CLUB \"B\"'!C14)*3)))","v":0},null,{"$f":"IF('WORKMENS CLUB \"B\"'!F14=\"\",0,(SUM(('WORKMENS CLUB \"B\"'!F14/'WORKMENS CLUB \"B\"'!G14)*3)))","v":0},null,{"$f":"IF('WORKMENS CLUB \"B\"'!J14=\"\",0,(SUM(('WORKMENS CLUB \"B\"'!J14/'WORKMENS CLUB \"B\"'!K14)*3)))","v":0},null,{"$f":"IF('WORKMENS CLUB \"B\"'!N14=\"\",0,(SUM(('WORKMENS CLUB \"B\"'!N14/'WORKMENS CLUB \"B\"'!O14)*3)))","v":0},null,{"$f":"IF('WORKMENS CLUB \"B\"'!R14=\"\",0,(SUM(('WORKMENS CLUB \"B\"'!R14/'WORKMENS CLUB \"B\"'!S14)*3)))","v":0},null,{"$f":"IF('WORKMENS CLUB \"B\"'!V14=\"\",0,(SUM(('WORKMENS CLUB \"B\"'!V14/'WORKMENS CLUB \"B\"'!W14)*3)))","v":0},null,{"$f":"IF('WORKMENS CLUB \"B\"'!Z14=\"\",0,(SUM(('WORKMENS CLUB \"B\"'!Z14/'WORKMENS CLUB \"B\"'!AA14)*3)))","v":0},null,{"$f":"IF('WORKMENS CLUB \"B\"'!AD14=\"\",0,(SUM(('WORKMENS CLUB \"B\"'!AD14/'WORKMENS CLUB \"B\"'!AE14)*3)))","v":0},null,{"$f":"IF('WORKMENS CLUB \"B\"'!AH14=\"\",0,(SUM(('WORKMENS CLUB \"B\"'!AH14/'WORKMENS CLUB \"B\"'!AI14)*3)))","v":0},null,{"$f":"IF('WORKMENS CLUB \"B\"'!AL14=\"\",0,(SUM(('WORKMENS CLUB \"B\"'!AL14/'WORKMENS CLUB \"B\"'!AM14)*3)))","v":0},null,{"$f":"IF('WORKMENS CLUB \"B\"'!AP14=\"\",0,(SUM(('WORKMENS CLUB \"B\"'!AP14/'WORKMENS CLUB \"B\"'!AQ14)*3)))","v":0},null,{"$f":"IF('WORKMENS CLUB \"B\"'!AT14=\"\",0,(SUM(('WORKMENS CLUB \"B\"'!AT14/'WORKMENS CLUB \"B\"'!AU14)*3)))","v":0},null,{"$f":"IF('WORKMENS CLUB \"B\"'!AX14=\"\",0,(SUM(('WORKMENS CLUB \"B\"'!AX14/'WORKMENS CLUB \"B\"'!AY14)*3)))","v":0},null,{"$f":"IF('WORKMENS CLUB \"B\"'!BB14=\"\",0,(SUM(('WORKMENS CLUB \"B\"'!BB14/'WORKMENS CLUB \"B\"'!BC14)*3)))","v":0},null,{"$f":"IF('WORKMENS CLUB \"B\"'!BF14=\"\",0,(SUM(('WORKMENS CLUB \"B\"'!BF14/'WORKMENS CLUB \"B\"'!BG14)*3)))","v":0},null,{"$f":"IF('WORKMENS CLUB \"B\"'!BJ14=\"\",0,(SUM(('WORKMENS CLUB \"B\"'!BJ14/'WORKMENS CLUB \"B\"'!BK14)*3)))","v":0},null,{"$f":"IF('WORKMENS CLUB \"B\"'!BN14=\"\",0,(SUM(('WORKMENS CLUB \"B\"'!BN14/'WORKMENS CLUB \"B\"'!BO14)*3)))","v":0},null,{"$f":"IF('WORKMENS CLUB \"B\"'!BR14=\"\",0,(SUM(('WORKMENS CLUB \"B\"'!BR14/'WORKMENS CLUB \"B\"'!BS14)*3)))","v":0},null,{"$f":"IF('WORKMENS CLUB \"B\"'!BV14=\"\",0,(SUM(('WORKMENS CLUB \"B\"'!BV14/'WORKMENS CLUB \"B\"'!BW14)*3)))","v":0},null,{"$f":"IF('WORKMENS CLUB \"B\"'!BZ14=\"\",0,(SUM(('WORKMENS CLUB \"B\"'!BZ14/'WORKMENS CLUB \"B\"'!CA14)*3)))","v":0},null,{"$f":"IF('WORKMENS CLUB \"B\"'!CD14=\"\",0,(SUM(('WORKMENS CLUB \"B\"'!CD14/'WORKMENS CLUB \"B\"'!CE14)*3)))","v":0},null,{"$f":"IF('WORKMENS CLUB \"B\"'!CH14=\"\",0,(SUM(('WORKMENS CLUB \"B\"'!CH14/'WORKMENS CLUB \"B\"'!CI14)*3)))","v":0}]

{"sheet":"NAGS HEAD \"A\"","index":8,"n_rows":42,"n_cols":101,"rows_kept":42,"cut":false,"hidden":false,"merged":[[0,1,0,4],[0,5,0,8],[0,9,0,12],[0,13,0,16],[0,17,0,20],[0,21,0,24],[0,25,0,28],[0,61,0,64],[0,33,0,36],[0,37,0,40],[0,41,0,44],[0,29,0,32],[0,45,0,48],[0,49,0,52],[0,53,0,56],[0,57,0,60],[0,77,0,80],[0,81,0,84],[0,85,0,88],[0,65,0,68],[0,69,0,72],[0,73,0,76]]}
["NAGS HEAD \"A\"","WEEK 1",null,null,null,"WEEK 2",null,null,null,"WEEK 3",null,null,null,"WEEK 4",null,null,null,"WEEK 5",null,null,null,"WEEK 6",null,null,null,"WEEK 7",null,null,null,"WEEK 8",null,null,null,"WEEK 9",null,null,null,"WEEK 10",null,null,null,"WEEK 11",null,null,null,"WEEK 12",null,null,null,"WEEK 13",null,null,null,"WEEK 14",null,null,null,"WEEK 15",null,null,null,"WEEK 16",null,null,null,"WEEK 17",null,null,null,"WEEK 18",null,null,null,"WEEK 19",null,null,null,"WEEK 20",null,null,null,"WEEK 21",null,null,null,"WEEK 22"]
[null,"PS","DT","100 +","180's","PS","DT","100 +","180's","PS","DT","100 +","180's","PS","DT","100 +","180's","PS","DT","100 +","180's","PS","DT","100 +","180's","PS","DT","100 +","180's","PS","DT","100 +","180's","PS","DT","100 +","180's","PS","DT","100 +","180's","PS","DT","100 +","180's","PS","DT","100 +","180's","PS","DT","100 +","180's","PS","DT","100 +","180's","PS","DT","100 +","180's","PS","DT","100 +","180's","PS","DT","100 +","180's","PS","DT","100 +","180's","PS","DT","100 +","180's","PS","DT","100 +","180's","PS","DT","100 +","180's","PS","DT","100 +","180's","GP","GW","TP","TD","AVG","AVG D/G","T100+","AVG 100+/G","T180's","T<30","Least Darts","Most Darts"]
["Steve Blewitt",701,41,5,null,701,39,2,null,427,27,2,null,null,null,null,null,null,null,null,null,701,43,3,null,701,41,4,null,701,32,5,null,701,33,3,null,701,28,3,1,701,32,3,null,495,33,3,null,701,33,4,1,null,null,null,null,701,27,2,null,701,35,2,null,701,41,2,null,691,30,4,null,null,null,null,null,null,null,null,null,null,null,null,null,null,null,null,null,{"$f":"SUM(B17+F17+J17+N17+R17+V17+Z17+AD17+AH17+AL17+AP17+AT17+AX17+BB17+BF17+BJ17+BN17+BR17+BV17+BZ17+CD17+CH17)","v":15},{"$f":"SUM(B29+F29+J29+N29+R29+V29+Z29+AD29+AH29+AL29+AP29+AT29+AX29+BB29+BF29+BJ29+BN29+BR29+BV29+BZ29+CD29+CH29)","v":12},{"$f":"SUM(B3+F3+J3+N3+R3+V3+Z3+AD3+AH3+AL3+AP3+AT3+AX3+BB3+BF3+BJ3+BN3+BR3+BV3+BZ3+CD3+CH3)","v":10025},{"$f":"SUM(C3+G3+K3+O3+S3+W3+AA3+AE3+AI3+AM3+AQ3+AU3+AY3+BC3+BG3+BK3+BO3+BS3+BW3+CA3+CE3+CI3)","v":515},{"$f":"IF(CN3=0,0,(SUM(CN3/CO3)*3))","v":58.398058252427184},{"$f":"IF(CL3=0,0,SUM(CO3/CL3))","v":34.333333333333336},{"$f":"SUM(D3+H3+L3+P3+T3+X3+AB3+AF3+AJ3+AN3+AR3+AV3+AZ3+BD3+BH3+BL3+BP3+BT3+BX3+CB3+CF3+CJ3)","v":47},{"$f":"IF(CL3=0,0,(SUM(CR3/CL3)))","v":3.1333333333333333},{"$f":"SUM(E3+I3+M3+Q3+U3+Y3+AC3+AG3+AK3+AO3+AS3+AW3+BA3+BE3+BI3+BM3+BQ3+BU3+BY3+CC3+CG3+CK3)","v":2},{"$f":"SUM(E17+I17+M17+Q17+U17+Y17+AC17+AG17+AK17+AO17+AS17+AW17+BA17+BE17+BI17+BM17+BQ17+BU17+BY17+CC17+CG17+CK17)","v":2},{"$f":"MIN(C29,G29,K29,O29,S29,W29,AA29,AE29,AI29,AM29,AQ29,AU29,AY29,BC29,BG29,BK29,BO29,BS29,BW29,CA29,CE29,CI29)","v":27},{"$f":"MAX($C29,$G29,$K29,$O29,$S29,$W29,$AA29,$AE29,$AI29,$AM29,$AQ29,$AU29,$AY29,$BC29,$BG29,$BK29,$BO29,$BS29,$BW29,$CA29,$CE29,$CI29)","v":43}]
["Sean Kendrew",701,37,4,null,701,33,2,null,701,29,2,null,701,24,5,null,null,null,null,null,701,33,5,null,701,31,3,null,701,33,5,null,701,33,6,null,701,39,null,null,701,29,4,null,701,38,2,null,701,28,7,null,null,null,null,null,681,33,3,null,701,34,5,null,701,35,3,null,701,38,3,null,null,null,null,null,null,null,null,null,null,null,null,null,null,null,null,null,{"$f":"SUM(B18+F18+J18+N18+R18+V18+Z18+AD18+AH18+AL18+AP18+AT18+AX18+BB18+BF18+BJ18+BN18+BR18+BV18+BZ18+CD18+CH18)","v":16},{"$f":"SUM(B30+F30+J30+N30+R30+V30+Z30+AD30+AH30+AL30+AP30+AT30+AX30+BB30+BF30+BJ30+BN30+BR30+BV30+BZ30+CD30+CH30)","v":15},{"$f":"SUM(B4+F4+J4+N4+R4+V4+Z4+AD4+AH4+AL4+AP4+AT4+AX4+BB4+BF4+BJ4+BN4+BR4+BV4+BZ4+CD4+CH4)","v":11196},{"$f":"SUM(C4+G4+K4+O4+S4+W4+AA4+AE4+AI4+AM4+AQ4+AU4+AY4+BC4+BG4+BK4+BO4+BS4+BW4+CA4+CE4+CI4)","v":527},{"$f":"IF(CN4=0,0,(SUM(CN4/CO4)*3))","v":63.734345351043643},32.9375,{"$f":"SUM(D4+H4+L4+P4+T4+X4+AB4+AF4+AJ4+AN4+AR4+AV4+AZ4+BD4+BH4+BL4+BP4+BT4+BX4+CB4+CF4+CJ4)","v":59},{"$f":"IF(CL4=0,0,(SUM(CR4/CL4)))","v":3.6875},{"$f":"SUM(E4+I4+M4+Q4+U4+Y4+AC4+AG4+AK4+AO4+AS4+AW4+BA4+BE4+BI4+BM4+BQ4+BU4+BY4+CC4+CG4+CK4)","v":0},{"$f":"SUM(E18+I18+M18+Q18+U18+Y18+AC18+AG18+AK18+AO18+AS18+AW18+BA18+BE18+BI18+BM18+BQ18+BU18+BY18+CC18+CG18+CK18)","v":4},{"$f":"MIN(C30,G30,K30,O30,S30,W30,AA30,AE30,AI30,AM30,AQ30,AU30,AY30,BC30,BG30,BK30,BO30,BS30,BW30,CA30,CE30,CI30)","v":24},39]
["Steve Truman",null,null,null,null,701,30,4,null,662,36,1,null,699,57,2,null,null,null,null,null,701,56,2,null,null,null,2,null,701,35,4,null,701,37,3,null,701,34,5,null,701,36,2,null,619,33,2,null,701,35,1,null,null,null,null,null,701,39,2,null,701,36,4,null,701,31,5,null,597,33,1,null,null,null,null,null,null,null,null,null,null,null,null,null,null,null,null,null,14,10,9587,528,54.471590909090907,37.714285714285715,40,2.8571428571428572,0,1,30,56]
["Al Spence",null,null,null,null,null,null,1,null,699,60,1,null,429,30,1,null,null,null,null,null,null,null,1,null,701,55,1,null,null,null,1,null,661,36,1,null,701,42,1,null,701,35,2,null,701,32,4,null,701,51,2,null,null,null,null,null,693,48,1,null,701,40,2,null,null,null,null,null,null,null,3,null,null,null,null,null,null,null,null,null,null,null,null,null,null,null,null,null,10,6,6688,429,46.769230769230766,42.9,22,2.2000000000000002,0,0,32,55]
["Al Whelan",701,48,4,null,673,33,null,null,null,null,null,null,699,51,1,null,null,null,null,null,620,42,1,null,701,41,4,null,498,36,null,null,null,null,null,null,701,36,2,null,701,41,1,null,696,48,2,null,701,42,2,null,null,null,null,null,701,37,null,null,701,42,2,null,701,35,3,null,701,34,5,null,null,null,null,null,null,null,null,null,null,null,null,null,null,null,null,null,14,9,9495,566,50.326855123674903,40.428571428571431,27,1.9285714285714286,0,0,34,48]
["Dave Atkinson",701,37,5,1,701,46,3,null,701,29,4,null,463,24,4,null,null,null,null,null,693,39,2,null,701,26,4,null,701,29,null,null,701,32,3,null,701,35,2,null,701,29,4,null,521,36,2,null,null,null,null,null,null,null,null,null,701,35,2,null,701,43,2,null,701,41,1,null,701,46,null,null,null,null,null,null,null,null,null,null,null,null,null,null,null,null,null,null,15,12,10089,527,57.4326375711575,35.133333333333333,38,2.5333333333333332,1,4,26,46]
["Greg Tozier",503,48,null,null,null,null,null,null,null,null,null,null,null,null,null,null,null,null,null,null,null,null,null,null,null,null,null,null,null,null,null,null,null,null,null,null,null,null,null,null,null,null,null,null,null,null,null,null,null,null,null,null,null,null,null,null,null,null,null,null,null,null,null,null,null,null,null,null,null,null,null,null,null,null,null,null,null,null,null,null,null,null,null,null,null,null,null,null,1,0,503,48,31.4375,48,0,0,0,0,0,0]
["Col Lagan",641,42,1,null,681,39,1,null,589,33,4,null,409,24,null,null,null,null,null,null,623,36,1,null,701,32,3,null,701,37,null,null,645,33,2,null,null,null,null,null,null,null,null,null,null,null,null,null,null,null,null,null,null,null,null,null,null,null,null,null,null,null,null,null,701,53,1,null,null,null,null,null,null,null,null,null,null,null,null,null,null,null,null,null,null,null,null,null,9,3,5691,329,51.893617021276597,36.555555555555557,13,1.4444444444444444,0,0,32,53]
["Kireon Timmons",null,null,null,null,null,null,null,null,null,null,null,null,null,null,null,null,null,null,null,null,null,null,null,null,null,null,null,null,null,null,1,null,null,null,null,null,null,null,null,null,null,null,2,null,null,null,2,null,701,40,1,null,null,null,null,null,null,null,null,null,null,null,null,null,null,null,1,null,593,36,null,null,null,null,null,null,null,null,null,null,null,null,null,null,null,null,null,null,2,1,1294,76,51.078947368421055,38,7,3.5,0,0,40,40]
[null,null,null,null,null,null,null,null,null,null,null,null,null,null,null,null,null,null,null,null,null,null,null,null,null,null,null,null,null,null,null,null,null,null,null,null,null,null,null,null,null,null,null,null,null,null,null,null,null,null,null,null,null,null,null,null,null,null,null,null,null,null,null,null,null,null,null,null,null,null,null,null,null,null,null,null,null,null,null,null,null,null,null,null,null,null,null,null,null,0,0,0,0,0,0,0,0,0,0,0,0]
[null,null,null,null,null,null,null,null,null,null,null,null,null,null,null,null,null,null,null,null,null,null,null,null,null,null,null,null,null,null,null,null,null,null,null,null,null,null,null,null,null,null,null,null,null,null,null,null,null,null,null,null,null,null,null,null,null,null,null,null,null,null,null,null,null,null,null,null,null,null,null,null,null,null,null,null,null,null,null,null,null,null,null,null,null,null,null,null,null,0,0,0,0,0,0,0,0,0,0,0,0]
[null,null,null,null,null,null,null,null,null,null,null,null,null,null,null,null,null,null,null,null,null,null,null,null,null,null,null,null,null,null,null,null,null,null,null,null,null,null,null,null,null,null,null,null,null,null,null,null,null,null,null,null,null,null,null,null,null,null,null,null,null,null,null,null,null,null,null,null,null,null,null,null,null,null,null,null,null,null,null,null,null,null,null,null,null,null,null,null,null,0,0,0,0,{"$f":"IF(CN14=0,0,(SUM(CN14/CO14)*3))","v":0},{"$f":"IF(CL14=0,0,SUM(CO14/CL14))","v":0},0,0,0,0,0,0]
[]
[]
[null,{"$f":"IF(B3<>\"\",1,0)","v":1},{"$f":"IF(C3<=30,1,0)","v":0},{"$f":"IF(C3=0,1,0)","v":0},{"$f":"IF(B29=1,(SUM(C17-D17)),0)","v":0},{"$f":"IF(F3<>\"\",1,0)","v":1},{"$f":"IF(G3<=30,1,0)","v":0},{"$f":"IF(G3=0,1,0)","v":0},{"$f":"IF(F29=1,(SUM(G17-H17)),0)","v":0},{"$f":"IF(J3<>\"\",1,0)","v":1},{"$f":"IF(K3<=30,1,0)","v":1},{"$f":"IF(K3=0,1,0)","v":0},{"$f":"IF(J29=1,(SUM(K17-L17)),0)","v":0},{"$f":"IF(N3<>\"\",1,0)","v":0},{"$f":"IF(O3<=30,1,0)","v":1},{"$f":"IF(O3=0,1,0)","v":1},{"$f":"IF(N29=1,(SUM(O17-P17)),0)","v":0},{"$f":"IF(R3<>\"\",1,0)","v":0},{"$f":"IF(S3<=30,1,0)","v":1},{"$f":"IF(S3=0,1,0)","v":1},{"$f":"IF(R29=1,(SUM(S17-T17)),0)","v":0},{"$f":"IF(V3<>\"\",1,0)","v":1},{"$f":"IF(W3<=30,1,0)","v":0},{"$f":"IF(W3=0,1,0)","v":0},{"$f":"IF(V29=1,(SUM(W17-X17)),0)","v":0},{"$f":"IF(Z3<>\"\",1,0)","v":1},{"$f":"IF(AA3<=30,1,0)","v":0},{"$f":"IF(AA3=0,1,0)","v":0},{"$f":"IF(Z29=1,(SUM(AA17-AB17)),0)","v":0},{"$f":"IF(AD3<>\"\",1,0)","v":1},{"$f":"IF(AE3<=30,1,0)","v":0},{"$f":"IF(AE3=0,1,0)","v":0},{"$f":"IF(AD29=1,(SUM(AE17-AF17)),0)","v":0},{"$f":"IF(AH3<>\"\",1,0)","v":1},{"$f":"IF(AI3<=30,1,0)","v":0},{"$f":"IF(AI3=0,1,0)","v":0},{"$f":"IF(AH29=1,(SUM(AI17-AJ17)),0)","v":0},{"$f":"IF(AL3<>\"\",1,0)","v":1},{"$f":"IF(AM3<=30,1,0)","v":1},{"$f":"IF(AM3=0,1,0)","v":0},{"$f":"IF(AL29=1,(SUM(AM17-AN17)),0)","v":1},{"$f":"IF(AP3<>\"\",1,0)","v":1},{"$f":"IF(AQ3<=30,1,0)","v":0},{"$f":"IF(AQ3=0,1,0)","v":0},{"$f":"IF(AP29=1,(SUM(AQ17-AR17)),0)","v":0},{"$f":"IF(AT3<>\"\",1,0)","v":1},{"$f":"IF(AU3<=30,1,0)","v":0},{"$f":"IF(AU3=0,1,0)","v":0},{"$f":"IF(AT29=1,(SUM(AU17-AV17)),0)","v":0},{"$f":"IF(AX3<>\"\",1,0)","v":1},{"$f":"IF(AY3<=30,1,0)","v":0},{"$f":"IF(AY3=0,1,0)","v":0},{"$f":"IF(AX29=1,(SUM(AY17-AZ17)),0)","v":0},{"$f":"IF(BB3<>\"\",1,0)","v":0},{"$f":"IF(BC3<=30,1,0)","v":1},{"$f":"IF(BC3=0,1,0)","v":1},{"$f":"IF(BB29=1,(SUM(BC17-BD17)),0)","v":0},{"$f":"IF(BF3<>\"\",1,0)","v":1},{"$f":"IF(BG3<=30,1,0)","v":1},{"$f":"IF(BG3=0,1,0)","v":0},{"$f":"IF(BF29=1,(SUM(BG17-BH17)),0)","v":1},{"$f":"IF(BJ3<>\"\",1,0)","v":1},{"$f":"IF(BK3<=30,1,0)","v":0},{"$f":"IF(BK3=0,1,0)","v":0},{"$f":"IF(BJ29=1,(SUM(BK17-BL17)),0)","v":0},{"$f":"IF(BN3<>\"\",1,0)","v":1},{"$f":"IF(BO3<=30,1,0)","v":0},{"$f":"IF(BO3=0,1,0)","v":0},{"$f":"IF(BN29=1,(SUM(BO17-BP17)),0)","v":0},{"$f":"IF(BR3<>\"\",1,0)","v":1},{"$f":"IF(BS3<=30,1,0)","v":1},{"$f":"IF(BS3=0,1,0)","v":0},{"$f":"IF(BR29=1,(SUM(BS17-BT17)),0)","v":0},{"$f":"IF(BV3<>\"\",1,0)","v":0},{"$f":"IF(BW3<=30,1,0)","v":1},{"$f":"IF(BW3=0,1,0)","v":1},{"$f":"IF(BV29=1,(SUM(BW17-BX17)),0)","v":0},{"$f":"IF(BZ3<>\"\",1,0)","v":0},{"$f":"IF(CA3<=30,1,0)","v":1},{"$f":"IF(CA3=0,1,0)","v":1},{"$f":"IF(BZ29=1,(SUM(CA17-CB17)),0)","v":0},{"$f":"IF(CD3<>\"\",1,0)","v":0},{"$f":"IF(CE3<=30,1,0)","v":1},{"$f":"IF(CE3=0,1,0)","v":1},{"$f":"IF(CD29=1,(SUM(CE17-CF17)),0)","v":0},{"$f":"IF(CH3<>\"\",1,0)","v":0},{"$f":"IF(CI3<=30,1,0)","v":1},{"$f":"IF(CI3=0,1,0)","v":1},{"$f":"IF(CH29=1,(SUM(CI17-CJ17)),0)","v":0}]
[null,1,{"$f":"IF(C4<=30,1,0)","v":0},{"$f":"IF(C4=0,1,0)","v":0},{"$f":"IF(B30=1,(SUM(C18-D18)),0)","v":0},1,{"$f":"IF(G4<=30,1,0)","v":0},{"$f":"IF(G4=0,1,0)","v":0},{"$f":"IF(F30=1,(SUM(G18-H18)),0)","v":0},1,{"$f":"IF(K4<=30,1,0)","v":1},{"$f":"IF(K4=0,1,0)","v":0},{"$f":"IF(J30=1,(SUM(K18-L18)),0)","v":1},1,{"$f":"IF(O4<=30,1,0)","v":1},{"$f":"IF(O4=0,1,0)","v":0},{"$f":"IF(N30=1,(SUM(O18-P18)),0)","v":1},0,{"$f":"IF(S4<=30,1,0)","v":1},{"$f":"IF(S4=0,1,0)","v":1},{"$f":"IF(R30=1,(SUM(S18-T18)),0)","v":0},1,{"$f":"IF(W4<=30,1,0)","v":0},{"$f":"IF(W4=0,1,0)","v":0},{"$f":"IF(V30=1,(SUM(W18-X18)),0)","v":0},1,{"$f":"IF(AA4<=30,1,0)","v":0},{"$f":"IF(AA4=0,1,0)","v":0},{"$f":"IF(Z30=1,(SUM(AA18-AB18)),0)","v":0},1,{"$f":"IF(AE4<=30,1,0)","v":0},{"$f":"IF(AE4=0,1,0)","v":0},{"$f":"IF(AD30=1,(SUM(AE18-AF18)),0)","v":0},1,{"$f":"IF(AI4<=30,1,0)","v":0},{"$f":"IF(AI4=0,1,0)","v":0},{"$f":"IF(AH30=1,(SUM(AI18-AJ18)),0)","v":0},1,{"$f":"IF(AM4<=30,1,0)","v":0},{"$f":"IF(AM4=0,1,0)","v":0},{"$f":"IF(AL30=1,(SUM(AM18-AN18)),0)","v":0},1,{"$f":"IF(AQ4<=30,1,0)","v":1},{"$f":"IF(AQ4=0,1,0)","v":0},{"$f":"IF(AP30=1,(SUM(AQ18-AR18)),0)","v":1},1,{"$f":"IF(AU4<=30,1,0)","v":0},{"$f":"IF(AU4=0,1,0)","v":0},{"$f":"IF(AT30=1,(SUM(AU18-AV18)),0)","v":0},1,{"$f":"IF(AY4<=30,1,0)","v":1},{"$f":"IF(AY4=0,1,0)","v":0},{"$f":"IF(AX30=1,(SUM(AY18-AZ18)),0)","v":1},0,{"$f":"IF(BC4<=30,1,0)","v":1},{"$f":"IF(BC4=0,1,0)","v":1},{"$f":"IF(BB30=1,(SUM(BC18-BD18)),0)","v":0},1,{"$f":"IF(BG4<=30,1,0)","v":0},{"$f":"IF(BG4=0,1,0)","v":0},{"$f":"IF(BF30=1,(SUM(BG18-BH18)),0)","v":0},1,{"$f":"IF(BK4<=30,1,0)","v":0},{"$f":"IF(BK4=0,1,0)","v":0},{"$f":"IF(BJ30=1,(SUM(BK18-BL18)),0)","v":0},1,{"$f":"IF(BO4<=30,1,0)","v":0},{"$f":"IF(BO4=0,1,0)","v":0},{"$f":"IF(BN30=1,(SUM(BO18-BP18)),0)","v":0},1,{"$f":"IF(BS4<=30,1,0)","v":0},{"$f":"IF(BS4=0,1,0)","v":0},{"$f":"IF(BR30=1,(SUM(BS18-BT18)),0)","v":0},0,{"$f":"IF(BW4<=30,1,0)","v":1},{"$f":"IF(BW4=0,1,0)","v":1},{"$f":"IF(BV30=1,(SUM(BW18-BX18)),0)","v":0},0,{"$f":"IF(CA4<=30,1,0)","v":1},{"$f":"IF(CA4=0,1,0)","v":1},{"$f":"IF(BZ30=1,(SUM(CA18-CB18)),0)","v":0},0,{"$f":"IF(CE4<=30,1,0)","v":1},{"$f":"IF(CE4=0,1,0)","v":1},{"$f":"IF(CD30=1,(SUM(CE18-CF18)),0)","v":0},0,{"$f":"IF(CI4<=30,1,0)","v":1},{"$f":"IF(CI4=0,1,0)","v":1},{"$f":"IF(CH30=1,(SUM(CI18-CJ18)),0)","v":0}]
[null,0,1,1,0,1,1,0,1,1,0,0,0,1,0,0,0,0,1,1,0,1,0,0,0,0,1,1,0,1,0,0,0,1,0,0,0,1,0,0,0,1,0,0,0,1,0,0,0,1,0,0,0,0,1,1,0,1,0,0,0,1,0,0,0,1,0,0,0,1,0,0,0,0,1,1,0,0,1,1,0,0,1,1,0,0,1,1,0]
[null,0,1,1,0,0,1,1,0,1,0,0,0,1,1,0,0,0,1,1,0,0,1,1,0,1,0,0,0,0,1,1,0,1,0,0,0,1,0,0,0,1,0,0,0,1,0,0,0,1,0,0,0,0,1,1,0,1,0,0,0,1,0,0,0,0,1,1,0,0,1,1,0,0,1,1,0,0,1,1,0,0,1,1,0,0,1,1,0]
[null,1,0,0,0,1,0,0,0,0,1,1,0,1,0,0,0,0,1,1,0,1,0,0,0,1,0,0,0,1,0,0,0,0,1,1,0,1,0,0,0,1,0,0,0,1,0,0,0,1,0,0,0,0,1,1,0,1,0,0,0,1,0,0,0,1,0,0,0,1,0,0,0,0,1,1,0,0,1,1,0,0,1,1,0,0,1,1,0]
[null,1,0,0,0,1,0,0,0,1,1,0,1,1,1,0,0,0,1,1,0,1,0,0,0,1,1,0,1,1,1,0,1,1,0,0,0,1,0,0,0,1,1,0,1,1,0,0,0,0,1,1,0,0,1,1,0,1,0,0,0,1,0,0,0,1,0,0,0,1,0,0,0,0,1,1,0,0,1,1,0,0,1,1,0,0,1,1,0]
[null,1,0,0,0,0,1,1,0,0,1,1,0,0,1,1,0,0,1,1,0,0,1,1,0,0,1,1,0,0,1,1,0,0,1,1,0,0,1,1,0,0,1,1,0,0,1,1,0,0,1,1,0,0,1,1,0,0,1,1,0,0,1,1,0,0,1,1,0,0,1,1,0,0,1,1,0,0,1,1,0,0,1,1,0,0,1,1,0]
[null,1,0,0,0,1,0,0,0,1,0,0,0,1,1,0,0,0,1,1,0,1,0,0,0,1,0,0,0,1,0,0,0,1,0,0,0,0,1,1,0,0,1,1,0,0,1,1,0,0,1,1,0,0,1,1,0,0,1,1,0,0,1,1,0,1,0,0,0,0,1,1,0,0,1,1,0,0,1,1,0,0,1,1,0,0,1,1,0]
[null,0,1,1,0,0,1,1,0,0,1,1,0,0,1,1,0,0,1,1,0,0,1,1,0,0,1,1,0,0,1,1,0,0,1,1,0,0,1,1,0,0,1,1,0,0,1,1,0,1,0,0,0,0,1,1,0,0,1,1,0,0,1,1,0,0,1,1,0,1,0,0,0,0,1,1,0,0,1,1,0,0,1,1,0,0,1,1,0]
[null,0,1,1,0,0,1,1,0,0,1,1,0,0,1,1,0,0,1,1,0,0,1,1,0,0,1,1,0,0,1,1,0,0,1,1,0,0,1,1,0,0,1,1,0,0,1,1,0,0,1,1,0,0,1,1,0,0,1,1,0,0,1,1,0,0,1,1,0,0,1,1,0,0,1,1,0,0,1,1,0,0,1,1,0,0,1,1,0]
[null,0,1,1,0,0,1,1,0,0,1,1,0,0,1,1,0,0,1,1,0,0,1,1,0,0,1,1,0,0,1,1,0,0,1,1,0,0,1,1,0,0,1,1,0,0,1,1,0,0,1,1,0,0,1,1,0,0,1,1,0,0,1,1,0,0,1,1,0,0,1,1,0,0,1,1,0,0,1,1,0,0,1,1,0,0,1,1,0]
[null,0,1,1,0,0,1,1,0,0,1,1,0,0,1,1,0,0,1,1,0,0,1,1,0,0,1,1,0,0,1,1,0,0,1,1,0,0,1,1,0,0,1,1,0,0,1,1,0,0,1,1,0,0,1,1,0,0,1,1,0,0,1,1,0,0,1,1,0,0,1,1,0,0,1,1,0,0,1,1,0,0,1,1,0,0,1,1,0]
[null,{"$f":"IF(B3=701,1,0)","v":1},{"$f":"IF(B29=1,C3,\"\")","v":41},null,null,{"$f":"IF(F3=701,1,0)","v":1},{"$f":"IF(F29=1,G3,\"\")","v":39},null,null,{"$f":"IF(J3=701,1,0)","v":0},{"$f":"IF(J29=1,K3,\"\")","v":""},null,null,{"$f":"IF(N3=701,1,0)","v":0},{"$f":"IF(N29=1,O3,\"\")","v":""},null,null,{"$f":"IF(R3=701,1,0)","v":0},{"$f":"IF(R29=1,S3,\"\")","v":""},null,null,{"$f":"IF(V3=701,1,0)","v":1},{"$f":"IF(V29=1,W3,\"\")","v":43},null,null,{"$f":"IF(Z3=701,1,0)","v":1},{"$f":"IF(Z29=1,AA3,\"\")","v":41},null,null,{"$f":"IF(AD3=701,1,0)","v":1},{"$f":"IF(AD29=1,AE3,\"\")","v":32},null,null,{"$f":"IF(AH3=701,1,0)","v":1},{"$f":"IF(AH29=1,AI3,\"\")","v":33},null,null,{"$f":"IF(AL3=701,1,0)","v":1},{"$f":"IF(AL29=1,AM3,\"\")","v":28},null,null,{"$f":"IF(AP3=701,1,0)","v":1},{"$f":"IF(AP29=1,AQ3,\"\")","v":32},null,null,{"$f":"IF(AT3=701,1,0)","v":0},{"$f":"IF(AT29=1,AU3,\"\")","v":""},null,null,{"$f":"IF(AX3=701,1,0)","v":1},{"$f":"IF(AX29=1,AY3,\"\")","v":33},null,null,{"$f":"IF(BB3=701,1,0)","v":0},{"$f":"IF(BB29=1,BC3,\"\")","v":""},null,null,{"$f":"IF(BF3=701,1,0)","v":1},{"$f":"IF(BF29=1,BG3,\"\")","v":27},null,null,{"$f":"IF(BJ3=701,1,0)","v":1},{"$f":"IF(BJ29=1,BK3,\"\")","v":35},null,null,{"$f":"IF(BN3=701,1,0)","v":1},{"$f":"IF(BN29=1,BO3,\"\")","v":41},null,null,{"$f":"IF(BR3=701,1,0)","v":0},{"$f":"IF(BR29=1,BS3,\"\")","v":""},null,null,{"$f":"IF(BV3=701,1,0)","v":0},{"$f":"IF(BV29=1,BW3,\"\")","v":""},null,null,{"$f":"IF(BZ3=701,1,0)","v":0},{"$f":"IF(BZ29=1,CA3,\"\")","v":""},null,null,{"$f":"IF(CD3=701,1,0)","v":0},{"$f":"IF(CD29=1,CE3,\"\")","v":""},null,null,{"$f":"IF(CH3=701,1,0)","v":0},{"$f":"IF(CH29=1,CI3,\"\")","v":""}]
[null,{"$f":"IF(B4=701,1,0)","v":1},37,null,null,{"$f":"IF(F4=701,1,0)","v":1},33,null,null,{"$f":"IF(J4=701,1,0)","v":1},29,null,null,{"$f":"IF(N4=701,1,0)","v":1},24,null,null,{"$f":"IF(R4=701,1,0)","v":0},"",null,null,{"$f":"IF(V4=701,1,0)","v":1},33,null,null,{"$f":"IF(Z4=701,1,0)","v":1},31,null,null,{"$f":"IF(AD4=701,1,0)","v":1},33,null,null,{"$f":"IF(AH4=701,1,0)","v":1},33,null,null,{"$f":"IF(AL4=701,1,0)","v":1},39,null,null,{"$f":"IF(AP4=701,1,0)","v":1},29,null,null,{"$f":"IF(AT4=701,1,0)","v":1},38,null,null,{"$f":"IF(AX4=701,1,0)","v":1},28,null,null,{"$f":"IF(BB4=701,1,0)","v":0},"",null,null,{"$f":"IF(BF4=701,1,0)","v":0},"",null,null,{"$f":"IF(BJ4=701,1,0)","v":1},34,null,null,{"$f":"IF(BN4=701,1,0)","v":1},35,null,null,{"$f":"IF(BR4=701,1,0)","v":1},38,null,null,{"$f":"IF(BV4=701,1,0)","v":0},"",null,null,{"$f":"IF(BZ4=701,1,0)","v":0},"",null,null,{"$f":"IF(CD4=701,1,0)","v":0},"",null,null,{"$f":"IF(CH4=701,1,0)","v":0},""]
[null,0,"",null,null,1,30,null,null,0,"",null,null,0,"",null,null,0,"",null,null,1,56,null,null,0,"",null,null,1,35,null,null,1,37,null,null,1,34,null,null,1,36,null,null,0,"",null,null,1,35,null,null,0,"",null,null,1,39,null,null,1,36,null,null,1,31,null,null,0,"",null,null,0,"",null,null,0,"",null,null,0,"",null,null,0,""]
[null,0,"",null,null,0,"",null,null,0,"",null,null,0,"",null,null,0,"",null,null,0,"",null,null,1,55,null,null,0,"",null,null,0,"",null,null,1,42,null,null,1,35,null,null,1,32,null,null,1,51,null,null,0,"",null,null,0,"",null,null,1,40,null,null,0,"",null,null,0,"",null,null,0,"",null,null,0,"",null,null,0,"",null,null,0,""]
[null,1,48,null,null,0,"",null,null,0,"",null,null,0,"",null,null,0,"",null,null,0,"",null,null,1,41,null,null,0,"",null,null,0,"",null,null,1,36,null,null,1,41,null,null,0,"",null,null,1,42,null,null,0,"",null,null,1,37,null,null,1,42,null,null,1,35,null,null,1,34,null,null,0,"",null,null,0,"",null,null,0,"",null,null,0,""]
[null,1,37,null,null,1,46,null,null,1,29,null,null,0,"",null,null,0,"",null,null,0,"",null,null,1,26,null,null,1,29,null,null,1,32,null,null,1,35,null,null,1,29,null,null,0,"",null,null,0,"",null,null,0,"",null,null,1,35,null,null,1,43,null,null,1,41,null,null,1,46,null,null,0,"",null,null,0,"",null,null,0,"",null,null,0,""]
[null,0,"",null,null,0,"",null,null,0,"",null,null,0,"",null,null,0,"",null,null,0,"",null,null,0,"",null,null,0,"",null,null,0,"",null,null,0,"",null,null,0,"",null,null,0,"",null,null,0,"",null,null,0,"",null,null,0,"",null,null,0,"",null,null,0,"",null,null,0,"",null,null,0,"",null,null,0,"",null,null,0,"",null,null,0,""]
[null,0,"",null,null,0,"",null,null,0,"",null,null,0,"",null,null,0,"",null,null,0,"",null,null,1,32,null,null,1,37,null,null,0,"",null,null,0,"",null,null,0,"",null,null,0,"",null,null,0,"",null,null,0,"",null,null,0,"",null,null,0,"",null,null,1,53,null,null,0,"",null,null,0,"",null,null,0,"",null,null,0,"",null,null,0,""]
[null,0,"",null,null,0,"",null,null,0,"",null,null,0,"",null,null,0,"",null,null,0,"",null,null,0,"",null,null,0,"",null,null,0,"",null,null,0,"",null,null,0,"",null,null,0,"",null,null,1,40,null,null,0,"",null,null,0,"",null,null,0,"",null,null,0,"",null,null,0,"",null,null,0,"",null,null,0,"",null,null,0,"",null,null,0,""]
[null,0,"",null,null,0,"",null,null,0,"",null,null,0,"",null,null,0,"",null,null,0,"",null,null,0,"",null,null,0,"",null,null,0,"",null,null,0,"",null,null,0,"",null,null,0,"",null,null,0,"",null,null,0,"",null,null,0,"",null,null,0,"",null,null,0,"",null,null,0,"",null,null,0,"",null,null,0,"",null,null,0,"",null,null,0,""]
[null,0,"",null,null,0,"",null,null,0,"",null,null,0,"",null,null,0,"",null,null,0,"",null,null,0,"",null,null,0,"",null,null,0,"",null,null,0,"",null,null,0,"",null,null,0,"",null,null,0,"",null,null,0,"",null,null,0,"",null,null,0,"",null,null,0,"",null,null,0,"",null,null,0,"",null,null,0,"",null,null,0,"",null,null,0,""]
[null,0,"",null,null,0,"",null,null,0,"",null,null,0,"",null,null,0,"",null,null,0,"",null,null,0,"",null,null,0,"",null,null,0,"",null,null,0,"",null,null,0,"",null,null,0,"",null,null,0,"",null,null,0,"",null,null,0,"",null,null,0,"",null,null,0,"",null,null,0,"",null,null,0,"",null,null,0,"",null,null,0,"",null,null,0,""]
["Singles Won",{"$f":"SUM(B29:B40)","v":4},null,null,null,{"$f":"SUM(F29:F40)","v":4},null,null,null,{"$f":"SUM(J29:J40)","v":2},null,null,null,{"$f":"SUM(N29:N40)","v":1},null,null,null,{"$f":"SUM(R29:R40)","v":0},null,null,null,{"$f":"SUM(V29:V40)","v":3},null,null,null,{"$f":"SUM(Z29:Z40)","v":6},null,null,null,{"$f":"SUM(AD29:AD40)","v":5},null,null,null,{"$f":"SUM(AH29:AH40)","v":4},null,null,null,{"$f":"SUM(AL29:AL40)","v":6},null,null,null,{"$f":"SUM(AP29:AP40)","v":6},null,null,null,{"$f":"SUM(AT29:AT40)","v":2},null,null,null,{"$f":"SUM(AX29:AX40)","v":6},null,null,null,{"$f":"SUM(BB29:BB40)","v":0},null,null,null,{"$f":"SUM(BF29:BF40)","v":4},null,null,null,{"$f":"SUM(BJ29:BJ40)","v":6},null,null,null,{"$f":"SUM(BN29:BN40)","v":6},null,null,null,{"$f":"SUM(BR29:BR40)","v":3},null,null,null,{"$f":"SUM(BV29:BV40)","v":0},null,null,null,{"$f":"SUM(BZ29:BZ40)","v":0},null,null,null,{"$f":"SUM(CD29:CD40)","v":0},null,null,null,{"$f":"SUM(CH29:CH40)","v":0}]
["Pairs Games Won",3,null,null,null,2,null,null,null,2,null,null,null,0,null,null,null,3,null,null,null,2,null,null,null,2,null,null,null,3,null,null,null,3,null,null,null,0,null,null,null,2,null,null,null,2,null,null,null,2,null,null,null,null,null,null,null,2,null,null,null,3,null,null,null,3,null,null,null,2]

{"sheet":"CRICKET CLUB","index":9,"n_rows":42,"n_cols":101,"rows_kept":42,"cut":false,"hidden":false,"merged":[[0,61,0,64],[0,65,0,68],[0,37,0,40],[0,41,0,44],[0,45,0,48],[0,49,0,52],[0,57,0,60],[0,21,0,24],[0,25,0,28],[0,29,0,32],[0,33,0,36],[0,53,0,56],[0,73,0,76],[0,77,0,80],[0,81,0,84],[0,85,0,88],[0,69,0,72],[0,1,0,4],[0,5,0,8],[0,9,0,12],[0,13,0,16],[0,17,0,20]]}
["CRICKET CLUB","WEEK 1",null,null,null,"WEEK 2",null,null,null,"WEEK 3",null,null,null,"WEEK 4",null,null,null,"WEEK 5",null,null,null,"WEEK 6",null,null,null,"WEEK 7",null,null,null,"WEEK 8",null,null,null,"WEEK 9",null,null,null,"WEEK 10",null,null,null,"WEEK 11",null,null,null,"WEEK 12",null,null,null,"WEEK 13",null,null,null,"WEEK 14",null,null,null,"WEEK 15",null,null,null,"WEEK 16",null,null,null,"WEEK 17",null,null,null,"WEEK 18",null,null,null,"WEEK 19",null,null,null,"WEEK 20",null,null,null,"WEEK 21",null,null,null,"WEEK 22"]
[null,"PS","DT","100 +","180's","PS","DT","100 +","180's","PS","DT","100 +","180's","PS","DT","100 +","180's","PS","DT","100 +","180's","PS","DT","100 +","180's","PS","DT","100 +","180's","PS","DT","100 +","180's","PS","DT","100 +","180's","PS","DT","100 +","180's","PS","DT","100 +","180's","PS","DT","100 +","180's","PS","DT","100 +","180's","PS","DT","100 +","180's","PS","DT","100 +","180's","PS","DT","100 +","180's","PS","DT","100 +","180's","PS","DT","100 +","180's","PS","DT","100 +","180's","PS","DT","100 +","180's","PS","DT","100 +","180's","PS","DT","100 +","180's","GP","GW","TP","TD","AVG","AVG D/G","T100+","AVG 100+/G","T180's","T<30","Least Darts","Most Darts"]
["Pete Wilkinson",null,null,null,null,null,null,null,null,null,null,null,null,null,null,null,null,null,null,null,null,null,null,null,null,null,null,null,null,null,null,null,null,null,null,null,null,null,null,null,null,null,null,null,null,null,null,null,null,null,null,null,null,null,null,1,null,null,null,null,null,null,null,null,null,null,null,null,null,null,null,null,null,null,null,null,null,null,null,null,null,null,null,null,null,null,null,null,null,{"$f":"SUM(B17+F17+J17+N17+R17+V17+Z17+AD17+AH17+AL17+AP17+AT17+AX17+BB17+BF17+BJ17+BN17+BR17+BV17+BZ17+CD17+CH17)","v":0},{"$f":"SUM(B29+F29+J29+N29+R29+V29+Z29+AD29+AH29+AL29+AP29+AT29+AX29+BB29+BF29+BJ29+BN29+BR29+BV29+BZ29+CD29+CH29)","v":0},{"$f":"SUM(B3+F3+J3+N3+R3+V3+Z3+AD3+AH3+AL3+AP3+AT3+AX3+BB3+BF3+BJ3+BN3+BR3+BV3+BZ3+CD3+CH3)","v":0},{"$f":"SUM(C3+G3+K3+O3+S3+W3+AA3+AE3+AI3+AM3+AQ3+AU3+AY3+BC3+BG3+BK3+BO3+BS3+BW3+CA3+CE3+CI3)","v":0},{"$f":"IF(CN3=0,0,(SUM(CN3/CO3)*3))","v":0},{"$f":"IF(CL3=0,0,SUM(CO3/CL3))","v":0},{"$f":"SUM(D3+H3+L3+P3+T3+X3+AB3+AF3+AJ3+AN3+AR3+AV3+AZ3+BD3+BH3+BL3+BP3+BT3+BX3+CB3+CF3+CJ3)","v":1},{"$f":"IF(CL3=0,0,(SUM(CR3/CL3)))","v":0},{"$f":"SUM(E3+I3+M3+Q3+U3+Y3+AC3+AG3+AK3+AO3+AS3+AW3+BA3+BE3+BI3+BM3+BQ3+BU3+BY3+CC3+CG3+CK3)","v":0},{"$f":"SUM(E17+I17+M17+Q17+U17+Y17+AC17+AG17+AK17+AO17+AS17+AW17+BA17+BE17+BI17+BM17+BQ17+BU17+BY17+CC17+CG17+CK17)","v":0},{"$f":"MIN(C29,G29,K29,O29,S29,W29,AA29,AE29,AI29,AM29,AQ29,AU29,AY29,BC29,BG29,BK29,BO29,BS29,BW29,CA29,CE29,CI29)","v":0},{"$f":"MAX($C29,$G29,$K29,$O29,$S29,$W29,$AA29,$AE29,$AI29,$AM29,$AQ29,$AU29,$AY29,$BC29,$BG29,$BK29,$BO29,$BS29,$BW29,$CA29,$CE29,$CI29)","v":0}]
["Dan Buxton",701,35,1,null,699,51,1,null,701,46,1,null,null,null,null,null,581,36,null,null,701,51,1,null,701,49,null,null,693,39,1,null,497,30,1,null,641,45,null,null,701,37,1,null,438,30,null,null,null,null,null,null,null,null,null,null,null,null,1,null,701,46,3,null,697,57,2,null,590,37,2,null,null,null,null,null,null,null,null,null,null,null,null,null,null,null,null,null,{"$f":"SUM(B18+F18+J18+N18+R18+V18+Z18+AD18+AH18+AL18+AP18+AT18+AX18+BB18+BF18+BJ18+BN18+BR18+BV18+BZ18+CD18+CH18)","v":14},{"$f":"SUM(B30+F30+J30+N30+R30+V30+Z30+AD30+AH30+AL30+AP30+AT30+AX30+BB30+BF30+BJ30+BN30+BR30+BV30+BZ30+CD30+CH30)","v":6},{"$f":"SUM(B4+F4+J4+N4+R4+V4+Z4+AD4+AH4+AL4+AP4+AT4+AX4+BB4+BF4+BJ4+BN4+BR4+BV4+BZ4+CD4+CH4)","v":9042},{"$f":"SUM(C4+G4+K4+O4+S4+W4+AA4+AE4+AI4+AM4+AQ4+AU4+AY4+BC4+BG4+BK4+BO4+BS4+BW4+CA4+CE4+CI4)","v":589},{"$f":"IF(CN4=0,0,(SUM(CN4/CO4)*3))","v":46.054329371816642},42.071428571428569,{"$f":"SUM(D4+H4+L4+P4+T4+X4+AB4+AF4+AJ4+AN4+AR4+AV4+AZ4+BD4+BH4+BL4+BP4+BT4+BX4+CB4+CF4+CJ4)","v":15},{"$f":"IF(CL4=0,0,(SUM(CR4/CL4)))","v":1.0714285714285714},{"$f":"SUM(E4+I4+M4+Q4+U4+Y4+AC4+AG4+AK4+AO4+AS4+AW4+BA4+BE4+BI4+BM4+BQ4+BU4+BY4+CC4+CG4+CK4)","v":0},{"$f":"SUM(E18+I18+M18+Q18+U18+Y18+AC18+AG18+AK18+AO18+AS18+AW18+BA18+BE18+BI18+BM18+BQ18+BU18+BY18+CC18+CG18+CK18)","v":0},{"$f":"MIN(C30,G30,K30,O30,S30,W30,AA30,AE30,AI30,AM30,AQ30,AU30,AY30,BC30,BG30,BK30,BO30,BS30,BW30,CA30,CE30,CI30)","v":35},51]
["Chris Wayman",null,null,null,null,null,null,null,null,null,null,1,null,null,null,null,null,null,null,null,null,456,42,1,null,701,48,1,null,612,39,1,null,null,null,null,null,null,null,null,null,null,null,null,null,null,null,null,null,null,null,null,null,699,48,null,null,701,39,1,null,null,null,null,null,null,null,null,null,641,48,null,null,null,null,null,null,null,null,null,null,null,null,null,null,null,null,null,null,6,2,3810,264,43.295454545454547,44,5,0.83333333333333337,0,0,39,48]
["Phil Wayman",null,null,null,null,null,null,null,null,null,null,null,null,null,null,null,null,null,null,null,null,null,null,null,null,null,null,null,null,null,null,null,null,null,null,null,null,null,null,null,null,null,null,null,null,null,null,null,null,null,null,null,null,null,null,null,null,null,null,null,null,null,null,null,null,null,null,null,null,null,null,null,null,null,null,null,null,null,null,null,null,null,null,null,null,null,null,null,null,0,0,0,0,0,0,0,0,0,0,0,0]
["Mike Wayman",701,27,5,null,701,41,2,null,null,null,null,null,null,null,null,null,701,25,5,null,null,null,null,null,701,53,null,null,693,45,4,null,613,30,3,null,701,36,1,1,701,29,3,1,697,33,3,null,null,null,null,null,701,34,4,null,701,44,1,null,701,60,1,1,701,37,2,1,null,null,null,null,null,null,null,null,null,null,null,null,null,null,null,null,null,null,null,null,13,10,9013,494,54.734817813765176,38,34,2.6153846153846154,4,3,25,60]
["Chris Garsed",701,33,2,null,701,33,6,null,685,24,6,null,null,null,null,null,701,26,7,null,null,null,null,null,null,null,null,null,701,28,5,null,701,31,4,null,701,19,2,2,701,36,3,null,701,30,6,null,null,null,null,null,701,27,4,1,701,27,2,null,701,26,4,null,701,23,3,1,701,33,5,null,null,null,null,null,null,null,null,null,null,null,null,null,null,null,null,null,14,13,9798,396,74.22727272727272,28.285714285714285,59,4.2142857142857144,4,8,19,36]
["George Webb",701,36,2,null,495,30,1,null,701,38,4,null,null,null,null,null,701,41,3,null,701,38,1,null,701,27,4,null,701,33,1,null,649,36,1,null,701,45,null,null,661,39,5,null,701,37,5,null,null,null,null,null,701,32,2,null,701,32,3,1,701,31,3,null,701,36,3,null,701,32,1,null,null,null,null,null,null,null,null,null,null,null,null,null,null,null,null,null,16,13,10918,563,58.177619893428066,35.1875,39,2.4375,1,1,27,45]
["Bob Berry",null,null,null,null,null,null,null,null,null,null,null,null,null,null,null,null,null,null,null,null,null,null,null,null,null,null,null,null,null,null,null,null,null,null,null,null,null,null,null,null,null,null,null,null,null,null,null,null,null,null,null,null,null,null,null,null,null,null,null,null,null,null,null,null,null,null,null,null,null,null,null,null,null,null,null,null,null,null,null,null,null,null,null,null,null,null,null,null,0,0,0,0,0,0,0,0,0,0,0,0]
["Howard Ward",701,40,5,null,701,33,3,null,701,29,2,null,null,null,null,null,701,41,3,null,639,45,2,null,null,null,null,null,null,null,null,null,null,null,null,null,null,null,null,null,null,null,null,null,null,null,null,null,null,null,null,null,null,null,null,null,null,null,null,null,null,null,null,null,null,null,null,null,null,null,null,null,null,null,null,null,null,null,null,null,null,null,null,null,null,null,null,null,5,4,3443,188,54.941489361702125,37.6,15,3,0,1,29,41]
["Mel Paylor",null,null,null,null,null,null,1,null,334,27,null,null,null,null,null,null,null,null,1,null,691,57,1,null,701,39,1,null,701,51,2,null,609,30,2,null,701,56,null,null,697,48,3,null,701,40,2,null,null,null,null,null,701,42,null,null,701,57,1,null,701,38,1,null,701,31,2,null,554,36,2,null,null,null,null,null,null,null,null,null,null,null,null,null,null,null,null,null,13,8,8493,552,46.157608695652172,42.46153846153846,19,1.4615384615384615,0,0,31,57]
["George Kay",699,54,null,null,681,39,2,null,561,27,1,null,null,null,null,null,687,39,1,null,701,45,1,null,701,34,null,null,null,null,null,null,701,34,3,null,701,44,2,null,669,36,1,null,701,36,2,null,null,null,null,null,701,38,3,null,701,28,6,null,701,37,3,null,701,31,5,null,701,37,1,null,null,null,null,null,null,null,null,null,null,null,null,null,null,null,null,null,15,10,10307,559,55.314847942754923,37.266666666666666,31,2.0666666666666669,0,1,28,45]
["Ben Jack",null,null,null,null,null,null,null,null,null,null,null,null,null,null,null,null,null,null,null,null,null,null,null,null,null,null,null,null,null,null,null,null,null,null,null,null,null,null,null,null,null,null,null,null,null,null,null,null,null,null,null,null,null,null,null,null,null,null,null,null,null,null,null,null,null,null,null,null,null,null,null,null,null,null,null,null,null,null,null,null,null,null,null,null,null,null,null,null,0,0,0,0,{"$f":"IF(CN14=0,0,(SUM(CN14/CO14)*3))","v":0},{"$f":"IF(CL14=0,0,SUM(CO14/CL14))","v":0},0,0,0,0,0,0]
[]
[]
[null,{"$f":"IF(B3<>\"\",1,0)","v":0},{"$f":"IF(C3<=30,1,0)","v":1},{"$f":"IF(C3=0,1,0)","v":1},{"$f":"IF(B29=1,(SUM(C17-D17)),0)","v":0},{"$f":"IF(F3<>\"\",1,0)","v":0},{"$f":"IF(G3<=30,1,0)","v":1},{"$f":"IF(G3=0,1,0)","v":1},{"$f":"IF(F29=1,(SUM(G17-H17)),0)","v":0},{"$f":"IF(J3<>\"\",1,0)","v":0},{"$f":"IF(K3<=30,1,0)","v":1},{"$f":"IF(K3=0,1,0)","v":1},{"$f":"IF(J29=1,(SUM(K17-L17)),0)","v":0},{"$f":"IF(N3<>\"\",1,0)","v":0},{"$f":"IF(O3<=30,1,0)","v":1},{"$f":"IF(O3=0,1,0)","v":1},{"$f":"IF(N29=1,(SUM(O17-P17)),0)","v":0},{"$f":"IF(R3<>\"\",1,0)","v":0},{"$f":"IF(S3<=30,1,0)","v":1},{"$f":"IF(S3=0,1,0)","v":1},{"$f":"IF(R29=1,(SUM(S17-T17)),0)","v":0},{"$f":"IF(V3<>\"\",1,0)","v":0},{"$f":"IF(W3<=30,1,0)","v":1},{"$f":"IF(W3=0,1,0)","v":1},{"$f":"IF(V29=1,(SUM(W17-X17)),0)","v":0},{"$f":"IF(Z3<>\"\",1,0)","v":0},{"$f":"IF(AA3<=30,1,0)","v":1},{"$f":"IF(AA3=0,1,0)","v":1},{"$f":"IF(Z29=1,(SUM(AA17-AB17)),0)","v":0},{"$f":"IF(AD3<>\"\",1,0)","v":0},{"$f":"IF(AE3<=30,1,0)","v":1},{"$f":"IF(AE3=0,1,0)","v":1},{"$f":"IF(AD29=1,(SUM(AE17-AF17)),0)","v":0},{"$f":"IF(AH3<>\"\",1,0)","v":0},{"$f":"IF(AI3<=30,1,0)","v":1},{"$f":"IF(AI3=0,1,0)","v":1},{"$f":"IF(AH29=1,(SUM(AI17-AJ17)),0)","v":0},{"$f":"IF(AL3<>\"\",1,0)","v":0},{"$f":"IF(AM3<=30,1,0)","v":1},{"$f":"IF(AM3=0,1,0)","v":1},{"$f":"IF(AL29=1,(SUM(AM17-AN17)),0)","v":0},{"$f":"IF(AP3<>\"\",1,0)","v":0},{"$f":"IF(AQ3<=30,1,0)","v":1},{"$f":"IF(AQ3=0,1,0)","v":1},{"$f":"IF(AP29=1,(SUM(AQ17-AR17)),0)","v":0},{"$f":"IF(AT3<>\"\",1,0)","v":0},{"$f":"IF(AU3<=30,1,0)","v":1},{"$f":"IF(AU3=0,1,0)","v":1},{"$f":"IF(AT29=1,(SUM(AU17-AV17)),0)","v":0},{"$f":"IF(AX3<>\"\",1,0)","v":0},{"$f":"IF(AY3<=30,1,0)","v":1},{"$f":"IF(AY3=0,1,0)","v":1},{"$f":"IF(AX29=1,(SUM(AY17-AZ17)),0)","v":0},{"$f":"IF(BB3<>\"\",1,0)","v":0},{"$f":"IF(BC3<=30,1,0)","v":1},{"$f":"IF(BC3=0,1,0)","v":1},{"$f":"IF(BB29=1,(SUM(BC17-BD17)),0)","v":0},{"$f":"IF(BF3<>\"\",1,0)","v":0},{"$f":"IF(BG3<=30,1,0)","v":1},{"$f":"IF(BG3=0,1,0)","v":1},{"$f":"IF(BF29=1,(SUM(BG17-BH17)),0)","v":0},{"$f":"IF(BJ3<>\"\",1,0)","v":0},{"$f":"IF(BK3<=30,1,0)","v":1},{"$f":"IF(BK3=0,1,0)","v":1},{"$f":"IF(BJ29=1,(SUM(BK17-BL17)),0)","v":0},{"$f":"IF(BN3<>\"\",1,0)","v":0},{"$f":"IF(BO3<=30,1,0)","v":1},{"$f":"IF(BO3=0,1,0)","v":1},{"$f":"IF(BN29=1,(SUM(BO17-BP17)),0)","v":0},{"$f":"IF(BR3<>\"\",1,0)","v":0},{"$f":"IF(BS3<=30,1,0)","v":1},{"$f":"IF(BS3=0,1,0)","v":1},{"$f":"IF(BR29=1,(SUM(BS17-BT17)),0)","v":0},{"$f":"IF(BV3<>\"\",1,0)","v":0},{"$f":"IF(BW3<=30,1,0)","v":1},{"$f":"IF(BW3=0,1,0)","v":1},{"$f":"IF(BV29=1,(SUM(BW17-BX17)),0)","v":0},{"$f":"IF(BZ3<>\"\",1,0)","v":0},{"$f":"IF(CA3<=30,1,0)","v":1},{"$f":"IF(CA3=0,1,0)","v":1},{"$f":"IF(BZ29=1,(SUM(CA17-CB17)),0)","v":0},{"$f":"IF(CD3<>\"\",1,0)","v":0},{"$f":"IF(CE3<=30,1,0)","v":1},{"$f":"IF(CE3=0,1,0)","v":1},{"$f":"IF(CD29=1,(SUM(CE17-CF17)),0)","v":0},{"$f":"IF(CH3<>\"\",1,0)","v":0},{"$f":"IF(CI3<=30,1,0)","v":1},{"$f":"IF(CI3=0,1,0)","v":1},{"$f":"IF(CH29=1,(SUM(CI17-CJ17)),0)","v":0}]
[null,1,{"$f":"IF(C4<=30,1,0)","v":0},{"$f":"IF(C4=0,1,0)","v":0},{"$f":"IF(B30=1,(SUM(C18-D18)),0)","v":0},1,{"$f":"IF(G4<=30,1,0)","v":0},{"$f":"IF(G4=0,1,0)","v":0},{"$f":"IF(F30=1,(SUM(G18-H18)),0)","v":0},1,{"$f":"IF(K4<=30,1,0)","v":0},{"$f":"IF(K4=0,1,0)","v":0},{"$f":"IF(J30=1,(SUM(K18-L18)),0)","v":0},0,{"$f":"IF(O4<=30,1,0)","v":1},{"$f":"IF(O4=0,1,0)","v":1},{"$f":"IF(N30=1,(SUM(O18-P18)),0)","v":0},1,{"$f":"IF(S4<=30,1,0)","v":0},{"$f":"IF(S4=0,1,0)","v":0},{"$f":"IF(R30=1,(SUM(S18-T18)),0)","v":0},1,{"$f":"IF(W4<=30,1,0)","v":0},{"$f":"IF(W4=0,1,0)","v":0},{"$f":"IF(V30=1,(SUM(W18-X18)),0)","v":0},1,{"$f":"IF(AA4<=30,1,0)","v":0},{"$f":"IF(AA4=0,1,0)","v":0},{"$f":"IF(Z30=1,(SUM(AA18-AB18)),0)","v":0},1,{"$f":"IF(AE4<=30,1,0)","v":0},{"$f":"IF(AE4=0,1,0)","v":0},{"$f":"IF(AD30=1,(SUM(AE18-AF18)),0)","v":0},1,{"$f":"IF(AI4<=30,1,0)","v":1},{"$f":"IF(AI4=0,1,0)","v":0},{"$f":"IF(AH30=1,(SUM(AI18-AJ18)),0)","v":0},1,{"$f":"IF(AM4<=30,1,0)","v":0},{"$f":"IF(AM4=0,1,0)","v":0},{"$f":"IF(AL30=1,(SUM(AM18-AN18)),0)","v":0},1,{"$f":"IF(AQ4<=30,1,0)","v":0},{"$f":"IF(AQ4=0,1,0)","v":0},{"$f":"IF(AP30=1,(SUM(AQ18-AR18)),0)","v":0},1,{"$f":"IF(AU4<=30,1,0)","v":1},{"$f":"IF(AU4=0,1,0)","v":0},{"$f":"IF(AT30=1,(SUM(AU18-AV18)),0)","v":0},0,{"$f":"IF(AY4<=30,1,0)","v":1},{"$f":"IF(AY4=0,1,0)","v":1},{"$f":"IF(AX30=1,(SUM(AY18-AZ18)),0)","v":0},0,{"$f":"IF(BC4<=30,1,0)","v":1},{"$f":"IF(BC4=0,1,0)","v":1},{"$f":"IF(BB30=1,(SUM(BC18-BD18)),0)","v":0},0,{"$f":"IF(BG4<=30,1,0)","v":1},{"$f":"IF(BG4=0,1,0)","v":1},{"$f":"IF(BF30=1,(SUM(BG18-BH18)),0)","v":0},1,{"$f":"IF(BK4<=30,1,0)","v":0},{"$f":"IF(BK4=0,1,0)","v":0},{"$f":"IF(BJ30=1,(SUM(BK18-BL18)),0)","v":0},1,{"$f":"IF(BO4<=30,1,0)","v":0},{"$f":"IF(BO4=0,1,0)","v":0},{"$f":"IF(BN30=1,(SUM(BO18-BP18)),0)","v":0},1,{"$f":"IF(BS4<=30,1,0)","v":0},{"$f":"IF(BS4=0,1,0)","v":0},{"$f":"IF(BR30=1,(SUM(BS18-BT18)),0)","v":0},0,{"$f":"IF(BW4<=30,1,0)","v":1},{"$f":"IF(BW4=0,1,0)","v":1},{"$f":"IF(BV30=1,(SUM(BW18-BX18)),0)","v":0},0,{"$f":"IF(CA4<=30,1,0)","v":1},{"$f":"IF(CA4=0,1,0)","v":1},{"$f":"IF(BZ30=1,(SUM(CA18-CB18)),0)","v":0},0,{"$f":"IF(CE4<=30,1,0)","v":1},{"$f":"IF(CE4=0,1,0)","v":1},{"$f":"IF(CD30=1,(SUM(CE18-CF18)),0)","v":0},0,{"$f":"IF(CI4<=30,1,0)","v":1},{"$f":"IF(CI4=0,1,0)","v":1},{"$f":"IF(CH30=1,(SUM(CI18-CJ18)),0)","v":0}]
[null,0,1,1,0,0,1,1,0,0,1,1,0,0,1,1,0,0,1,1,0,1,0,0,0,1,0,0,0,1,0,0,0,0,1,1,0,0,1,1,0,0,1,1,0,0,1,1,0,0,1,1,0,1,0,0,0,1,0,0,0,0,1,1,0,0,1,1,0,1,0,0,0,0,1,1,0,0,1,1,0,0,1,1,0,0,1,1,0]
[null,0,1,1,0,0,1,1,0,0,1,1,0,0,1,1,0,0,1,1,0,0,1,1,0,0,1,1,0,0,1,1,0,0,1,1,0,0,1,1,0,0,1,1,0,0,1,1,0,0,1,1,0,0,1,1,0,0,1,1,0,0,1,1,0,0,1,1,0,0,1,1,0,0,1,1,0,0,1,1,0,0,1,1,0,0,1,1,0]
[null,1,1,0,1,1,0,0,0,0,1,1,0,0,1,1,0,1,1,0,1,0,1,1,0,1,0,0,0,1,0,0,0,1,1,0,0,1,0,0,0,1,1,0,1,1,0,0,0,0,1,1,0,1,0,0,0,1,0,0,0,1,0,0,0,1,0,0,0,0,1,1,0,0,1,1,0,0,1,1,0,0,1,1,0,0,1,1,0]
[null,1,0,0,0,1,0,0,0,1,1,0,0,0,1,1,0,1,1,0,1,0,1,1,0,0,1,1,0,1,1,0,1,1,0,0,0,1,1,0,1,1,0,0,0,1,1,0,1,0,1,1,0,1,1,0,1,1,1,0,1,1,1,0,1,1,1,0,1,1,0,0,0,0,1,1,0,0,1,1,0,0,1,1,0,0,1,1,0]
[null,1,0,0,0,1,1,0,0,1,0,0,0,0,1,1,0,1,0,0,0,1,0,0,0,1,1,0,1,1,0,0,0,1,0,0,0,1,0,0,0,1,0,0,0,1,0,0,0,0,1,1,0,1,0,0,0,1,0,0,0,1,0,0,0,1,0,0,0,1,0,0,0,0,1,1,0,0,1,1,0,0,1,1,0,0,1,1,0]
[null,0,1,1,0,0,1,1,0,0,1,1,0,0,1,1,0,0,1,1,0,0,1,1,0,0,1,1,0,0,1,1,0,0,1,1,0,0,1,1,0,0,1,1,0,0,1,1,0,0,1,1,0,0,1,1,0,0,1,1,0,0,1,1,0,0,1,1,0,0,1,1,0,0,1,1,0,0,1,1,0,0,1,1,0,0,1,1,0]
[null,1,0,0,0,1,0,0,0,1,1,0,1,0,1,1,0,1,0,0,0,1,0,0,0,0,1,1,0,0,1,1,0,0,1,1,0,0,1,1,0,0,1,1,0,0,1,1,0,0,1,1,0,0,1,1,0,0,1,1,0,0,1,1,0,0,1,1,0,0,1,1,0,0,1,1,0,0,1,1,0,0,1,1,0,0,1,1,0]
[null,0,1,1,0,0,1,1,0,1,1,0,0,0,1,1,0,0,1,1,0,1,0,0,0,1,0,0,0,1,0,0,0,1,1,0,0,1,0,0,0,1,0,0,0,1,0,0,0,0,1,1,0,1,0,0,0,1,0,0,0,1,0,0,0,1,0,0,0,1,0,0,0,0,1,1,0,0,1,1,0,0,1,1,0,0,1,1,0]
[null,1,0,0,0,1,0,0,0,1,1,0,0,0,1,1,0,1,0,0,0,1,0,0,0,1,0,0,0,0,1,1,0,1,0,0,0,1,0,0,0,1,0,0,0,1,0,0,0,0,1,1,0,1,0,0,0,1,1,0,1,1,0,0,0,1,0,0,0,1,0,0,0,0,1,1,0,0,1,1,0,0,1,1,0,0,1,1,0]
[null,0,1,1,0,0,1,1,0,0,1,1,0,0,1,1,0,0,1,1,0,0,1,1,0,0,1,1,0,0,1,1,0,0,1,1,0,0,1,1,0,0,1,1,0,0,1,1,0,0,1,1,0,0,1,1,0,0,1,1,0,0,1,1,0,0,1,1,0,0,1,1,0,0,1,1,0,0,1,1,0,0,1,1,0,0,1,1,0]
[null,{"$f":"IF(B3=701,1,0)","v":0},{"$f":"IF(B29=1,C3,\"\")","v":""},null,null,{"$f":"IF(F3=701,1,0)","v":0},{"$f":"IF(F29=1,G3,\"\")","v":""},null,null,{"$f":"IF(J3=701,1,0)","v":0},{"$f":"IF(J29=1,K3,\"\")","v":""},null,null,{"$f":"IF(N3=701,1,0)","v":0},{"$f":"IF(N29=1,O3,\"\")","v":""},null,null,{"$f":"IF(R3=701,1,0)","v":0},{"$f":"IF(R29=1,S3,\"\")","v":""},null,null,{"$f":"IF(V3=701,1,0)","v":0},{"$f":"IF(V29=1,W3,\"\")","v":""},null,null,{"$f":"IF(Z3=701,1,0)","v":0},{"$f":"IF(Z29=1,AA3,\"\")","v":""},null,null,{"$f":"IF(AD3=701,1,0)","v":0},{"$f":"IF(AD29=1,AE3,\"\")","v":""},null,null,{"$f":"IF(AH3=701,1,0)","v":0},{"$f":"IF(AH29=1,AI3,\"\")","v":""},null,null,{"$f":"IF(AL3=701,1,0)","v":0},{"$f":"IF(AL29=1,AM3,\"\")","v":""},null,null,{"$f":"IF(AP3=701,1,0)","v":0},{"$f":"IF(AP29=1,AQ3,\"\")","v":""},null,null,{"$f":"IF(AT3=701,1,0)","v":0},{"$f":"IF(AT29=1,AU3,\"\")","v":""},null,null,{"$f":"IF(AX3=701,1,0)","v":0},{"$f":"IF(AX29=1,AY3,\"\")","v":""},null,null,{"$f":"IF(BB3=701,1,0)","v":0},{"$f":"IF(BB29=1,BC3,\"\")","v":""},null,null,{"$f":"IF(BF3=701,1,0)","v":0},{"$f":"IF(BF29=1,BG3,\"\")","v":""},null,null,{"$f":"IF(BJ3=701,1,0)","v":0},{"$f":"IF(BJ29=1,BK3,\"\")","v":""},null,null,{"$f":"IF(BN3=701,1,0)","v":0},{"$f":"IF(BN29=1,BO3,\"\")","v":""},null,null,{"$f":"IF(BR3=701,1,0)","v":0},{"$f":"IF(BR29=1,BS3,\"\")","v":""},null,null,{"$f":"IF(BV3=701,1,0)","v":0},{"$f":"IF(BV29=1,BW3,\"\")","v":""},null,null,{"$f":"IF(BZ3=701,1,0)","v":0},{"$f":"IF(BZ29=1,CA3,\"\")","v":""},null,null,{"$f":"IF(CD3=701,1,0)","v":0},{"$f":"IF(CD29=1,CE3,\"\")","v":""},null,null,{"$f":"IF(CH3=701,1,0)","v":0},{"$f":"IF(CH29=1,CI3,\"\")","v":""}]
[null,{"$f":"IF(B4=701,1,0)","v":1},35,null,null,{"$f":"IF(F4=701,1,0)","v":0},"",null,null,{"$f":"IF(J4=701,1,0)","v":1},46,null,null,{"$f":"IF(N4=701,1,0)","v":0},"",null,null,{"$f":"IF(R4=701,1,0)","v":0},"",null,null,{"$f":"IF(V4=701,1,0)","v":1},51,null,null,{"$f":"IF(Z4=701,1,0)","v":1},49,null,null,{"$f":"IF(AD4=701,1,0)","v":0},"",null,null,{"$f":"IF(AH4=701,1,0)","v":0},"",null,null,{"$f":"IF(AL4=701,1,0)","v":0},"",null,null,{"$f":"IF(AP4=701,1,0)","v":1},37,null,null,{"$f":"IF(AT4=701,1,0)","v":0},"",null,null,{"$f":"IF(AX4=701,1,0)","v":0},"",null,null,{"$f":"IF(BB4=701,1,0)","v":0},"",null,null,{"$f":"IF(BF4=701,1,0)","v":0},"",null,null,{"$f":"IF(BJ4=701,1,0)","v":1},46,null,null,{"$f":"IF(BN4=701,1,0)","v":0},"",null,null,{"$f":"IF(BR4=701,1,0)","v":0},"",null,null,{"$f":"IF(BV4=701,1,0)","v":0},"",null,null,{"$f":"IF(BZ4=701,1,0)","v":0},"",null,null,{"$f":"IF(CD4=701,1,0)","v":0},"",null,null,{"$f":"IF(CH4=701,1,0)","v":0},""]
[null,0,"",null,null,0,"",null,null,0,"",null,null,0,"",null,null,0,"",null,null,0,"",null,null,1,48,null,null,0,"",null,null,0,"",null,null,0,"",null,null,0,"",null,null,0,"",null,null,0,"",null,null,0,"",null,null,1,39,null,null,0,"",null,null,0,"",null,null,0,"",null,null,0,"",null,null,0,"",null,null,0,"",null,null,0,""]
[null,0,"",null,null,0,"",null,null,0,"",null,null,0,"",null,null,0,"",null,null,0,"",null,null,0,"",null,null,0,"",null,null,0,"",null,null,0,"",null,null,0,"",null,null,0,"",null,null,0,"",null,null,0,"",null,null,0,"",null,null,0,"",null,null,0,"",null,null,0,"",null,null,0,"",null,null,0,"",null,null,0,"",null,null,0,""]
[null,1,27,null,null,1,41,null,null,0,"",null,null,0,"",null,null,1,25,null,null,0,"",null,null,1,53,null,null,0,"",null,null,0,"",null,null,1,36,null,null,1,29,null,null,0,"",null,null,0,"",null,null,1,34,null,null,1,44,null,null,1,60,null,null,1,37,null,null,0,"",null,null,0,"",null,null,0,"",null,null,0,"",null,null,0,""]
[null,1,33,null,null,1,33,null,null,0,"",null,null,0,"",null,null,1,26,null,null,0,"",null,null,0,"",null,null,1,28,null,null,1,31,null,null,1,19,null,null,1,36,null,null,1,30,null,null,0,"",null,null,1,27,null,null,1,27,null,null,1,26,null,null,1,23,null,null,1,33,null,null,0,"",null,null,0,"",null,null,0,"",null,null,0,""]
[null,1,36,null,null,0,"",null,null,1,38,null,null,0,"",null,null,1,41,null,null,1,38,null,null,1,27,null,null,1,33,null,null,0,"",null,null,1,45,null,null,0,"",null,null,1,37,null,null,0,"",null,null,1,32,null,null,1,32,null,null,1,31,null,null,1,36,null,null,1,32,null,null,0,"",null,null,0,"",null,null,0,"",null,null,0,""]
[null,0,"",null,null,0,"",null,null,0,"",null,null,0,"",null,null,0,"",null,null,0,"",null,null,0,"",null,null,0,"",null,null,0,"",null,null,0,"",null,null,0,"",null,null,0,"",null,null,0,"",null,null,0,"",null,null,0,"",null,null,0,"",null,null,0,"",null,null,0,"",null,null,0,"",null,null,0,"",null,null,0,"",null,null,0,""]
[null,1,40,null,null,1,33,null,null,1,29,null,null,0,"",null,null,1,41,null,null,0,"",null,null,0,"",null,null,0,"",null,null,0,"",null,null,0,"",null,null,0,"",null,null,0,"",null,null,0,"",null,null,0,"",null,null,0,"",null,null,0,"",null,null,0,"",null,null,0,"",null,null,0,"",null,null,0,"",null,null,0,"",null,null,0,""]
[null,0,"",null,null,0,"",null,null,0,"",null,null,0,"",null,null,0,"",null,null,0,"",null,null,1,39,null,null,1,51,null,null,0,"",null,null,1,56,null,null,0,"",null,null,1,40,null,null,0,"",null,null,1,42,null,null,1,57,null,null,1,38,null,null,1,31,null,null,0,"",null,null,0,"",null,null,0,"",null,null,0,"",null,null,0,""]
[null,0,"",null,null,0,"",null,null,0,"",null,null,0,"",null,null,0,"",null,null,1,45,null,null,1,34,null,null,0,"",null,null,1,34,null,null,1,44,null,null,0,"",null,null,1,36,null,null,0,"",null,null,1,38,null,null,1,28,null,null,1,37,null,null,1,31,null,null,1,37,null,null,0,"",null,null,0,"",null,null,0,"",null,null,0,""]
[null,0,"",null,null,0,"",null,null,0,"",null,null,0,"",null,null,0,"",null,null,0,"",null,null,0,"",null,null,0,"",null,null,0,"",null,null,0,"",null,null,0,"",null,null,0,"",null,null,0,"",null,null,0,"",null,null,0,"",null,null,0,"",null,null,0,"",null,null,0,"",null,null,0,"",null,null,0,"",null,null,0,"",null,null,0,""]
["Singles Won",{"$f":"SUM(B29:B40)","v":5},null,null,null,{"$f":"SUM(F29:F40)","v":3},null,null,null,{"$f":"SUM(J29:J40)","v":3},null,null,null,{"$f":"SUM(N29:N40)","v":0},null,null,null,{"$f":"SUM(R29:R40)","v":4},null,null,null,{"$f":"SUM(V29:V40)","v":3},null,null,null,{"$f":"SUM(Z29:Z40)","v":6},null,null,null,{"$f":"SUM(AD29:AD40)","v":3},null,null,null,{"$f":"SUM(AH29:AH40)","v":2},null,null,null,{"$f":"SUM(AL29:AL40)","v":5},null,null,null,{"$f":"SUM(AP29:AP40)","v":3},null,null,null,{"$f":"SUM(AT29:AT40)","v":4},null,null,null,{"$f":"SUM(AX29:AX40)","v":0},null,null,null,{"$f":"SUM(BB29:BB40)","v":5},null,null,null,{"$f":"SUM(BF29:BF40)","v":6},null,null,null,{"$f":"SUM(BJ29:BJ40)","v":6},null,null,null,{"$f":"SUM(BN29:BN40)","v":5},null,null,null,{"$f":"SUM(BR29:BR40)","v":3},null,null,null,{"$f":"SUM(BV29:BV40)","v":0},null,null,null,{"$f":"SUM(BZ29:BZ40)","v":0},null,null,null,{"$f":"SUM(CD29:CD40)","v":0},null,null,null,{"$f":"SUM(CH29:CH40)","v":0}]
["Pairs Games Won",3,null,null,null,0,null,null,null,0,null,null,null,2,null,null,null,3,null,null,null,2,null,null,null,3,null,null,null,1,null,null,null,0,null,null,null,0,null,null,null,2,null,null,null,2,null,null,null,null,null,null,null,3,null,null,null,3,null,null,null,2,null,null,null,2,null,null,null,1]

{"sheet":"CROWN","index":10,"n_rows":42,"n_cols":101,"rows_kept":42,"cut":false,"hidden":false,"merged":[[0,61,0,64],[0,65,0,68],[0,37,0,40],[0,41,0,44],[0,45,0,48],[0,49,0,52],[0,57,0,60],[0,21,0,24],[0,25,0,28],[0,29,0,32],[0,33,0,36],[0,53,0,56],[0,73,0,76],[0,77,0,80],[0,81,0,84],[0,85,0,88],[0,69,0,72],[0,1,0,4],[0,5,0,8],[0,9,0,12],[0,13,0,16],[0,17,0,20]]}
["CROWN","WEEK 1",null,null,null,"WEEK 2",null,null,null,"WEEK 3",null,null,null,"WEEK 4",null,null,null,"WEEK 5",null,null,null,"WEEK 6",null,null,null,"WEEK 7",null,null,null,"WEEK 8",null,null,null,"WEEK 9",null,null,null,"WEEK 10",null,null,null,"WEEK 11",null,null,null,"WEEK 12",null,null,null,"WEEK 13",null,null,null,"WEEK 14",null,null,null,"WEEK 15",null,null,null,"WEEK 16",null,null,null,"WEEK 17",null,null,null,"WEEK 18",null,null,null,"WEEK 18",null,null,null,"WEEK 19",null,null,null,"WEEK 20",null,null,null,"WEEK 21"]
[null,"PS","DT","100 +","180's","PS","DT","100 +","180's","PS","DT","100 +","180's","PS","DT","100 +","180's","PS","DT","100 +","180's","PS","DT","100 +","180's","PS","DT","100 +","180's","PS","DT","100 +","180's","PS","DT","100 +","180's","PS","DT","100 +","180's","PS","DT","100 +","180's","PS","DT","100 +","180's","PS","DT","100 +","180's","PS","DT","100 +","180's","PS","DT","100 +","180's","PS","DT","100 +","180's","PS","DT","100 +","180's","PS","DT","100 +","180's","PS","DT","100 +","180's","PS","DT","100 +","180's","PS","DT","100 +","180's","PS","DT","100 +","180's","GP","GW","TP","TD","AVG","AVG D/G","T100+","AVG 100+/G","T180's","T<30","Least Darts","Most Darts"]
["Mark Outram",689,33,2,null,701,42,1,null,null,null,null,null,701,30,1,null,696,57,1,null,626,36,null,null,557,36,4,null,414,33,null,null,701,37,2,null,701,41,1,null,701,38,1,null,null,null,null,null,618,42,null,null,650,45,1,null,701,38,null,null,584,39,1,null,563,33,2,null,689,33,1,null,null,null,null,null,null,null,null,null,null,null,null,null,null,null,null,null,{"$f":"SUM(B17+F17+J17+N17+R17+V17+Z17+AD17+AH17+AL17+AP17+AT17+AX17+BB17+BF17+BJ17+BN17+BR17+BV17+BZ17+CD17+CH17)","v":16},{"$f":"SUM(B29+F29+J29+N29+R29+V29+Z29+AD29+AH29+AL29+AP29+AT29+AX29+BB29+BF29+BJ29+BN29+BR29+BV29+BZ29+CD29+CH29)","v":6},{"$f":"SUM(B3+F3+J3+N3+R3+V3+Z3+AD3+AH3+AL3+AP3+AT3+AX3+BB3+BF3+BJ3+BN3+BR3+BV3+BZ3+CD3+CH3)","v":10292},{"$f":"SUM(C3+G3+K3+O3+S3+W3+AA3+AE3+AI3+AM3+AQ3+AU3+AY3+BC3+BG3+BK3+BO3+BS3+BW3+CA3+CE3+CI3)","v":613},{"$f":"IF(CN3=0,0,(SUM(CN3/CO3)*3))","v":50.368678629690052},{"$f":"IF(CL3=0,0,SUM(CO3/CL3))","v":38.3125},{"$f":"SUM(D3+H3+L3+P3+T3+X3+AB3+AF3+AJ3+AN3+AR3+AV3+AZ3+BD3+BH3+BL3+BP3+BT3+BX3+CB3+CF3+CJ3)","v":18},{"$f":"IF(CL3=0,0,(SUM(CR3/CL3)))","v":1.125},{"$f":"SUM(E3+I3+M3+Q3+U3+Y3+AC3+AG3+AK3+AO3+AS3+AW3+BA3+BE3+BI3+BM3+BQ3+BU3+BY3+CC3+CG3+CK3)","v":0},{"$f":"SUM(E17+I17+M17+Q17+U17+Y17+AC17+AG17+AK17+AO17+AS17+AW17+BA17+BE17+BI17+BM17+BQ17+BU17+BY17+CC17+CG17+CK17)","v":1},{"$f":"MIN(C29,G29,K29,O29,S29,W29,AA29,AE29,AI29,AM29,AQ29,AU29,AY29,BC29,BG29,BK29,BO29,BS29,BW29,CA29,CE29,CI29)","v":30},{"$f":"MAX($C29,$G29,$K29,$O29,$S29,$W29,$AA29,$AE29,$AI29,$AM29,$AQ29,$AU29,$AY29,$BC29,$BG29,$BK29,$BO29,$BS29,$BW29,$CA29,$CE29,$CI29)","v":42}]
["Dave Thornton",null,null,null,null,572,34,3,null,null,null,null,null,null,null,null,null,697,54,3,null,486,33,1,null,null,null,null,null,null,null,null,null,null,null,null,null,null,null,null,null,null,null,null,null,null,null,null,null,691,42,null,null,696,51,1,null,null,null,null,null,null,null,null,null,null,null,null,null,701,59,null,null,null,null,null,null,null,null,null,null,null,null,null,null,null,null,null,null,{"$f":"SUM(B18+F18+J18+N18+R18+V18+Z18+AD18+AH18+AL18+AP18+AT18+AX18+BB18+BF18+BJ18+BN18+BR18+BV18+BZ18+CD18+CH18)","v":6},{"$f":"SUM(B30+F30+J30+N30+R30+V30+Z30+AD30+AH30+AL30+AP30+AT30+AX30+BB30+BF30+BJ30+BN30+BR30+BV30+BZ30+CD30+CH30)","v":1},{"$f":"SUM(B4+F4+J4+N4+R4+V4+Z4+AD4+AH4+AL4+AP4+AT4+AX4+BB4+BF4+BJ4+BN4+BR4+BV4+BZ4+CD4+CH4)","v":3843},{"$f":"SUM(C4+G4+K4+O4+S4+W4+AA4+AE4+AI4+AM4+AQ4+AU4+AY4+BC4+BG4+BK4+BO4+BS4+BW4+CA4+CE4+CI4)","v":273},{"$f":"IF(CN4=0,0,(SUM(CN4/CO4)*3))","v":42.230769230769226},45.5,{"$f":"SUM(D4+H4+L4+P4+T4+X4+AB4+AF4+AJ4+AN4+AR4+AV4+AZ4+BD4+BH4+BL4+BP4+BT4+BX4+CB4+CF4+CJ4)","v":8},{"$f":"IF(CL4=0,0,(SUM(CR4/CL4)))","v":1.3333333333333333},{"$f":"SUM(E4+I4+M4+Q4+U4+Y4+AC4+AG4+AK4+AO4+AS4+AW4+BA4+BE4+BI4+BM4+BQ4+BU4+BY4+CC4+CG4+CK4)","v":0},{"$f":"SUM(E18+I18+M18+Q18+U18+Y18+AC18+AG18+AK18+AO18+AS18+AW18+BA18+BE18+BI18+BM18+BQ18+BU18+BY18+CC18+CG18+CK18)","v":0},{"$f":"MIN(C30,G30,K30,O30,S30,W30,AA30,AE30,AI30,AM30,AQ30,AU30,AY30,BC30,BG30,BK30,BO30,BS30,BW30,CA30,CE30,CI30)","v":59},59]
["Dean Wakeling  ",695,45,3,null,null,null,null,null,null,null,null,null,701,57,null,null,null,null,null,null,null,null,null,null,615,45,null,null,305,27,null,null,null,null,null,null,249,30,null,null,null,null,null,null,null,null,null,null,null,null,null,null,null,null,null,null,544,45,null,null,467,39,null,null,502,39,null,null,null,null,null,null,null,null,null,null,null,null,null,null,null,null,null,null,null,null,null,null,8,1,4078,327,37.412844036697251,40.875,3,0.375,0,0,57,57]
["David Langthorne",685,54,null,null,693,63,null,null,null,null,null,null,661,45,null,null,701,33,1,null,701,33,1,null,590,51,null,null,504,33,null,null,693,41,2,null,658,45,1,null,507,30,1,null,null,null,null,null,619,39,null,null,701,45,1,null,701,50,null,null,363,30,3,null,418,42,null,null,582,39,null,null,null,null,null,null,null,null,null,null,null,null,null,null,null,null,null,null,16,4,9777,673,43.582466567607725,42.0625,10,0.625,0,0,33,50]
["Tony Bell",null,null,null,null,null,null,null,null,null,null,null,null,null,null,null,null,null,null,null,null,null,null,null,null,null,null,null,null,null,null,null,null,null,null,null,null,null,null,null,null,null,null,null,null,null,null,null,null,null,null,null,null,null,null,null,null,null,null,null,null,null,null,null,null,null,null,null,null,null,null,null,null,null,null,null,null,null,null,null,null,null,null,null,null,null,null,null,null,0,0,0,0,0,0,0,0,0,0,0,0]
["Chris Cockerline",701,54,null,null,701,58,null,null,null,null,null,null,656,42,1,null,663,39,null,null,701,48,null,null,491,33,null,null,434,30,null,null,554,36,null,null,null,null,null,null,506,39,null,null,null,null,null,null,661,42,null,null,641,48,null,null,677,45,1,null,358,24,null,null,447,33,null,null,701,63,null,null,null,null,null,null,null,null,null,null,null,null,null,null,null,null,null,null,15,4,8892,634,42.07570977917981,42.266666666666666,2,0.13333333333333333,0,0,48,63]
["Mark Natttrass",600,39,null,null,555,36,null,null,null,null,null,null,514,39,null,null,701,51,1,null,701,47,null,null,608,54,null,null,440,39,null,null,440,51,null,null,548,39,null,null,469,33,null,null,null,null,null,null,701,45,1,null,696,60,1,null,699,48,null,null,696,57,null,null,635,54,null,null,357,27,null,null,null,null,null,null,null,null,null,null,null,null,null,null,null,null,null,null,16,3,9360,719,39.054242002781642,44.9375,3,0.1875,0,0,45,51]
["Phil Teare",633,39,1,null,568,36,2,null,null,null,null,null,695,42,null,null,701,40,3,null,602,36,1,null,421,27,null,null,701,39,1,null,701,46,1,null,691,45,null,null,701,37,3,null,null,null,null,null,599,27,2,null,701,58,3,null,701,43,null,null,669,45,1,null,565,33,2,null,570,39,null,null,null,null,null,null,null,null,null,null,null,null,null,null,null,null,null,null,16,6,10219,632,48.507911392405063,39.5,20,1.25,0,0,37,58]
["Richard Salton",null,null,null,null,null,null,null,null,null,null,null,null,null,null,null,null,null,null,null,null,null,null,null,null,null,null,null,null,null,null,null,null,null,null,null,null,343,27,null,null,null,null,null,null,null,null,null,null,null,null,null,null,null,null,null,null,null,null,null,null,null,null,null,null,null,null,null,null,null,null,null,null,null,null,null,null,null,null,null,null,null,null,null,null,null,null,null,null,1,0,343,27,38.111111111111114,27,0,0,0,0,0,0]
["Shaun Raynor",null,null,null,null,null,null,null,null,null,null,null,null,null,null,null,null,null,null,null,null,null,null,null,null,null,null,null,null,null,null,null,null,null,null,null,null,null,null,null,null,null,null,null,null,null,null,null,null,null,null,null,null,null,null,null,null,null,null,null,null,null,null,null,null,null,null,null,null,null,null,null,null,null,null,null,null,null,null,null,null,null,null,null,null,null,null,null,null,0,0,0,0,0,0,0,0,0,0,0,0]
["Adam Carter",null,null,null,null,null,null,null,null,null,null,null,null,null,null,null,null,null,null,null,null,null,null,null,null,null,null,null,null,null,null,null,null,null,null,null,null,null,null,null,null,null,null,null,null,null,null,null,null,null,null,null,null,null,null,null,null,null,null,null,null,null,null,null,null,null,null,null,null,null,null,null,null,null,null,null,null,null,null,null,null,null,null,null,null,null,null,null,null,0,0,0,0,0,0,0,0,0,0,0,0]
["Tim Bowman",null,null,null,null,null,null,null,null,null,null,null,null,null,null,null,null,null,null,null,null,null,null,null,null,null,null,null,null,null,null,null,null,null,null,null,null,null,null,null,null,null,null,null,null,null,null,null,null,null,null,null,null,null,null,null,null,null,null,null,null,null,null,null,null,null,null,null,null,null,null,null,null,null,null,null,null,null,null,null,null,null,null,null,null,null,null,null,null,0,0,0,0,{"$f":"IF(CN14=0,0,(SUM(CN14/CO14)*3))","v":0},{"$f":"IF(CL14=0,0,SUM(CO14/CL14))","v":0},0,0,0,0,0,0]
[]
[]
[null,{"$f":"IF(B3<>\"\",1,0)","v":1},{"$f":"IF(C3<=30,1,0)","v":0},{"$f":"IF(C3=0,1,0)","v":0},{"$f":"IF(B29=1,(SUM(C17-D17)),0)","v":0},{"$f":"IF(F3<>\"\",1,0)","v":1},{"$f":"IF(G3<=30,1,0)","v":0},{"$f":"IF(G3=0,1,0)","v":0},{"$f":"IF(F29=1,(SUM(G17-H17)),0)","v":0},{"$f":"IF(J3<>\"\",1,0)","v":0},{"$f":"IF(K3<=30,1,0)","v":1},{"$f":"IF(K3=0,1,0)","v":1},{"$f":"IF(J29=1,(SUM(K17-L17)),0)","v":0},{"$f":"IF(N3<>\"\",1,0)","v":1},{"$f":"IF(O3<=30,1,0)","v":1},{"$f":"IF(O3=0,1,0)","v":0},{"$f":"IF(N29=1,(SUM(O17-P17)),0)","v":1},{"$f":"IF(R3<>\"\",1,0)","v":1},{"$f":"IF(S3<=30,1,0)","v":0},{"$f":"IF(S3=0,1,0)","v":0},{"$f":"IF(R29=1,(SUM(S17-T17)),0)","v":0},{"$f":"IF(V3<>\"\",1,0)","v":1},{"$f":"IF(W3<=30,1,0)","v":0},{"$f":"IF(W3=0,1,0)","v":0},{"$f":"IF(V29=1,(SUM(W17-X17)),0)","v":0},{"$f":"IF(Z3<>\"\",1,0)","v":1},{"$f":"IF(AA3<=30,1,0)","v":0},{"$f":"IF(AA3=0,1,0)","v":0},{"$f":"IF(Z29=1,(SUM(AA17-AB17)),0)","v":0},{"$f":"IF(AD3<>\"\",1,0)","v":1},{"$f":"IF(AE3<=30,1,0)","v":0},{"$f":"IF(AE3=0,1,0)","v":0},{"$f":"IF(AD29=1,(SUM(AE17-AF17)),0)","v":0},{"$f":"IF(AH3<>\"\",1,0)","v":1},{"$f":"IF(AI3<=30,1,0)","v":0},{"$f":"IF(AI3=0,1,0)","v":0},{"$f":"IF(AH29=1,(SUM(AI17-AJ17)),0)","v":0},{"$f":"IF(AL3<>\"\",1,0)","v":1},{"$f":"IF(AM3<=30,1,0)","v":0},{"$f":"IF(AM3=0,1,0)","v":0},{"$f":"IF(AL29=1,(SUM(AM17-AN17)),0)","v":0},{"$f":"IF(AP3<>\"\",1,0)","v":1},{"$f":"IF(AQ3<=30,1,0)","v":0},{"$f":"IF(AQ3=0,1,0)","v":0},{"$f":"IF(AP29=1,(SUM(AQ17-AR17)),0)","v":0},{"$f":"IF(AT3<>\"\",1,0)","v":0},{"$f":"IF(AU3<=30,1,0)","v":1},{"$f":"IF(AU3=0,1,0)","v":1},{"$f":"IF(AT29=1,(SUM(AU17-AV17)),0)","v":0},{"$f":"IF(AX3<>\"\",1,0)","v":1},{"$f":"IF(AY3<=30,1,0)","v":0},{"$f":"IF(AY3=0,1,0)","v":0},{"$f":"IF(AX29=1,(SUM(AY17-AZ17)),0)","v":0},{"$f":"IF(BB3<>\"\",1,0)","v":1},{"$f":"IF(BC3<=30,1,0)","v":0},{"$f":"IF(BC3=0,1,0)","v":0},{"$f":"IF(BB29=1,(SUM(BC17-BD17)),0)","v":0},{"$f":"IF(BF3<>\"\",1,0)","v":1},{"$f":"IF(BG3<=30,1,0)","v":0},{"$f":"IF(BG3=0,1,0)","v":0},{"$f":"IF(BF29=1,(SUM(BG17-BH17)),0)","v":0},{"$f":"IF(BJ3<>\"\",1,0)","v":1},{"$f":"IF(BK3<=30,1,0)","v":0},{"$f":"IF(BK3=0,1,0)","v":0},{"$f":"IF(BJ29=1,(SUM(BK17-BL17)),0)","v":0},{"$f":"IF(BN3<>\"\",1,0)","v":1},{"$f":"IF(BO3<=30,1,0)","v":0},{"$f":"IF(BO3=0,1,0)","v":0},{"$f":"IF(BN29=1,(SUM(BO17-BP17)),0)","v":0},{"$f":"IF(BR3<>\"\",1,0)","v":1},{"$f":"IF(BS3<=30,1,0)","v":0},{"$f":"IF(BS3=0,1,0)","v":0},{"$f":"IF(BR29=1,(SUM(BS17-BT17)),0)","v":0},{"$f":"IF(BV3<>\"\",1,0)","v":0},{"$f":"IF(BW3<=30,1,0)","v":1},{"$f":"IF(BW3=0,1,0)","v":1},{"$f":"IF(BV29=1,(SUM(BW17-BX17)),0)","v":0},{"$f":"IF(BZ3<>\"\",1,0)","v":0},{"$f":"IF(CA3<=30,1,0)","v":1},{"$f":"IF(CA3=0,1,0)","v":1},{"$f":"IF(BZ29=1,(SUM(CA17-CB17)),0)","v":0},{"$f":"IF(CD3<>\"\",1,0)","v":0},{"$f":"IF(CE3<=30,1,0)","v":1},{"$f":"IF(CE3=0,1,0)","v":1},{"$f":"IF(CD29=1,(SUM(CE17-CF17)),0)","v":0},{"$f":"IF(CH3<>\"\",1,0)","v":0},{"$f":"IF(CI3<=30,1,0)","v":1},{"$f":"IF(CI3=0,1,0)","v":1},{"$f":"IF(CH29=1,(SUM(CI17-CJ17)),0)","v":0}]
[null,0,{"$f":"IF(C4<=30,1,0)","v":1},{"$f":"IF(C4=0,1,0)","v":1},{"$f":"IF(B30=1,(SUM(C18-D18)),0)","v":0},1,{"$f":"IF(G4<=30,1,0)","v":0},{"$f":"IF(G4=0,1,0)","v":0},{"$f":"IF(F30=1,(SUM(G18-H18)),0)","v":0},0,{"$f":"IF(K4<=30,1,0)","v":1},{"$f":"IF(K4=0,1,0)","v":1},{"$f":"IF(J30=1,(SUM(K18-L18)),0)","v":0},0,{"$f":"IF(O4<=30,1,0)","v":1},{"$f":"IF(O4=0,1,0)","v":1},{"$f":"IF(N30=1,(SUM(O18-P18)),0)","v":0},1,{"$f":"IF(S4<=30,1,0)","v":0},{"$f":"IF(S4=0,1,0)","v":0},{"$f":"IF(R30=1,(SUM(S18-T18)),0)","v":0},1,{"$f":"IF(W4<=30,1,0)","v":0},{"$f":"IF(W4=0,1,0)","v":0},{"$f":"IF(V30=1,(SUM(W18-X18)),0)","v":0},0,{"$f":"IF(AA4<=30,1,0)","v":1},{"$f":"IF(AA4=0,1,0)","v":1},{"$f":"IF(Z30=1,(SUM(AA18-AB18)),0)","v":0},0,{"$f":"IF(AE4<=30,1,0)","v":1},{"$f":"IF(AE4=0,1,0)","v":1},{"$f":"IF(AD30=1,(SUM(AE18-AF18)),0)","v":0},0,{"$f":"IF(AI4<=30,1,0)","v":1},{"$f":"IF(AI4=0,1,0)","v":1},{"$f":"IF(AH30=1,(SUM(AI18-AJ18)),0)","v":0},0,{"$f":"IF(AM4<=30,1,0)","v":1},{"$f":"IF(AM4=0,1,0)","v":1},{"$f":"IF(AL30=1,(SUM(AM18-AN18)),0)","v":0},0,{"$f":"IF(AQ4<=30,1,0)","v":1},{"$f":"IF(AQ4=0,1,0)","v":1},{"$f":"IF(AP30=1,(SUM(AQ18-AR18)),0)","v":0},0,{"$f":"IF(AU4<=30,1,0)","v":1},{"$f":"IF(AU4=0,1,0)","v":1},{"$f":"IF(AT30=1,(SUM(AU18-AV18)),0)","v":0},1,{"$f":"IF(AY4<=30,1,0)","v":0},{"$f":"IF(AY4=0,1,0)","v":0},{"$f":"IF(AX30=1,(SUM(AY18-AZ18)),0)","v":0},1,{"$f":"IF(BC4<=30,1,0)","v":0},{"$f":"IF(BC4=0,1,0)","v":0},{"$f":"IF(BB30=1,(SUM(BC18-BD18)),0)","v":0},0,{"$f":"IF(BG4<=30,1,0)","v":1},{"$f":"IF(BG4=0,1,0)","v":1},{"$f":"IF(BF30=1,(SUM(BG18-BH18)),0)","v":0},0,{"$f":"IF(BK4<=30,1,0)","v":1},{"$f":"IF(BK4=0,1,0)","v":1},{"$f":"IF(BJ30=1,(SUM(BK18-BL18)),0)","v":0},0,{"$f":"IF(BO4<=30,1,0)","v":1},{"$f":"IF(BO4=0,1,0)","v":1},{"$f":"IF(BN30=1,(SUM(BO18-BP18)),0)","v":0},1,{"$f":"IF(BS4<=30,1,0)","v":0},{"$f":"IF(BS4=0,1,0)","v":0},{"$f":"IF(BR30=1,(SUM(BS18-BT18)),0)","v":0},0,{"$f":"IF(BW4<=30,1,0)","v":1},{"$f":"IF(BW4=0,1,0)","v":1},{"$f":"IF(BV30=1,(SUM(BW18-BX18)),0)","v":0},0,{"$f":"IF(CA4<=30,1,0)","v":1},{"$f":"IF(CA4=0,1,0)","v":1},{"$f":"IF(BZ30=1,(SUM(CA18-CB18)),0)","v":0},0,{"$f":"IF(CE4<=30,1,0)","v":1},{"$f":"IF(CE4=0,1,0)","v":1},{"$f":"IF(CD30=1,(SUM(CE18-CF18)),0)","v":0},0,{"$f":"IF(CI4<=30,1,0)","v":1},{"$f":"IF(CI4=0,1,0)","v":1},{"$f":"IF(CH30=1,(SUM(CI18-CJ18)),0)","v":0}]
[null,1,0,0,0,0,1,1,0,0,1,1,0,1,0,0,0,0,1,1,0,0,1,1,0,1,0,0,0,1,1,0,0,0,1,1,0,1,1,0,0,0,1,1,0,0,1,1,0,0,1,1,0,0,1,1,0,1,0,0,0,1,0,0,0,1,0,0,0,0,1,1,0,0,1,1,0,0,1,1,0,0,1,1,0,0,1,1,0]
[null,1,0,0,0,1,0,0,0,0,1,1,0,1,0,0,0,1,0,0,0,1,0,0,0,1,0,0,0,1,0,0,0,1,0,0,0,1,0,0,0,1,1,0,0,0,1,1,0,1,0,0,0,1,0,0,0,1,0,0,0,1,1,0,0,1,0,0,0,1,0,0,0,0,1,1,0,0,1,1,0,0,1,1,0,0,1,1,0]
[null,0,1,1,0,0,1,1,0,0,1,1,0,0,1,1,0,0,1,1,0,0,1,1,0,0,1,1,0,0,1,1,0,0,1,1,0,0,1,1,0,0,1,1,0,0,1,1,0,0,1,1,0,0,1,1,0,0,1,1,0,0,1,1,0,0,1,1,0,0,1,1,0,0,1,1,0,0,1,1,0,0,1,1,0,0,1,1,0]
[null,1,0,0,0,1,0,0,0,0,1,1,0,1,0,0,0,1,0,0,0,1,0,0,0,1,0,0,0,1,1,0,0,1,0,0,0,0,1,1,0,1,0,0,0,0,1,1,0,1,0,0,0,1,0,0,0,1,0,0,0,1,1,0,0,1,0,0,0,1,0,0,0,0,1,1,0,0,1,1,0,0,1,1,0,0,1,1,0]
[null,1,0,0,0,1,0,0,0,0,1,1,0,1,0,0,0,1,0,0,0,1,0,0,0,1,0,0,0,1,0,0,0,1,0,0,0,1,0,0,0,1,0,0,0,0,1,1,0,1,0,0,0,1,0,0,0,1,0,0,0,1,0,0,0,1,0,0,0,1,1,0,0,0,1,1,0,0,1,1,0,0,1,1,0,0,1,1,0]
[null,1,0,0,0,1,0,0,0,0,1,1,0,1,0,0,0,1,0,0,0,1,0,0,0,1,1,0,0,1,0,0,0,1,0,0,0,1,0,0,0,1,0,0,0,0,1,1,0,1,1,0,0,1,0,0,0,1,0,0,0,1,0,0,0,1,0,0,0,1,0,0,0,0,1,1,0,0,1,1,0,0,1,1,0,0,1,1,0]
[null,0,1,1,0,0,1,1,0,0,1,1,0,0,1,1,0,0,1,1,0,0,1,1,0,0,1,1,0,0,1,1,0,0,1,1,0,1,1,0,0,0,1,1,0,0,1,1,0,0,1,1,0,0,1,1,0,0,1,1,0,0,1,1,0,0,1,1,0,0,1,1,0,0,1,1,0,0,1,1,0,0,1,1,0,0,1,1,0]
[null,0,1,1,0,0,1,1,0,0,1,1,0,0,1,1,0,0,1,1,0,0,1,1,0,0,1,1,0,0,1,1,0,0,1,1,0,0,1,1,0,0,1,1,0,0,1,1,0,0,1,1,0,0,1,1,0,0,1,1,0,0,1,1,0,0,1,1,0,0,1,1,0,0,1,1,0,0,1,1,0,0,1,1,0,0,1,1,0]
[null,0,1,1,0,0,1,1,0,0,1,1,0,0,1,1,0,0,1,1,0,0,1,1,0,0,1,1,0,0,1,1,0,0,1,1,0,0,1,1,0,0,1,1,0,0,1,1,0,0,1,1,0,0,1,1,0,0,1,1,0,0,1,1,0,0,1,1,0,0,1,1,0,0,1,1,0,0,1,1,0,0,1,1,0,0,1,1,0]
[null,0,1,1,0,0,1,1,0,0,1,1,0,0,1,1,0,0,1,1,0,0,1,1,0,0,1,1,0,0,1,1,0,0,1,1,0,0,1,1,0,0,1,1,0,0,1,1,0,0,1,1,0,0,1,1,0,0,1,1,0,0,1,1,0,0,1,1,0,0,1,1,0,0,1,1,0,0,1,1,0,0,1,1,0,0,1,1,0]
[null,{"$f":"IF(B3=701,1,0)","v":0},{"$f":"IF(B29=1,C3,\"\")","v":""},null,null,{"$f":"IF(F3=701,1,0)","v":1},{"$f":"IF(F29=1,G3,\"\")","v":42},null,null,{"$f":"IF(J3=701,1,0)","v":0},{"$f":"IF(J29=1,K3,\"\")","v":""},null,null,{"$f":"IF(N3=701,1,0)","v":1},{"$f":"IF(N29=1,O3,\"\")","v":30},null,null,{"$f":"IF(R3=701,1,0)","v":0},{"$f":"IF(R29=1,S3,\"\")","v":""},null,null,{"$f":"IF(V3=701,1,0)","v":0},{"$f":"IF(V29=1,W3,\"\")","v":""},null,null,{"$f":"IF(Z3=701,1,0)","v":0},{"$f":"IF(Z29=1,AA3,\"\")","v":""},null,null,{"$f":"IF(AD3=701,1,0)","v":0},{"$f":"IF(AD29=1,AE3,\"\")","v":""},null,null,{"$f":"IF(AH3=701,1,0)","v":1},{"$f":"IF(AH29=1,AI3,\"\")","v":37},null,null,{"$f":"IF(AL3=701,1,0)","v":1},{"$f":"IF(AL29=1,AM3,\"\")","v":41},null,null,{"$f":"IF(AP3=701,1,0)","v":1},{"$f":"IF(AP29=1,AQ3,\"\")","v":38},null,null,{"$f":"IF(AT3=701,1,0)","v":0},{"$f":"IF(AT29=1,AU3,\"\")","v":""},null,null,{"$f":"IF(AX3=701,1,0)","v":0},{"$f":"IF(AX29=1,AY3,\"\")","v":""},null,null,{"$f":"IF(BB3=701,1,0)","v":0},{"$f":"IF(BB29=1,BC3,\"\")","v":""},null,null,{"$f":"IF(BF3=701,1,0)","v":1},{"$f":"IF(BF29=1,BG3,\"\")","v":38},null,null,{"$f":"IF(BJ3=701,1,0)","v":0},{"$f":"IF(BJ29=1,BK3,\"\")","v":""},null,null,{"$f":"IF(BN3=701,1,0)","v":0},{"$f":"IF(BN29=1,BO3,\"\")","v":""},null,null,{"$f":"IF(BR3=701,1,0)","v":0},{"$f":"IF(BR29=1,BS3,\"\")","v":""},null,null,{"$f":"IF(BV3=701,1,0)","v":0},{"$f":"IF(BV29=1,BW3,\"\")","v":""},null,null,{"$f":"IF(BZ3=701,1,0)","v":0},{"$f":"IF(BZ29=1,CA3,\"\")","v":""},null,null,{"$f":"IF(CD3=701,1,0)","v":0},{"$f":"IF(CD29=1,CE3,\"\")","v":""},null,null,{"$f":"IF(CH3=701,1,0)","v":0},{"$f":"IF(CH29=1,CI3,\"\")","v":""}]
[null,{"$f":"IF(B4=701,1,0)","v":0},"",null,null,{"$f":"IF(F4=701,1,0)","v":0},"",null,null,{"$f":"IF(J4=701,1,0)","v":0},"",null,null,{"$f":"IF(N4=701,1,0)","v":0},"",null,null,{"$f":"IF(R4=701,1,0)","v":0},"",null,null,{"$f":"IF(V4=701,1,0)","v":0},"",null,null,{"$f":"IF(Z4=701,1,0)","v":0},"",null,null,{"$f":"IF(AD4=701,1,0)","v":0},"",null,null,{"$f":"IF(AH4=701,1,0)","v":0},"",null,null,{"$f":"IF(AL4=701,1,0)","v":0},"",null,null,{"$f":"IF(AP4=701,1,0)","v":0},"",null,null,{"$f":"IF(AT4=701,1,0)","v":0},"",null,null,{"$f":"IF(AX4=701,1,0)","v":0},"",null,null,{"$f":"IF(BB4=701,1,0)","v":0},"",null,null,{"$f":"IF(BF4=701,1,0)","v":0},"",null,null,{"$f":"IF(BJ4=701,1,0)","v":0},"",null,null,{"$f":"IF(BN4=701,1,0)","v":0},"",null,null,{"$f":"IF(BR4=701,1,0)","v":1},59,null,null,{"$f":"IF(BV4=701,1,0)","v":0},"",null,null,{"$f":"IF(BZ4=701,1,0)","v":0},"",null,null,{"$f":"IF(CD4=701,1,0)","v":0},"",null,null,{"$f":"IF(CH4=701,1,0)","v":0},""]
[null,0,"",null,null,0,"",null,null,0,"",null,null,1,57,null,null,0,"",null,null,0,"",null,null,0,"",null,null,0,"",null,null,0,"",null,null,0,"",null,null,0,"",null,null,0,"",null,null,0,"",null,null,0,"",null,null,0,"",null,null,0,"",null,null,0,"",null,null,0,"",null,null,0,"",null,null,0,"",null,null,0,"",null,null,0,""]
[null,0,"",null,null,0,"",null,null,0,"",null,null,0,"",null,null,1,33,null,null,1,33,null,null,0,"",null,null,0,"",null,null,0,"",null,null,0,"",null,null,0,"",null,null,0,"",null,null,0,"",null,null,1,45,null,null,1,50,null,null,0,"",null,null,0,"",null,null,0,"",null,null,0,"",null,null,0,"",null,null,0,"",null,null,0,""]
[null,0,"",null,null,0,"",null,null,0,"",null,null,0,"",null,null,0,"",null,null,0,"",null,null,0,"",null,null,0,"",null,null,0,"",null,null,0,"",null,null,0,"",null,null,0,"",null,null,0,"",null,null,0,"",null,null,0,"",null,null,0,"",null,null,0,"",null,null,0,"",null,null,0,"",null,null,0,"",null,null,0,"",null,null,0,""]
[null,1,54,null,null,1,58,null,null,0,"",null,null,0,"",null,null,0,"",null,null,1,48,null,null,0,"",null,null,0,"",null,null,0,"",null,null,0,"",null,null,0,"",null,null,0,"",null,null,0,"",null,null,0,"",null,null,0,"",null,null,0,"",null,null,0,"",null,null,1,63,null,null,0,"",null,null,0,"",null,null,0,"",null,null,0,""]
[null,0,"",null,null,0,"",null,null,0,"",null,null,0,"",null,null,1,51,null,null,1,47,null,null,0,"",null,null,0,"",null,null,0,"",null,null,0,"",null,null,0,"",null,null,0,"",null,null,1,45,null,null,0,"",null,null,0,"",null,null,0,"",null,null,0,"",null,null,0,"",null,null,0,"",null,null,0,"",null,null,0,"",null,null,0,""]
[null,0,"",null,null,0,"",null,null,0,"",null,null,0,"",null,null,1,40,null,null,0,"",null,null,0,"",null,null,1,39,null,null,1,46,null,null,0,"",null,null,1,37,null,null,0,"",null,null,0,"",null,null,1,58,null,null,1,43,null,null,0,"",null,null,0,"",null,null,0,"",null,null,0,"",null,null,0,"",null,null,0,"",null,null,0,""]
[null,0,"",null,null,0,"",null,null,0,"",null,null,0,"",null,null,0,"",null,null,0,"",null,null,0,"",null,null,0,"",null,null,0,"",null,null,0,"",null,null,0,"",null,null,0,"",null,null,0,"",null,null,0,"",null,null,0,"",null,null,0,"",null,null,0,"",null,null,0,"",null,null,0,"",null,null,0,"",null,null,0,"",null,null,0,""]
[null,0,"",null,null,0,"",null,null,0,"",null,null,0,"",null,null,0,"",null,null,0,"",null,null,0,"",null,null,0,"",null,null,0,"",null,null,0,"",null,null,0,"",null,null,0,"",null,null,0,"",null,null,0,"",null,null,0,"",null,null,0,"",null,null,0,"",null,null,0,"",null,null,0,"",null,null,0,"",null,null,0,"",null,null,0,""]
[null,0,"",null,null,0,"",null,null,0,"",null,null,0,"",null,null,0,"",null,null,0,"",null,null,0,"",null,null,0,"",null,null,0,"",null,null,0,"",null,null,0,"",null,null,0,"",null,null,0,"",null,null,0,"",null,null,0,"",null,null,0,"",null,null,0,"",null,null,0,"",null,null,0,"",null,null,0,"",null,null,0,"",null,null,0,""]
[null,0,"",null,null,0,"",null,null,0,"",null,null,0,"",null,null,0,"",null,null,0,"",null,null,0,"",null,null,0,"",null,null,0,"",null,null,0,"",null,null,0,"",null,null,0,"",null,null,0,"",null,null,0,"",null,null,0,"",null,null,0,"",null,null,0,"",null,null,0,"",null,null,0,"",null,null,0,"",null,null,0,"",null,null,0,""]
["Singles Won",{"$f":"SUM(B29:B40)","v":1},null,null,null,{"$f":"SUM(F29:F40)","v":2},null,null,null,{"$f":"SUM(J29:J40)","v":0},null,null,null,{"$f":"SUM(N29:N40)","v":2},null,null,null,{"$f":"SUM(R29:R40)","v":3},null,null,null,{"$f":"SUM(V29:V40)","v":3},null,null,null,{"$f":"SUM(Z29:Z40)","v":0},null,null,null,{"$f":"SUM(AD29:AD40)","v":1},null,null,null,{"$f":"SUM(AH29:AH40)","v":2},null,null,null,{"$f":"SUM(AL29:AL40)","v":1},null,null,null,{"$f":"SUM(AP29:AP40)","v":2},null,null,null,{"$f":"SUM(AT29:AT40)","v":0},null,null,null,{"$f":"SUM(AX29:AX40)","v":1},null,null,null,{"$f":"SUM(BB29:BB40)","v":2},null,null,null,{"$f":"SUM(BF29:BF40)","v":3},null,null,null,{"$f":"SUM(BJ29:BJ40)","v":0},null,null,null,{"$f":"SUM(BN29:BN40)","v":0},null,null,null,{"$f":"SUM(BR29:BR40)","v":2},null,null,null,{"$f":"SUM(BV29:BV40)","v":0},null,null,null,{"$f":"SUM(BZ29:BZ40)","v":0},null,null,null,{"$f":"SUM(CD29:CD40)","v":0},null,null,null,{"$f":"SUM(CH29:CH40)","v":0}]
["Pairs Games Won",1,null,null,null,0,null,null,null,2,null,null,null,0,null,null,null,1,null,null,null,1,null,null,null,0,null,null,null,0,null,null,null,1,null,null,null,0,null,null,null,0,null,null,null,null,null,null,null,1,null,null,null,1,null,null,null,0,null,null,null,1,null,null,null,0,null,null,null,0]

{"sheet":"JOLLY MINSTER","index":11,"n_rows":42,"n_cols":101,"rows_kept":42,"cut":false,"hidden":false,"merged":[[0,53,0,56],[0,37,0,40],[0,41,0,44],[0,45,0,48],[0,49,0,52],[0,81,0,84],[0,85,0,88],[0,57,0,60],[0,61,0,64],[0,65,0,68],[0,69,0,72],[0,73,0,76],[0,77,0,80],[0,1,0,4],[0,5,0,8],[0,9,0,12],[0,13,0,16],[0,33,0,36],[0,17,0,20],[0,21,0,24],[0,25,0,28],[0,29,0,32]]}
["JOLLY MINSTER","WEEK 1",null,null,null,"WEEK 2",null,null,null,"WEEK 3",null,null,null,"WEEK 4",null,null,null,"WEEK 5",null,null,null,"WEEK 6",null,null,null,"WEEK 7",null,null,null,"WEEK 8",null,null,null,"WEEK 9",null,null,null,"WEEK 10",null,null,null,"WEEK 11",null,null,null,"WEEK 12",null,null,null,"WEEK 13",null,null,null,"WEEK 14",null,null,null,"WEEK 15",null,null,null,"WEEK 16",null,null,null,"WEEK 17",null,null,null,"WEEK 18",null,null,null,"WEEK 19",null,null,null,"WEEK 20",null,null,null,"WEEK 21",null,null,null,"WEEK 22"]
[null,"PS","DT","100 +","180's","PS","DT","100 +","180's","PS","DT","100 +","180's","PS","DT","100 +","180's","PS","DT","100 +","180's","PS","DT","100 +","180's","PS","DT","100 +","180's","PS","DT","100 +","180's","PS","DT","100 +","180's","PS","DT","100 +","180's","PS","DT","100 +","180's","PS","DT","100 +","180's","PS","DT","100 +","180's","PS","DT","100 +","180's","PS","DT","100 +","180's","PS","DT","100 +","180's","PS","DT","100 +","180's","PS","DT","100 +","180's","PS","DT","100 +","180's","PS","DT","100 +","180's","PS","DT","100 +","180's","PS","DT","100 +","180's","GP","GW","TP","TD","AVG","AVG D/G","T100+","AVG 100+/G","T180's","T<30","Least Darts","Most Darts"]
["Eric Stapley",701,44,1,null,null,null,null,null,699,57,3,null,701,38,2,null,685,42,2,null,698,42,2,null,691,39,2,null,701,48,1,null,701,48,4,null,669,36,2,null,null,null,null,null,640,36,1,null,681,45,1,null,701,53,2,null,621,27,null,null,624,36,1,null,701,47,3,null,null,null,null,null,null,null,null,null,null,null,null,null,null,null,null,null,null,null,null,null,{"$f":"SUM(B17+F17+J17+N17+R17+V17+Z17+AD17+AH17+AL17+AP17+AT17+AX17+BB17+BF17+BJ17+BN17+BR17+BV17+BZ17+CD17+CH17)","v":15},{"$f":"SUM(B29+F29+J29+N29+R29+V29+Z29+AD29+AH29+AL29+AP29+AT29+AX29+BB29+BF29+BJ29+BN29+BR29+CD29+CH29+BV29+BZ29)","v":6},{"$f":"SUM(B3+F3+J3+N3+R3+V3+Z3+AD3+AH3+AL3+AP3+AT3+AX3+BB3+BF3+BJ3+BN3+BR3+CD3+CH3+BV3+BZ3)","v":10214},{"$f":"SUM(C3+G3+K3+O3+S3+W3+AA3+AE3+AI3+AM3+AQ3+AU3+AY3+BC3+BG3+BK3+BO3+BS3+CE3+CI3+BW3+CA3)","v":638},{"$f":"IF(CN3=0,0,(SUM(CN3/CO3)*3))","v":48.028213166144205},{"$f":"IF(CL3=0,0,SUM(CO3/CL3))","v":42.533333333333331},{"$f":"SUM(D3+H3+L3+P3+T3+X3+AB3+AF3+AJ3+AN3+AR3+AV3+AZ3+BD3+BH3+BL3+BP3+BT3+CF3+CJ3+CB3+BX3)","v":27},{"$f":"IF(CL3=0,0,(SUM(CR3/CL3)))","v":1.8},{"$f":"SUM(E3+I3+M3+Q3+U3+Y3+AC3+AG3+AK3+AO3+AS3+AW3+BA3+BE3+BI3+BM3+BQ3+BU3+CG3+CK3+BY3+CC3)","v":0},{"$f":"SUM(E17+I17+M17+Q17+U17+Y17+AC17+AG17+AK17+AO17+AS17+AW17+BA17+BE17+BI17+BM17+BQ17+BU17+CG17+CK17+BY17+CC17)","v":0},{"$f":"MIN(C29,G29,K29,O29,S29,W29,AA29,AE29,AI29,AM29,AQ29,AU29,AY29,BC29,BG29,BK29,BO29,BS29,CE29,CI29,BW29,CA29)","v":38},{"$f":"MAX($C29,$G29,$K29,$O29,$S29,$W29,$AA29,$AE29,$AI29,$AM29,$AQ29,$AU29,$AY29,$BC29,$BG29,$BK29,$BO29,$BS29,$CE29,CI29,BW29,CA29)","v":53}]
["Ian Atherton",443,36,null,null,null,null,null,null,542,39,null,null,584,48,null,null,701,54,2,null,701,45,null,null,632,33,3,null,701,38,1,null,369,30,null,null,699,48,1,null,null,null,null,null,575,42,null,null,639,39,1,null,701,44,1,null,529,36,null,null,594,42,3,null,694,39,null,null,423,30,null,null,null,null,null,null,null,null,null,null,null,null,null,null,null,null,null,null,{"$f":"SUM(B18+F18+J18+N18+R18+V18+Z18+AD18+AH18+AL18+AP18+AT18+AX18+BB18+BF18+BJ18+BN18+BR18+BV18+BZ18+CD18+CH18)","v":16},{"$f":"SUM(B30+F30+J30+N30+R30+V30+Z30+AD30+AH30+AL30+AP30+AT30+AX30+BB30+BF30+BJ30+BN30+BR30+CD30+CH30+BV30+BZ30)","v":4},{"$f":"SUM(B4+F4+J4+N4+R4+V4+Z4+AD4+AH4+AL4+AP4+AT4+AX4+BB4+BF4+BJ4+BN4+BR4+CD4+CH4+BV4+BZ4)","v":9527},{"$f":"SUM(C4+G4+K4+O4+S4+W4+AA4+AE4+AI4+AM4+AQ4+AU4+AY4+BC4+BG4+BK4+BO4+BS4+CE4+CI4+BW4+CA4)","v":643},{"$f":"IF(CN4=0,0,(SUM(CN4/CO4)*3))","v":44.44945567651633},{"$f":"IF(CL4=0,0,SUM(CO4/CL4))","v":40.1875},{"$f":"SUM(D4+H4+L4+P4+T4+X4+AB4+AF4+AJ4+AN4+AR4+AV4+AZ4+BD4+BH4+BL4+BP4+BT4+CF4+CJ4+CB4+BX4)","v":12},{"$f":"IF(CL4=0,0,(SUM(CR4/CL4)))","v":0.75},{"$f":"SUM(E4+I4+M4+Q4+U4+Y4+AC4+AG4+AK4+AO4+AS4+AW4+BA4+BE4+BI4+BM4+BQ4+BU4+CG4+CK4+BY4+CC4)","v":0},{"$f":"SUM(E18+I18+M18+Q18+U18+Y18+AC18+AG18+AK18+AO18+AS18+AW18+BA18+BE18+BI18+BM18+BQ18+BU18+CG18+CK18+BY18+CC18)","v":0},{"$f":"MIN(C30,G30,K30,O30,S30,W30,AA30,AE30,AI30,AM30,AQ30,AU30,AY30,BC30,BG30,BK30,BO30,BS30,CE30,CI30,BW30,CA30)","v":38},{"$f":"MAX($C30,$G30,$K30,$O30,$S30,$W30,$AA30,$AE30,$AI30,$AM30,$AQ30,$AU30,$AY30,$BC30,$BG30,$BK30,$BO30,$BS30,$CE30,CI30,BW30,CA30)","v":54}]
["George McPhee",675,51,2,null,null,null,null,null,701,30,1,null,464,39,null,null,701,42,1,null,699,48,2,null,633,54,1,null,475,36,null,null,297,21,2,null,371,24,1,null,null,null,null,null,699,60,1,null,701,71,1,null,699,57,1,null,529,30,null,null,685,39,2,null,697,57,null,null,null,null,null,null,null,null,null,null,null,null,null,null,null,null,null,null,null,null,null,null,15,3,9026,659,41.089529590288315,43.93333333333333,15,1,0,1,30,71]
["Craig Burns",694,51,1,null,null,null,null,null,699,63,2,null,null,null,null,null,693,51,null,null,701,58,1,null,404,27,null,null,696,45,2,null,386,27,2,null,476,30,null,null,null,null,null,null,null,null,null,null,701,32,3,null,701,51,3,null,347,24,null,null,633,45,null,null,null,null,null,null,635,36,2,null,null,null,null,null,null,null,null,null,null,null,null,null,null,null,null,null,13,3,7766,540,43.144444444444446,41.53846153846154,16,1.2307692307692308,0,0,32,58]
["Tymo Sobkowiak",245,18,null,null,null,null,null,null,667,33,3,null,693,60,null,null,701,59,null,null,509,36,null,null,561,42,null,null,593,42,3,null,372,27,null,null,454,42,null,null,null,null,null,null,701,51,null,null,701,63,1,null,701,62,1,null,699,54,null,null,458,33,null,null,611,33,null,null,642,51,1,null,null,null,null,null,null,null,null,null,null,null,null,null,null,null,null,null,16,4,9308,706,39.552407932011334,44.125,9,0.5625,0,0,51,63]
["Anthony Clemmet",701,62,2,null,null,null,null,null,691,60,null,null,701,49,1,null,516,33,null,null,701,42,2,null,373,30,2,null,701,44,null,null,699,45,2,null,567,42,2,null,null,null,null,null,701,42,1,null,699,57,2,null,516,45,1,null,682,42,null,null,655,33,3,null,694,48,2,null,685,48,2,null,null,null,null,null,null,null,null,null,null,null,null,null,null,null,null,null,16,5,10282,722,42.722991689750693,45.125,22,1.375,0,0,42,62]
["Sam Mathews",null,null,null,null,null,null,null,null,null,null,null,null,null,null,null,null,null,null,null,null,null,null,null,null,null,null,null,null,null,null,null,null,null,null,null,null,null,null,null,null,null,null,null,null,null,null,null,null,null,null,null,null,null,null,null,null,null,null,null,null,null,null,null,null,570,42,null,null,673,45,2,null,null,null,null,null,null,null,null,null,null,null,null,null,null,null,null,null,2,0,1243,87,42.862068965517238,43.5,2,1,0,0,0,0]
["Tony Read",null,null,null,null,null,null,null,null,null,null,null,null,null,null,null,null,null,null,null,null,null,null,null,null,null,null,null,null,null,null,null,null,null,null,null,null,null,null,null,null,null,null,null,null,null,null,null,null,null,null,null,null,null,null,null,null,null,null,null,null,null,null,null,null,null,null,null,null,null,null,null,null,null,null,null,null,null,null,null,null,null,null,null,null,null,null,null,null,0,0,0,0,0,0,0,0,0,0,0,0]
["Josh Willis",null,null,null,null,null,null,null,null,null,null,null,null,null,null,null,null,null,null,null,null,null,null,null,null,null,null,null,null,null,null,null,null,null,null,null,null,null,null,null,null,null,null,null,null,null,null,null,null,null,null,null,null,null,null,null,null,null,null,null,null,null,null,null,null,null,null,null,null,null,null,null,null,null,null,null,null,null,null,null,null,null,null,null,null,null,null,null,null,0,0,0,0,0,0,0,0,0,0,0,0]
["Marty Burns",null,null,null,null,null,null,null,null,null,null,null,null,null,null,null,null,null,null,null,null,null,null,null,null,null,null,null,null,null,null,null,null,null,null,null,null,null,null,null,null,null,null,null,null,null,null,null,null,null,null,null,null,null,null,null,null,null,null,null,null,null,null,null,null,null,null,null,null,587,45,2,null,null,null,null,null,null,null,null,null,null,null,null,null,null,null,null,null,1,0,587,45,39.133333333333333,45,2,2,0,0,0,0]
[null,null,null,null,null,null,null,null,null,null,null,null,null,null,null,null,null,null,null,null,null,null,null,null,null,null,null,null,null,null,null,null,null,null,null,null,null,null,null,null,null,null,null,null,null,null,null,null,null,null,null,null,null,null,null,null,null,null,null,null,null,null,null,null,null,null,null,null,null,null,null,null,null,null,null,null,null,null,null,null,null,null,null,null,null,null,null,null,null,0,0,0,0,0,0,0,0,0,0,0,0]
[null,null,null,null,null,null,null,null,null,null,null,null,null,null,null,null,null,null,null,null,null,null,null,null,null,null,null,null,null,null,null,null,null,null,null,null,null,null,null,null,null,null,null,null,null,null,null,null,null,null,null,null,null,null,null,null,null,null,null,null,null,null,null,null,null,null,null,null,null,null,null,null,null,null,null,null,null,null,null,null,null,null,null,null,null,null,null,null,null,0,0,0,0,0,0,0,0,0,0,0,0]
[]
[]
[null,{"$f":"IF(B3<>\"\",1,0)","v":1},{"$f":"IF(C3<=30,1,0)","v":0},{"$f":"IF(C3=0,1,0)","v":0},{"$f":"IF(B29=1,(SUM(C17-D17)),0)","v":0},{"$f":"IF(F3<>\"\",1,0)","v":0},{"$f":"IF(G3<=30,1,0)","v":1},{"$f":"IF(G3=0,1,0)","v":1},{"$f":"IF(F29=1,(SUM(G17-H17)),0)","v":0},{"$f":"IF(J3<>\"\",1,0)","v":1},{"$f":"IF(K3<=30,1,0)","v":0},{"$f":"IF(K3=0,1,0)","v":0},{"$f":"IF(J29=1,(SUM(K17-L17)),0)","v":0},{"$f":"IF(N3<>\"\",1,0)","v":1},{"$f":"IF(O3<=30,1,0)","v":0},{"$f":"IF(O3=0,1,0)","v":0},{"$f":"IF(N29=1,(SUM(O17-P17)),0)","v":0},{"$f":"IF(R3<>\"\",1,0)","v":1},{"$f":"IF(S3<=30,1,0)","v":0},{"$f":"IF(S3=0,1,0)","v":0},{"$f":"IF(R29=1,(SUM(S17-T17)),0)","v":0},{"$f":"IF(V3<>\"\",1,0)","v":1},{"$f":"IF(W3<=30,1,0)","v":0},{"$f":"IF(W3=0,1,0)","v":0},{"$f":"IF(V29=1,(SUM(W17-X17)),0)","v":0},{"$f":"IF(Z3<>\"\",1,0)","v":1},{"$f":"IF(AA3<=30,1,0)","v":0},{"$f":"IF(AA3=0,1,0)","v":0},{"$f":"IF(Z29=1,(SUM(AA17-AB17)),0)","v":0},{"$f":"IF(AD3<>\"\",1,0)","v":1},{"$f":"IF(AE3<=30,1,0)","v":0},{"$f":"IF(AE3=0,1,0)","v":0},{"$f":"IF(AD29=1,(SUM(AE17-AF17)),0)","v":0},{"$f":"IF(AH3<>\"\",1,0)","v":1},{"$f":"IF(AI3<=30,1,0)","v":0},{"$f":"IF(AI3=0,1,0)","v":0},{"$f":"IF(AH29=1,(SUM(AI17-AJ17)),0)","v":0},{"$f":"IF(AL3<>\"\",1,0)","v":1},{"$f":"IF(AM3<=30,1,0)","v":0},{"$f":"IF(AM3=0,1,0)","v":0},{"$f":"IF(AL29=1,(SUM(AM17-AN17)),0)","v":0},{"$f":"IF(AP3<>\"\",1,0)","v":0},{"$f":"IF(AQ3<=30,1,0)","v":1},{"$f":"IF(AQ3=0,1,0)","v":1},{"$f":"IF(AP29=1,(SUM(AQ17-AR17)),0)","v":0},{"$f":"IF(AT3<>\"\",1,0)","v":1},{"$f":"IF(AU3<=30,1,0)","v":0},{"$f":"IF(AU3=0,1,0)","v":0},{"$f":"IF(AT29=1,(SUM(AU17-AV17)),0)","v":0},{"$f":"IF(AX3<>\"\",1,0)","v":1},{"$f":"IF(AY3<=30,1,0)","v":0},{"$f":"IF(AY3=0,1,0)","v":0},{"$f":"IF(AX29=1,(SUM(AY17-AZ17)),0)","v":0},{"$f":"IF(BB3<>\"\",1,0)","v":1},{"$f":"IF(BC3<=30,1,0)","v":0},{"$f":"IF(BC3=0,1,0)","v":0},{"$f":"IF(BB29=1,(SUM(BC17-BD17)),0)","v":0},{"$f":"IF(BF3<>\"\",1,0)","v":1},{"$f":"IF(BG3<=30,1,0)","v":1},{"$f":"IF(BG3=0,1,0)","v":0},{"$f":"IF(BF29=1,(SUM(BG17-BH17)),0)","v":0},{"$f":"IF(BJ3<>\"\",1,0)","v":1},{"$f":"IF(BK3<=30,1,0)","v":0},{"$f":"IF(BK3=0,1,0)","v":0},{"$f":"IF(BJ29=1,(SUM(BK17-BL17)),0)","v":0},{"$f":"IF(BN3<>\"\",1,0)","v":1},{"$f":"IF(BO3<=30,1,0)","v":0},{"$f":"IF(BO3=0,1,0)","v":0},{"$f":"IF(BN29=1,(SUM(BO17-BP17)),0)","v":0},{"$f":"IF(BR3<>\"\",1,0)","v":0},{"$f":"IF(BS3<=30,1,0)","v":1},{"$f":"IF(BS3=0,1,0)","v":1},{"$f":"IF(BR29=1,(SUM(BS17-BT17)),0)","v":0},{"$f":"IF(BV3<>\"\",1,0)","v":0},{"$f":"IF(BW3<=30,1,0)","v":1},{"$f":"IF(BW3=0,1,0)","v":1},{"$f":"IF(BV29=1,(SUM(BW17-BX17)),0)","v":0},{"$f":"IF(BZ3<>\"\",1,0)","v":0},{"$f":"IF(CA3<=30,1,0)","v":1},{"$f":"IF(CA3=0,1,0)","v":1},{"$f":"IF(BZ29=1,(SUM(CA17-CB17)),0)","v":0},{"$f":"IF(CD3<>\"\",1,0)","v":0},{"$f":"IF(CE3<=30,1,0)","v":1},{"$f":"IF(CE3=0,1,0)","v":1},{"$f":"IF(CD29=1,(SUM(CE17-CF17)),0)","v":0},{"$f":"IF(CH3<>\"\",1,0)","v":0},{"$f":"IF(CI3<=30,1,0)","v":1},{"$f":"IF(CI3=0,1,0)","v":1},{"$f":"IF(CH29=1,(SUM(CI17-CJ17)),0)","v":0}]
[null,1,{"$f":"IF(C4<=30,1,0)","v":0},{"$f":"IF(C4=0,1,0)","v":0},{"$f":"IF(B30=1,(SUM(C18-D18)),0)","v":0},0,{"$f":"IF(G4<=30,1,0)","v":1},{"$f":"IF(G4=0,1,0)","v":1},{"$f":"IF(F30=1,(SUM(G18-H18)),0)","v":0},1,{"$f":"IF(K4<=30,1,0)","v":0},{"$f":"IF(K4=0,1,0)","v":0},{"$f":"IF(J30=1,(SUM(K18-L18)),0)","v":0},1,{"$f":"IF(O4<=30,1,0)","v":0},{"$f":"IF(O4=0,1,0)","v":0},{"$f":"IF(N30=1,(SUM(O18-P18)),0)","v":0},1,{"$f":"IF(S4<=30,1,0)","v":0},{"$f":"IF(S4=0,1,0)","v":0},{"$f":"IF(R30=1,(SUM(S18-T18)),0)","v":0},1,{"$f":"IF(W4<=30,1,0)","v":0},{"$f":"IF(W4=0,1,0)","v":0},{"$f":"IF(V30=1,(SUM(W18-X18)),0)","v":0},1,{"$f":"IF(AA4<=30,1,0)","v":0},{"$f":"IF(AA4=0,1,0)","v":0},{"$f":"IF(Z30=1,(SUM(AA18-AB18)),0)","v":0},1,{"$f":"IF(AE4<=30,1,0)","v":0},{"$f":"IF(AE4=0,1,0)","v":0},{"$f":"IF(AD30=1,(SUM(AE18-AF18)),0)","v":0},1,{"$f":"IF(AI4<=30,1,0)","v":1},{"$f":"IF(AI4=0,1,0)","v":0},{"$f":"IF(AH30=1,(SUM(AI18-AJ18)),0)","v":0},1,{"$f":"IF(AM4<=30,1,0)","v":0},{"$f":"IF(AM4=0,1,0)","v":0},{"$f":"IF(AL30=1,(SUM(AM18-AN18)),0)","v":0},0,{"$f":"IF(AQ4<=30,1,0)","v":1},{"$f":"IF(AQ4=0,1,0)","v":1},{"$f":"IF(AP30=1,(SUM(AQ18-AR18)),0)","v":0},1,{"$f":"IF(AU4<=30,1,0)","v":0},{"$f":"IF(AU4=0,1,0)","v":0},{"$f":"IF(AT30=1,(SUM(AU18-AV18)),0)","v":0},1,{"$f":"IF(AY4<=30,1,0)","v":0},{"$f":"IF(AY4=0,1,0)","v":0},{"$f":"IF(AX30=1,(SUM(AY18-AZ18)),0)","v":0},1,{"$f":"IF(BC4<=30,1,0)","v":0},{"$f":"IF(BC4=0,1,0)","v":0},{"$f":"IF(BB30=1,(SUM(BC18-BD18)),0)","v":0},1,{"$f":"IF(BG4<=30,1,0)","v":0},{"$f":"IF(BG4=0,1,0)","v":0},{"$f":"IF(BF30=1,(SUM(BG18-BH18)),0)","v":0},1,{"$f":"IF(BK4<=30,1,0)","v":0},{"$f":"IF(BK4=0,1,0)","v":0},{"$f":"IF(BJ30=1,(SUM(BK18-BL18)),0)","v":0},1,{"$f":"IF(BO4<=30,1,0)","v":0},{"$f":"IF(BO4=0,1,0)","v":0},{"$f":"IF(BN30=1,(SUM(BO18-BP18)),0)","v":0},1,{"$f":"IF(BS4<=30,1,0)","v":1},{"$f":"IF(BS4=0,1,0)","v":0},{"$f":"IF(BR30=1,(SUM(BS18-BT18)),0)","v":0},0,{"$f":"IF(BW4<=30,1,0)","v":1},{"$f":"IF(BW4=0,1,0)","v":1},{"$f":"IF(BV30=1,(SUM(BW18-BX18)),0)","v":0},0,{"$f":"IF(CA4<=30,1,0)","v":1},{"$f":"IF(CA4=0,1,0)","v":1},{"$f":"IF(BZ30=1,(SUM(CA18-CB18)),0)","v":0},0,{"$f":"IF(CE4<=30,1,0)","v":1},{"$f":"IF(CE4=0,1,0)","v":1},{"$f":"IF(CD30=1,(SUM(CE18-CF18)),0)","v":0},0,{"$f":"IF(CI4<=30,1,0)","v":1},{"$f":"IF(CI4=0,1,0)","v":1},{"$f":"IF(CH30=1,(SUM(CI18-CJ18)),0)","v":0}]
[null,1,0,0,0,0,1,1,0,1,1,0,1,1,0,0,0,1,0,0,0,1,0,0,0,1,0,0,0,1,0,0,0,1,1,0,0,1,1,0,0,0,1,1,0,1,0,0,0,1,0,0,0,1,0,0,0,1,1,0,0,1,0,0,0,1,0,0,0,0,1,1,0,0,1,1,0,0,1,1,0,0,1,1,0,0,1,1,0]
[null,1,0,0,0,0,1,1,0,1,0,0,0,0,1,1,0,1,0,0,0,1,0,0,0,1,1,0,0,1,0,0,0,1,1,0,0,1,1,0,0,0,1,1,0,0,1,1,0,1,0,0,0,1,0,0,0,1,1,0,0,1,0,0,0,0,1,1,0,1,0,0,0,0,1,1,0,0,1,1,0,0,1,1,0,0,1,1,0]
[null,1,1,0,0,0,1,1,0,1,0,0,0,1,0,0,0,1,0,0,0,1,0,0,0,1,0,0,0,1,0,0,0,1,1,0,0,1,0,0,0,0,1,1,0,1,0,0,0,1,0,0,0,1,0,0,0,1,0,0,0,1,0,0,0,1,0,0,0,1,0,0,0,0,1,1,0,0,1,1,0,0,1,1,0,0,1,1,0]
[null,1,0,0,0,0,1,1,0,1,0,0,0,1,0,0,0,1,0,0,0,1,0,0,0,1,1,0,0,1,0,0,0,1,0,0,0,1,0,0,0,0,1,1,0,1,0,0,0,1,0,0,0,1,0,0,0,1,0,0,0,1,0,0,0,1,0,0,0,1,0,0,0,0,1,1,0,0,1,1,0,0,1,1,0,0,1,1,0]
[null,0,1,1,0,0,1,1,0,0,1,1,0,0,1,1,0,0,1,1,0,0,1,1,0,0,1,1,0,0,1,1,0,0,1,1,0,0,1,1,0,0,1,1,0,0,1,1,0,0,1,1,0,0,1,1,0,0,1,1,0,0,1,1,0,1,0,0,0,1,0,0,0,0,1,1,0,0,1,1,0,0,1,1,0,0,1,1,0]
[null,0,1,1,0,0,1,1,0,0,1,1,0,0,1,1,0,0,1,1,0,0,1,1,0,0,1,1,0,0,1,1,0,0,1,1,0,0,1,1,0,0,1,1,0,0,1,1,0,0,1,1,0,0,1,1,0,0,1,1,0,0,1,1,0,0,1,1,0,0,1,1,0,0,1,1,0,0,1,1,0,0,1,1,0,0,1,1,0]
[null,0,1,1,0,0,1,1,0,0,1,1,0,0,1,1,0,0,1,1,0,0,1,1,0,0,1,1,0,0,1,1,0,0,1,1,0,0,1,1,0,0,1,1,0,0,1,1,0,0,1,1,0,0,1,1,0,0,1,1,0,0,1,1,0,0,1,1,0,0,1,1,0,0,1,1,0,0,1,1,0,0,1,1,0,0,1,1,0]
[null,0,1,1,0,0,1,1,0,0,1,1,0,0,1,1,0,0,1,1,0,0,1,1,0,0,1,1,0,0,1,1,0,0,1,1,0,0,1,1,0,0,1,1,0,0,1,1,0,0,1,1,0,0,1,1,0,0,1,1,0,0,1,1,0,0,1,1,0,1,0,0,0,0,1,1,0,0,1,1,0,0,1,1,0,0,1,1,0]
[null,0,1,1,0,0,1,1,0,0,1,1,0,0,1,1,0,0,1,1,0,0,1,1,0,0,1,1,0,0,1,1,0,0,1,1,0,0,1,1,0,0,1,1,0,0,1,1,0,0,1,1,0,0,1,1,0,0,1,1,0,0,1,1,0,0,1,1,0,0,1,1,0,0,1,1,0,0,1,1,0,0,1,1,0,0,1,1,0]
[null,0,1,1,0,0,1,1,0,0,1,1,0,0,1,1,0,0,1,1,0,0,1,1,0,0,1,1,0,0,1,1,0,0,1,1,0,0,1,1,0,0,1,1,0,0,1,1,0,0,1,1,0,0,1,1,0,0,1,1,0,0,1,1,0,0,1,1,0,0,1,1,0,0,1,1,0,0,1,1,0,0,1,1,0,0,1,1,0]
[null,{"$f":"IF(B3=701,1,0)","v":1},{"$f":"IF(B29=1,C3,\"\")","v":44},null,null,{"$f":"IF(F3=701,1,0)","v":0},{"$f":"IF(F29=1,G3,\"\")","v":""},null,null,{"$f":"IF(J3=701,1,0)","v":0},{"$f":"IF(J29=1,K3,\"\")","v":""},null,null,{"$f":"IF(N3=701,1,0)","v":1},{"$f":"IF(N29=1,O3,\"\")","v":38},null,null,{"$f":"IF(R3=701,1,0)","v":0},{"$f":"IF(R29=1,S3,\"\")","v":""},null,null,{"$f":"IF(V3=701,1,0)","v":0},{"$f":"IF(V29=1,W3,\"\")","v":""},null,null,{"$f":"IF(Z3=701,1,0)","v":0},{"$f":"IF(Z29=1,AA3,\"\")","v":""},null,null,{"$f":"IF(AD3=701,1,0)","v":1},{"$f":"IF(AD29=1,AE3,\"\")","v":48},null,null,{"$f":"IF(AH3=701,1,0)","v":1},{"$f":"IF(AH29=1,AI3,\"\")","v":48},null,null,{"$f":"IF(AL3=701,1,0)","v":0},{"$f":"IF(AL29=1,AM3,\"\")","v":""},null,null,{"$f":"IF(AP3=701,1,0)","v":0},{"$f":"IF(AP29=1,AQ3,\"\")","v":""},null,null,{"$f":"IF(AT3=701,1,0)","v":0},{"$f":"IF(AT29=1,AU3,\"\")","v":""},null,null,{"$f":"IF(AX3=701,1,0)","v":0},{"$f":"IF(AX29=1,AY3,\"\")","v":""},null,null,{"$f":"IF(BB3=701,1,0)","v":1},{"$f":"IF(BB29=1,BC3,\"\")","v":53},null,null,{"$f":"IF(BF3=701,1,0)","v":0},{"$f":"IF(BF29=1,BG3,\"\")","v":""},null,null,{"$f":"IF(BJ3=701,1,0)","v":0},{"$f":"IF(BJ29=1,BK3,\"\")","v":""},null,null,{"$f":"IF(BN3=701,1,0)","v":1},{"$f":"IF(BN29=1,BO3,\"\")","v":47},null,null,{"$f":"IF(BR3=701,1,0)","v":0},{"$f":"IF(BR29=1,BS3,\"\")","v":""},null,null,{"$f":"IF(BV3=701,1,0)","v":0},{"$f":"IF(BV29=1,BW3,\"\")","v":""},null,null,{"$f":"IF(BZ3=701,1,0)","v":0},{"$f":"IF(BZ29=1,CA3,\"\")","v":""},null,null,{"$f":"IF(CD3=701,1,0)","v":0},{"$f":"IF(CD29=1,CE3,\"\")","v":""},null,null,{"$f":"IF(CH3=701,1,0)","v":0},{"$f":"IF(CH29=1,CI3,\"\")","v":""}]
[null,0,"",null,null,0,"",null,null,0,"",null,null,0,"",null,null,1,54,null,null,1,45,null,null,0,"",null,null,1,38,null,null,0,"",null,null,0,"",null,null,0,"",null,null,0,"",null,null,0,"",null,null,1,44,null,null,0,"",null,null,0,"",null,null,0,"",null,null,0,"",null,null,0,"",null,null,0,"",null,null,0,"",null,null,0,""]
[null,0,"",null,null,0,"",null,null,1,30,null,null,0,"",null,null,1,42,null,null,0,"",null,null,0,"",null,null,0,"",null,null,0,"",null,null,0,"",null,null,0,"",null,null,0,"",null,null,1,71,null,null,0,"",null,null,0,"",null,null,0,"",null,null,0,"",null,null,0,"",null,null,0,"",null,null,0,"",null,null,0,"",null,null,0,""]
[null,0,"",null,null,0,"",null,null,0,"",null,null,0,"",null,null,0,"",null,null,1,58,null,null,0,"",null,null,0,"",null,null,0,"",null,null,0,"",null,null,0,"",null,null,0,"",null,null,1,32,null,null,1,51,null,null,0,"",null,null,0,"",null,null,0,"",null,null,0,"",null,null,0,"",null,null,0,"",null,null,0,"",null,null,0,""]
[null,0,"",null,null,0,"",null,null,0,"",null,null,0,"",null,null,1,59,null,null,0,"",null,null,0,"",null,null,0,"",null,null,0,"",null,null,0,"",null,null,0,"",null,null,1,51,null,null,1,63,null,null,1,62,null,null,0,"",null,null,0,"",null,null,0,"",null,null,0,"",null,null,0,"",null,null,0,"",null,null,0,"",null,null,0,""]
[null,1,62,null,null,0,"",null,null,0,"",null,null,1,49,null,null,0,"",null,null,1,42,null,null,0,"",null,null,1,44,null,null,0,"",null,null,0,"",null,null,0,"",null,null,1,42,null,null,0,"",null,null,0,"",null,null,0,"",null,null,0,"",null,null,0,"",null,null,0,"",null,null,0,"",null,null,0,"",null,null,0,"",null,null,0,""]
[null,0,"",null,null,0,"",null,null,0,"",null,null,0,"",null,null,0,"",null,null,0,"",null,null,0,"",null,null,0,"",null,null,0,"",null,null,0,"",null,null,0,"",null,null,0,"",null,null,0,"",null,null,0,"",null,null,0,"",null,null,0,"",null,null,0,"",null,null,0,"",null,null,0,"",null,null,0,"",null,null,0,"",null,null,0,""]
[null,0,"",null,null,0,"",null,null,0,"",null,null,0,"",null,null,0,"",null,null,0,"",null,null,0,"",null,null,0,"",null,null,0,"",null,null,0,"",null,null,0,"",null,null,0,"",null,null,0,"",null,null,0,"",null,null,0,"",null,null,0,"",null,null,0,"",null,null,0,"",null,null,0,"",null,null,0,"",null,null,0,"",null,null,0,""]
[null,0,"",null,null,0,"",null,null,0,"",null,null,0,"",null,null,0,"",null,null,0,"",null,null,0,"",null,null,0,"",null,null,0,"",null,null,0,"",null,null,0,"",null,null,0,"",null,null,0,"",null,null,0,"",null,null,0,"",null,null,0,"",null,null,0,"",null,null,0,"",null,null,0,"",null,null,0,"",null,null,0,"",null,null,0,""]
[null,0,"",null,null,0,"",null,null,0,"",null,null,0,"",null,null,0,"",null,null,0,"",null,null,0,"",null,null,0,"",null,null,0,"",null,null,0,"",null,null,0,"",null,null,0,"",null,null,0,"",null,null,0,"",null,null,0,"",null,null,0,"",null,null,0,"",null,null,0,"",null,null,0,"",null,null,0,"",null,null,0,"",null,null,0,""]
[null,0,"",null,null,0,"",null,null,0,"",null,null,0,"",null,null,0,"",null,null,0,"",null,null,0,"",null,null,0,"",null,null,0,"",null,null,0,"",null,null,0,"",null,null,0,"",null,null,0,"",null,null,0,"",null,null,0,"",null,null,0,"",null,null,0,"",null,null,0,"",null,null,0,"",null,null,0,"",null,null,0,"",null,null,0,""]
[null,0,"",null,null,0,"",null,null,0,"",null,null,0,"",null,null,0,"",null,null,0,"",null,null,0,"",null,null,0,"",null,null,0,"",null,null,0,"",null,null,0,"",null,null,0,"",null,null,0,"",null,null,0,"",null,null,0,"",null,null,0,"",null,null,0,"",null,null,0,"",null,null,0,"",null,null,0,"",null,null,0,"",null,null,0,""]
["Singles Won",{"$f":"SUM(B29:B40)","v":2},null,null,null,{"$f":"SUM(F29:F40)","v":0},null,null,null,{"$f":"SUM(J29:J40)","v":1},null,null,null,{"$f":"SUM(N29:N40)","v":2},null,null,null,{"$f":"SUM(R29:R40)","v":3},null,null,null,{"$f":"SUM(V29:V40)","v":3},null,null,null,{"$f":"SUM(Z29:Z40)","v":0},null,null,null,{"$f":"SUM(AD29:AD40)","v":3},null,null,null,{"$f":"SUM(AH29:AH40)","v":1},null,null,null,{"$f":"SUM(AL29:AL40)","v":0},null,null,null,{"$f":"SUM(AP29:AP40)","v":0},null,null,null,{"$f":"SUM(AT29:AT40)","v":2},null,null,null,{"$f":"SUM(AX29:AX40)","v":3},null,null,null,{"$f":"SUM(BB29:BB40)","v":4},null,null,null,{"$f":"SUM(BF29:BF40)","v":0},null,null,null,{"$f":"SUM(BJ29:BJ40)","v":0},null,null,null,{"$f":"SUM(BN29:BN40)","v":1},null,null,null,{"$f":"SUM(BR29:BR40)","v":0},null,null,null,{"$f":"SUM(BV29:BV40)","v":0},null,null,null,{"$f":"SUM(BZ29:BZ40)","v":0},null,null,null,{"$f":"SUM(CD29:CD40)","v":0},null,null,null,{"$f":"SUM(CH29:CH40)","v":0}]
["Pairs Games Won",0,null,null,null,1,null,null,null,1,null,null,null,1,null,null,null,2,null,null,null,1,null,null,null,1,null,null,null,0,null,null,null,1,null,null,null,0,null,null,null,null,null,null,null,0,null,null,null,0,null,null,null,2,null,null,null,0,null,null,null,0,null,null,null,1,null,null,null,0]

{"sheet":"WORKMENS CLUB \"A\"","index":12,"n_rows":42,"n_cols":101,"rows_kept":42,"cut":false,"hidden":false,"merged":[[0,61,0,64],[0,65,0,68],[0,37,0,40],[0,41,0,44],[0,45,0,48],[0,49,0,52],[0,57,0,60],[0,21,0,24],[0,25,0,28],[0,29,0,32],[0,33,0,36],[0,53,0,56],[0,73,0,76],[0,77,0,80],[0,81,0,84],[0,85,0,88],[0,69,0,72],[0,1,0,4],[0,5,0,8],[0,9,0,12],[0,13,0,16],[0,17,0,20]]}
["WORKMENS CLUB \"A\"","WEEK 1",null,null,null,"WEEK 2",null,null,null,"WEEK 3",null,null,null,"WEEK 4",null,null,null,"WEEK 5",null,null,null,"WEEK 6",null,null,null,"WEEK 7",null,null,null,"WEEK 8",null,null,null,"WEEK 9",null,null,null,"WEEK 10",null,null,null,"WEEK 11",null,null,null,"WEEK 12",null,null,null,"WEEK 13",null,null,null,"WEEK 14",null,null,null,"WEEK 15",null,null,null,"WEEK 16",null,null,null,"WEEK 17",null,null,null,"WEEK 18",null,null,null,"WEEK 19",null,null,null,"WEEK 20",null,null,null,"WEEK 21",null,null,null,"WEEK 22"]
[null,"PS","DT","100 +","180's","PS","DT","100 +","180's","PS","DT","100 +","180's","PS","DT","100 +","180's","PS","DT","100 +","180's","PS","DT","100 +","180's","PS","DT","100 +","180's","PS","DT","100 +","180's","PS","DT","100 +","180's","PS","DT","100 +","180's","PS","DT","100 +","180's","PS","DT","100 +","180's","PS","DT","100 +","180's","PS","DT","100 +","180's","PS","DT","100 +","180's","PS","DT","100 +","180's","PS","DT","100 +","180's","PS","DT","100 +","180's","PS","DT","100 +","180's","PS","DT","100 +","180's","PS","DT","100 +","180's","PS","DT","100 +","180's","GP","GW","TP","TD","AVG","AVG D/G","T100+","AVG 100+/G","T180's","T<30","Least Darts","Most Darts"]
["Mick Smedley",null,null,null,null,701,38,3,null,701,36,5,null,701,40,null,null,417,39,1,null,701,37,2,null,699,48,2,null,701,42,1,null,null,null,null,null,null,null,null,null,701,43,1,null,701,62,2,null,701,42,1,null,701,47,2,null,653,36,null,null,701,31,1,null,701,32,2,null,380,24,null,null,null,null,null,null,null,null,null,null,null,null,null,null,null,null,null,null,{"$f":"SUM(B17+F17+J17+N17+R17+V17+Z17+AD17+AH17+AL17+AP17+AT17+AX17+BB17+BF17+BJ17+BN17+BR17+BV17+BZ17+CD17+CH17)","v":15},{"$f":"SUM(B29+F29+J29+N29+R29+V29+Z29+AD29+AH29+AL29+AP29+AT29+AX29+BB29+BF29+BJ29+BN29+BR29+BV29+BZ29+CD29+CH29)","v":11},{"$f":"SUM(B3+F3+J3+N3+R3+V3+Z3+AD3+AH3+AL3+AP3+AT3+AX3+BB3+BF3+BJ3+BN3+BR3+BV3+BZ3+CD3+CH3)","v":9860},{"$f":"SUM(C3+G3+K3+O3+S3+W3+AA3+AE3+AI3+AM3+AQ3+AU3+AY3+BC3+BG3+BK3+BO3+BS3+BW3+CA3+CE3+CI3)","v":597},{"$f":"IF(CN3=0,0,(SUM(CN3/CO3)*3))","v":49.547738693467338},{"$f":"IF(CL3=0,0,SUM(CO3/CL3))","v":39.799999999999997},{"$f":"SUM(D3+H3+L3+P3+T3+X3+AB3+AF3+AJ3+AN3+AR3+AV3+AZ3+BD3+BH3+BL3+BP3+BT3+BX3+CB3+CF3+CJ3)","v":23},{"$f":"IF(CL3=0,0,(SUM(CR3/CL3)))","v":1.5333333333333334},{"$f":"SUM(E3+I3+M3+Q3+U3+Y3+AC3+AG3+AK3+AO3+AS3+AW3+BA3+BE3+BI3+BM3+BQ3+BU3+BY3+CC3+CG3+CK3)","v":0},{"$f":"SUM(E17+I17+M17+Q17+U17+Y17+AC17+AG17+AK17+AO17+AS17+AW17+BA17+BE17+BI17+BM17+BQ17+BU17+BY17+CC17+CG17+CK17)","v":0},{"$f":"MIN(C29,G29,K29,O29,S29,W29,AA29,AE29,AI29,AM29,AQ29,AU29,AY29,BC29,BG29,BK29,BO29,BS29,BW29,CA29,CE29,CI29)","v":31},{"$f":"MAX($C29,$G29,$K29,$O29,$S29,$W29,$AA29,$AE29,$AI29,$AM29,$AQ29,$AU29,$AY29,$BC29,$BG29,$BK29,$BO29,$BS29,$BW29,$CA29,$CE29,$CI29)","v":62}]
["Joe Hutchinson",null,null,null,null,697,45,2,null,701,37,1,null,699,54,2,null,null,null,null,null,701,40,3,null,701,52,1,null,701,44,1,null,701,41,2,null,null,null,null,null,563,30,null,null,null,null,1,null,701,42,2,null,628,36,2,null,448,24,1,null,685,57,2,null,689,42,2,null,667,33,2,null,null,null,null,null,null,null,null,null,null,null,null,null,null,null,null,null,{"$f":"SUM(B18+F18+J18+N18+R18+V18+Z18+AD18+AH18+AL18+AP18+AT18+AX18+BB18+BF18+BJ18+BN18+BR18+BV18+BZ18+CD18+CH18)","v":14},{"$f":"SUM(B30+F30+J30+N30+R30+V30+Z30+AD30+AH30+AL30+AP30+AT30+AX30+BB30+BF30+BJ30+BN30+BR30+BV30+BZ30+CD30+CH30)","v":6},{"$f":"SUM(B4+F4+J4+N4+R4+V4+Z4+AD4+AH4+AL4+AP4+AT4+AX4+BB4+BF4+BJ4+BN4+BR4+BV4+BZ4+CD4+CH4)","v":9282},{"$f":"SUM(C4+G4+K4+O4+S4+W4+AA4+AE4+AI4+AM4+AQ4+AU4+AY4+BC4+BG4+BK4+BO4+BS4+BW4+CA4+CE4+CI4)","v":577},{"$f":"IF(CN4=0,0,(SUM(CN4/CO4)*3))","v":48.259965337954938},41.214285714285715,{"$f":"SUM(D4+H4+L4+P4+T4+X4+AB4+AF4+AJ4+AN4+AR4+AV4+AZ4+BD4+BH4+BL4+BP4+BT4+BX4+CB4+CF4+CJ4)","v":24},{"$f":"IF(CL4=0,0,(SUM(CR4/CL4)))","v":1.7142857142857142},{"$f":"SUM(E4+I4+M4+Q4+U4+Y4+AC4+AG4+AK4+AO4+AS4+AW4+BA4+BE4+BI4+BM4+BQ4+BU4+BY4+CC4+CG4+CK4)","v":0},{"$f":"SUM(E18+I18+M18+Q18+U18+Y18+AC18+AG18+AK18+AO18+AS18+AW18+BA18+BE18+BI18+BM18+BQ18+BU18+BY18+CC18+CG18+CK18)","v":0},{"$f":"MIN(C30,G30,K30,O30,S30,W30,AA30,AE30,AI30,AM30,AQ30,AU30,AY30,BC30,BG30,BK30,BO30,BS30,BW30,CA30,CE30,CI30)","v":37},52]
["Andy Etherington",null,null,null,null,676,42,1,null,701,58,null,1,701,43,2,null,701,38,1,null,628,42,1,null,561,39,null,null,433,30,null,null,701,30,4,null,null,null,null,null,701,46,2,null,697,null,1,null,701,41,4,null,683,39,4,null,563,36,1,null,null,null,null,null,null,null,null,null,null,null,2,null,null,null,null,null,null,null,null,null,null,null,null,null,null,null,null,null,13,6,8447,484,52.357438016528917,37.230769230769234,23,1.7692307692307692,1,1,30,58]
["Bill Rispin",null,null,null,null,null,null,null,null,null,null,3,null,410,27,null,null,469,24,1,null,null,null,null,null,null,null,1,null,701,36,null,null,699,48,1,null,null,null,null,null,693,42,1,null,null,null,null,null,null,null,null,null,null,null,null,null,null,null,null,null,null,null,1,null,413,27,3,null,null,null,null,null,null,null,null,null,null,null,null,null,null,null,null,null,null,null,null,null,6,1,3385,204,49.779411764705884,34,11,1.8333333333333333,0,0,36,36]
["Morris Walker",null,null,null,null,701,51,4,null,701,65,1,null,701,43,1,null,364,24,null,null,701,39,2,null,701,48,1,null,701,37,3,null,701,48,1,null,null,null,null,null,693,36,3,null,673,39,2,null,669,42,2,null,314,24,null,null,701,31,4,null,701,30,3,null,595,27,3,null,701,45,1,null,null,null,null,null,null,null,null,null,null,null,null,null,null,null,null,null,16,10,10318,629,49.211446740858506,39.3125,31,1.9375,0,1,30,65]
["Morris Weighell",null,null,null,null,null,null,null,null,null,null,null,null,null,null,null,null,463,39,null,null,693,54,1,null,null,null,null,null,null,null,null,null,580,45,null,null,null,null,null,null,null,null,1,null,701,43,null,null,null,null,null,null,null,null,1,null,671,36,1,null,699,63,null,null,null,null,null,null,701,46,null,null,null,null,null,null,null,null,null,null,null,null,null,null,null,null,null,null,7,2,4508,326,41.484662576687114,46.571428571428569,4,0.5714285714285714,0,0,43,46]
["Tom Melvil",null,null,null,null,null,null,null,null,null,null,null,null,null,null,null,null,null,null,null,null,null,null,null,null,450,36,null,null,null,null,null,null,null,null,null,null,null,null,null,null,null,null,null,null,null,null,null,null,null,null,null,null,null,null,null,null,null,null,null,null,null,null,null,null,null,null,null,null,null,null,null,null,null,null,null,null,null,null,null,null,null,null,null,null,null,null,null,null,1,0,450,36,37.5,36,0,0,0,0,0,0]
["Chris Pattison",null,null,null,null,701,43,1,null,701,56,null,null,null,null,null,null,null,null,null,null,null,null,null,null,null,null,null,null,null,null,null,null,null,null,null,null,null,null,null,null,null,null,null,null,null,null,null,null,701,45,1,null,605,30,1,null,701,46,1,null,701,34,3,null,609,33,null,null,669,36,1,null,null,null,null,null,null,null,null,null,null,null,null,null,null,null,null,null,8,5,5388,323,50.043343653250773,40.375,8,1,0,0,34,56]
["Matthew Cornforth",null,null,null,null,701,37,2,null,483,30,null,null,701,46,1,null,701,37,2,null,679,30,3,null,701,54,1,null,669,39,3,null,697,27,3,null,null,null,null,null,701,44,3,null,701,37,3,1,701,29,4,null,666,39,1,null,null,null,null,null,699,54,2,null,701,33,2,null,571,21,3,null,null,null,null,null,null,null,null,null,null,null,null,null,null,null,null,null,15,8,10072,557,54.247755834829448,37.133333333333333,33,2.2000000000000002,1,1,29,54]
["John Oliver",null,null,null,null,null,null,null,null,null,null,null,null,null,null,1,null,null,null,null,null,null,null,null,null,null,null,null,null,null,null,null,null,null,null,null,null,null,null,null,null,null,null,null,null,null,null,null,null,null,null,null,null,null,null,null,null,null,null,null,null,null,null,null,null,null,null,null,null,null,null,1,null,null,null,null,null,null,null,null,null,null,null,null,null,null,null,null,null,0,0,0,0,0,0,2,0,0,0,0,0]
[null,null,null,null,null,null,null,null,null,null,null,null,null,null,null,null,null,null,null,null,null,null,null,null,null,null,null,null,null,null,null,null,null,null,null,null,null,null,null,null,null,null,null,null,null,null,null,null,null,null,null,null,null,null,null,null,null,null,null,null,null,null,null,null,null,null,null,null,null,null,null,null,null,null,null,null,null,null,null,null,null,null,null,null,null,null,null,null,null,0,0,0,0,0,0,0,0,0,0,0,0]
[null,null,null,null,null,null,null,null,null,null,null,null,null,null,null,null,null,null,null,null,null,null,null,null,null,null,null,null,null,null,null,null,null,null,null,null,null,null,null,null,null,null,null,null,null,null,null,null,null,null,null,null,null,null,null,null,null,null,null,null,null,null,null,null,null,null,null,null,null,null,null,null,null,null,null,null,null,null,null,null,null,null,null,null,null,null,null,null,null,0,0,0,0,{"$f":"IF(CN14=0,0,(SUM(CN14/CO14)*3))","v":0},{"$f":"IF(CL14=0,0,SUM(CO14/CL14))","v":0},0,0,0,0,0,0]
[]
[]
[null,{"$f":"IF(B3<>\"\",1,0)","v":0},{"$f":"IF(C3<=30,1,0)","v":1},{"$f":"IF(C3=0,1,0)","v":1},{"$f":"IF(B29=1,(SUM(C17-D17)),0)","v":0},{"$f":"IF(F3<>\"\",1,0)","v":1},{"$f":"IF(G3<=30,1,0)","v":0},{"$f":"IF(G3=0,1,0)","v":0},{"$f":"IF(F29=1,(SUM(G17-H17)),0)","v":0},{"$f":"IF(J3<>\"\",1,0)","v":1},{"$f":"IF(K3<=30,1,0)","v":0},{"$f":"IF(K3=0,1,0)","v":0},{"$f":"IF(J29=1,(SUM(K17-L17)),0)","v":0},{"$f":"IF(N3<>\"\",1,0)","v":1},{"$f":"IF(O3<=30,1,0)","v":0},{"$f":"IF(O3=0,1,0)","v":0},{"$f":"IF(N29=1,(SUM(O17-P17)),0)","v":0},{"$f":"IF(R3<>\"\",1,0)","v":1},{"$f":"IF(S3<=30,1,0)","v":0},{"$f":"IF(S3=0,1,0)","v":0},{"$f":"IF(R29=1,(SUM(S17-T17)),0)","v":0},{"$f":"IF(V3<>\"\",1,0)","v":1},{"$f":"IF(W3<=30,1,0)","v":0},{"$f":"IF(W3=0,1,0)","v":0},{"$f":"IF(V29=1,(SUM(W17-X17)),0)","v":0},{"$f":"IF(Z3<>\"\",1,0)","v":1},{"$f":"IF(AA3<=30,1,0)","v":0},{"$f":"IF(AA3=0,1,0)","v":0},{"$f":"IF(Z29=1,(SUM(AA17-AB17)),0)","v":0},{"$f":"IF(AD3<>\"\",1,0)","v":1},{"$f":"IF(AE3<=30,1,0)","v":0},{"$f":"IF(AE3=0,1,0)","v":0},{"$f":"IF(AD29=1,(SUM(AE17-AF17)),0)","v":0},{"$f":"IF(AH3<>\"\",1,0)","v":0},{"$f":"IF(AI3<=30,1,0)","v":1},{"$f":"IF(AI3=0,1,0)","v":1},{"$f":"IF(AH29=1,(SUM(AI17-AJ17)),0)","v":0},{"$f":"IF(AL3<>\"\",1,0)","v":0},{"$f":"IF(AM3<=30,1,0)","v":1},{"$f":"IF(AM3=0,1,0)","v":1},{"$f":"IF(AL29=1,(SUM(AM17-AN17)),0)","v":0},{"$f":"IF(AP3<>\"\",1,0)","v":1},{"$f":"IF(AQ3<=30,1,0)","v":0},{"$f":"IF(AQ3=0,1,0)","v":0},{"$f":"IF(AP29=1,(SUM(AQ17-AR17)),0)","v":0},{"$f":"IF(AT3<>\"\",1,0)","v":1},{"$f":"IF(AU3<=30,1,0)","v":0},{"$f":"IF(AU3=0,1,0)","v":0},{"$f":"IF(AT29=1,(SUM(AU17-AV17)),0)","v":0},{"$f":"IF(AX3<>\"\",1,0)","v":1},{"$f":"IF(AY3<=30,1,0)","v":0},{"$f":"IF(AY3=0,1,0)","v":0},{"$f":"IF(AX29=1,(SUM(AY17-AZ17)),0)","v":0},{"$f":"IF(BB3<>\"\",1,0)","v":1},{"$f":"IF(BC3<=30,1,0)","v":0},{"$f":"IF(BC3=0,1,0)","v":0},{"$f":"IF(BB29=1,(SUM(BC17-BD17)),0)","v":0},{"$f":"IF(BF3<>\"\",1,0)","v":1},{"$f":"IF(BG3<=30,1,0)","v":0},{"$f":"IF(BG3=0,1,0)","v":0},{"$f":"IF(BF29=1,(SUM(BG17-BH17)),0)","v":0},{"$f":"IF(BJ3<>\"\",1,0)","v":1},{"$f":"IF(BK3<=30,1,0)","v":0},{"$f":"IF(BK3=0,1,0)","v":0},{"$f":"IF(BJ29=1,(SUM(BK17-BL17)),0)","v":0},{"$f":"IF(BN3<>\"\",1,0)","v":1},{"$f":"IF(BO3<=30,1,0)","v":0},{"$f":"IF(BO3=0,1,0)","v":0},{"$f":"IF(BN29=1,(SUM(BO17-BP17)),0)","v":0},{"$f":"IF(BR3<>\"\",1,0)","v":1},{"$f":"IF(BS3<=30,1,0)","v":1},{"$f":"IF(BS3=0,1,0)","v":0},{"$f":"IF(BR29=1,(SUM(BS17-BT17)),0)","v":0},{"$f":"IF(BV3<>\"\",1,0)","v":0},{"$f":"IF(BW3<=30,1,0)","v":1},{"$f":"IF(BW3=0,1,0)","v":1},{"$f":"IF(BV29=1,(SUM(BW17-BX17)),0)","v":0},{"$f":"IF(BZ3<>\"\",1,0)","v":0},{"$f":"IF(CA3<=30,1,0)","v":1},{"$f":"IF(CA3=0,1,0)","v":1},{"$f":"IF(BZ29=1,(SUM(CA17-CB17)),0)","v":0},{"$f":"IF(CD3<>\"\",1,0)","v":0},{"$f":"IF(CE3<=30,1,0)","v":1},{"$f":"IF(CE3=0,1,0)","v":1},{"$f":"IF(CD29=1,(SUM(CE17-CF17)),0)","v":0},{"$f":"IF(CH3<>\"\",1,0)","v":0},{"$f":"IF(CI3<=30,1,0)","v":1},{"$f":"IF(CI3=0,1,0)","v":1},{"$f":"IF(CH29=1,(SUM(CI17-CJ17)),0)","v":0}]
[null,0,{"$f":"IF(C4<=30,1,0)","v":1},{"$f":"IF(C4=0,1,0)","v":1},{"$f":"IF(B30=1,(SUM(C18-D18)),0)","v":0},1,{"$f":"IF(G4<=30,1,0)","v":0},{"$f":"IF(G4=0,1,0)","v":0},{"$f":"IF(F30=1,(SUM(G18-H18)),0)","v":0},1,{"$f":"IF(K4<=30,1,0)","v":0},{"$f":"IF(K4=0,1,0)","v":0},{"$f":"IF(J30=1,(SUM(K18-L18)),0)","v":0},1,{"$f":"IF(O4<=30,1,0)","v":0},{"$f":"IF(O4=0,1,0)","v":0},{"$f":"IF(N30=1,(SUM(O18-P18)),0)","v":0},0,{"$f":"IF(S4<=30,1,0)","v":1},{"$f":"IF(S4=0,1,0)","v":1},{"$f":"IF(R30=1,(SUM(S18-T18)),0)","v":0},1,{"$f":"IF(W4<=30,1,0)","v":0},{"$f":"IF(W4=0,1,0)","v":0},{"$f":"IF(V30=1,(SUM(W18-X18)),0)","v":0},1,{"$f":"IF(AA4<=30,1,0)","v":0},{"$f":"IF(AA4=0,1,0)","v":0},{"$f":"IF(Z30=1,(SUM(AA18-AB18)),0)","v":0},1,{"$f":"IF(AE4<=30,1,0)","v":0},{"$f":"IF(AE4=0,1,0)","v":0},{"$f":"IF(AD30=1,(SUM(AE18-AF18)),0)","v":0},1,{"$f":"IF(AI4<=30,1,0)","v":0},{"$f":"IF(AI4=0,1,0)","v":0},{"$f":"IF(AH30=1,(SUM(AI18-AJ18)),0)","v":0},0,{"$f":"IF(AM4<=30,1,0)","v":1},{"$f":"IF(AM4=0,1,0)","v":1},{"$f":"IF(AL30=1,(SUM(AM18-AN18)),0)","v":0},1,{"$f":"IF(AQ4<=30,1,0)","v":1},{"$f":"IF(AQ4=0,1,0)","v":0},{"$f":"IF(AP30=1,(SUM(AQ18-AR18)),0)","v":0},0,{"$f":"IF(AU4<=30,1,0)","v":1},{"$f":"IF(AU4=0,1,0)","v":1},{"$f":"IF(AT30=1,(SUM(AU18-AV18)),0)","v":0},1,{"$f":"IF(AY4<=30,1,0)","v":0},{"$f":"IF(AY4=0,1,0)","v":0},{"$f":"IF(AX30=1,(SUM(AY18-AZ18)),0)","v":0},1,{"$f":"IF(BC4<=30,1,0)","v":0},{"$f":"IF(BC4=0,1,0)","v":0},{"$f":"IF(BB30=1,(SUM(BC18-BD18)),0)","v":0},1,{"$f":"IF(BG4<=30,1,0)","v":1},{"$f":"IF(BG4=0,1,0)","v":0},{"$f":"IF(BF30=1,(SUM(BG18-BH18)),0)","v":0},1,{"$f":"IF(BK4<=30,1,0)","v":0},{"$f":"IF(BK4=0,1,0)","v":0},{"$f":"IF(BJ30=1,(SUM(BK18-BL18)),0)","v":0},1,{"$f":"IF(BO4<=30,1,0)","v":0},{"$f":"IF(BO4=0,1,0)","v":0},{"$f":"IF(BN30=1,(SUM(BO18-BP18)),0)","v":0},1,{"$f":"IF(BS4<=30,1,0)","v":0},{"$f":"IF(BS4=0,1,0)","v":0},{"$f":"IF(BR30=1,(SUM(BS18-BT18)),0)","v":0},0,{"$f":"IF(BW4<=30,1,0)","v":1},{"$f":"IF(BW4=0,1,0)","v":1},{"$f":"IF(BV30=1,(SUM(BW18-BX18)),0)","v":0},0,{"$f":"IF(CA4<=30,1,0)","v":1},{"$f":"IF(CA4=0,1,0)","v":1},{"$f":"IF(BZ30=1,(SUM(CA18-CB18)),0)","v":0},0,{"$f":"IF(CE4<=30,1,0)","v":1},{"$f":"IF(CE4=0,1,0)","v":1},{"$f":"IF(CD30=1,(SUM(CE18-CF18)),0)","v":0},0,{"$f":"IF(CI4<=30,1,0)","v":1},{"$f":"IF(CI4=0,1,0)","v":1},{"$f":"IF(CH30=1,(SUM(CI18-CJ18)),0)","v":0}]
[null,0,1,1,0,1,0,0,0,1,0,0,0,1,0,0,0,1,0,0,0,1,0,0,0,1,0,0,0,1,1,0,0,1,1,0,1,0,1,1,0,1,0,0,0,1,1,1,0,1,0,0,0,1,0,0,0,1,0,0,0,0,1,1,0,0,1,1,0,0,1,1,0,0,1,1,0,0,1,1,0,0,1,1,0,0,1,1,0]
[null,0,1,1,0,0,1,1,0,0,1,1,0,1,1,0,0,1,1,0,0,0,1,1,0,0,1,1,0,1,0,0,0,1,0,0,0,0,1,1,0,1,0,0,0,0,1,1,0,0,1,1,0,0,1,1,0,0,1,1,0,0,1,1,0,1,1,0,0,0,1,1,0,0,1,1,0,0,1,1,0,0,1,1,0,0,1,1,0]
[null,0,1,1,0,1,0,0,0,1,0,0,0,1,0,0,0,1,1,0,0,1,0,0,0,1,0,0,0,1,0,0,0,1,0,0,0,0,1,1,0,1,0,0,0,1,0,0,0,1,0,0,0,1,1,0,0,1,0,0,0,1,1,0,1,1,1,0,0,1,0,0,0,0,1,1,0,0,1,1,0,0,1,1,0,0,1,1,0]
[null,0,1,1,0,0,1,1,0,0,1,1,0,0,1,1,0,1,0,0,0,1,0,0,0,0,1,1,0,0,1,1,0,1,0,0,0,0,1,1,0,0,1,1,0,1,0,0,0,0,1,1,0,0,1,1,0,1,0,0,0,1,0,0,0,0,1,1,0,1,0,0,0,0,1,1,0,0,1,1,0,0,1,1,0,0,1,1,0]
[null,0,1,1,0,0,1,1,0,0,1,1,0,0,1,1,0,0,1,1,0,0,1,1,0,1,0,0,0,0,1,1,0,0,1,1,0,0,1,1,0,0,1,1,0,0,1,1,0,0,1,1,0,0,1,1,0,0,1,1,0,0,1,1,0,0,1,1,0,0,1,1,0,0,1,1,0,0,1,1,0,0,1,1,0,0,1,1,0]
[null,0,1,1,0,1,0,0,0,1,0,0,0,0,1,1,0,0,1,1,0,0,1,1,0,0,1,1,0,0,1,1,0,0,1,1,0,0,1,1,0,0,1,1,0,0,1,1,0,1,0,0,0,1,1,0,0,1,0,0,0,1,0,0,0,1,0,0,0,1,0,0,0,0,1,1,0,0,1,1,0,0,1,1,0,0,1,1,0]
[null,0,1,1,0,1,0,0,0,1,1,0,0,1,0,0,0,1,0,0,0,1,1,0,0,1,0,0,0,1,0,0,0,1,1,0,0,0,1,1,0,1,0,0,0,1,0,0,0,1,1,0,1,1,0,0,0,0,1,1,0,1,0,0,0,1,0,0,0,1,1,0,0,0,1,1,0,0,1,1,0,0,1,1,0,0,1,1,0]
[null,0,1,1,0,0,1,1,0,0,1,1,0,0,1,1,0,0,1,1,0,0,1,1,0,0,1,1,0,0,1,1,0,0,1,1,0,0,1,1,0,0,1,1,0,0,1,1,0,0,1,1,0,0,1,1,0,0,1,1,0,0,1,1,0,0,1,1,0,0,1,1,0,0,1,1,0,0,1,1,0,0,1,1,0,0,1,1,0]
[null,0,1,1,0,0,1,1,0,0,1,1,0,0,1,1,0,0,1,1,0,0,1,1,0,0,1,1,0,0,1,1,0,0,1,1,0,0,1,1,0,0,1,1,0,0,1,1,0,0,1,1,0,0,1,1,0,0,1,1,0,0,1,1,0,0,1,1,0,0,1,1,0,0,1,1,0,0,1,1,0,0,1,1,0,0,1,1,0]
[null,0,1,1,0,0,1,1,0,0,1,1,0,0,1,1,0,0,1,1,0,0,1,1,0,0,1,1,0,0,1,1,0,0,1,1,0,0,1,1,0,0,1,1,0,0,1,1,0,0,1,1,0,0,1,1,0,0,1,1,0,0,1,1,0,0,1,1,0,0,1,1,0,0,1,1,0,0,1,1,0,0,1,1,0,0,1,1,0]
[null,{"$f":"IF(B3=701,1,0)","v":0},{"$f":"IF(B29=1,C3,\"\")","v":""},null,null,{"$f":"IF(F3=701,1,0)","v":1},{"$f":"IF(F29=1,G3,\"\")","v":38},null,null,{"$f":"IF(J3=701,1,0)","v":1},{"$f":"IF(J29=1,K3,\"\")","v":36},null,null,{"$f":"IF(N3=701,1,0)","v":1},{"$f":"IF(N29=1,O3,\"\")","v":40},null,null,{"$f":"IF(R3=701,1,0)","v":0},{"$f":"IF(R29=1,S3,\"\")","v":""},null,null,{"$f":"IF(V3=701,1,0)","v":1},{"$f":"IF(V29=1,W3,\"\")","v":37},null,null,{"$f":"IF(Z3=701,1,0)","v":0},{"$f":"IF(Z29=1,AA3,\"\")","v":""},null,null,{"$f":"IF(AD3=701,1,0)","v":1},{"$f":"IF(AD29=1,AE3,\"\")","v":42},null,null,{"$f":"IF(AH3=701,1,0)","v":0},{"$f":"IF(AH29=1,AI3,\"\")","v":""},null,null,{"$f":"IF(AL3=701,1,0)","v":0},{"$f":"IF(AL29=1,AM3,\"\")","v":""},null,null,{"$f":"IF(AP3=701,1,0)","v":1},{"$f":"IF(AP29=1,AQ3,\"\")","v":43},null,null,{"$f":"IF(AT3=701,1,0)","v":1},{"$f":"IF(AT29=1,AU3,\"\")","v":62},null,null,{"$f":"IF(AX3=701,1,0)","v":1},{"$f":"IF(AX29=1,AY3,\"\")","v":42},null,null,{"$f":"IF(BB3=701,1,0)","v":1},{"$f":"IF(BB29=1,BC3,\"\")","v":47},null,null,{"$f":"IF(BF3=701,1,0)","v":0},{"$f":"IF(BF29=1,BG3,\"\")","v":""},null,null,{"$f":"IF(BJ3=701,1,0)","v":1},{"$f":"IF(BJ29=1,BK3,\"\")","v":31},null,null,{"$f":"IF(BN3=701,1,0)","v":1},{"$f":"IF(BN29=1,BO3,\"\")","v":32},null,null,{"$f":"IF(BR3=701,1,0)","v":0},{"$f":"IF(BR29=1,BS3,\"\")","v":""},null,null,{"$f":"IF(BV3=701,1,0)","v":0},{"$f":"IF(BV29=1,BW3,\"\")","v":""},null,null,{"$f":"IF(BZ3=701,1,0)","v":0},{"$f":"IF(BZ29=1,CA3,\"\")","v":""},null,null,{"$f":"IF(CD3=701,1,0)","v":0},{"$f":"IF(CD29=1,CE3,\"\")","v":""},null,null,{"$f":"IF(CH3=701,1,0)","v":0},{"$f":"IF(CH29=1,CI3,\"\")","v":""}]
[null,{"$f":"IF(B4=701,1,0)","v":0},"",null,null,{"$f":"IF(F4=701,1,0)","v":0},"",null,null,{"$f":"IF(J4=701,1,0)","v":1},37,null,null,{"$f":"IF(N4=701,1,0)","v":0},"",null,null,{"$f":"IF(R4=701,1,0)","v":0},"",null,null,{"$f":"IF(V4=701,1,0)","v":1},40,null,null,{"$f":"IF(Z4=701,1,0)","v":1},52,null,null,{"$f":"IF(AD4=701,1,0)","v":1},44,null,null,{"$f":"IF(AH4=701,1,0)","v":1},41,null,null,{"$f":"IF(AL4=701,1,0)","v":0},"",null,null,{"$f":"IF(AP4=701,1,0)","v":0},"",null,null,{"$f":"IF(AT4=701,1,0)","v":0},"",null,null,{"$f":"IF(AX4=701,1,0)","v":1},42,null,null,{"$f":"IF(BB4=701,1,0)","v":0},"",null,null,{"$f":"IF(BF4=701,1,0)","v":0},"",null,null,{"$f":"IF(BJ4=701,1,0)","v":0},"",null,null,{"$f":"IF(BN4=701,1,0)","v":0},"",null,null,{"$f":"IF(BR4=701,1,0)","v":0},"",null,null,{"$f":"IF(BV4=701,1,0)","v":0},"",null,null,{"$f":"IF(BZ4=701,1,0)","v":0},"",null,null,{"$f":"IF(CD4=701,1,0)","v":0},"",null,null,{"$f":"IF(CH4=701,1,0)","v":0},""]
[null,0,"",null,null,0,"",null,null,1,58,null,null,1,43,null,null,1,38,null,null,0,"",null,null,0,"",null,null,0,"",null,null,1,30,null,null,0,"",null,null,1,46,null,null,0,"",null,null,1,41,null,null,0,"",null,null,0,"",null,null,0,"",null,null,0,"",null,null,0,"",null,null,0,"",null,null,0,"",null,null,0,"",null,null,0,""]
[null,0,"",null,null,0,"",null,null,0,"",null,null,0,"",null,null,0,"",null,null,0,"",null,null,0,"",null,null,1,36,null,null,0,"",null,null,0,"",null,null,0,"",null,null,0,"",null,null,0,"",null,null,0,"",null,null,0,"",null,null,0,"",null,null,0,"",null,null,0,"",null,null,0,"",null,null,0,"",null,null,0,"",null,null,0,""]
[null,0,"",null,null,1,51,null,null,1,65,null,null,1,43,null,null,0,"",null,null,1,39,null,null,1,48,null,null,1,37,null,null,1,48,null,null,0,"",null,null,0,"",null,null,0,"",null,null,0,"",null,null,0,"",null,null,1,31,null,null,1,30,null,null,0,"",null,null,1,45,null,null,0,"",null,null,0,"",null,null,0,"",null,null,0,""]
[null,0,"",null,null,0,"",null,null,0,"",null,null,0,"",null,null,0,"",null,null,0,"",null,null,0,"",null,null,0,"",null,null,0,"",null,null,0,"",null,null,0,"",null,null,1,43,null,null,0,"",null,null,0,"",null,null,0,"",null,null,0,"",null,null,0,"",null,null,1,46,null,null,0,"",null,null,0,"",null,null,0,"",null,null,0,""]
[null,0,"",null,null,0,"",null,null,0,"",null,null,0,"",null,null,0,"",null,null,0,"",null,null,0,"",null,null,0,"",null,null,0,"",null,null,0,"",null,null,0,"",null,null,0,"",null,null,0,"",null,null,0,"",null,null,0,"",null,null,0,"",null,null,0,"",null,null,0,"",null,null,0,"",null,null,0,"",null,null,0,"",null,null,0,""]
[null,0,"",null,null,1,43,null,null,1,56,null,null,0,"",null,null,0,"",null,null,0,"",null,null,0,"",null,null,0,"",null,null,0,"",null,null,0,"",null,null,0,"",null,null,0,"",null,null,1,45,null,null,0,"",null,null,1,46,null,null,1,34,null,null,0,"",null,null,0,"",null,null,0,"",null,null,0,"",null,null,0,"",null,null,0,""]
[null,0,"",null,null,1,37,null,null,0,"",null,null,1,46,null,null,1,37,null,null,0,"",null,null,1,54,null,null,0,"",null,null,0,"",null,null,0,"",null,null,1,44,null,null,1,37,null,null,1,29,null,null,0,"",null,null,0,"",null,null,0,"",null,null,1,33,null,null,0,"",null,null,0,"",null,null,0,"",null,null,0,"",null,null,0,""]
[null,0,"",null,null,0,"",null,null,0,"",null,null,0,"",null,null,0,"",null,null,0,"",null,null,0,"",null,null,0,"",null,null,0,"",null,null,0,"",null,null,0,"",null,null,0,"",null,null,0,"",null,null,0,"",null,null,0,"",null,null,0,"",null,null,0,"",null,null,0,"",null,null,0,"",null,null,0,"",null,null,0,"",null,null,0,""]
[null,0,"",null,null,0,"",null,null,0,"",null,null,0,"",null,null,0,"",null,null,0,"",null,null,0,"",null,null,0,"",null,null,0,"",null,null,0,"",null,null,0,"",null,null,0,"",null,null,0,"",null,null,0,"",null,null,0,"",null,null,0,"",null,null,0,"",null,null,0,"",null,null,0,"",null,null,0,"",null,null,0,"",null,null,0,""]
[null,0,"",null,null,0,"",null,null,0,"",null,null,0,"",null,null,0,"",null,null,0,"",null,null,0,"",null,null,0,"",null,null,0,"",null,null,0,"",null,null,0,"",null,null,0,"",null,null,0,"",null,null,0,"",null,null,0,"",null,null,0,"",null,null,0,"",null,null,0,"",null,null,0,"",null,null,0,"",null,null,0,"",null,null,0,""]
["Singles Won",{"$f":"SUM(B29:B40)","v":0},null,null,null,{"$f":"SUM(F29:F40)","v":4},null,null,null,{"$f":"SUM(J29:J40)","v":5},null,null,null,{"$f":"SUM(N29:N40)","v":4},null,null,null,{"$f":"SUM(R29:R40)","v":2},null,null,null,{"$f":"SUM(V29:V40)","v":3},null,null,null,{"$f":"SUM(Z29:Z40)","v":3},null,null,null,{"$f":"SUM(AD29:AD40)","v":4},null,null,null,{"$f":"SUM(AH29:AH40)","v":3},null,null,null,{"$f":"SUM(AL29:AL40)","v":0},null,null,null,{"$f":"SUM(AP29:AP40)","v":3},null,null,null,{"$f":"SUM(AT29:AT40)","v":3},null,null,null,{"$f":"SUM(AX29:AX40)","v":5},null,null,null,{"$f":"SUM(BB29:BB40)","v":1},null,null,null,{"$f":"SUM(BF29:BF40)","v":2},null,null,null,{"$f":"SUM(BJ29:BJ40)","v":3},null,null,null,{"$f":"SUM(BN29:BN40)","v":2},null,null,null,{"$f":"SUM(BR29:BR40)","v":2},null,null,null,{"$f":"SUM(BV29:BV40)","v":0},null,null,null,{"$f":"SUM(BZ29:BZ40)","v":0},null,null,null,{"$f":"SUM(CD29:CD40)","v":0},null,null,null,{"$f":"SUM(CH29:CH40)","v":0}]
["Pairs Games Won",3,null,null,null,3,null,null,null,2,null,null,null,3,null,null,null,0,null,null,null,1,null,null,null,2,null,null,null,0,null,null,null,2,null,null,null,null,null,null,null,2,null,null,null,3,null,null,null,2,null,null,null,0,null,null,null,1,null,null,null,1,null,null,null,1,null,null,null,1]

{"sheet":"BUCK INN","index":13,"n_rows":42,"n_cols":101,"rows_kept":42,"cut":false,"hidden":false,"merged":[[0,61,0,64],[0,65,0,68],[0,37,0,40],[0,41,0,44],[0,45,0,48],[0,49,0,52],[0,57,0,60],[0,21,0,24],[0,25,0,28],[0,29,0,32],[0,33,0,36],[0,53,0,56],[0,73,0,76],[0,77,0,80],[0,81,0,84],[0,85,0,88],[0,69,0,72],[0,1,0,4],[0,5,0,8],[0,9,0,12],[0,13,0,16],[0,17,0,20]]}
["BUCK INN","WEEK 1",null,null,null,"WEEK 2",null,null,null,"WEEK 3",null,null,null,"WEEK 4",null,null,null,"WEEK 5",null,null,null,"WEEK 6",null,null,null,"WEEK 7",null,null,null,"WEEK 8",null,null,null,"WEEK 9",null,null,null,"WEEK 10",null,null,null,"WEEK 11",null,null,null,"WEEK 12",null,null,null,"WEEK 13",null,null,null,"WEEK 14",null,null,null,"WEEK 15",null,null,null,"WEEK 16",null,null,null,"WEEK 17",null,null,null,"WEEK 18",null,null,null,"WEEK 19",null,null,null,"WEEK 20",null,null,null,"WEEK 21",null,null,null,"WEEK 22"]
[null,"PS","DT","100 +","180's","PS","DT","100 +","180's","PS","DT","100 +","180's","PS","DT","100 +","180's","PS","DT","100 +","180's","PS","DT","100 +","180's","PS","DT","100 +","180's","PS","DT","100 +","180's","PS","DT","100 +","180's","PS","DT","100 +","180's","PS","DT","100 +","180's","PS","DT","100 +","180's","PS","DT","100 +","180's","PS","DT","100 +","180's","PS","DT","100 +","180's","PS","DT","100 +","180's","PS","DT","100 +","180's","PS","DT","100 +","180's","PS","DT","100 +","180's","PS","DT","100 +","180's","PS","DT","100 +","180's","PS","DT","100 +","180's","GP","GW","TP","TD","AVG","AVG D/G","T100+","AVG 100+/G","T180's","T<30","Least Darts","Most Darts"]
["Jim Timmons",null,null,null,null,null,null,null,null,null,null,null,null,null,null,null,null,null,null,null,null,null,null,null,null,null,null,null,null,null,null,null,null,null,null,null,null,null,null,null,null,null,null,null,null,null,null,null,null,null,null,null,null,null,null,null,null,null,null,null,null,null,null,null,null,null,null,null,null,null,null,null,null,null,null,null,null,null,null,null,null,null,null,null,null,null,null,null,null,{"$f":"SUM(B17+F17+J17+N17+R17+V17+Z17+AD17+AH17+AL17+AP17+AT17+AX17+BB17+BF17+BJ17+BN17+BR17+BV17+BZ17+CD17+CH17)","v":0},{"$f":"SUM(B29+F29+J29+N29+R29+V29+Z29+AD29+AH29+AL29+AP29+AT29+AX29+BB29+BF29+BJ29+BN29+BR29+BV29+BZ29+CD29+CH29)","v":0},{"$f":"SUM(B3+F3+J3+N3+R3+V3+Z3+AD3+AH3+AL3+AP3+AT3+AX3+BB3+BF3+BJ3+BN3+BR3+BV3+BZ3+CD3+CH3)","v":0},{"$f":"SUM(C3+G3+K3+O3+S3+W3+AA3+AE3+AI3+AM3+AQ3+AU3+AY3+BC3+BG3+BK3+BO3+BS3+BW3+CA3+CE3+CI3)","v":0},{"$f":"IF(CN3=0,0,(SUM(CN3/CO3)*3))","v":0},{"$f":"IF(CL3=0,0,SUM(CO3/CL3))","v":0},{"$f":"SUM(D3+H3+L3+P3+T3+X3+AB3+AF3+AJ3+AN3+AR3+AV3+AZ3+BD3+BH3+BL3+BP3+BT3+BX3+CB3+CF3+CJ3)","v":0},{"$f":"IF(CL3=0,0,(SUM(CR3/CL3)))","v":0},{"$f":"SUM(E3+I3+M3+Q3+U3+Y3+AC3+AG3+AK3+AO3+AS3+AW3+BA3+BE3+BI3+BM3+BQ3+BU3+BY3+CC3+CG3+CK3)","v":0},{"$f":"SUM(E17+I17+M17+Q17+U17+Y17+AC17+AG17+AK17+AO17+AS17+AW17+BA17+BE17+BI17+BM17+BQ17+BU17+BY17+CC17+CG17+CK17)","v":0},{"$f":"MIN(C29,G29,K29,O29,S29,W29,AA29,AE29,AI29,AM29,AQ29,AU29,AY29,BC29,BG29,BK29,BO29,BS29,BW29,CA29,CE29,CI29)","v":0},{"$f":"MAX($C29,$G29,$K29,$O29,$S29,$W29,$AA29,$AE29,$AI29,$AM29,$AQ29,$AU29,$AY29,$BC29,$BG29,$BK29,$BO29,$BS29,$BW29,$CA29,$CE29,$CI29)","v":0}]
["Graham Lake",null,null,null,null,null,null,null,null,null,null,null,null,null,null,null,null,null,null,null,null,null,null,null,null,null,null,null,null,null,null,null,null,null,null,null,null,null,null,null,null,null,null,null,null,null,null,null,null,null,null,null,null,null,null,null,null,null,null,null,null,null,null,null,null,null,null,null,null,null,null,null,null,null,null,null,null,null,null,null,null,null,null,null,null,null,null,null,null,{"$f":"SUM(B18+F18+J18+N18+R18+V18+Z18+AD18+AH18+AL18+AP18+AT18+AX18+BB18+BF18+BJ18+BN18+BR18+BV18+BZ18+CD18+CH18)","v":0},{"$f":"SUM(B30+F30+J30+N30+R30+V30+Z30+AD30+AH30+AL30+AP30+AT30+AX30+BB30+BF30+BJ30+BN30+BR30+BV30+BZ30+CD30+CH30)","v":0},{"$f":"SUM(B4+F4+J4+N4+R4+V4+Z4+AD4+AH4+AL4+AP4+AT4+AX4+BB4+BF4+BJ4+BN4+BR4+BV4+BZ4+CD4+CH4)","v":0},{"$f":"SUM(C4+G4+K4+O4+S4+W4+AA4+AE4+AI4+AM4+AQ4+AU4+AY4+BC4+BG4+BK4+BO4+BS4+BW4+CA4+CE4+CI4)","v":0},{"$f":"IF(CN4=0,0,(SUM(CN4/CO4)*3))","v":0},0,{"$f":"SUM(D4+H4+L4+P4+T4+X4+AB4+AF4+AJ4+AN4+AR4+AV4+AZ4+BD4+BH4+BL4+BP4+BT4+BX4+CB4+CF4+CJ4)","v":0},{"$f":"IF(CL4=0,0,(SUM(CR4/CL4)))","v":0},{"$f":"SUM(E4+I4+M4+Q4+U4+Y4+AC4+AG4+AK4+AO4+AS4+AW4+BA4+BE4+BI4+BM4+BQ4+BU4+BY4+CC4+CG4+CK4)","v":0},{"$f":"SUM(E18+I18+M18+Q18+U18+Y18+AC18+AG18+AK18+AO18+AS18+AW18+BA18+BE18+BI18+BM18+BQ18+BU18+BY18+CC18+CG18+CK18)","v":0},{"$f":"MIN(C30,G30,K30,O30,S30,W30,AA30,AE30,AI30,AM30,AQ30,AU30,AY30,BC30,BG30,BK30,BO30,BS30,BW30,CA30,CE30,CI30)","v":0},0]
["Kireon Timmons",null,null,null,null,null,null,null,null,null,null,null,null,null,null,null,null,null,null,null,null,null,null,null,null,null,null,null,null,null,null,null,null,null,null,null,null,null,null,null,null,null,null,null,null,null,null,null,null,null,null,null,null,null,null,null,null,null,null,null,null,null,null,null,null,null,null,null,null,null,null,null,null,null,null,null,null,null,null,null,null,null,null,null,null,null,null,null,null,0,0,0,0,0,0,0,0,0,0,0,0]
["Kenny Kerrigan",null,null,null,null,null,null,null,null,null,null,null,null,null,null,null,null,null,null,null,null,null,null,null,null,null,null,null,null,null,null,null,null,null,null,null,null,null,null,null,null,null,null,null,null,null,null,null,null,null,null,null,null,null,null,null,null,null,null,null,null,null,null,null,null,null,null,null,null,null,null,null,null,null,null,null,null,null,null,null,null,null,null,null,null,null,null,null,null,0,0,0,0,0,0,0,0,0,0,0,0]
["Lee Johnson",null,null,null,null,null,null,null,null,null,null,null,null,null,null,null,null,null,null,null,null,null,null,null,null,null,null,null,null,null,null,null,null,null,null,null,null,null,null,null,null,null,null,null,null,null,null,null,null,null,null,null,null,null,null,null,null,null,null,null,null,null,null,null,null,null,null,null,null,null,null,null,null,null,null,null,null,null,null,null,null,null,null,null,null,null,null,null,null,0,0,0,0,0,0,0,0,0,0,0,0]
["Chris Timmons",null,null,null,null,null,null,null,null,null,null,null,null,null,null,null,null,null,null,null,null,null,null,null,null,null,null,null,null,null,null,null,null,null,null,null,null,null,null,null,null,null,null,null,null,null,null,null,null,null,null,null,null,null,null,null,null,null,null,null,null,null,null,null,null,null,null,null,null,null,null,null,null,null,null,null,null,null,null,null,null,null,null,null,null,null,null,null,null,0,0,0,0,0,0,0,0,0,0,0,0]
["M. Meadley",null,null,null,null,null,null,null,null,null,null,null,null,null,null,null,null,null,null,null,null,null,null,null,null,null,null,null,null,null,null,null,null,null,null,null,null,null,null,null,null,null,null,null,null,null,null,null,null,null,null,null,null,null,null,null,null,null,null,null,null,null,null,null,null,null,null,null,null,null,null,null,null,null,null,null,null,null,null,null,null,null,null,null,null,null,null,null,null,0,0,0,0,0,0,0,0,0,0,0,0]
[null,null,null,null,null,null,null,null,null,null,null,null,null,null,null,null,null,null,null,null,null,null,null,null,null,null,null,null,null,null,null,null,null,null,null,null,null,null,null,null,null,null,null,null,null,null,null,null,null,null,null,null,null,null,null,null,null,null,null,null,null,null,null,null,null,null,null,null,null,null,null,null,null,null,null,null,null,null,null,null,null,null,null,null,null,null,null,null,null,0,0,0,0,0,0,0,0,0,0,0,0]
[null,null,null,null,null,null,null,null,null,null,null,null,null,null,null,null,null,null,null,null,null,null,null,null,null,null,null,null,null,null,null,null,null,null,null,null,null,null,null,null,null,null,null,null,null,null,null,null,null,null,null,null,null,null,null,null,null,null,null,null,null,null,null,null,null,null,null,null,null,null,null,null,null,null,null,null,null,null,null,null,null,null,null,null,null,null,null,null,null,0,0,0,0,0,0,0,0,0,0,0,0]
[null,null,null,null,null,null,null,null,null,null,null,null,null,null,null,null,null,null,null,null,null,null,null,null,null,null,null,null,null,null,null,null,null,null,null,null,null,null,null,null,null,null,null,null,null,null,null,null,null,null,null,null,null,null,null,null,null,null,null,null,null,null,null,null,null,null,null,null,null,null,null,null,null,null,null,null,null,null,null,null,null,null,null,null,null,null,null,null,null,0,0,0,0,0,0,0,0,0,0,0,0]
[null,null,null,null,null,null,null,null,null,null,null,null,null,null,null,null,null,null,null,null,null,null,null,null,null,null,null,null,null,null,null,null,null,null,null,null,null,null,null,null,null,null,null,null,null,null,null,null,null,null,null,null,null,null,null,null,null,null,null,null,null,null,null,null,null,null,null,null,null,null,null,null,null,null,null,null,null,null,null,null,null,null,null,null,null,null,null,null,null,0,0,0,0,0,0,0,0,0,0,0,0]
[null,null,null,null,null,null,null,null,null,null,null,null,null,null,null,null,null,null,null,null,null,null,null,null,null,null,null,null,null,null,null,null,null,null,null,null,null,null,null,null,null,null,null,null,null,null,null,null,null,null,null,null,null,null,null,null,null,null,null,null,null,null,null,null,null,null,null,null,null,null,null,null,null,null,null,null,null,null,null,null,null,null,null,null,null,null,null,null,null,0,0,0,0,{"$f":"IF(CN14=0,0,(SUM(CN14/CO14)*3))","v":0},{"$f":"IF(CL14=0,0,SUM(CO14/CL14))","v":0},0,0,0,0,0,0]
[]
[]
[null,{"$f":"IF(B3<>\"\",1,0)","v":0},{"$f":"IF(C3<=30,1,0)","v":1},{"$f":"IF(C3=0,1,0)","v":1},{"$f":"IF(B29=1,(SUM(C17-D17)),0)","v":0},{"$f":"IF(F3<>\"\",1,0)","v":0},{"$f":"IF(G3<=30,1,0)","v":1},{"$f":"IF(G3=0,1,0)","v":1},{"$f":"IF(F29=1,(SUM(G17-H17)),0)","v":0},{"$f":"IF(J3<>\"\",1,0)","v":0},{"$f":"IF(K3<=30,1,0)","v":1},{"$f":"IF(K3=0,1,0)","v":1},{"$f":"IF(J29=1,(SUM(K17-L17)),0)","v":0},{"$f":"IF(N3<>\"\",1,0)","v":0},{"$f":"IF(O3<=30,1,0)","v":1},{"$f":"IF(O3=0,1,0)","v":1},{"$f":"IF(N29=1,(SUM(O17-P17)),0)","v":0},{"$f":"IF(R3<>\"\",1,0)","v":0},{"$f":"IF(S3<=30,1,0)","v":1},{"$f":"IF(S3=0,1,0)","v":1},{"$f":"IF(R29=1,(SUM(S17-T17)),0)","v":0},{"$f":"IF(V3<>\"\",1,0)","v":0},{"$f":"IF(W3<=30,1,0)","v":1},{"$f":"IF(W3=0,1,0)","v":1},{"$f":"IF(V29=1,(SUM(W17-X17)),0)","v":0},{"$f":"IF(Z3<>\"\",1,0)","v":0},{"$f":"IF(AA3<=30,1,0)","v":1},{"$f":"IF(AA3=0,1,0)","v":1},{"$f":"IF(Z29=1,(SUM(AA17-AB17)),0)","v":0},{"$f":"IF(AD3<>\"\",1,0)","v":0},{"$f":"IF(AE3<=30,1,0)","v":1},{"$f":"IF(AE3=0,1,0)","v":1},{"$f":"IF(AD29=1,(SUM(AE17-AF17)),0)","v":0},{"$f":"IF(AH3<>\"\",1,0)","v":0},{"$f":"IF(AI3<=30,1,0)","v":1},{"$f":"IF(AI3=0,1,0)","v":1},{"$f":"IF(AH29=1,(SUM(AI17-AJ17)),0)","v":0},{"$f":"IF(AL3<>\"\",1,0)","v":0},{"$f":"IF(AM3<=30,1,0)","v":1},{"$f":"IF(AM3=0,1,0)","v":1},{"$f":"IF(AL29=1,(SUM(AM17-AN17)),0)","v":0},{"$f":"IF(AP3<>\"\",1,0)","v":0},{"$f":"IF(AQ3<=30,1,0)","v":1},{"$f":"IF(AQ3=0,1,0)","v":1},{"$f":"IF(AP29=1,(SUM(AQ17-AR17)),0)","v":0},{"$f":"IF(AT3<>\"\",1,0)","v":0},{"$f":"IF(AU3<=30,1,0)","v":1},{"$f":"IF(AU3=0,1,0)","v":1},{"$f":"IF(AT29=1,(SUM(AU17-AV17)),0)","v":0},{"$f":"IF(AX3<>\"\",1,0)","v":0},{"$f":"IF(AY3<=30,1,0)","v":1},{"$f":"IF(AY3=0,1,0)","v":1},{"$f":"IF(AX29=1,(SUM(AY17-AZ17)),0)","v":0},{"$f":"IF(BB3<>\"\",1,0)","v":0},{"$f":"IF(BC3<=30,1,0)","v":1},{"$f":"IF(BC3=0,1,0)","v":1},{"$f":"IF(BB29=1,(SUM(BC17-BD17)),0)","v":0},{"$f":"IF(BF3<>\"\",1,0)","v":0},{"$f":"IF(BG3<=30,1,0)","v":1},{"$f":"IF(BG3=0,1,0)","v":1},{"$f":"IF(BF29=1,(SUM(BG17-BH17)),0)","v":0},{"$f":"IF(BJ3<>\"\",1,0)","v":0},{"$f":"IF(BK3<=30,1,0)","v":1},{"$f":"IF(BK3=0,1,0)","v":1},{"$f":"IF(BJ29=1,(SUM(BK17-BL17)),0)","v":0},{"$f":"IF(BN3<>\"\",1,0)","v":0},{"$f":"IF(BO3<=30,1,0)","v":1},{"$f":"IF(BO3=0,1,0)","v":1},{"$f":"IF(BN29=1,(SUM(BO17-BP17)),0)","v":0},{"$f":"IF(BR3<>\"\",1,0)","v":0},{"$f":"IF(BS3<=30,1,0)","v":1},{"$f":"IF(BS3=0,1,0)","v":1},{"$f":"IF(BR29=1,(SUM(BS17-BT17)),0)","v":0},{"$f":"IF(BV3<>\"\",1,0)","v":0},{"$f":"IF(BW3<=30,1,0)","v":1},{"$f":"IF(BW3=0,1,0)","v":1},{"$f":"IF(BV29=1,(SUM(BW17-BX17)),0)","v":0},{"$f":"IF(BZ3<>\"\",1,0)","v":0},{"$f":"IF(CA3<=30,1,0)","v":1},{"$f":"IF(CA3=0,1,0)","v":1},{"$f":"IF(BZ29=1,(SUM(CA17-CB17)),0)","v":0},{"$f":"IF(CD3<>\"\",1,0)","v":0},{"$f":"IF(CE3<=30,1,0)","v":1},{"$f":"IF(CE3=0,1,0)","v":1},{"$f":"IF(CD29=1,(SUM(CE17-CF17)),0)","v":0},{"$f":"IF(CH3<>\"\",1,0)","v":0},{"$f":"IF(CI3<=30,1,0)","v":1},{"$f":"IF(CI3=0,1,0)","v":1},{"$f":"IF(CH29=1,(SUM(CI17-CJ17)),0)","v":0}]
[null,0,1,1,0,0,1,1,0,0,1,1,0,0,1,1,0,0,1,1,0,0,1,1,0,0,1,1,0,0,1,1,0,0,1,1,0,0,1,1,0,0,1,1,0,0,1,1,0,0,1,1,0,0,1,1,0,0,1,1,0,0,1,1,0,0,1,1,0,0,1,1,0,0,1,1,0,0,1,1,0,0,1,1,0,0,1,1,0]
[null,0,1,1,0,0,1,1,0,0,1,1,0,0,1,1,0,0,1,1,0,0,1,1,0,0,1,1,0,0,1,1,0,0,1,1,0,0,1,1,0,0,1,1,0,0,1,1,0,0,1,1,0,0,1,1,0,0,1,1,0,0,1,1,0,0,1,1,0,0,1,1,0,0,1,1,0,0,1,1,0,0,1,1,0,0,1,1,0]
[null,0,1,1,0,0,1,1,0,0,1,1,0,0,1,1,0,0,1,1,0,0,1,1,0,0,1,1,0,0,1,1,0,0,1,1,0,0,1,1,0,0,1,1,0,0,1,1,0,0,1,1,0,0,1,1,0,0,1,1,0,0,1,1,0,0,1,1,0,0,1,1,0,0,1,1,0,0,1,1,0,0,1,1,0,0,1,1,0]
[null,0,1,1,0,0,1,1,0,0,1,1,0,0,1,1,0,0,1,1,0,0,1,1,0,0,1,1,0,0,1,1,0,0,1,1,0,0,1,1,0,0,1,1,0,0,1,1,0,0,1,1,0,0,1,1,0,0,1,1,0,0,1,1,0,0,1,1,0,0,1,1,0,0,1,1,0,0,1,1,0,0,1,1,0,0,1,1,0]
[null,0,1,1,0,0,1,1,0,0,1,1,0,0,1,1,0,0,1,1,0,0,1,1,0,0,1,1,0,0,1,1,0,0,1,1,0,0,1,1,0,0,1,1,0,0,1,1,0,0,1,1,0,0,1,1,0,0,1,1,0,0,1,1,0,0,1,1,0,0,1,1,0,0,1,1,0,0,1,1,0,0,1,1,0,0,1,1,0]
[null,0,1,1,0,0,1,1,0,0,1,1,0,0,1,1,0,0,1,1,0,0,1,1,0,0,1,1,0,0,1,1,0,0,1,1,0,0,1,1,0,0,1,1,0,0,1,1,0,0,1,1,0,0,1,1,0,0,1,1,0,0,1,1,0,0,1,1,0,0,1,1,0,0,1,1,0,0,1,1,0,0,1,1,0,0,1,1,0]
[null,0,1,1,0,0,1,1,0,0,1,1,0,0,1,1,0,0,1,1,0,0,1,1,0,0,1,1,0,0,1,1,0,0,1,1,0,0,1,1,0,0,1,1,0,0,1,1,0,0,1,1,0,0,1,1,0,0,1,1,0,0,1,1,0,0,1,1,0,0,1,1,0,0,1,1,0,0,1,1,0,0,1,1,0,0,1,1,0]
[null,0,1,1,0,0,1,1,0,0,1,1,0,0,1,1,0,0,1,1,0,0,1,1,0,0,1,1,0,0,1,1,0,0,1,1,0,0,1,1,0,0,1,1,0,0,1,1,0,0,1,1,0,0,1,1,0,0,1,1,0,0,1,1,0,0,1,1,0,0,1,1,0,0,1,1,0,0,1,1,0,0,1,1,0,0,1,1,0]
[null,0,1,1,0,0,1,1,0,0,1,1,0,0,1,1,0,0,1,1,0,0,1,1,0,0,1,1,0,0,1,1,0,0,1,1,0,0,1,1,0,0,1,1,0,0,1,1,0,0,1,1,0,0,1,1,0,0,1,1,0,0,1,1,0,0,1,1,0,0,1,1,0,0,1,1,0,0,1,1,0,0,1,1,0,0,1,1,0]
[null,0,1,1,0,0,1,1,0,0,1,1,0,0,1,1,0,0,1,1,0,0,1,1,0,0,1,1,0,0,1,1,0,0,1,1,0,0,1,1,0,0,1,1,0,0,1,1,0,0,1,1,0,0,1,1,0,0,1,1,0,0,1,1,0,0,1,1,0,0,1,1,0,0,1,1,0,0,1,1,0,0,1,1,0,0,1,1,0]
[null,0,1,1,0,0,1,1,0,0,1,1,0,0,1,1,0,0,1,1,0,0,1,1,0,0,1,1,0,0,1,1,0,0,1,1,0,0,1,1,0,0,1,1,0,0,1,1,0,0,1,1,0,0,1,1,0,0,1,1,0,0,1,1,0,0,1,1,0,0,1,1,0,0,1,1,0,0,1,1,0,0,1,1,0,0,1,1,0]
[null,{"$f":"IF(B3=701,1,0)","v":0},{"$f":"IF(B29=1,C3,\"\")","v":""},null,null,{"$f":"IF(F3=701,1,0)","v":0},{"$f":"IF(F29=1,G3,\"\")","v":""},null,null,{"$f":"IF(J3=701,1,0)","v":0},{"$f":"IF(J29=1,K3,\"\")","v":""},null,null,{"$f":"IF(N3=701,1,0)","v":0},{"$f":"IF(N29=1,O3,\"\")","v":""},null,null,{"$f":"IF(R3=701,1,0)","v":0},{"$f":"IF(R29=1,S3,\"\")","v":""},null,null,{"$f":"IF(V3=701,1,0)","v":0},{"$f":"IF(V29=1,W3,\"\")","v":""},null,null,{"$f":"IF(Z3=701,1,0)","v":0},{"$f":"IF(Z29=1,AA3,\"\")","v":""},null,null,{"$f":"IF(AD3=701,1,0)","v":0},{"$f":"IF(AD29=1,AE3,\"\")","v":""},null,null,{"$f":"IF(AH3=701,1,0)","v":0},{"$f":"IF(AH29=1,AI3,\"\")","v":""},null,null,{"$f":"IF(AL3=701,1,0)","v":0},{"$f":"IF(AL29=1,AM3,\"\")","v":""},null,null,{"$f":"IF(AP3=701,1,0)","v":0},{"$f":"IF(AP29=1,AQ3,\"\")","v":""},null,null,{"$f":"IF(AT3=701,1,0)","v":0},{"$f":"IF(AT29=1,AU3,\"\")","v":""},null,null,{"$f":"IF(AX3=701,1,0)","v":0},{"$f":"IF(AX29=1,AY3,\"\")","v":""},null,null,{"$f":"IF(BB3=701,1,0)","v":0},{"$f":"IF(BB29=1,BC3,\"\")","v":""},null,null,{"$f":"IF(BF3=701,1,0)","v":0},{"$f":"IF(BF29=1,BG3,\"\")","v":""},null,null,{"$f":"IF(BJ3=701,1,0)","v":0},{"$f":"IF(BJ29=1,BK3,\"\")","v":""},null,null,{"$f":"IF(BN3=701,1,0)","v":0},{"$f":"IF(BN29=1,BO3,\"\")","v":""},null,null,{"$f":"IF(BR3=701,1,0)","v":0},{"$f":"IF(BR29=1,BS3,\"\")","v":""},null,null,{"$f":"IF(BV3=701,1,0)","v":0},{"$f":"IF(BV29=1,BW3,\"\")","v":""},null,null,{"$f":"IF(BZ3=701,1,0)","v":0},{"$f":"IF(BZ29=1,CA3,\"\")","v":""},null,null,{"$f":"IF(CD3=701,1,0)","v":0},{"$f":"IF(CD29=1,CE3,\"\")","v":""},null,null,{"$f":"IF(CH3=701,1,0)","v":0},{"$f":"IF(CH29=1,CI3,\"\")","v":""}]
[null,0,"",null,null,0,"",null,null,0,"",null,null,0,"",null,null,0,"",null,null,0,"",null,null,0,"",null,null,0,"",null,null,0,"",null,null,0,"",null,null,0,"",null,null,0,"",null,null,0,"",null,null,0,"",null,null,0,"",null,null,0,"",null,null,0,"",null,null,0,"",null,null,0,"",null,null,0,"",null,null,0,"",null,null,0,""]
[null,0,"",null,null,0,"",null,null,0,"",null,null,0,"",null,null,0,"",null,null,0,"",null,null,0,"",null,null,0,"",null,null,0,"",null,null,0,"",null,null,0,"",null,null,0,"",null,null,0,"",null,null,0,"",null,null,0,"",null,null,0,"",null,null,0,"",null,null,0,"",null,null,0,"",null,null,0,"",null,null,0,"",null,null,0,""]
[null,0,"",null,null,0,"",null,null,0,"",null,null,0,"",null,null,0,"",null,null,0,"",null,null,0,"",null,null,0,"",null,null,0,"",null,null,0,"",null,null,0,"",null,null,0,"",null,null,0,"",null,null,0,"",null,null,0,"",null,null,0,"",null,null,0,"",null,null,0,"",null,null,0,"",null,null,0,"",null,null,0,"",null,null,0,""]
[null,0,"",null,null,0,"",null,null,0,"",null,null,0,"",null,null,0,"",null,null,0,"",null,null,0,"",null,null,0,"",null,null,0,"",null,null,0,"",null,null,0,"",null,null,0,"",null,null,0,"",null,null,0,"",null,null,0,"",null,null,0,"",null,null,0,"",null,null,0,"",null,null,0,"",null,null,0,"",null,null,0,"",null,null,0,""]
[null,0,"",null,null,0,"",null,null,0,"",null,null,0,"",null,null,0,"",null,null,0,"",null,null,0,"",null,null,0,"",null,null,0,"",null,null,0,"",null,null,0,"",null,null,0,"",null,null,0,"",null,null,0,"",null,null,0,"",null,null,0,"",null,null,0,"",null,null,0,"",null,null,0,"",null,null,0,"",null,null,0,"",null,null,0,""]
[null,0,"",null,null,0,"",null,null,0,"",null,null,0,"",null,null,0,"",null,null,0,"",null,null,0,"",null,null,0,"",null,null,0,"",null,null,0,"",null,null,0,"",null,null,0,"",null,null,0,"",null,null,0,"",null,null,0,"",null,null,0,"",null,null,0,"",null,null,0,"",null,null,0,"",null,null,0,"",null,null,0,"",null,null,0,""]
[null,0,"",null,null,0,"",null,null,0,"",null,null,0,"",null,null,0,"",null,null,0,"",null,null,0,"",null,null,0,"",null,null,0,"",null,null,0,"",null,null,0,"",null,null,0,"",null,null,0,"",null,null,0,"",null,null,0,"",null,null,0,"",null,null,0,"",null,null,0,"",null,null,0,"",null,null,0,"",null,null,0,"",null,null,0,""]
[null,0,"",null,null,0,"",null,null,0,"",null,null,0,"",null,null,0,"",null,null,0,"",null,null,0,"",null,null,0,"",null,null,0,"",null,null,0,"",null,null,0,"",null,null,0,"",null,null,0,"",null,null,0,"",null,null,0,"",null,null,0,"",null,null,0,"",null,null,0,"",null,null,0,"",null,null,0,"",null,null,0,"",null,null,0,""]
[null,0,"",null,null,0,"",null,null,0,"",null,null,0,"",null,null,0,"",null,null,0,"",null,null,0,"",null,null,0,"",null,null,0,"",null,null,0,"",null,null,0,"",null,null,0,"",null,null,0,"",null,null,0,"",null,null,0,"",null,null,0,"",null,null,0,"",null,null,0,"",null,null,0,"",null,null,0,"",null,null,0,"",null,null,0,""]
[null,0,"",null,null,0,"",null,null,0,"",null,null,0,"",null,null,0,"",null,null,0,"",null,null,0,"",null,null,0,"",null,null,0,"",null,null,0,"",null,null,0,"",null,null,0,"",null,null,0,"",null,null,0,"",null,null,0,"",null,null,0,"",null,null,0,"",null,null,0,"",null,null,0,"",null,null,0,"",null,null,0,"",null,null,0,""]
[null,0,"",null,null,0,"",null,null,0,"",null,null,0,"",null,null,0,"",null,null,0,"",null,null,0,"",null,null,0,"",null,null,0,"",null,null,0,"",null,null,0,"",null,null,0,"",null,null,0,"",null,null,0,"",null,null,0,"",null,null,0,"",null,null,0,"",null,null,0,"",null,null,0,"",null,null,0,"",null,null,0,"",null,null,0,""]
["Singles Won",{"$f":"SUM(B29:B40)","v":0},null,null,null,{"$f":"SUM(F29:F40)","v":0},null,null,null,{"$f":"SUM(J29:J40)","v":0},null,null,null,{"$f":"SUM(N29:N40)","v":0},null,null,null,{"$f":"SUM(R29:R40)","v":0},null,null,null,{"$f":"SUM(V29:V40)","v":0},null,null,null,{"$f":"SUM(Z29:Z40)","v":0},null,null,null,{"$f":"SUM(AD29:AD40)","v":0},null,null,null,{"$f":"SUM(AH29:AH40)","v":0},null,null,null,{"$f":"SUM(AL29:AL40)","v":0},null,null,null,{"$f":"SUM(AP29:AP40)","v":0},null,null,null,{"$f":"SUM(AT29:AT40)","v":0},null,null,null,{"$f":"SUM(AX29:AX40)","v":0},null,null,null,{"$f":"SUM(BB29:BB40)","v":0},null,null,null,{"$f":"SUM(BF29:BF40)","v":0},null,null,null,{"$f":"SUM(BJ29:BJ40)","v":0},null,null,null,{"$f":"SUM(BN29:BN40)","v":0},null,null,null,{"$f":"SUM(BR29:BR40)","v":0},null,null,null,{"$f":"SUM(BV29:BV40)","v":0},null,null,null,{"$f":"SUM(BZ29:BZ40)","v":0},null,null,null,{"$f":"SUM(CD29:CD40)","v":0},null,null,null,{"$f":"SUM(CH29:CH40)","v":0}]
["Pairs Games Won",0,null,null,null,2,null,null,null,1,null,null,null,1,null,null,null,0]

{"sheet":"ODD FELLOWS","index":14,"n_rows":42,"n_cols":101,"rows_kept":42,"cut":false,"hidden":false,"merged":[[0,61,0,64],[0,65,0,68],[0,37,0,40],[0,41,0,44],[0,45,0,48],[0,49,0,52],[0,57,0,60],[0,21,0,24],[0,25,0,28],[0,29,0,32],[0,33,0,36],[0,53,0,56],[0,73,0,76],[0,77,0,80],[0,81,0,84],[0,85,0,88],[0,69,0,72],[0,1,0,4],[0,5,0,8],[0,9,0,12],[0,13,0,16],[0,17,0,20]]}
["ODD FELLOWS","WEEK 1",null,null,null,"WEEK 2",null,null,null,"WEEK 3",null,null,null,"WEEK 4",null,null,null,"WEEK 5",null,null,null,"WEEK 6",null,null,null,"WEEK 7",null,null,null,"WEEK 8",null,null,null,"WEEK 9",null,null,null,"WEEK 10",null,null,null,"WEEK 11",null,null,null,"WEEK 12",null,null,null,"WEEK 13",null,null,null,"WEEK 14",null,null,null,"WEEK 15",null,null,null,"WEEK 16",null,null,null,"WEEK 17",null,null,null,"WEEK 18",null,null,null,"WEEK 19",null,null,null,"WEEK 20",null,null,null,"WEEK 21",null,null,null,"WEEK 22"]
[null,"PS","DT","100 +","180's","PS","DT","100 +","180's","PS","DT","100 +","180's","PS","DT","100 +","180's","PS","DT","100 +","180's","PS","DT","100 +","180's","PS","DT","100 +","180's","PS","DT","100 +","180's","PS","DT","100 +","180's","PS","DT","100 +","180's","PS","DT","100 +","180's","PS","DT","100 +","180's","PS","DT","100 +","180's","PS","DT","100 +","180's","PS","DT","100 +","180's","PS","DT","100 +","180's","PS","DT","100 +","180's","PS","DT","100 +","180's","PS","DT","100 +","180's","PS","DT","100 +","180's","PS","DT","100 +","180's","PS","DT","100 +","180's","GP","GW","TP","TD","AVG","AVG D/G","T100+","AVG 100+/G","T180's","T<30","Least Darts","Most Darts"]
["Steve Monk",null,null,null,null,null,null,1,null,415,27,2,null,701,50,null,null,null,null,null,null,null,null,null,null,null,null,null,null,null,null,null,null,679,45,null,null,null,null,null,null,612,39,1,null,690,39,1,null,699,48,2,null,636,33,2,null,683,39,null,null,701,45,2,null,null,null,null,null,549,45,1,null,null,null,null,null,null,null,null,null,null,null,null,null,null,null,null,null,{"$f":"SUM(B17+F17+J17+N17+R17+V17+Z17+AD17+AH17+AL17+AP17+AT17+AX17+BB17+BF17+BJ17+BN17+BR17+BV17+BZ17+CD17+CH17)","v":10},{"$f":"SUM(B29+F29+J29+N29+R29+V29+Z29+AD29+AH29+AL29+AP29+AT29+AX29+BB29+BF29+BJ29+BN29+BR29+BV29+BZ29+CD29+CH29)","v":2},{"$f":"SUM(B3+F3+J3+N3+R3+V3+Z3+AD3+AH3+AL3+AP3+AT3+AX3+BB3+BF3+BJ3+BN3+BR3+BV3+BZ3+CD3+CH3)","v":6365},{"$f":"SUM(C3+G3+K3+O3+S3+W3+AA3+AE3+AI3+AM3+AQ3+AU3+AY3+BC3+BG3+BK3+BO3+BS3+BW3+CA3+CE3+CI3)","v":410},{"$f":"IF(CN3=0,0,(SUM(CN3/CO3)*3))","v":46.573170731707314},{"$f":"IF(CL3=0,0,SUM(CO3/CL3))","v":41},{"$f":"SUM(D3+H3+L3+P3+T3+X3+AB3+AF3+AJ3+AN3+AR3+AV3+AZ3+BD3+BH3+BL3+BP3+BT3+BX3+CB3+CF3+CJ3)","v":12},{"$f":"IF(CL3=0,0,(SUM(CR3/CL3)))","v":1.2},{"$f":"SUM(E3+I3+M3+Q3+U3+Y3+AC3+AG3+AK3+AO3+AS3+AW3+BA3+BE3+BI3+BM3+BQ3+BU3+BY3+CC3+CG3+CK3)","v":0},{"$f":"SUM(E17+I17+M17+Q17+U17+Y17+AC17+AG17+AK17+AO17+AS17+AW17+BA17+BE17+BI17+BM17+BQ17+BU17+BY17+CC17+CG17+CK17)","v":0},{"$f":"MIN(C29,G29,K29,O29,S29,W29,AA29,AE29,AI29,AM29,AQ29,AU29,AY29,BC29,BG29,BK29,BO29,BS29,BW29,CA29,CE29,CI29)","v":45},{"$f":"MAX($C29,$G29,$K29,$O29,$S29,$W29,$AA29,$AE29,$AI29,$AM29,$AQ29,$AU29,$AY29,$BC29,$BG29,$BK29,$BO29,$BS29,$BW29,$CA29,$CE29,$CI29)","v":50}]
["Craig Monk",701,21,6,1,701,37,4,null,701,30,5,null,701,25,null,1,701,34,3,null,701,25,6,null,701,34,5,null,null,null,null,null,701,28,3,1,701,28,5,null,696,39,4,null,669,27,3,null,681,39,1,null,701,40,5,null,701,31,3,null,701,35,4,null,null,null,null,null,701,24,5,null,null,null,null,null,null,null,null,null,null,null,null,null,null,null,null,null,{"$f":"SUM(B18+F18+J18+N18+R18+V18+Z18+AD18+AH18+AL18+AP18+AT18+AX18+BB18+BF18+BJ18+BN18+BR18+BV18+BZ18+CD18+CH18)","v":16},{"$f":"SUM(B30+F30+J30+N30+R30+V30+Z30+AD30+AH30+AL30+AP30+AT30+AX30+BB30+BF30+BJ30+BN30+BR30+BV30+BZ30+CD30+CH30)","v":13},{"$f":"SUM(B4+F4+J4+N4+R4+V4+Z4+AD4+AH4+AL4+AP4+AT4+AX4+BB4+BF4+BJ4+BN4+BR4+BV4+BZ4+CD4+CH4)","v":11159},{"$f":"SUM(C4+G4+K4+O4+S4+W4+AA4+AE4+AI4+AM4+AQ4+AU4+AY4+BC4+BG4+BK4+BO4+BS4+BW4+CA4+CE4+CI4)","v":497},{"$f":"IF(CN4=0,0,(SUM(CN4/CO4)*3))","v":67.358148893360166},31.0625,{"$f":"SUM(D4+H4+L4+P4+T4+X4+AB4+AF4+AJ4+AN4+AR4+AV4+AZ4+BD4+BH4+BL4+BP4+BT4+BX4+CB4+CF4+CJ4)","v":62},{"$f":"IF(CL4=0,0,(SUM(CR4/CL4)))","v":3.875},{"$f":"SUM(E4+I4+M4+Q4+U4+Y4+AC4+AG4+AK4+AO4+AS4+AW4+BA4+BE4+BI4+BM4+BQ4+BU4+BY4+CC4+CG4+CK4)","v":3},{"$f":"SUM(E18+I18+M18+Q18+U18+Y18+AC18+AG18+AK18+AO18+AS18+AW18+BA18+BE18+BI18+BM18+BQ18+BU18+BY18+CC18+CG18+CK18)","v":7},{"$f":"MIN(C30,G30,K30,O30,S30,W30,AA30,AE30,AI30,AM30,AQ30,AU30,AY30,BC30,BG30,BK30,BO30,BS30,BW30,CA30,CE30,CI30)","v":21},40]
["Liam Monk",null,null,1,null,null,null,null,null,null,null,null,null,null,null,null,null,null,null,null,null,null,null,null,null,null,null,null,null,null,null,null,null,null,null,null,null,null,null,null,null,null,null,null,null,null,null,null,null,null,null,null,null,null,null,null,null,null,null,null,null,null,null,null,null,null,null,null,null,null,null,null,null,null,null,null,null,null,null,null,null,null,null,null,null,null,null,null,null,0,0,0,0,0,0,1,0,0,0,0,0]
["Alan Martin",701,37,null,null,701,39,2,null,701,26,2,1,null,null,null,null,701,28,4,null,701,33,2,null,701,33,4,null,null,null,null,null,701,48,3,null,701,34,3,null,701,32,2,1,701,31,6,null,685,30,1,null,701,30,3,null,699,39,6,null,701,41,1,null,null,null,null,null,701,37,3,null,null,null,null,null,null,null,null,null,null,null,null,null,null,null,null,null,15,13,10497,518,60.793436293436287,34.533333333333331,42,2.8,2,3,26,48]
["Tim Whiting JNR",701,54,2,null,681,39,3,null,574,36,4,null,701,33,3,null,701,40,2,null,455,27,2,null,701,43,2,null,null,null,null,null,549,39,null,null,701,41,2,null,701,37,1,null,681,39,3,null,474,27,1,null,701,29,2,1,685,33,2,null,701,40,1,null,null,null,null,null,701,36,1,null,null,null,null,null,null,null,null,null,null,null,null,null,null,null,null,null,16,9,10408,593,52.654300168634066,37.0625,31,1.9375,1,1,29,54]
["Tim Whiting SNR",null,null,null,null,null,null,null,null,null,null,null,null,null,null,null,null,null,null,null,null,null,null,null,null,null,null,null,null,null,null,null,null,null,null,null,null,null,null,null,null,null,null,null,null,null,null,null,null,null,null,null,null,null,null,null,null,null,null,null,null,null,null,null,null,null,null,null,null,null,null,null,null,null,null,null,null,null,null,null,null,null,null,null,null,null,null,null,null,0,0,0,0,0,0,0,0,0,0,0,0]
["Darren Downs",687,60,null,null,null,null,null,null,null,null,null,null,701,57,1,null,699,54,3,null,401,33,null,null,null,null,null,null,null,null,null,null,null,null,null,null,701,43,2,null,null,null,null,null,null,null,null,null,423,33,null,null,null,null,null,null,546,27,3,null,null,null,null,null,null,null,null,null,699,48,3,null,null,null,null,null,null,null,null,null,null,null,null,null,null,null,null,null,8,2,4857,355,41.045070422535211,44.375,12,1.5,0,0,43,57]
["Dennis Clarkson",699,42,3,null,701,37,3,null,701,29,3,null,701,27,5,null,701,32,4,null,701,29,6,null,701,30,5,null,null,null,null,null,653,27,6,null,701,32,8,null,701,36,null,null,701,34,5,null,699,39,6,null,701,32,5,null,701,42,6,1,701,30,7,null,null,null,null,null,701,27,7,null,null,null,null,null,null,null,null,null,null,null,null,null,null,null,null,null,16,13,11164,525,63.794285714285714,32.8125,79,4.9375,1,6,27,42]
["Alex Sinclair",null,null,null,null,701,66,4,null,null,null,null,null,484,21,2,null,null,null,null,null,null,null,null,null,701,32,3,null,null,null,null,null,null,null,null,null,null,null,null,null,null,null,null,null,null,null,null,null,null,null,null,null,null,null,null,null,null,null,null,null,null,null,null,null,null,null,null,null,null,null,null,null,null,null,null,null,null,null,null,null,null,null,null,null,null,null,null,null,3,2,1886,119,47.54621848739496,39.666666666666664,9,3,0,0,32,66]
["Carl Bickerton",701,51,null,null,693,58,1,null,691,45,null,null,null,null,null,null,660,48,null,null,326,21,1,null,701,43,null,null,null,null,null,null,701,46,null,null,701,47,1,null,null,null,null,null,438,39,1,null,null,null,null,null,671,45,1,null,null,null,null,null,701,42,1,null,null,null,null,null,null,null,2,null,null,null,null,null,null,null,null,null,null,null,null,null,null,null,null,null,11,5,6984,485,43.2,44.090909090909093,8,0.72727272727272729,0,0,42,51]
[null,null,null,null,null,null,null,null,null,null,null,null,null,null,null,null,null,null,null,null,null,null,null,null,null,null,null,null,null,null,null,null,null,null,null,null,null,null,null,null,null,null,null,null,null,null,null,null,null,null,null,null,null,null,null,null,null,null,null,null,null,null,null,null,null,null,null,null,null,null,null,null,null,null,null,null,null,null,null,null,null,null,null,null,null,null,null,null,null,0,0,0,0,0,0,0,0,0,0,0,0]
[null,null,null,null,null,null,null,null,null,null,null,null,null,null,null,null,null,null,null,null,null,null,null,null,null,null,null,null,null,null,null,null,null,null,null,null,null,null,null,null,null,null,null,null,null,null,null,null,null,null,null,null,null,null,null,null,null,null,null,null,null,null,null,null,null,null,null,null,null,null,null,null,null,null,null,null,null,null,null,null,null,null,null,null,null,null,null,null,null,0,0,0,0,{"$f":"IF(CN14=0,0,(SUM(CN14/CO14)*3))","v":0},{"$f":"IF(CL14=0,0,SUM(CO14/CL14))","v":0},0,0,0,0,0,0]
[]
[]
[null,{"$f":"IF(B3<>\"\",1,0)","v":0},{"$f":"IF(C3<=30,1,0)","v":1},{"$f":"IF(C3=0,1,0)","v":1},{"$f":"IF(B29=1,(SUM(C17-D17)),0)","v":0},{"$f":"IF(F3<>\"\",1,0)","v":0},{"$f":"IF(G3<=30,1,0)","v":1},{"$f":"IF(G3=0,1,0)","v":1},{"$f":"IF(F29=1,(SUM(G17-H17)),0)","v":0},{"$f":"IF(J3<>\"\",1,0)","v":1},{"$f":"IF(K3<=30,1,0)","v":1},{"$f":"IF(K3=0,1,0)","v":0},{"$f":"IF(J29=1,(SUM(K17-L17)),0)","v":0},{"$f":"IF(N3<>\"\",1,0)","v":1},{"$f":"IF(O3<=30,1,0)","v":0},{"$f":"IF(O3=0,1,0)","v":0},{"$f":"IF(N29=1,(SUM(O17-P17)),0)","v":0},{"$f":"IF(R3<>\"\",1,0)","v":0},{"$f":"IF(S3<=30,1,0)","v":1},{"$f":"IF(S3=0,1,0)","v":1},{"$f":"IF(R29=1,(SUM(S17-T17)),0)","v":0},{"$f":"IF(V3<>\"\",1,0)","v":0},{"$f":"IF(W3<=30,1,0)","v":1},{"$f":"IF(W3=0,1,0)","v":1},{"$f":"IF(V29=1,(SUM(W17-X17)),0)","v":0},{"$f":"IF(Z3<>\"\",1,0)","v":0},{"$f":"IF(AA3<=30,1,0)","v":1},{"$f":"IF(AA3=0,1,0)","v":1},{"$f":"IF(Z29=1,(SUM(AA17-AB17)),0)","v":0},{"$f":"IF(AD3<>\"\",1,0)","v":0},{"$f":"IF(AE3<=30,1,0)","v":1},{"$f":"IF(AE3=0,1,0)","v":1},{"$f":"IF(AD29=1,(SUM(AE17-AF17)),0)","v":0},{"$f":"IF(AH3<>\"\",1,0)","v":1},{"$f":"IF(AI3<=30,1,0)","v":0},{"$f":"IF(AI3=0,1,0)","v":0},{"$f":"IF(AH29=1,(SUM(AI17-AJ17)),0)","v":0},{"$f":"IF(AL3<>\"\",1,0)","v":0},{"$f":"IF(AM3<=30,1,0)","v":1},{"$f":"IF(AM3=0,1,0)","v":1},{"$f":"IF(AL29=1,(SUM(AM17-AN17)),0)","v":0},{"$f":"IF(AP3<>\"\",1,0)","v":1},{"$f":"IF(AQ3<=30,1,0)","v":0},{"$f":"IF(AQ3=0,1,0)","v":0},{"$f":"IF(AP29=1,(SUM(AQ17-AR17)),0)","v":0},{"$f":"IF(AT3<>\"\",1,0)","v":1},{"$f":"IF(AU3<=30,1,0)","v":0},{"$f":"IF(AU3=0,1,0)","v":0},{"$f":"IF(AT29=1,(SUM(AU17-AV17)),0)","v":0},{"$f":"IF(AX3<>\"\",1,0)","v":1},{"$f":"IF(AY3<=30,1,0)","v":0},{"$f":"IF(AY3=0,1,0)","v":0},{"$f":"IF(AX29=1,(SUM(AY17-AZ17)),0)","v":0},{"$f":"IF(BB3<>\"\",1,0)","v":1},{"$f":"IF(BC3<=30,1,0)","v":0},{"$f":"IF(BC3=0,1,0)","v":0},{"$f":"IF(BB29=1,(SUM(BC17-BD17)),0)","v":0},{"$f":"IF(BF3<>\"\",1,0)","v":1},{"$f":"IF(BG3<=30,1,0)","v":0},{"$f":"IF(BG3=0,1,0)","v":0},{"$f":"IF(BF29=1,(SUM(BG17-BH17)),0)","v":0},{"$f":"IF(BJ3<>\"\",1,0)","v":1},{"$f":"IF(BK3<=30,1,0)","v":0},{"$f":"IF(BK3=0,1,0)","v":0},{"$f":"IF(BJ29=1,(SUM(BK17-BL17)),0)","v":0},{"$f":"IF(BN3<>\"\",1,0)","v":0},{"$f":"IF(BO3<=30,1,0)","v":1},{"$f":"IF(BO3=0,1,0)","v":1},{"$f":"IF(BN29=1,(SUM(BO17-BP17)),0)","v":0},{"$f":"IF(BR3<>\"\",1,0)","v":1},{"$f":"IF(BS3<=30,1,0)","v":0},{"$f":"IF(BS3=0,1,0)","v":0},{"$f":"IF(BR29=1,(SUM(BS17-BT17)),0)","v":0},{"$f":"IF(BV3<>\"\",1,0)","v":0},{"$f":"IF(BW3<=30,1,0)","v":1},{"$f":"IF(BW3=0,1,0)","v":1},{"$f":"IF(BV29=1,(SUM(BW17-BX17)),0)","v":0},{"$f":"IF(BZ3<>\"\",1,0)","v":0},{"$f":"IF(CA3<=30,1,0)","v":1},{"$f":"IF(CA3=0,1,0)","v":1},{"$f":"IF(BZ29=1,(SUM(CA17-CB17)),0)","v":0},{"$f":"IF(CD3<>\"\",1,0)","v":0},{"$f":"IF(CE3<=30,1,0)","v":1},{"$f":"IF(CE3=0,1,0)","v":1},{"$f":"IF(CD29=1,(SUM(CE17-CF17)),0)","v":0},{"$f":"IF(CH3<>\"\",1,0)","v":0},{"$f":"IF(CI3<=30,1,0)","v":1},{"$f":"IF(CI3=0,1,0)","v":1},{"$f":"IF(CH29=1,(SUM(CI17-CJ17)),0)","v":0}]
[null,1,{"$f":"IF(C4<=30,1,0)","v":1},{"$f":"IF(C4=0,1,0)","v":0},{"$f":"IF(B30=1,(SUM(C18-D18)),0)","v":1},1,{"$f":"IF(G4<=30,1,0)","v":0},{"$f":"IF(G4=0,1,0)","v":0},{"$f":"IF(F30=1,(SUM(G18-H18)),0)","v":0},1,{"$f":"IF(K4<=30,1,0)","v":1},{"$f":"IF(K4=0,1,0)","v":0},{"$f":"IF(J30=1,(SUM(K18-L18)),0)","v":1},1,{"$f":"IF(O4<=30,1,0)","v":1},{"$f":"IF(O4=0,1,0)","v":0},{"$f":"IF(N30=1,(SUM(O18-P18)),0)","v":1},1,{"$f":"IF(S4<=30,1,0)","v":0},{"$f":"IF(S4=0,1,0)","v":0},{"$f":"IF(R30=1,(SUM(S18-T18)),0)","v":0},1,{"$f":"IF(W4<=30,1,0)","v":1},{"$f":"IF(W4=0,1,0)","v":0},{"$f":"IF(V30=1,(SUM(W18-X18)),0)","v":1},1,{"$f":"IF(AA4<=30,1,0)","v":0},{"$f":"IF(AA4=0,1,0)","v":0},{"$f":"IF(Z30=1,(SUM(AA18-AB18)),0)","v":0},0,{"$f":"IF(AE4<=30,1,0)","v":1},{"$f":"IF(AE4=0,1,0)","v":1},{"$f":"IF(AD30=1,(SUM(AE18-AF18)),0)","v":0},1,{"$f":"IF(AI4<=30,1,0)","v":1},{"$f":"IF(AI4=0,1,0)","v":0},{"$f":"IF(AH30=1,(SUM(AI18-AJ18)),0)","v":1},1,{"$f":"IF(AM4<=30,1,0)","v":1},{"$f":"IF(AM4=0,1,0)","v":0},{"$f":"IF(AL30=1,(SUM(AM18-AN18)),0)","v":1},1,{"$f":"IF(AQ4<=30,1,0)","v":0},{"$f":"IF(AQ4=0,1,0)","v":0},{"$f":"IF(AP30=1,(SUM(AQ18-AR18)),0)","v":0},1,{"$f":"IF(AU4<=30,1,0)","v":1},{"$f":"IF(AU4=0,1,0)","v":0},{"$f":"IF(AT30=1,(SUM(AU18-AV18)),0)","v":0},1,{"$f":"IF(AY4<=30,1,0)","v":0},{"$f":"IF(AY4=0,1,0)","v":0},{"$f":"IF(AX30=1,(SUM(AY18-AZ18)),0)","v":0},1,{"$f":"IF(BC4<=30,1,0)","v":0},{"$f":"IF(BC4=0,1,0)","v":0},{"$f":"IF(BB30=1,(SUM(BC18-BD18)),0)","v":0},1,{"$f":"IF(BG4<=30,1,0)","v":0},{"$f":"IF(BG4=0,1,0)","v":0},{"$f":"IF(BF30=1,(SUM(BG18-BH18)),0)","v":0},1,{"$f":"IF(BK4<=30,1,0)","v":0},{"$f":"IF(BK4=0,1,0)","v":0},{"$f":"IF(BJ30=1,(SUM(BK18-BL18)),0)","v":0},0,{"$f":"IF(BO4<=30,1,0)","v":1},{"$f":"IF(BO4=0,1,0)","v":1},{"$f":"IF(BN30=1,(SUM(BO18-BP18)),0)","v":0},1,{"$f":"IF(BS4<=30,1,0)","v":1},{"$f":"IF(BS4=0,1,0)","v":0},{"$f":"IF(BR30=1,(SUM(BS18-BT18)),0)","v":1},0,{"$f":"IF(BW4<=30,1,0)","v":1},{"$f":"IF(BW4=0,1,0)","v":1},{"$f":"IF(BV30=1,(SUM(BW18-BX18)),0)","v":0},0,{"$f":"IF(CA4<=30,1,0)","v":1},{"$f":"IF(CA4=0,1,0)","v":1},{"$f":"IF(BZ30=1,(SUM(CA18-CB18)),0)","v":0},0,{"$f":"IF(CE4<=30,1,0)","v":1},{"$f":"IF(CE4=0,1,0)","v":1},{"$f":"IF(CD30=1,(SUM(CE18-CF18)),0)","v":0},0,{"$f":"IF(CI4<=30,1,0)","v":1},{"$f":"IF(CI4=0,1,0)","v":1},{"$f":"IF(CH30=1,(SUM(CI18-CJ18)),0)","v":0}]
[null,0,1,1,0,0,1,1,0,0,1,1,0,0,1,1,0,0,1,1,0,0,1,1,0,0,1,1,0,0,1,1,0,0,1,1,0,0,1,1,0,0,1,1,0,0,1,1,0,0,1,1,0,0,1,1,0,0,1,1,0,0,1,1,0,0,1,1,0,0,1,1,0,0,1,1,0,0,1,1,0,0,1,1,0,0,1,1,0]
[null,1,0,0,0,1,0,0,0,1,1,0,1,0,1,1,0,1,1,0,1,1,0,0,0,1,0,0,0,0,1,1,0,1,0,0,0,1,0,0,0,1,0,0,0,1,0,0,0,1,1,0,0,1,1,0,1,1,0,0,0,1,0,0,0,0,1,1,0,1,0,0,0,0,1,1,0,0,1,1,0,0,1,1,0,0,1,1,0]
[null,1,0,0,0,1,0,0,0,1,0,0,0,1,0,0,0,1,0,0,0,1,1,0,0,1,0,0,0,0,1,1,0,1,0,0,0,1,0,0,0,1,0,0,0,1,0,0,0,1,1,0,0,1,1,0,1,1,0,0,0,1,0,0,0,0,1,1,0,1,0,0,0,0,1,1,0,0,1,1,0,0,1,1,0,0,1,1,0]
[null,0,1,1,0,0,1,1,0,0,1,1,0,0,1,1,0,0,1,1,0,0,1,1,0,0,1,1,0,0,1,1,0,0,1,1,0,0,1,1,0,0,1,1,0,0,1,1,0,0,1,1,0,0,1,1,0,0,1,1,0,0,1,1,0,0,1,1,0,0,1,1,0,0,1,1,0,0,1,1,0,0,1,1,0,0,1,1,0]
[null,1,0,0,0,0,1,1,0,0,1,1,0,1,0,0,0,1,0,0,0,1,0,0,0,0,1,1,0,0,1,1,0,0,1,1,0,1,0,0,0,0,1,1,0,0,1,1,0,1,0,0,0,0,1,1,0,1,1,0,0,0,1,1,0,0,1,1,0,1,0,0,0,0,1,1,0,0,1,1,0,0,1,1,0,0,1,1,0]
[null,1,0,0,0,1,0,0,0,1,1,0,1,1,1,0,1,1,0,0,0,1,1,0,1,1,1,0,1,0,1,1,0,1,1,0,0,1,0,0,0,1,0,0,0,1,0,0,0,1,0,0,0,1,0,0,0,1,0,0,0,1,1,0,1,0,1,1,0,1,1,0,1,0,1,1,0,0,1,1,0,0,1,1,0,0,1,1,0]
[null,0,1,1,0,1,0,0,0,0,1,1,0,1,1,0,0,0,1,1,0,0,1,1,0,1,0,0,0,0,1,1,0,0,1,1,0,0,1,1,0,0,1,1,0,0,1,1,0,0,1,1,0,0,1,1,0,0,1,1,0,0,1,1,0,0,1,1,0,0,1,1,0,0,1,1,0,0,1,1,0,0,1,1,0,0,1,1,0]
[null,1,0,0,0,1,0,0,0,1,0,0,0,0,1,1,0,1,0,0,0,1,1,0,0,1,0,0,0,0,1,1,0,1,0,0,0,1,0,0,0,0,1,1,0,1,0,0,0,0,1,1,0,1,0,0,0,0,1,1,0,1,0,0,0,0,1,1,0,0,1,1,0,0,1,1,0,0,1,1,0,0,1,1,0,0,1,1,0]
[null,0,1,1,0,0,1,1,0,0,1,1,0,0,1,1,0,0,1,1,0,0,1,1,0,0,1,1,0,0,1,1,0,0,1,1,0,0,1,1,0,0,1,1,0,0,1,1,0,0,1,1,0,0,1,1,0,0,1,1,0,0,1,1,0,0,1,1,0,0,1,1,0,0,1,1,0,0,1,1,0,0,1,1,0,0,1,1,0]
[null,0,1,1,0,0,1,1,0,0,1,1,0,0,1,1,0,0,1,1,0,0,1,1,0,0,1,1,0,0,1,1,0,0,1,1,0,0,1,1,0,0,1,1,0,0,1,1,0,0,1,1,0,0,1,1,0,0,1,1,0,0,1,1,0,0,1,1,0,0,1,1,0,0,1,1,0,0,1,1,0,0,1,1,0,0,1,1,0]
[null,{"$f":"IF(B3=701,1,0)","v":0},{"$f":"IF(B29=1,C3,\"\")","v":""},null,null,{"$f":"IF(F3=701,1,0)","v":0},{"$f":"IF(F29=1,G3,\"\")","v":""},null,null,{"$f":"IF(J3=701,1,0)","v":0},{"$f":"IF(J29=1,K3,\"\")","v":""},null,null,{"$f":"IF(N3=701,1,0)","v":1},{"$f":"IF(N29=1,O3,\"\")","v":50},null,null,{"$f":"IF(R3=701,1,0)","v":0},{"$f":"IF(R29=1,S3,\"\")","v":""},null,null,{"$f":"IF(V3=701,1,0)","v":0},{"$f":"IF(V29=1,W3,\"\")","v":""},null,null,{"$f":"IF(Z3=701,1,0)","v":0},{"$f":"IF(Z29=1,AA3,\"\")","v":""},null,null,{"$f":"IF(AD3=701,1,0)","v":0},{"$f":"IF(AD29=1,AE3,\"\")","v":""},null,null,{"$f":"IF(AH3=701,1,0)","v":0},{"$f":"IF(AH29=1,AI3,\"\")","v":""},null,null,{"$f":"IF(AL3=701,1,0)","v":0},{"$f":"IF(AL29=1,AM3,\"\")","v":""},null,null,{"$f":"IF(AP3=701,1,0)","v":0},{"$f":"IF(AP29=1,AQ3,\"\")","v":""},null,null,{"$f":"IF(AT3=701,1,0)","v":0},{"$f":"IF(AT29=1,AU3,\"\")","v":""},null,null,{"$f":"IF(AX3=701,1,0)","v":0},{"$f":"IF(AX29=1,AY3,\"\")","v":""},null,null,{"$f":"IF(BB3=701,1,0)","v":0},{"$f":"IF(BB29=1,BC3,\"\")","v":""},null,null,{"$f":"IF(BF3=701,1,0)","v":0},{"$f":"IF(BF29=1,BG3,\"\")","v":""},null,null,{"$f":"IF(BJ3=701,1,0)","v":1},{"$f":"IF(BJ29=1,BK3,\"\")","v":45},null,null,{"$f":"IF(BN3=701,1,0)","v":0},{"$f":"IF(BN29=1,BO3,\"\")","v":""},null,null,{"$f":"IF(BR3=701,1,0)","v":0},{"$f":"IF(BR29=1,BS3,\"\")","v":""},null,null,{"$f":"IF(BV3=701,1,0)","v":0},{"$f":"IF(BV29=1,BW3,\"\")","v":""},null,null,{"$f":"IF(BZ3=701,1,0)","v":0},{"$f":"IF(BZ29=1,CA3,\"\")","v":""},null,null,{"$f":"IF(CD3=701,1,0)","v":0},{"$f":"IF(CD29=1,CE3,\"\")","v":""},null,null,{"$f":"IF(CH3=701,1,0)","v":0},{"$f":"IF(CH29=1,CI3,\"\")","v":""}]
[null,{"$f":"IF(B4=701,1,0)","v":1},21,null,null,{"$f":"IF(F4=701,1,0)","v":1},37,null,null,{"$f":"IF(J4=701,1,0)","v":1},30,null,null,{"$f":"IF(N4=701,1,0)","v":1},25,null,null,{"$f":"IF(R4=701,1,0)","v":1},34,null,null,{"$f":"IF(V4=701,1,0)","v":1},25,null,null,{"$f":"IF(Z4=701,1,0)","v":1},34,null,null,{"$f":"IF(AD4=701,1,0)","v":0},"",null,null,{"$f":"IF(AH4=701,1,0)","v":1},28,null,null,{"$f":"IF(AL4=701,1,0)","v":1},28,null,null,{"$f":"IF(AP4=701,1,0)","v":0},"",null,null,{"$f":"IF(AT4=701,1,0)","v":0},"",null,null,{"$f":"IF(AX4=701,1,0)","v":0},"",null,null,{"$f":"IF(BB4=701,1,0)","v":1},40,null,null,{"$f":"IF(BF4=701,1,0)","v":1},31,null,null,{"$f":"IF(BJ4=701,1,0)","v":1},35,null,null,{"$f":"IF(BN4=701,1,0)","v":0},"",null,null,{"$f":"IF(BR4=701,1,0)","v":1},24,null,null,{"$f":"IF(BV4=701,1,0)","v":0},"",null,null,{"$f":"IF(BZ4=701,1,0)","v":0},"",null,null,{"$f":"IF(CD4=701,1,0)","v":0},"",null,null,{"$f":"IF(CH4=701,1,0)","v":0},""]
[null,0,"",null,null,0,"",null,null,0,"",null,null,0,"",null,null,0,"",null,null,0,"",null,null,0,"",null,null,0,"",null,null,0,"",null,null,0,"",null,null,0,"",null,null,0,"",null,null,0,"",null,null,0,"",null,null,0,"",null,null,0,"",null,null,0,"",null,null,0,"",null,null,0,"",null,null,0,"",null,null,0,"",null,null,0,""]
[null,1,37,null,null,1,39,null,null,1,26,null,null,0,"",null,null,1,28,null,null,1,33,null,null,1,33,null,null,0,"",null,null,1,48,null,null,1,34,null,null,1,32,null,null,1,31,null,null,0,"",null,null,1,30,null,null,0,"",null,null,1,41,null,null,0,"",null,null,1,37,null,null,0,"",null,null,0,"",null,null,0,"",null,null,0,""]
[null,1,54,null,null,0,"",null,null,0,"",null,null,1,33,null,null,1,40,null,null,0,"",null,null,1,43,null,null,0,"",null,null,0,"",null,null,1,41,null,null,1,37,null,null,0,"",null,null,0,"",null,null,1,29,null,null,0,"",null,null,1,40,null,null,0,"",null,null,1,36,null,null,0,"",null,null,0,"",null,null,0,"",null,null,0,""]
[null,0,"",null,null,0,"",null,null,0,"",null,null,0,"",null,null,0,"",null,null,0,"",null,null,0,"",null,null,0,"",null,null,0,"",null,null,0,"",null,null,0,"",null,null,0,"",null,null,0,"",null,null,0,"",null,null,0,"",null,null,0,"",null,null,0,"",null,null,0,"",null,null,0,"",null,null,0,"",null,null,0,"",null,null,0,""]
[null,0,"",null,null,0,"",null,null,0,"",null,null,1,57,null,null,0,"",null,null,0,"",null,null,0,"",null,null,0,"",null,null,0,"",null,null,1,43,null,null,0,"",null,null,0,"",null,null,0,"",null,null,0,"",null,null,0,"",null,null,0,"",null,null,0,"",null,null,0,"",null,null,0,"",null,null,0,"",null,null,0,"",null,null,0,""]
[null,0,"",null,null,1,37,null,null,1,29,null,null,1,27,null,null,1,32,null,null,1,29,null,null,1,30,null,null,0,"",null,null,0,"",null,null,1,32,null,null,1,36,null,null,1,34,null,null,0,"",null,null,1,32,null,null,1,42,null,null,1,30,null,null,0,"",null,null,1,27,null,null,0,"",null,null,0,"",null,null,0,"",null,null,0,""]
[null,0,"",null,null,1,66,null,null,0,"",null,null,0,"",null,null,0,"",null,null,0,"",null,null,1,32,null,null,0,"",null,null,0,"",null,null,0,"",null,null,0,"",null,null,0,"",null,null,0,"",null,null,0,"",null,null,0,"",null,null,0,"",null,null,0,"",null,null,0,"",null,null,0,"",null,null,0,"",null,null,0,"",null,null,0,""]
[null,1,51,null,null,0,"",null,null,0,"",null,null,0,"",null,null,0,"",null,null,0,"",null,null,1,43,null,null,0,"",null,null,1,46,null,null,1,47,null,null,0,"",null,null,0,"",null,null,0,"",null,null,0,"",null,null,0,"",null,null,1,42,null,null,0,"",null,null,0,"",null,null,0,"",null,null,0,"",null,null,0,"",null,null,0,""]
[null,0,"",null,null,0,"",null,null,0,"",null,null,0,"",null,null,0,"",null,null,0,"",null,null,0,"",null,null,0,"",null,null,0,"",null,null,0,"",null,null,0,"",null,null,0,"",null,null,0,"",null,null,0,"",null,null,0,"",null,null,0,"",null,null,0,"",null,null,0,"",null,null,0,"",null,null,0,"",null,null,0,"",null,null,0,""]
[null,0,"",null,null,0,"",null,null,0,"",null,null,0,"",null,null,0,"",null,null,0,"",null,null,0,"",null,null,0,"",null,null,0,"",null,null,0,"",null,null,0,"",null,null,0,"",null,null,0,"",null,null,0,"",null,null,0,"",null,null,0,"",null,null,0,"",null,null,0,"",null,null,0,"",null,null,0,"",null,null,0,"",null,null,0,""]
["Singles Won",{"$f":"SUM(B29:B40)","v":4},null,null,null,{"$f":"SUM(F29:F40)","v":4},null,null,null,{"$f":"SUM(J29:J40)","v":3},null,null,null,{"$f":"SUM(N29:N40)","v":5},null,null,null,{"$f":"SUM(R29:R40)","v":4},null,null,null,{"$f":"SUM(V29:V40)","v":3},null,null,null,{"$f":"SUM(Z29:Z40)","v":6},null,null,null,{"$f":"SUM(AD29:AD40)","v":0},null,null,null,{"$f":"SUM(AH29:AH40)","v":3},null,null,null,{"$f":"SUM(AL29:AL40)","v":6},null,null,null,{"$f":"SUM(AP29:AP40)","v":3},null,null,null,{"$f":"SUM(AT29:AT40)","v":2},null,null,null,{"$f":"SUM(AX29:AX40)","v":0},null,null,null,{"$f":"SUM(BB29:BB40)","v":4},null,null,null,{"$f":"SUM(BF29:BF40)","v":2},null,null,null,{"$f":"SUM(BJ29:BJ40)","v":6},null,null,null,{"$f":"SUM(BN29:BN40)","v":0},null,null,null,{"$f":"SUM(BR29:BR40)","v":4},null,null,null,{"$f":"SUM(BV29:BV40)","v":0},null,null,null,{"$f":"SUM(BZ29:BZ40)","v":0},null,null,null,{"$f":"SUM(CD29:CD40)","v":0},null,null,null,{"$f":"SUM(CH29:CH40)","v":0}]
["Pairs Games Won",3,null,null,null,3,null,null,null,3,null,null,null,2,null,null,null,2,null,null,null,1,null,null,null,3,null,null,null,null,null,null,null,1,null,null,null,3,null,null,null,3,null,null,null,1,null,null,null,1,null,null,null,2,null,null,null,2,null,null,null,2,null,null,null,null,null,null,null,2]

{"sheet":"SPORTSMANS","index":15,"n_rows":42,"n_cols":101,"rows_kept":42,"cut":false,"hidden":false,"merged":[[0,61,0,64],[0,65,0,68],[0,37,0,40],[0,41,0,44],[0,45,0,48],[0,49,0,52],[0,57,0,60],[0,21,0,24],[0,25,0,28],[0,29,0,32],[0,33,0,36],[0,53,0,56],[0,73,0,76],[0,77,0,80],[0,81,0,84],[0,85,0,88],[0,69,0,72],[0,1,0,4],[0,5,0,8],[0,9,0,12],[0,13,0,16],[0,17,0,20]]}
["SPORTSMANS","WEEK 1",null,null,null,"WEEK 2",null,null,null,"WEEK 3",null,null,null,"WEEK 4",null,null,null,"WEEK 5",null,null,null,"WEEK 6",null,null,null,"WEEK 7",null,null,null,"WEEK 8",null,null,null,"WEEK 9",null,null,null,"WEEK 10",null,null,null,"WEEK 11",null,null,null,"WEEK 12",null,null,null,"WEEK 13",null,null,null,"WEEK 14",null,null,null,"WEEK 15",null,null,null,"WEEK 16",null,null,null,"WEEK 17",null,null,null,"WEEK 18",null,null,null,"WEEK 19",null,null,null,"WEEK 20",null,null,null,"WEEK 21",null,null,null,"WEEK 22"]
[null,"PS","DT","100 +","180's","PS","DT","100 +","180's","PS","DT","100 +","180's","PS","DT","100 +","180's","PS","DT","100 +","180's","PS","DT","100 +","180's","PS","DT","100 +","180's","PS","DT","100 +","180's","PS","DT","100 +","180's","PS","DT","100 +","180's","PS","DT","100 +","180's","PS","DT","100 +","180's","PS","DT","100 +","180's","PS","DT","100 +","180's","PS","DT","100 +","180's","PS","DT","100 +","180's","PS","DT","100 +","180's","PS","DT","100 +","180's","PS","DT","100 +","180's","PS","DT","100 +","180's","PS","DT","100 +","180's","PS","DT","100 +","180's","GP","GW","TP","TD","AVG","AVG D/G","T100+","AVG 100+/G","T180's","T<30","Least Darts","Most Darts"]
["Nigel Outram",701,51,5,null,503,30,4,null,462,27,2,null,633,33,2,null,701,27,5,null,701,35,5,null,null,null,null,null,701,32,5,null,701,23,1,1,701,32,6,null,701,40,1,null,701,36,1,null,701,38,1,null,701,36,3,null,649,39,3,null,null,null,null,null,701,35,3,null,701,32,3,null,null,null,null,null,null,null,null,null,null,null,null,null,null,null,null,null,{"$f":"SUM(B17+F17+J17+N17+R17+V17+Z17+AD17+AH17+AL17+AP17+AT17+AX17+BB17+BF17+BJ17+BN17+BR17+BV17+BZ17+CD17+CH17)","v":16},{"$f":"SUM(B29+F29+J29+N29+R29+V29+Z29+AD29+AH29+AL29+AP29+AT29+AX29+BB29+BF29+BJ29+BN29+BR29+BV29+BZ29+CD29+CH29)","v":12},{"$f":"SUM(B3+F3+J3+N3+R3+V3+Z3+AD3+AH3+AL3+AP3+AT3+AX3+BB3+BF3+BJ3+BN3+BR3+BV3+BZ3+CD3+CH3)","v":10659},{"$f":"SUM(C3+G3+K3+O3+S3+W3+AA3+AE3+AI3+AM3+AQ3+AU3+AY3+BC3+BG3+BK3+BO3+BS3+BW3+CA3+CE3+CI3)","v":546},{"$f":"IF(CN3=0,0,(SUM(CN3/CO3)*3))","v":58.565934065934066},{"$f":"IF(CL3=0,0,SUM(CO3/CL3))","v":34.125},{"$f":"SUM(D3+H3+L3+P3+T3+X3+AB3+AF3+AJ3+AN3+AR3+AV3+AZ3+BD3+BH3+BL3+BP3+BT3+BX3+CB3+CF3+CJ3)","v":50},{"$f":"IF(CL3=0,0,(SUM(CR3/CL3)))","v":3.125},{"$f":"SUM(E3+I3+M3+Q3+U3+Y3+AC3+AG3+AK3+AO3+AS3+AW3+BA3+BE3+BI3+BM3+BQ3+BU3+BY3+CC3+CG3+CK3)","v":1},{"$f":"SUM(E17+I17+M17+Q17+U17+Y17+AC17+AG17+AK17+AO17+AS17+AW17+BA17+BE17+BI17+BM17+BQ17+BU17+BY17+CC17+CG17+CK17)","v":2},{"$f":"MIN(C29,G29,K29,O29,S29,W29,AA29,AE29,AI29,AM29,AQ29,AU29,AY29,BC29,BG29,BK29,BO29,BS29,BW29,CA29,CE29,CI29)","v":23},{"$f":"MAX($C29,$G29,$K29,$O29,$S29,$W29,$AA29,$AE29,$AI29,$AM29,$AQ29,$AU29,$AY29,$BC29,$BG29,$BK29,$BO29,$BS29,$BW29,$CA29,$CE29,$CI29)","v":51}]
["Martin Young",701,41,4,null,631,30,2,null,701,62,5,null,699,39,2,null,482,45,2,null,640,27,3,null,null,null,null,null,556,33,2,null,701,47,3,null,701,48,2,null,605,36,2,null,701,38,3,null,661,27,5,null,701,34,1,null,625,30,2,null,null,null,null,null,701,27,7,null,701,37,3,null,null,null,null,null,null,null,null,null,null,null,null,null,null,null,null,null,{"$f":"SUM(B18+F18+J18+N18+R18+V18+Z18+AD18+AH18+AL18+AP18+AT18+AX18+BB18+BF18+BJ18+BN18+BR18+BV18+BZ18+CD18+CH18)","v":16},{"$f":"SUM(B30+F30+J30+N30+R30+V30+Z30+AD30+AH30+AL30+AP30+AT30+AX30+BB30+BF30+BJ30+BN30+BR30+BV30+BZ30+CD30+CH30)","v":8},{"$f":"SUM(B4+F4+J4+N4+R4+V4+Z4+AD4+AH4+AL4+AP4+AT4+AX4+BB4+BF4+BJ4+BN4+BR4+BV4+BZ4+CD4+CH4)","v":10507},{"$f":"SUM(C4+G4+K4+O4+S4+W4+AA4+AE4+AI4+AM4+AQ4+AU4+AY4+BC4+BG4+BK4+BO4+BS4+BW4+CA4+CE4+CI4)","v":601},{"$f":"IF(CN4=0,0,(SUM(CN4/CO4)*3))","v":52.447587354409322},37.5625,{"$f":"SUM(D4+H4+L4+P4+T4+X4+AB4+AF4+AJ4+AN4+AR4+AV4+AZ4+BD4+BH4+BL4+BP4+BT4+BX4+CB4+CF4+CJ4)","v":48},{"$f":"IF(CL4=0,0,(SUM(CR4/CL4)))","v":3},{"$f":"SUM(E4+I4+M4+Q4+U4+Y4+AC4+AG4+AK4+AO4+AS4+AW4+BA4+BE4+BI4+BM4+BQ4+BU4+BY4+CC4+CG4+CK4)","v":0},{"$f":"SUM(E18+I18+M18+Q18+U18+Y18+AC18+AG18+AK18+AO18+AS18+AW18+BA18+BE18+BI18+BM18+BQ18+BU18+BY18+CC18+CG18+CK18)","v":1},{"$f":"MIN(C30,G30,K30,O30,S30,W30,AA30,AE30,AI30,AM30,AQ30,AU30,AY30,BC30,BG30,BK30,BO30,BS30,BW30,CA30,CE30,CI30)","v":27},62]
["Andy Monk",701,48,5,null,645,39,2,null,701,36,1,null,669,39,2,null,653,42,null,null,522,30,1,null,null,null,null,null,691,39,2,null,693,45,1,null,701,47,3,null,503,27,null,null,701,35,5,null,701,39,1,null,701,32,2,null,701,38,1,null,null,null,null,null,559,30,3,null,701,48,2,null,null,null,null,null,null,null,null,null,null,null,null,null,null,null,null,null,16,8,10543,614,51.513029315960907,38.375,31,1.9375,0,0,32,48]
["Pete Young",null,null,null,null,null,null,null,null,null,null,null,null,null,null,null,null,572,48,null,null,null,null,null,null,null,null,null,null,null,null,null,null,null,null,null,null,null,null,null,null,427,33,null,null,681,36,1,null,null,null,null,null,null,null,null,null,null,null,null,null,null,null,null,null,null,null,null,null,null,null,null,null,null,null,null,null,null,null,null,null,null,null,null,null,null,null,null,null,3,0,1680,117,43.07692307692308,39,1,0.33333333333333331,0,0,0,0]
["Kyle Young",701,33,4,null,701,42,1,null,652,27,1,null,701,42,1,null,null,null,null,null,701,24,5,null,null,null,null,null,701,39,1,null,701,29,3,null,701,29,4,null,701,37,2,1,701,46,2,null,701,29,2,null,701,30,2,null,701,27,3,null,null,null,null,null,701,30,3,null,701,47,2,2,null,null,null,null,null,null,null,null,null,null,null,null,null,null,null,null,15,14,10466,511,61.444227005870843,34.06666666666667,36,2.4,3,7,24,47]
["Baz Pearson",699,54,1,null,701,54,2,null,701,39,3,null,701,42,null,null,691,42,3,null,297,24,null,null,null,null,null,null,618,45,null,null,701,33,3,null,null,null,null,null,701,51,3,null,null,null,null,null,565,45,null,null,701,42,3,null,701,42,3,null,null,null,null,null,null,null,null,null,701,53,1,null,null,null,null,null,null,null,null,null,null,null,null,null,null,null,null,null,13,8,8478,566,44.936395759717314,43.53846153846154,22,1.6923076923076923,0,0,33,54]
["Ian Whittaker",701,40,1,null,701,32,1,null,701,27,3,null,701,34,2,null,701,29,7,null,701,29,3,null,null,null,null,null,699,36,4,null,701,28,4,null,701,40,2,null,null,null,null,null,661,30,3,null,701,39,4,null,701,42,2,null,701,34,5,null,null,null,null,null,556,33,2,null,701,47,5,null,null,null,null,null,null,null,null,null,null,null,null,null,null,null,null,null,15,12,10328,520,59.58461538461539,34.666666666666664,48,3.2,0,4,27,47]
["Ian Windress",null,null,null,null,null,null,null,null,null,null,null,null,null,null,null,null,null,null,null,null,null,null,null,null,null,null,null,null,null,null,null,null,null,null,null,null,null,null,null,null,null,null,null,null,null,null,null,null,null,null,null,null,null,null,null,null,null,null,null,null,null,null,null,null,null,null,null,null,null,null,null,null,null,null,null,null,null,null,null,null,null,null,null,null,null,null,null,null,0,0,0,0,0,0,0,0,0,0,0,0]
["Dan Clarke",null,null,null,null,null,null,null,null,null,null,null,null,null,null,null,null,null,null,null,null,null,null,null,null,null,null,null,null,null,null,null,null,null,null,null,null,null,null,null,null,null,null,null,null,null,null,null,null,null,null,null,null,null,null,null,null,null,null,null,null,null,null,null,null,null,null,null,null,null,null,null,null,null,null,null,null,null,null,null,null,null,null,null,null,null,null,null,null,0,0,0,0,0,0,0,0,0,0,0,0]
["Jack Stevenson",null,null,null,null,null,null,null,null,null,null,null,null,null,null,null,null,null,null,null,null,null,null,null,null,null,null,null,null,null,null,null,null,null,null,null,null,534,39,null,null,null,null,null,null,null,null,null,null,null,null,null,null,null,null,null,null,null,null,null,null,null,null,null,null,701,43,3,null,null,null,null,null,null,null,null,null,null,null,null,null,null,null,null,null,null,null,null,null,2,1,1235,82,45.18292682926829,41,3,1.5,0,0,43,43]
[null,null,null,null,null,null,null,null,null,null,null,null,null,null,null,null,null,null,null,null,null,null,null,null,null,null,null,null,null,null,null,null,null,null,null,null,null,null,null,null,null,null,null,null,null,null,null,null,null,null,null,null,null,null,null,null,null,null,null,null,null,null,null,null,null,null,null,null,null,null,null,null,null,null,null,null,null,null,null,null,null,null,null,null,null,null,null,null,null,0,0,0,0,0,0,0,0,0,0,0,0]
[null,null,null,null,null,null,null,null,null,null,null,null,null,null,null,null,null,null,null,null,null,null,null,null,null,null,null,null,null,null,null,null,null,null,null,null,null,null,null,null,null,null,null,null,null,null,null,null,null,null,null,null,null,null,null,null,null,null,null,null,null,null,null,null,null,null,null,null,null,null,null,null,null,null,null,null,null,null,null,null,null,null,null,null,null,null,null,null,null,0,0,0,0,{"$f":"IF(CN14=0,0,(SUM(CN14/CO14)*3))","v":0},{"$f":"IF(CL14=0,0,SUM(CO14/CL14))","v":0},0,0,0,0,0,0]
[]
[]
[null,{"$f":"IF(B3<>\"\",1,0)","v":1},{"$f":"IF(C3<=30,1,0)","v":0},{"$f":"IF(C3=0,1,0)","v":0},{"$f":"IF(B29=1,(SUM(C17-D17)),0)","v":0},{"$f":"IF(F3<>\"\",1,0)","v":1},{"$f":"IF(G3<=30,1,0)","v":1},{"$f":"IF(G3=0,1,0)","v":0},{"$f":"IF(F29=1,(SUM(G17-H17)),0)","v":0},{"$f":"IF(J3<>\"\",1,0)","v":1},{"$f":"IF(K3<=30,1,0)","v":1},{"$f":"IF(K3=0,1,0)","v":0},{"$f":"IF(J29=1,(SUM(K17-L17)),0)","v":0},{"$f":"IF(N3<>\"\",1,0)","v":1},{"$f":"IF(O3<=30,1,0)","v":0},{"$f":"IF(O3=0,1,0)","v":0},{"$f":"IF(N29=1,(SUM(O17-P17)),0)","v":0},{"$f":"IF(R3<>\"\",1,0)","v":1},{"$f":"IF(S3<=30,1,0)","v":1},{"$f":"IF(S3=0,1,0)","v":0},{"$f":"IF(R29=1,(SUM(S17-T17)),0)","v":1},{"$f":"IF(V3<>\"\",1,0)","v":1},{"$f":"IF(W3<=30,1,0)","v":0},{"$f":"IF(W3=0,1,0)","v":0},{"$f":"IF(V29=1,(SUM(W17-X17)),0)","v":0},{"$f":"IF(Z3<>\"\",1,0)","v":0},{"$f":"IF(AA3<=30,1,0)","v":1},{"$f":"IF(AA3=0,1,0)","v":1},{"$f":"IF(Z29=1,(SUM(AA17-AB17)),0)","v":0},{"$f":"IF(AD3<>\"\",1,0)","v":1},{"$f":"IF(AE3<=30,1,0)","v":0},{"$f":"IF(AE3=0,1,0)","v":0},{"$f":"IF(AD29=1,(SUM(AE17-AF17)),0)","v":0},{"$f":"IF(AH3<>\"\",1,0)","v":1},{"$f":"IF(AI3<=30,1,0)","v":1},{"$f":"IF(AI3=0,1,0)","v":0},{"$f":"IF(AH29=1,(SUM(AI17-AJ17)),0)","v":1},{"$f":"IF(AL3<>\"\",1,0)","v":1},{"$f":"IF(AM3<=30,1,0)","v":0},{"$f":"IF(AM3=0,1,0)","v":0},{"$f":"IF(AL29=1,(SUM(AM17-AN17)),0)","v":0},{"$f":"IF(AP3<>\"\",1,0)","v":1},{"$f":"IF(AQ3<=30,1,0)","v":0},{"$f":"IF(AQ3=0,1,0)","v":0},{"$f":"IF(AP29=1,(SUM(AQ17-AR17)),0)","v":0},{"$f":"IF(AT3<>\"\",1,0)","v":1},{"$f":"IF(AU3<=30,1,0)","v":0},{"$f":"IF(AU3=0,1,0)","v":0},{"$f":"IF(AT29=1,(SUM(AU17-AV17)),0)","v":0},{"$f":"IF(AX3<>\"\",1,0)","v":1},{"$f":"IF(AY3<=30,1,0)","v":0},{"$f":"IF(AY3=0,1,0)","v":0},{"$f":"IF(AX29=1,(SUM(AY17-AZ17)),0)","v":0},{"$f":"IF(BB3<>\"\",1,0)","v":1},{"$f":"IF(BC3<=30,1,0)","v":0},{"$f":"IF(BC3=0,1,0)","v":0},{"$f":"IF(BB29=1,(SUM(BC17-BD17)),0)","v":0},{"$f":"IF(BF3<>\"\",1,0)","v":1},{"$f":"IF(BG3<=30,1,0)","v":0},{"$f":"IF(BG3=0,1,0)","v":0},{"$f":"IF(BF29=1,(SUM(BG17-BH17)),0)","v":0},{"$f":"IF(BJ3<>\"\",1,0)","v":0},{"$f":"IF(BK3<=30,1,0)","v":1},{"$f":"IF(BK3=0,1,0)","v":1},{"$f":"IF(BJ29=1,(SUM(BK17-BL17)),0)","v":0},{"$f":"IF(BN3<>\"\",1,0)","v":1},{"$f":"IF(BO3<=30,1,0)","v":0},{"$f":"IF(BO3=0,1,0)","v":0},{"$f":"IF(BN29=1,(SUM(BO17-BP17)),0)","v":0},{"$f":"IF(BR3<>\"\",1,0)","v":1},{"$f":"IF(BS3<=30,1,0)","v":0},{"$f":"IF(BS3=0,1,0)","v":0},{"$f":"IF(BR29=1,(SUM(BS17-BT17)),0)","v":0},{"$f":"IF(BV3<>\"\",1,0)","v":0},{"$f":"IF(BW3<=30,1,0)","v":1},{"$f":"IF(BW3=0,1,0)","v":1},{"$f":"IF(BV29=1,(SUM(BW17-BX17)),0)","v":0},{"$f":"IF(BZ3<>\"\",1,0)","v":0},{"$f":"IF(CA3<=30,1,0)","v":1},{"$f":"IF(CA3=0,1,0)","v":1},{"$f":"IF(BZ29=1,(SUM(CA17-CB17)),0)","v":0},{"$f":"IF(CD3<>\"\",1,0)","v":0},{"$f":"IF(CE3<=30,1,0)","v":1},{"$f":"IF(CE3=0,1,0)","v":1},{"$f":"IF(CD29=1,(SUM(CE17-CF17)),0)","v":0},{"$f":"IF(CH3<>\"\",1,0)","v":0},{"$f":"IF(CI3<=30,1,0)","v":1},{"$f":"IF(CI3=0,1,0)","v":1},{"$f":"IF(CH29=1,(SUM(CI17-CJ17)),0)","v":0}]
[null,1,{"$f":"IF(C4<=30,1,0)","v":0},{"$f":"IF(C4=0,1,0)","v":0},{"$f":"IF(B30=1,(SUM(C18-D18)),0)","v":0},1,{"$f":"IF(G4<=30,1,0)","v":1},{"$f":"IF(G4=0,1,0)","v":0},{"$f":"IF(F30=1,(SUM(G18-H18)),0)","v":0},1,{"$f":"IF(K4<=30,1,0)","v":0},{"$f":"IF(K4=0,1,0)","v":0},{"$f":"IF(J30=1,(SUM(K18-L18)),0)","v":0},1,{"$f":"IF(O4<=30,1,0)","v":0},{"$f":"IF(O4=0,1,0)","v":0},{"$f":"IF(N30=1,(SUM(O18-P18)),0)","v":0},1,{"$f":"IF(S4<=30,1,0)","v":0},{"$f":"IF(S4=0,1,0)","v":0},{"$f":"IF(R30=1,(SUM(S18-T18)),0)","v":0},1,{"$f":"IF(W4<=30,1,0)","v":1},{"$f":"IF(W4=0,1,0)","v":0},{"$f":"IF(V30=1,(SUM(W18-X18)),0)","v":0},0,{"$f":"IF(AA4<=30,1,0)","v":1},{"$f":"IF(AA4=0,1,0)","v":1},{"$f":"IF(Z30=1,(SUM(AA18-AB18)),0)","v":0},1,{"$f":"IF(AE4<=30,1,0)","v":0},{"$f":"IF(AE4=0,1,0)","v":0},{"$f":"IF(AD30=1,(SUM(AE18-AF18)),0)","v":0},1,{"$f":"IF(AI4<=30,1,0)","v":0},{"$f":"IF(AI4=0,1,0)","v":0},{"$f":"IF(AH30=1,(SUM(AI18-AJ18)),0)","v":0},1,{"$f":"IF(AM4<=30,1,0)","v":0},{"$f":"IF(AM4=0,1,0)","v":0},{"$f":"IF(AL30=1,(SUM(AM18-AN18)),0)","v":0},1,{"$f":"IF(AQ4<=30,1,0)","v":0},{"$f":"IF(AQ4=0,1,0)","v":0},{"$f":"IF(AP30=1,(SUM(AQ18-AR18)),0)","v":0},1,{"$f":"IF(AU4<=30,1,0)","v":0},{"$f":"IF(AU4=0,1,0)","v":0},{"$f":"IF(AT30=1,(SUM(AU18-AV18)),0)","v":0},1,{"$f":"IF(AY4<=30,1,0)","v":1},{"$f":"IF(AY4=0,1,0)","v":0},{"$f":"IF(AX30=1,(SUM(AY18-AZ18)),0)","v":0},1,{"$f":"IF(BC4<=30,1,0)","v":0},{"$f":"IF(BC4=0,1,0)","v":0},{"$f":"IF(BB30=1,(SUM(BC18-BD18)),0)","v":0},1,{"$f":"IF(BG4<=30,1,0)","v":1},{"$f":"IF(BG4=0,1,0)","v":0},{"$f":"IF(BF30=1,(SUM(BG18-BH18)),0)","v":0},0,{"$f":"IF(BK4<=30,1,0)","v":1},{"$f":"IF(BK4=0,1,0)","v":1},{"$f":"IF(BJ30=1,(SUM(BK18-BL18)),0)","v":0},1,{"$f":"IF(BO4<=30,1,0)","v":1},{"$f":"IF(BO4=0,1,0)","v":0},{"$f":"IF(BN30=1,(SUM(BO18-BP18)),0)","v":1},1,{"$f":"IF(BS4<=30,1,0)","v":0},{"$f":"IF(BS4=0,1,0)","v":0},{"$f":"IF(BR30=1,(SUM(BS18-BT18)),0)","v":0},0,{"$f":"IF(BW4<=30,1,0)","v":1},{"$f":"IF(BW4=0,1,0)","v":1},{"$f":"IF(BV30=1,(SUM(BW18-BX18)),0)","v":0},0,{"$f":"IF(CA4<=30,1,0)","v":1},{"$f":"IF(CA4=0,1,0)","v":1},{"$f":"IF(BZ30=1,(SUM(CA18-CB18)),0)","v":0},0,{"$f":"IF(CE4<=30,1,0)","v":1},{"$f":"IF(CE4=0,1,0)","v":1},{"$f":"IF(CD30=1,(SUM(CE18-CF18)),0)","v":0},0,{"$f":"IF(CI4<=30,1,0)","v":1},{"$f":"IF(CI4=0,1,0)","v":1},{"$f":"IF(CH30=1,(SUM(CI18-CJ18)),0)","v":0}]
[null,1,0,0,0,1,0,0,0,1,0,0,0,1,0,0,0,1,0,0,0,1,1,0,0,0,1,1,0,1,0,0,0,1,0,0,0,1,0,0,0,1,1,0,0,1,0,0,0,1,0,0,0,1,0,0,0,1,0,0,0,0,1,1,0,1,1,0,0,1,0,0,0,0,1,1,0,0,1,1,0,0,1,1,0,0,1,1,0]
[null,0,1,1,0,0,1,1,0,0,1,1,0,0,1,1,0,1,0,0,0,0,1,1,0,0,1,1,0,0,1,1,0,0,1,1,0,0,1,1,0,1,0,0,0,1,0,0,0,0,1,1,0,0,1,1,0,0,1,1,0,0,1,1,0,0,1,1,0,0,1,1,0,0,1,1,0,0,1,1,0,0,1,1,0,0,1,1,0]
[null,1,0,0,0,1,0,0,0,1,1,0,0,1,0,0,0,0,1,1,0,1,1,0,1,0,1,1,0,1,0,0,0,1,1,0,1,1,1,0,1,1,0,0,0,1,0,0,0,1,1,0,1,1,1,0,1,1,1,0,1,0,1,1,0,1,1,0,1,1,0,0,0,0,1,1,0,0,1,1,0,0,1,1,0,0,1,1,0]
[null,1,0,0,0,1,0,0,0,1,0,0,0,1,0,0,0,1,0,0,0,1,1,0,0,0,1,1,0,1,0,0,0,1,0,0,0,0,1,1,0,1,0,0,0,0,1,1,0,1,0,0,0,1,0,0,0,1,0,0,0,0,1,1,0,0,1,1,0,1,0,0,0,0,1,1,0,0,1,1,0,0,1,1,0,0,1,1,0]
[null,1,0,0,0,1,0,0,0,1,1,0,1,1,0,0,0,1,1,0,1,1,1,0,1,0,1,1,0,1,0,0,0,1,1,0,1,1,0,0,0,0,1,1,0,1,1,0,0,1,0,0,0,1,0,0,0,1,0,0,0,0,1,1,0,1,0,0,0,1,0,0,0,0,1,1,0,0,1,1,0,0,1,1,0,0,1,1,0]
[null,0,1,1,0,0,1,1,0,0,1,1,0,0,1,1,0,0,1,1,0,0,1,1,0,0,1,1,0,0,1,1,0,0,1,1,0,0,1,1,0,0,1,1,0,0,1,1,0,0,1,1,0,0,1,1,0,0,1,1,0,0,1,1,0,0,1,1,0,0,1,1,0,0,1,1,0,0,1,1,0,0,1,1,0,0,1,1,0]
[null,0,1,1,0,0,1,1,0,0,1,1,0,0,1,1,0,0,1,1,0,0,1,1,0,0,1,1,0,0,1,1,0,0,1,1,0,0,1,1,0,0,1,1,0,0,1,1,0,0,1,1,0,0,1,1,0,0,1,1,0,0,1,1,0,0,1,1,0,0,1,1,0,0,1,1,0,0,1,1,0,0,1,1,0,0,1,1,0]
[null,0,1,1,0,0,1,1,0,0,1,1,0,0,1,1,0,0,1,1,0,0,1,1,0,0,1,1,0,0,1,1,0,0,1,1,0,1,0,0,0,0,1,1,0,0,1,1,0,0,1,1,0,0,1,1,0,0,1,1,0,0,1,1,0,1,0,0,0,0,1,1,0,0,1,1,0,0,1,1,0,0,1,1,0,0,1,1,0]
[null,0,1,1,0,0,1,1,0,0,1,1,0,0,1,1,0,0,1,1,0,0,1,1,0,0,1,1,0,0,1,1,0,0,1,1,0,0,1,1,0,0,1,1,0,0,1,1,0,0,1,1,0,0,1,1,0,0,1,1,0,0,1,1,0,0,1,1,0,0,1,1,0,0,1,1,0,0,1,1,0,0,1,1,0,0,1,1,0]
[null,0,1,1,0,0,1,1,0,0,1,1,0,0,1,1,0,0,1,1,0,0,1,1,0,0,1,1,0,0,1,1,0,0,1,1,0,0,1,1,0,0,1,1,0,0,1,1,0,0,1,1,0,0,1,1,0,0,1,1,0,0,1,1,0,0,1,1,0,0,1,1,0,0,1,1,0,0,1,1,0,0,1,1,0,0,1,1,0]
[null,{"$f":"IF(B3=701,1,0)","v":1},{"$f":"IF(B29=1,C3,\"\")","v":51},null,null,{"$f":"IF(F3=701,1,0)","v":0},{"$f":"IF(F29=1,G3,\"\")","v":""},null,null,{"$f":"IF(J3=701,1,0)","v":0},{"$f":"IF(J29=1,K3,\"\")","v":""},null,null,{"$f":"IF(N3=701,1,0)","v":0},{"$f":"IF(N29=1,O3,\"\")","v":""},null,null,{"$f":"IF(R3=701,1,0)","v":1},{"$f":"IF(R29=1,S3,\"\")","v":27},null,null,{"$f":"IF(V3=701,1,0)","v":1},{"$f":"IF(V29=1,W3,\"\")","v":35},null,null,{"$f":"IF(Z3=701,1,0)","v":0},{"$f":"IF(Z29=1,AA3,\"\")","v":""},null,null,{"$f":"IF(AD3=701,1,0)","v":1},{"$f":"IF(AD29=1,AE3,\"\")","v":32},null,null,{"$f":"IF(AH3=701,1,0)","v":1},{"$f":"IF(AH29=1,AI3,\"\")","v":23},null,null,{"$f":"IF(AL3=701,1,0)","v":1},{"$f":"IF(AL29=1,AM3,\"\")","v":32},null,null,{"$f":"IF(AP3=701,1,0)","v":1},{"$f":"IF(AP29=1,AQ3,\"\")","v":40},null,null,{"$f":"IF(AT3=701,1,0)","v":1},{"$f":"IF(AT29=1,AU3,\"\")","v":36},null,null,{"$f":"IF(AX3=701,1,0)","v":1},{"$f":"IF(AX29=1,AY3,\"\")","v":38},null,null,{"$f":"IF(BB3=701,1,0)","v":1},{"$f":"IF(BB29=1,BC3,\"\")","v":36},null,null,{"$f":"IF(BF3=701,1,0)","v":0},{"$f":"IF(BF29=1,BG3,\"\")","v":""},null,null,{"$f":"IF(BJ3=701,1,0)","v":0},{"$f":"IF(BJ29=1,BK3,\"\")","v":""},null,null,{"$f":"IF(BN3=701,1,0)","v":1},{"$f":"IF(BN29=1,BO3,\"\")","v":35},null,null,{"$f":"IF(BR3=701,1,0)","v":1},{"$f":"IF(BR29=1,BS3,\"\")","v":32},null,null,{"$f":"IF(BV3=701,1,0)","v":0},{"$f":"IF(BV29=1,BW3,\"\")","v":""},null,null,{"$f":"IF(BZ3=701,1,0)","v":0},{"$f":"IF(BZ29=1,CA3,\"\")","v":""},null,null,{"$f":"IF(CD3=701,1,0)","v":0},{"$f":"IF(CD29=1,CE3,\"\")","v":""},null,null,{"$f":"IF(CH3=701,1,0)","v":0},{"$f":"IF(CH29=1,CI3,\"\")","v":""}]
[null,{"$f":"IF(B4=701,1,0)","v":1},41,null,null,{"$f":"IF(F4=701,1,0)","v":0},"",null,null,{"$f":"IF(J4=701,1,0)","v":1},62,null,null,{"$f":"IF(N4=701,1,0)","v":0},"",null,null,{"$f":"IF(R4=701,1,0)","v":0},"",null,null,{"$f":"IF(V4=701,1,0)","v":0},"",null,null,{"$f":"IF(Z4=701,1,0)","v":0},"",null,null,{"$f":"IF(AD4=701,1,0)","v":0},"",null,null,{"$f":"IF(AH4=701,1,0)","v":1},47,null,null,{"$f":"IF(AL4=701,1,0)","v":1},48,null,null,{"$f":"IF(AP4=701,1,0)","v":0},"",null,null,{"$f":"IF(AT4=701,1,0)","v":1},38,null,null,{"$f":"IF(AX4=701,1,0)","v":0},"",null,null,{"$f":"IF(BB4=701,1,0)","v":1},34,null,null,{"$f":"IF(BF4=701,1,0)","v":0},"",null,null,{"$f":"IF(BJ4=701,1,0)","v":0},"",null,null,{"$f":"IF(BN4=701,1,0)","v":1},27,null,null,{"$f":"IF(BR4=701,1,0)","v":1},37,null,null,{"$f":"IF(BV4=701,1,0)","v":0},"",null,null,{"$f":"IF(BZ4=701,1,0)","v":0},"",null,null,{"$f":"IF(CD4=701,1,0)","v":0},"",null,null,{"$f":"IF(CH4=701,1,0)","v":0},""]
[null,1,48,null,null,0,"",null,null,1,36,null,null,0,"",null,null,0,"",null,null,0,"",null,null,0,"",null,null,0,"",null,null,0,"",null,null,1,47,null,null,0,"",null,null,1,35,null,null,1,39,null,null,1,32,null,null,1,38,null,null,0,"",null,null,0,"",null,null,1,48,null,null,0,"",null,null,0,"",null,null,0,"",null,null,0,""]
[null,0,"",null,null,0,"",null,null,0,"",null,null,0,"",null,null,0,"",null,null,0,"",null,null,0,"",null,null,0,"",null,null,0,"",null,null,0,"",null,null,0,"",null,null,0,"",null,null,0,"",null,null,0,"",null,null,0,"",null,null,0,"",null,null,0,"",null,null,0,"",null,null,0,"",null,null,0,"",null,null,0,"",null,null,0,""]
[null,1,33,null,null,1,42,null,null,0,"",null,null,1,42,null,null,0,"",null,null,1,24,null,null,0,"",null,null,1,39,null,null,1,29,null,null,1,29,null,null,1,37,null,null,1,46,null,null,1,29,null,null,1,30,null,null,1,27,null,null,0,"",null,null,1,30,null,null,1,47,null,null,0,"",null,null,0,"",null,null,0,"",null,null,0,""]
[null,0,"",null,null,1,54,null,null,1,39,null,null,1,42,null,null,0,"",null,null,0,"",null,null,0,"",null,null,0,"",null,null,1,33,null,null,0,"",null,null,1,51,null,null,0,"",null,null,0,"",null,null,1,42,null,null,1,42,null,null,0,"",null,null,0,"",null,null,1,53,null,null,0,"",null,null,0,"",null,null,0,"",null,null,0,""]
[null,1,40,null,null,1,32,null,null,1,27,null,null,1,34,null,null,1,29,null,null,1,29,null,null,0,"",null,null,0,"",null,null,1,28,null,null,1,40,null,null,0,"",null,null,0,"",null,null,1,39,null,null,1,42,null,null,1,34,null,null,0,"",null,null,0,"",null,null,1,47,null,null,0,"",null,null,0,"",null,null,0,"",null,null,0,""]
[null,0,"",null,null,0,"",null,null,0,"",null,null,0,"",null,null,0,"",null,null,0,"",null,null,0,"",null,null,0,"",null,null,0,"",null,null,0,"",null,null,0,"",null,null,0,"",null,null,0,"",null,null,0,"",null,null,0,"",null,null,0,"",null,null,0,"",null,null,0,"",null,null,0,"",null,null,0,"",null,null,0,"",null,null,0,""]
[null,0,"",null,null,0,"",null,null,0,"",null,null,0,"",null,null,0,"",null,null,0,"",null,null,0,"",null,null,0,"",null,null,0,"",null,null,0,"",null,null,0,"",null,null,0,"",null,null,0,"",null,null,0,"",null,null,0,"",null,null,0,"",null,null,0,"",null,null,0,"",null,null,0,"",null,null,0,"",null,null,0,"",null,null,0,""]
[null,0,"",null,null,0,"",null,null,0,"",null,null,0,"",null,null,0,"",null,null,0,"",null,null,0,"",null,null,0,"",null,null,0,"",null,null,0,"",null,null,0,"",null,null,0,"",null,null,0,"",null,null,0,"",null,null,0,"",null,null,0,"",null,null,1,43,null,null,0,"",null,null,0,"",null,null,0,"",null,null,0,"",null,null,0,""]
[null,0,"",null,null,0,"",null,null,0,"",null,null,0,"",null,null,0,"",null,null,0,"",null,null,0,"",null,null,0,"",null,null,0,"",null,null,0,"",null,null,0,"",null,null,0,"",null,null,0,"",null,null,0,"",null,null,0,"",null,null,0,"",null,null,0,"",null,null,0,"",null,null,0,"",null,null,0,"",null,null,0,"",null,null,0,""]
[null,0,"",null,null,0,"",null,null,0,"",null,null,0,"",null,null,0,"",null,null,0,"",null,null,0,"",null,null,0,"",null,null,0,"",null,null,0,"",null,null,0,"",null,null,0,"",null,null,0,"",null,null,0,"",null,null,0,"",null,null,0,"",null,null,0,"",null,null,0,"",null,null,0,"",null,null,0,"",null,null,0,"",null,null,0,""]
["Singles Won",{"$f":"SUM(B29:B40)","v":5},null,null,null,{"$f":"SUM(F29:F40)","v":3},null,null,null,{"$f":"SUM(J29:J40)","v":4},null,null,null,{"$f":"SUM(N29:N40)","v":3},null,null,null,{"$f":"SUM(R29:R40)","v":2},null,null,null,{"$f":"SUM(V29:V40)","v":3},null,null,null,{"$f":"SUM(Z29:Z40)","v":0},null,null,null,{"$f":"SUM(AD29:AD40)","v":2},null,null,null,{"$f":"SUM(AH29:AH40)","v":5},null,null,null,{"$f":"SUM(AL29:AL40)","v":5},null,null,null,{"$f":"SUM(AP29:AP40)","v":3},null,null,null,{"$f":"SUM(AT29:AT40)","v":4},null,null,null,{"$f":"SUM(AX29:AX40)","v":4},null,null,null,{"$f":"SUM(BB29:BB40)","v":6},null,null,null,{"$f":"SUM(BF29:BF40)","v":4},null,null,null,{"$f":"SUM(BJ29:BJ40)","v":0},null,null,null,{"$f":"SUM(BN29:BN40)","v":4},null,null,null,{"$f":"SUM(BR29:BR40)","v":6},null,null,null,{"$f":"SUM(BV29:BV40)","v":0},null,null,null,{"$f":"SUM(BZ29:BZ40)","v":0},null,null,null,{"$f":"SUM(CD29:CD40)","v":0},null,null,null,{"$f":"SUM(CH29:CH40)","v":0}]
["Pairs Games Won",2,null,null,null,3,null,null,null,1,null,null,null,3,null,null,null,3,null,null,null,2,null,null,null,null,null,null,null,3,null,null,null,2,null,null,null,3,null,null,null,1,null,null,null,1,null,null,null,2,null,null,null,3,null,null,null,1,null,null,null,null,null,null,null,2,null,null,null,3]

{"sheet":"WORKMENS CLUB \"B\"","index":16,"n_rows":42,"n_cols":101,"rows_kept":42,"cut":false,"hidden":false,"merged":[[0,61,0,64],[0,65,0,68],[0,37,0,40],[0,41,0,44],[0,45,0,48],[0,49,0,52],[0,57,0,60],[0,21,0,24],[0,25,0,28],[0,29,0,32],[0,33,0,36],[0,53,0,56],[0,73,0,76],[0,77,0,80],[0,81,0,84],[0,85,0,88],[0,69,0,72],[0,1,0,4],[0,5,0,8],[0,9,0,12],[0,13,0,16],[0,17,0,20]]}
["WORKMENS CLUB \"B\"","WEEK 1",null,null,null,"WEEK 2",null,null,null,"WEEK 3",null,null,null,"WEEK 4",null,null,null,"WEEK 5",null,null,null,"WEEK 6",null,null,null,"WEEK 7",null,null,null,"WEEK 8",null,null,null,"WEEK 9",null,null,null,"WEEK 10",null,null,null,"WEEK 11",null,null,null,"WEEK 12",null,null,null,"WEEK 13",null,null,null,"WEEK 14",null,null,null,"WEEK 15",null,null,null,"WEEK 16",null,null,null,"WEEK 17",null,null,null,"WEEK 18",null,null,null,"WEEK 19",null,null,null,"WEEK 20",null,null,null,"WEEK 21",null,null,null,"WEEK 22"]
[null,"PS","DT","100 +","180's","PS","DT","100 +","180's","PS","DT","100 +","180's","PS","DT","100 +","180's","PS","DT","100 +","180's","PS","DT","100 +","180's","PS","DT","100 +","180's","PS","DT","100 +","180's","PS","DT","100 +","180's","PS","DT","100 +","180's","PS","DT","100 +","180's","PS","DT","100 +","180's","PS","DT","100 +","180's","PS","DT","100 +","180's","PS","DT","100 +","180's","PS","DT","100 +","180's","PS","DT","100 +","180's","PS","DT","100 +","180's","PS","DT","100 +","180's","PS","DT","100 +","180's","PS","DT","100 +","180's","PS","DT","100 +","180's","GP","GW","TP","TD","AVG","AVG D/G","T100+","AVG 100+/G","T180's","T<30","Least Darts","Most Darts"]
["Chris Whiting",null,null,1,null,null,null,null,null,701,52,2,null,701,35,2,null,449,33,1,null,null,null,null,null,null,null,null,null,null,null,1,null,null,null,null,null,699,54,2,null,471,42,2,null,471,36,null,null,412,29,null,null,null,null,null,null,null,null,null,null,null,null,null,null,null,null,null,null,null,null,null,null,null,null,null,null,null,null,null,null,null,null,null,null,null,null,null,null,{"$f":"SUM(B17+F17+J17+N17+R17+V17+Z17+AD17+AH17+AL17+AP17+AT17+AX17+BB17+BF17+BJ17+BN17+BR17+BV17+BZ17+CD17+CH17)","v":7},{"$f":"SUM(B29+F29+J29+N29+R29+V29+Z29+AD29+AH29+AL29+AP29+AT29+AX29+BB29+BF29+BJ29+BN29+BR29+BV29+BZ29+CD29+CH29)","v":2},{"$f":"SUM(B3+F3+J3+N3+R3+V3+Z3+AD3+AH3+AL3+AP3+AT3+AX3+BB3+BF3+BJ3+BN3+BR3+BV3+BZ3+CD3+CH3)","v":3904},{"$f":"SUM(C3+G3+K3+O3+S3+W3+AA3+AE3+AI3+AM3+AQ3+AU3+AY3+BC3+BG3+BK3+BO3+BS3+BW3+CA3+CE3+CI3)","v":281},{"$f":"IF(CN3=0,0,(SUM(CN3/CO3)*3))","v":41.679715302491104},{"$f":"IF(CL3=0,0,SUM(CO3/CL3))","v":40.142857142857146},{"$f":"SUM(D3+H3+L3+P3+T3+X3+AB3+AF3+AJ3+AN3+AR3+AV3+AZ3+BD3+BH3+BL3+BP3+BT3+BX3+CB3+CF3+CJ3)","v":11},{"$f":"IF(CL3=0,0,(SUM(CR3/CL3)))","v":1.5714285714285714},{"$f":"SUM(E3+I3+M3+Q3+U3+Y3+AC3+AG3+AK3+AO3+AS3+AW3+BA3+BE3+BI3+BM3+BQ3+BU3+BY3+CC3+CG3+CK3)","v":0},{"$f":"SUM(E17+I17+M17+Q17+U17+Y17+AC17+AG17+AK17+AO17+AS17+AW17+BA17+BE17+BI17+BM17+BQ17+BU17+BY17+CC17+CG17+CK17)","v":0},{"$f":"MIN($C29,$G29,$K29,$O29,$S29,$W29,$AA29,$AE29,$AI29,$AM29,$AQ29,$AU29,$AY29,$BC29,$BG29,$BK29,$BO29,$BS29,$BW29,$CA29,$CE29,$CI29)","v":35},{"$f":"MAX($C29,$G29,$K29,$O29,$S29,$W29,$AA29,$AE29,$AI29,$AM29,$AQ29,$AU29,$AY29,$BC29,$BG29,$BK29,$BO29,$BS29,$BW29,$CA29,$CE29,$CI29)","v":52}]
["Phil Wells",567,39,2,null,535,45,null,null,null,null,null,null,null,null,null,null,null,null,null,null,null,null,null,null,null,null,null,null,657,48,null,null,645,36,null,null,622,39,1,null,483,33,null,null,null,null,null,null,null,null,null,null,null,null,null,null,null,null,null,null,701,62,1,null,701,45,1,null,701,38,null,null,null,null,null,null,null,null,null,null,null,null,null,null,null,null,null,null,{"$f":"SUM(B18+F18+J18+N18+R18+V18+Z18+AD18+AH18+AL18+AP18+AT18+AX18+BB18+BF18+BJ18+BN18+BR18+BV18+BZ18+CD18+CH18)","v":9},{"$f":"SUM(B30+F30+J30+N30+R30+V30+Z30+AD30+AH30+AL30+AP30+AT30+AX30+BB30+BF30+BJ30+BN30+BR30+BV30+BZ30+CD30+CH30)","v":3},{"$f":"SUM(B4+F4+J4+N4+R4+V4+Z4+AD4+AH4+AL4+AP4+AT4+AX4+BB4+BF4+BJ4+BN4+BR4+BV4+BZ4+CD4+CH4)","v":5612},{"$f":"SUM(C4+G4+K4+O4+S4+W4+AA4+AE4+AI4+AM4+AQ4+AU4+AY4+BC4+BG4+BK4+BO4+BS4+BW4+CA4+CE4+CI4)","v":385},{"$f":"IF(CN4=0,0,(SUM(CN4/CO4)*3))","v":43.729870129870136},42.777777777777779,{"$f":"SUM(D4+H4+L4+P4+T4+X4+AB4+AF4+AJ4+AN4+AR4+AV4+AZ4+BD4+BH4+BL4+BP4+BT4+BX4+CB4+CF4+CJ4)","v":5},{"$f":"IF(CL4=0,0,(SUM(CR4/CL4)))","v":0.55555555555555558},{"$f":"SUM(E4+I4+M4+Q4+U4+Y4+AC4+AG4+AK4+AO4+AS4+AW4+BA4+BE4+BI4+BM4+BQ4+BU4+BY4+CC4+CG4+CK4)","v":0},{"$f":"SUM(E18+I18+M18+Q18+U18+Y18+AC18+AG18+AK18+AO18+AS18+AW18+BA18+BE18+BI18+BM18+BQ18+BU18+BY18+CC18+CG18+CK18)","v":0},{"$f":"MIN($C30,$G30,$K30,$O30,$S30,$W30,$AA30,$AE30,$AI30,$AM30,$AQ30,$AU30,$AY30,$BC30,$BG30,$BK30,$BO30,$BS30,$BW30,$CA30,$CE30,$CI30)","v":38},62]
["Ian Richards",456,27,null,null,701,35,1,null,701,43,2,null,621,33,2,null,701,49,1,null,null,null,null,null,701,36,1,null,701,43,2,null,null,null,null,null,null,null,null,null,null,null,1,null,689,33,4,null,698,39,2,null,661,33,3,null,null,null,null,null,456,30,1,null,701,51,4,null,701,30,6,null,null,null,null,null,null,null,null,null,null,null,null,null,null,null,null,null,13,7,8488,482,52.829875518672203,37.07692307692308,30,2.3076923076923075,0,1,30,51]
["Adam Richards",null,null,null,null,null,null,null,null,null,null,null,null,null,null,1,null,null,null,null,null,null,null,null,null,null,null,null,null,null,null,null,null,null,null,null,null,null,null,null,null,null,null,null,null,null,null,null,null,null,null,null,null,null,null,null,null,null,null,null,null,null,null,null,null,null,null,null,null,null,null,null,null,null,null,null,null,null,null,null,null,null,null,null,null,null,null,null,null,0,0,0,0,0,0,1,0,0,0,0,0]
["Alex Watson",null,null,null,null,null,null,1,null,null,null,1,null,null,null,1,null,null,null,null,null,null,null,null,null,578,45,1,null,657,39,null,null,null,null,3,null,701,45,null,null,531,27,null,null,701,41,1,null,null,null,null,null,701,33,3,null,null,null,null,null,701,58,1,null,619,42,null,null,693,60,null,null,null,null,null,null,null,null,null,null,null,null,null,null,null,null,null,null,9,4,5882,390,45.246153846153845,43.333333333333336,12,1.3333333333333333,0,0,33,58]
["Ian Appleby",null,null,null,null,null,null,null,null,null,null,null,null,null,null,null,null,null,null,null,null,null,null,null,null,null,null,null,null,null,null,null,null,null,null,null,null,null,null,null,null,null,null,null,null,null,null,null,null,null,null,null,null,null,null,null,null,null,null,null,null,null,null,null,null,null,null,null,null,null,null,null,null,null,null,null,null,null,null,null,null,null,null,null,null,null,null,null,null,0,0,0,0,0,0,0,0,0,0,0,0]
["Bob Carter",691,33,2,null,699,36,2,null,701,46,1,null,701,42,null,null,399,30,2,null,null,null,null,null,701,42,4,null,701,44,2,null,701,48,1,null,661,36,1,null,null,null,null,null,null,null,1,null,701,27,5,null,573,30,2,null,null,null,null,null,597,30,1,null,701,39,2,null,701,40,5,null,null,null,null,null,null,null,null,null,null,null,null,null,null,null,null,null,14,8,9228,523,52.933078393881452,37.357142857142854,31,2.2142857142857144,0,1,27,48]
["B. Dawson",618,33,2,null,421,30,null,null,701,52,null,null,576,39,null,null,701,57,1,null,null,null,null,null,647,51,null,null,578,45,null,null,696,45,1,null,null,null,null,null,456,27,2,null,671,48,null,null,518,38,null,null,701,46,null,null,null,null,null,null,null,null,null,null,null,null,null,null,null,null,null,null,null,null,null,null,null,null,null,null,null,null,null,null,null,null,null,null,12,3,7284,511,42.763209393346379,42.583333333333336,6,0.5,0,0,46,57]
["Trevor Brown",701,52,2,null,701,41,2,null,691,42,1,null,458,39,null,null,681,39,null,null,null,null,null,null,701,49,null,null,null,null,null,null,701,49,3,null,669,42,3,null,519,30,2,null,701,37,2,null,529,36,3,null,666,27,5,null,null,null,null,null,701,52,1,null,701,54,1,null,699,57,1,null,null,null,null,null,null,null,null,null,null,null,null,null,null,null,null,null,15,7,9819,646,45.599071207430342,43.06666666666667,26,1.7333333333333334,0,0,37,54]
["Mark Cox",653,33,1,null,547,30,2,null,701,48,1,null,701,39,2,null,605,30,null,null,null,null,null,null,697,51,1,null,701,41,3,null,701,34,4,null,507,18,null,null,617,33,1,null,701,41,3,null,701,45,null,null,648,42,1,null,null,null,null,null,494,33,null,null,701,31,3,null,701,35,1,null,null,null,null,null,null,null,null,null,null,null,null,null,null,null,null,null,16,8,10376,584,53.301369863013697,36.5,23,1.4375,0,0,31,48]
[null,null,null,null,null,null,null,null,null,null,null,null,null,null,null,null,null,null,null,null,null,null,null,null,null,null,null,null,null,null,null,null,null,null,null,null,null,null,null,null,null,null,null,null,null,null,null,null,null,null,null,null,null,null,null,null,null,null,null,null,null,null,null,null,null,null,null,null,null,null,null,null,null,null,null,null,null,null,null,null,null,null,null,null,null,null,null,null,null,0,0,0,0,0,0,0,0,0,0,0,0]
[null,null,null,null,null,null,null,null,null,null,null,null,null,null,null,null,null,null,null,null,null,null,null,null,null,null,null,null,null,null,null,null,null,null,null,null,null,null,null,null,null,null,null,null,null,null,null,null,null,null,null,null,null,null,null,null,null,null,null,null,null,null,null,null,null,null,null,null,null,null,null,null,null,null,null,null,null,null,null,null,null,null,null,null,null,null,null,null,null,0,0,0,0,{"$f":"IF(CN14=0,0,(SUM(CN14/CO14)*3))","v":0},{"$f":"IF(CL14=0,0,SUM(CO14/CL14))","v":0},0,0,0,0,0,0]
[]
[]
[null,{"$f":"IF(B3<>\"\",1,0)","v":0},{"$f":"IF(C3<=30,1,0)","v":1},{"$f":"IF(C3=0,1,0)","v":1},{"$f":"IF(B29=1,(SUM(C17-D17)),0)","v":0},{"$f":"IF(F3<>\"\",1,0)","v":0},{"$f":"IF(G3<=30,1,0)","v":1},{"$f":"IF(G3=0,1,0)","v":1},{"$f":"IF(F29=1,(SUM(G17-H17)),0)","v":0},{"$f":"IF(J3<>\"\",1,0)","v":1},{"$f":"IF(K3<=30,1,0)","v":0},{"$f":"IF(K3=0,1,0)","v":0},{"$f":"IF(J29=1,(SUM(K17-L17)),0)","v":0},{"$f":"IF(N3<>\"\",1,0)","v":1},{"$f":"IF(O3<=30,1,0)","v":0},{"$f":"IF(O3=0,1,0)","v":0},{"$f":"IF(N29=1,(SUM(O17-P17)),0)","v":0},{"$f":"IF(R3<>\"\",1,0)","v":1},{"$f":"IF(S3<=30,1,0)","v":0},{"$f":"IF(S3=0,1,0)","v":0},{"$f":"IF(R29=1,(SUM(S17-T17)),0)","v":0},{"$f":"IF(V3<>\"\",1,0)","v":0},{"$f":"IF(W3<=30,1,0)","v":1},{"$f":"IF(W3=0,1,0)","v":1},{"$f":"IF(V29=1,(SUM(W17-X17)),0)","v":0},{"$f":"IF(Z3<>\"\",1,0)","v":0},{"$f":"IF(AA3<=30,1,0)","v":1},{"$f":"IF(AA3=0,1,0)","v":1},{"$f":"IF(Z29=1,(SUM(AA17-AB17)),0)","v":0},{"$f":"IF(AD3<>\"\",1,0)","v":0},{"$f":"IF(AE3<=30,1,0)","v":1},{"$f":"IF(AE3=0,1,0)","v":1},{"$f":"IF(AD29=1,(SUM(AE17-AF17)),0)","v":0},{"$f":"IF(AH3<>\"\",1,0)","v":0},{"$f":"IF(AI3<=30,1,0)","v":1},{"$f":"IF(AI3=0,1,0)","v":1},{"$f":"IF(AH29=1,(SUM(AI17-AJ17)),0)","v":0},{"$f":"IF(AL3<>\"\",1,0)","v":1},{"$f":"IF(AM3<=30,1,0)","v":0},{"$f":"IF(AM3=0,1,0)","v":0},{"$f":"IF(AL29=1,(SUM(AM17-AN17)),0)","v":0},{"$f":"IF(AP3<>\"\",1,0)","v":1},{"$f":"IF(AQ3<=30,1,0)","v":0},{"$f":"IF(AQ3=0,1,0)","v":0},{"$f":"IF(AP29=1,(SUM(AQ17-AR17)),0)","v":0},{"$f":"IF(AT3<>\"\",1,0)","v":1},{"$f":"IF(AU3<=30,1,0)","v":0},{"$f":"IF(AU3=0,1,0)","v":0},{"$f":"IF(AT29=1,(SUM(AU17-AV17)),0)","v":0},{"$f":"IF(AX3<>\"\",1,0)","v":1},{"$f":"IF(AY3<=30,1,0)","v":1},{"$f":"IF(AY3=0,1,0)","v":0},{"$f":"IF(AX29=1,(SUM(AY17-AZ17)),0)","v":0},{"$f":"IF(BB3<>\"\",1,0)","v":0},{"$f":"IF(BC3<=30,1,0)","v":1},{"$f":"IF(BC3=0,1,0)","v":1},{"$f":"IF(BB29=1,(SUM(BC17-BD17)),0)","v":0},{"$f":"IF(BF3<>\"\",1,0)","v":0},{"$f":"IF(BG3<=30,1,0)","v":1},{"$f":"IF(BG3=0,1,0)","v":1},{"$f":"IF(BF29=1,(SUM(BG17-BH17)),0)","v":0},{"$f":"IF(BJ3<>\"\",1,0)","v":0},{"$f":"IF(BK3<=30,1,0)","v":1},{"$f":"IF(BK3=0,1,0)","v":1},{"$f":"IF(BJ29=1,(SUM(BK17-BL17)),0)","v":0},{"$f":"IF(BN3<>\"\",1,0)","v":0},{"$f":"IF(BO3<=30,1,0)","v":1},{"$f":"IF(BO3=0,1,0)","v":1},{"$f":"IF(BN29=1,(SUM(BO17-BP17)),0)","v":0},{"$f":"IF(BR3<>\"\",1,0)","v":0},{"$f":"IF(BS3<=30,1,0)","v":1},{"$f":"IF(BS3=0,1,0)","v":1},{"$f":"IF(BR29=1,(SUM(BS17-BT17)),0)","v":0},{"$f":"IF(BV3<>\"\",1,0)","v":0},{"$f":"IF(BW3<=30,1,0)","v":1},{"$f":"IF(BW3=0,1,0)","v":1},{"$f":"IF(BV29=1,(SUM(BW17-BX17)),0)","v":0},{"$f":"IF(BZ3<>\"\",1,0)","v":0},{"$f":"IF(CA3<=30,1,0)","v":1},{"$f":"IF(CA3=0,1,0)","v":1},{"$f":"IF(BZ29=1,(SUM(CA17-CB17)),0)","v":0},{"$f":"IF(CD3<>\"\",1,0)","v":0},{"$f":"IF(CE3<=30,1,0)","v":1},{"$f":"IF(CE3=0,1,0)","v":1},{"$f":"IF(CD29=1,(SUM(CE17-CF17)),0)","v":0},{"$f":"IF(CH3<>\"\",1,0)","v":0},{"$f":"IF(CI3<=30,1,0)","v":1},{"$f":"IF(CI3=0,1,0)","v":1},{"$f":"IF(CH29=1,(SUM(CI17-CJ17)),0)","v":0}]
[null,1,{"$f":"IF(C4<=30,1,0)","v":0},{"$f":"IF(C4=0,1,0)","v":0},{"$f":"IF(B30=1,(SUM(C18-D18)),0)","v":0},1,{"$f":"IF(G4<=30,1,0)","v":0},{"$f":"IF(G4=0,1,0)","v":0},{"$f":"IF(F30=1,(SUM(G18-H18)),0)","v":0},0,{"$f":"IF(K4<=30,1,0)","v":1},{"$f":"IF(K4=0,1,0)","v":1},{"$f":"IF(J30=1,(SUM(K18-L18)),0)","v":0},0,{"$f":"IF(O4<=30,1,0)","v":1},{"$f":"IF(O4=0,1,0)","v":1},{"$f":"IF(N30=1,(SUM(O18-P18)),0)","v":0},0,{"$f":"IF(S4<=30,1,0)","v":1},{"$f":"IF(S4=0,1,0)","v":1},{"$f":"IF(R30=1,(SUM(S18-T18)),0)","v":0},0,{"$f":"IF(W4<=30,1,0)","v":1},{"$f":"IF(W4=0,1,0)","v":1},{"$f":"IF(V30=1,(SUM(W18-X18)),0)","v":0},0,{"$f":"IF(AA4<=30,1,0)","v":1},{"$f":"IF(AA4=0,1,0)","v":1},{"$f":"IF(Z30=1,(SUM(AA18-AB18)),0)","v":0},1,{"$f":"IF(AE4<=30,1,0)","v":0},{"$f":"IF(AE4=0,1,0)","v":0},{"$f":"IF(AD30=1,(SUM(AE18-AF18)),0)","v":0},1,{"$f":"IF(AI4<=30,1,0)","v":0},{"$f":"IF(AI4=0,1,0)","v":0},{"$f":"IF(AH30=1,(SUM(AI18-AJ18)),0)","v":0},1,{"$f":"IF(AM4<=30,1,0)","v":0},{"$f":"IF(AM4=0,1,0)","v":0},{"$f":"IF(AL30=1,(SUM(AM18-AN18)),0)","v":0},1,{"$f":"IF(AQ4<=30,1,0)","v":0},{"$f":"IF(AQ4=0,1,0)","v":0},{"$f":"IF(AP30=1,(SUM(AQ18-AR18)),0)","v":0},0,{"$f":"IF(AU4<=30,1,0)","v":1},{"$f":"IF(AU4=0,1,0)","v":1},{"$f":"IF(AT30=1,(SUM(AU18-AV18)),0)","v":0},0,{"$f":"IF(AY4<=30,1,0)","v":1},{"$f":"IF(AY4=0,1,0)","v":1},{"$f":"IF(AX30=1,(SUM(AY18-AZ18)),0)","v":0},0,{"$f":"IF(BC4<=30,1,0)","v":1},{"$f":"IF(BC4=0,1,0)","v":1},{"$f":"IF(BB30=1,(SUM(BC18-BD18)),0)","v":0},0,{"$f":"IF(BG4<=30,1,0)","v":1},{"$f":"IF(BG4=0,1,0)","v":1},{"$f":"IF(BF30=1,(SUM(BG18-BH18)),0)","v":0},1,{"$f":"IF(BK4<=30,1,0)","v":0},{"$f":"IF(BK4=0,1,0)","v":0},{"$f":"IF(BJ30=1,(SUM(BK18-BL18)),0)","v":0},1,{"$f":"IF(BO4<=30,1,0)","v":0},{"$f":"IF(BO4=0,1,0)","v":0},{"$f":"IF(BN30=1,(SUM(BO18-BP18)),0)","v":0},1,{"$f":"IF(BS4<=30,1,0)","v":0},{"$f":"IF(BS4=0,1,0)","v":0},{"$f":"IF(BR30=1,(SUM(BS18-BT18)),0)","v":0},0,{"$f":"IF(BW4<=30,1,0)","v":1},{"$f":"IF(BW4=0,1,0)","v":1},{"$f":"IF(BV30=1,(SUM(BW18-BX18)),0)","v":0},0,{"$f":"IF(CA4<=30,1,0)","v":1},{"$f":"IF(CA4=0,1,0)","v":1},{"$f":"IF(BZ30=1,(SUM(CA18-CB18)),0)","v":0},0,{"$f":"IF(CE4<=30,1,0)","v":1},{"$f":"IF(CE4=0,1,0)","v":1},{"$f":"IF(CD30=1,(SUM(CE18-CF18)),0)","v":0},0,{"$f":"IF(CI4<=30,1,0)","v":1},{"$f":"IF(CI4=0,1,0)","v":1},{"$f":"IF(CH30=1,(SUM(CI18-CJ18)),0)","v":0}]
[null,1,1,0,0,1,0,0,0,1,0,0,0,1,0,0,0,1,0,0,0,0,1,1,0,1,0,0,0,1,0,0,0,0,1,1,0,0,1,1,0,0,1,1,0,1,0,0,0,1,0,0,0,1,0,0,0,0,1,1,0,1,1,0,0,1,0,0,0,1,1,0,1,0,1,1,0,0,1,1,0,0,1,1,0,0,1,1,0]
[null,0,1,1,0,0,1,1,0,0,1,1,0,0,1,1,0,0,1,1,0,0,1,1,0,0,1,1,0,0,1,1,0,0,1,1,0,0,1,1,0,0,1,1,0,0,1,1,0,0,1,1,0,0,1,1,0,0,1,1,0,0,1,1,0,0,1,1,0,0,1,1,0,0,1,1,0,0,1,1,0,0,1,1,0,0,1,1,0]
[null,0,1,1,0,0,1,1,0,0,1,1,0,0,1,1,0,0,1,1,0,0,1,1,0,1,0,0,0,1,0,0,0,0,1,1,0,1,0,0,0,1,1,0,0,1,0,0,0,0,1,1,0,1,0,0,0,0,1,1,0,1,0,0,0,1,0,0,0,1,0,0,0,0,1,1,0,0,1,1,0,0,1,1,0,0,1,1,0]
[null,0,1,1,0,0,1,1,0,0,1,1,0,0,1,1,0,0,1,1,0,0,1,1,0,0,1,1,0,0,1,1,0,0,1,1,0,0,1,1,0,0,1,1,0,0,1,1,0,0,1,1,0,0,1,1,0,0,1,1,0,0,1,1,0,0,1,1,0,0,1,1,0,0,1,1,0,0,1,1,0,0,1,1,0,0,1,1,0]
[null,1,0,0,0,1,0,0,0,1,0,0,0,1,0,0,0,1,1,0,0,0,1,1,0,1,0,0,0,1,0,0,0,1,0,0,0,1,0,0,0,0,1,1,0,0,1,1,0,1,1,0,1,1,1,0,0,0,1,1,0,1,1,0,0,1,0,0,0,1,0,0,0,0,1,1,0,0,1,1,0,0,1,1,0,0,1,1,0]
[null,1,0,0,0,1,1,0,0,1,0,0,0,1,0,0,0,1,0,0,0,0,1,1,0,1,0,0,0,1,0,0,0,1,0,0,0,0,1,1,0,1,1,0,0,1,0,0,0,1,0,0,0,1,0,0,0,0,1,1,0,0,1,1,0,0,1,1,0,0,1,1,0,0,1,1,0,0,1,1,0,0,1,1,0,0,1,1,0]
[null,1,0,0,0,1,0,0,0,1,0,0,0,1,0,0,0,1,0,0,0,0,1,1,0,1,0,0,0,0,1,1,0,1,0,0,0,1,0,0,0,1,1,0,0,1,0,0,0,1,0,0,0,1,1,0,0,0,1,1,0,1,0,0,0,1,0,0,0,1,0,0,0,0,1,1,0,0,1,1,0,0,1,1,0,0,1,1,0]
[null,1,0,0,0,1,1,0,0,1,0,0,0,1,0,0,0,1,1,0,0,0,1,1,0,1,0,0,0,1,0,0,0,1,0,0,0,1,1,0,0,1,0,0,0,1,0,0,0,1,0,0,0,1,0,0,0,0,1,1,0,1,0,0,0,1,0,0,0,1,0,0,0,0,1,1,0,0,1,1,0,0,1,1,0,0,1,1,0]
[null,0,1,1,0,0,1,1,0,0,1,1,0,0,1,1,0,0,1,1,0,0,1,1,0,0,1,1,0,0,1,1,0,0,1,1,0,0,1,1,0,0,1,1,0,0,1,1,0,0,1,1,0,0,1,1,0,0,1,1,0,0,1,1,0,0,1,1,0,0,1,1,0,0,1,1,0,0,1,1,0,0,1,1,0,0,1,1,0]
[null,0,1,1,0,0,1,1,0,0,1,1,0,0,1,1,0,0,1,1,0,0,1,1,0,0,1,1,0,0,1,1,0,0,1,1,0,0,1,1,0,0,1,1,0,0,1,1,0,0,1,1,0,0,1,1,0,0,1,1,0,0,1,1,0,0,1,1,0,0,1,1,0,0,1,1,0,0,1,1,0,0,1,1,0,0,1,1,0]
[null,{"$f":"IF(B3=701,1,0)","v":0},{"$f":"IF(B29=1,C3,\"\")","v":""},null,null,{"$f":"IF(F3=701,1,0)","v":0},{"$f":"IF(F29=1,G3,\"\")","v":""},null,null,{"$f":"IF(J3=701,1,0)","v":1},{"$f":"IF(J29=1,K3,\"\")","v":52},null,null,{"$f":"IF(N3=701,1,0)","v":1},{"$f":"IF(N29=1,O3,\"\")","v":35},null,null,{"$f":"IF(R3=701,1,0)","v":0},{"$f":"IF(R29=1,S3,\"\")","v":""},null,null,{"$f":"IF(V3=701,1,0)","v":0},{"$f":"IF(V29=1,W3,\"\")","v":""},null,null,{"$f":"IF(Z3=701,1,0)","v":0},{"$f":"IF(Z29=1,AA3,\"\")","v":""},null,null,{"$f":"IF(AD3=701,1,0)","v":0},{"$f":"IF(AD29=1,AE3,\"\")","v":""},null,null,{"$f":"IF(AH3=701,1,0)","v":0},{"$f":"IF(AH29=1,AI3,\"\")","v":""},null,null,{"$f":"IF(AL3=701,1,0)","v":0},{"$f":"IF(AL29=1,AM3,\"\")","v":""},null,null,{"$f":"IF(AP3=701,1,0)","v":0},{"$f":"IF(AP29=1,AQ3,\"\")","v":""},null,null,{"$f":"IF(AT3=701,1,0)","v":0},{"$f":"IF(AT29=1,AU3,\"\")","v":""},null,null,{"$f":"IF(AX3=701,1,0)","v":0},{"$f":"IF(AX29=1,AY3,\"\")","v":""},null,null,{"$f":"IF(BB3=701,1,0)","v":0},{"$f":"IF(BB29=1,BC3,\"\")","v":""},null,null,{"$f":"IF(BF3=701,1,0)","v":0},{"$f":"IF(BF29=1,BG3,\"\")","v":""},null,null,{"$f":"IF(BJ3=701,1,0)","v":0},{"$f":"IF(BJ29=1,BK3,\"\")","v":""},null,null,{"$f":"IF(BN3=701,1,0)","v":0},{"$f":"IF(BN29=1,BO3,\"\")","v":""},null,null,{"$f":"IF(BR3=701,1,0)","v":0},{"$f":"IF(BR29=1,BS3,\"\")","v":""},null,null,{"$f":"IF(BV3=701,1,0)","v":0},{"$f":"IF(BV29=1,BW3,\"\")","v":""},null,null,{"$f":"IF(BZ3=701,1,0)","v":0},{"$f":"IF(BZ29=1,CA3,\"\")","v":""},null,null,{"$f":"IF(CD3=701,1,0)","v":0},{"$f":"IF(CD29=1,CE3,\"\")","v":""},null,null,{"$f":"IF(CH3=701,1,0)","v":0},{"$f":"IF(CH29=1,CI3,\"\")","v":""}]
[null,{"$f":"IF(B4=701,1,0)","v":0},"",null,null,{"$f":"IF(F4=701,1,0)","v":0},"",null,null,{"$f":"IF(J4=701,1,0)","v":0},"",null,null,{"$f":"IF(N4=701,1,0)","v":0},"",null,null,{"$f":"IF(R4=701,1,0)","v":0},"",null,null,{"$f":"IF(V4=701,1,0)","v":0},"",null,null,{"$f":"IF(Z4=701,1,0)","v":0},"",null,null,{"$f":"IF(AD4=701,1,0)","v":0},"",null,null,{"$f":"IF(AH4=701,1,0)","v":0},"",null,null,{"$f":"IF(AL4=701,1,0)","v":0},"",null,null,{"$f":"IF(AP4=701,1,0)","v":0},"",null,null,{"$f":"IF(AT4=701,1,0)","v":0},"",null,null,{"$f":"IF(AX4=701,1,0)","v":0},"",null,null,{"$f":"IF(BB4=701,1,0)","v":0},"",null,null,{"$f":"IF(BF4=701,1,0)","v":0},"",null,null,{"$f":"IF(BJ4=701,1,0)","v":1},62,null,null,{"$f":"IF(BN4=701,1,0)","v":1},45,null,null,{"$f":"IF(BR4=701,1,0)","v":1},38,null,null,{"$f":"IF(BV4=701,1,0)","v":0},"",null,null,{"$f":"IF(BZ4=701,1,0)","v":0},"",null,null,{"$f":"IF(CD4=701,1,0)","v":0},"",null,null,{"$f":"IF(CH4=701,1,0)","v":0},""]
[null,0,"",null,null,1,35,null,null,1,43,null,null,0,"",null,null,1,49,null,null,0,"",null,null,1,36,null,null,1,43,null,null,0,"",null,null,0,"",null,null,0,"",null,null,0,"",null,null,0,"",null,null,0,"",null,null,0,"",null,null,0,"",null,null,1,51,null,null,1,30,null,null,0,"",null,null,0,"",null,null,0,"",null,null,0,""]
[null,0,"",null,null,0,"",null,null,0,"",null,null,0,"",null,null,0,"",null,null,0,"",null,null,0,"",null,null,0,"",null,null,0,"",null,null,0,"",null,null,0,"",null,null,0,"",null,null,0,"",null,null,0,"",null,null,0,"",null,null,0,"",null,null,0,"",null,null,0,"",null,null,0,"",null,null,0,"",null,null,0,"",null,null,0,""]
[null,0,"",null,null,0,"",null,null,0,"",null,null,0,"",null,null,0,"",null,null,0,"",null,null,0,"",null,null,0,"",null,null,0,"",null,null,1,45,null,null,0,"",null,null,1,41,null,null,0,"",null,null,1,33,null,null,0,"",null,null,1,58,null,null,0,"",null,null,0,"",null,null,0,"",null,null,0,"",null,null,0,"",null,null,0,""]
[null,0,"",null,null,0,"",null,null,0,"",null,null,0,"",null,null,0,"",null,null,0,"",null,null,0,"",null,null,0,"",null,null,0,"",null,null,0,"",null,null,0,"",null,null,0,"",null,null,0,"",null,null,0,"",null,null,0,"",null,null,0,"",null,null,0,"",null,null,0,"",null,null,0,"",null,null,0,"",null,null,0,"",null,null,0,""]
[null,0,"",null,null,0,"",null,null,1,46,null,null,1,42,null,null,0,"",null,null,0,"",null,null,1,42,null,null,1,44,null,null,1,48,null,null,0,"",null,null,0,"",null,null,0,"",null,null,1,27,null,null,0,"",null,null,0,"",null,null,0,"",null,null,1,39,null,null,1,40,null,null,0,"",null,null,0,"",null,null,0,"",null,null,0,""]
[null,0,"",null,null,0,"",null,null,1,52,null,null,0,"",null,null,1,57,null,null,0,"",null,null,0,"",null,null,0,"",null,null,0,"",null,null,0,"",null,null,0,"",null,null,0,"",null,null,0,"",null,null,1,46,null,null,0,"",null,null,0,"",null,null,0,"",null,null,0,"",null,null,0,"",null,null,0,"",null,null,0,"",null,null,0,""]
[null,1,52,null,null,1,41,null,null,0,"",null,null,0,"",null,null,0,"",null,null,0,"",null,null,1,49,null,null,0,"",null,null,1,49,null,null,0,"",null,null,0,"",null,null,1,37,null,null,0,"",null,null,0,"",null,null,0,"",null,null,1,52,null,null,1,54,null,null,0,"",null,null,0,"",null,null,0,"",null,null,0,"",null,null,0,""]
[null,0,"",null,null,0,"",null,null,1,48,null,null,1,39,null,null,0,"",null,null,0,"",null,null,0,"",null,null,1,41,null,null,1,34,null,null,0,"",null,null,0,"",null,null,1,41,null,null,1,45,null,null,0,"",null,null,0,"",null,null,0,"",null,null,1,31,null,null,1,35,null,null,0,"",null,null,0,"",null,null,0,"",null,null,0,""]
[null,0,"",null,null,0,"",null,null,0,"",null,null,0,"",null,null,0,"",null,null,0,"",null,null,0,"",null,null,0,"",null,null,0,"",null,null,0,"",null,null,0,"",null,null,0,"",null,null,0,"",null,null,0,"",null,null,0,"",null,null,0,"",null,null,0,"",null,null,0,"",null,null,0,"",null,null,0,"",null,null,0,"",null,null,0,""]
[null,0,"",null,null,0,"",null,null,0,"",null,null,0,"",null,null,0,"",null,null,0,"",null,null,0,"",null,null,0,"",null,null,0,"",null,null,0,"",null,null,0,"",null,null,0,"",null,null,0,"",null,null,0,"",null,null,0,"",null,null,0,"",null,null,0,"",null,null,0,"",null,null,0,"",null,null,0,"",null,null,0,"",null,null,0,""]
["Singles Won",{"$f":"SUM(B29:B40)","v":1},null,null,null,{"$f":"SUM(F29:F40)","v":2},null,null,null,{"$f":"SUM(J29:J40)","v":5},null,null,null,{"$f":"SUM(N29:N40)","v":3},null,null,null,{"$f":"SUM(R29:R40)","v":2},null,null,null,{"$f":"SUM(V29:V40)","v":0},null,null,null,{"$f":"SUM(Z29:Z40)","v":3},null,null,null,{"$f":"SUM(AD29:AD40)","v":3},null,null,null,{"$f":"SUM(AH29:AH40)","v":3},null,null,null,{"$f":"SUM(AL29:AL40)","v":1},null,null,null,{"$f":"SUM(AP29:AP40)","v":0},null,null,null,{"$f":"SUM(AT29:AT40)","v":3},null,null,null,{"$f":"SUM(AX29:AX40)","v":2},null,null,null,{"$f":"SUM(BB29:BB40)","v":2},null,null,null,{"$f":"SUM(BF29:BF40)","v":0},null,null,null,{"$f":"SUM(BJ29:BJ40)","v":3},null,null,null,{"$f":"SUM(BN29:BN40)","v":5},null,null,null,{"$f":"SUM(BR29:BR40)","v":4},null,null,null,{"$f":"SUM(BV29:BV40)","v":0},null,null,null,{"$f":"SUM(BZ29:BZ40)","v":0},null,null,null,{"$f":"SUM(CD29:CD40)","v":0},null,null,null,{"$f":"SUM(CH29:CH40)","v":0}]
["Pairs Games Won",0,null,null,null,1,null,null,null,1,null,null,null,0,null,null,null,1,null,null,null,null,null,null,null,1,null,null,null,3,null,null,null,2,null,null,null,0,null,null,null,1,null,null,null,2,null,null,null,1,null,null,null,1,null,null,null,null,null,null,null,2,null,null,null,2,null,null,null,3]

{"sheet":"NAGS HEAD \"B\"","index":17,"n_rows":42,"n_cols":101,"rows_kept":42,"cut":false,"hidden":false,"merged":[[0,61,0,64],[0,65,0,68],[0,37,0,40],[0,41,0,44],[0,45,0,48],[0,49,0,52],[0,57,0,60],[0,21,0,24],[0,25,0,28],[0,29,0,32],[0,33,0,36],[0,53,0,56],[0,73,0,76],[0,77,0,80],[0,81,0,84],[0,85,0,88],[0,69,0,72],[0,1,0,4],[0,5,0,8],[0,9,0,12],[0,13,0,16],[0,17,0,20]]}
["NAGS HEAD \"B\"","WEEK 1",null,null,null,"WEEK 2",null,null,null,"WEEK 3",null,null,null,"WEEK 4",null,null,null,"WEEK 5",null,null,null,"WEEK 6",null,null,null,"WEEK 7",null,null,null,"WEEK 8",null,null,null,"WEEK 9",null,null,null,"WEEK 10",null,null,null,"WEEK 11",null,null,null,"WEEK 12",null,null,null,"WEEK 13",null,null,null,"WEEK 14",null,null,null,"WEEK 15",null,null,null,"WEEK 16",null,null,null,"WEEK 17",null,null,null,"WEEK 18",null,null,null,"WEEK 19",null,null,null,"WEEK 20",null,null,null,"WEEK 21",null,null,null,"WEEK 22"]
[null,"PS","DT","100 +","180's","PS","DT","100 +","180's","PS","DT","100 +","180's","PS","DT","100 +","180's","PS","DT","100 +","180's","PS","DT","100 +","180's","PS","DT","100 +","180's","PS","DT","100 +","180's","PS","DT","100 +","180's","PS","DT","100 +","180's","PS","DT","100 +","180's","PS","DT","100 +","180's","PS","DT","100 +","180's","PS","DT","100 +","180's","PS","DT","100 +","180's","PS","DT","100 +","180's","PS","DT","100 +","180's","PS","DT","100 +","180's","PS","DT","100 +","180's","PS","DT","100 +","180's","PS","DT","100 +","180's","PS","DT","100 +","180's","GP","GW","TP","TD","AVG","AVG D/G","T100+","AVG 100+/G","T180's","T<30","Least Darts","Most Darts"]
["Andy Johnson",583,39,1,null,701,41,1,null,701,44,5,null,551,39,1,null,701,44,3,null,701,38,4,null,479,27,1,null,436,30,1,null,null,null,null,null,669,33,2,null,701,33,2,null,701,32,2,null,701,40,2,null,599,39,null,null,null,null,1,null,693,39,2,null,586,33,4,null,null,null,null,null,null,null,null,null,null,null,null,null,null,null,null,null,null,null,null,null,{"$f":"SUM(B17+F17+J17+N17+R17+V17+Z17+AD17+AH17+AL17+AP17+AT17+AX17+BB17+BF17+BJ17+BN17+BR17+BV17+BZ17+CD17+CH17)","v":15},{"$f":"SUM(B29+F29+J29+N29+R29+V29+Z29+AD29+AH29+AL29+AP29+AT29+AX29+BB29+BF29+BJ29+BN29+BR29+BV29+BZ29+CD29+CH29)","v":7},{"$f":"SUM(B3+F3+J3+N3+R3+V3+Z3+AD3+AH3+AL3+AP3+AT3+AX3+BB3+BF3+BJ3+BN3+BR3+BV3+BZ3+CD3+CH3)","v":9503},{"$f":"SUM(C3+G3+K3+O3+S3+W3+AA3+AE3+AI3+AM3+AQ3+AU3+AY3+BC3+BG3+BK3+BO3+BS3+BW3+CA3+CE3+CI3)","v":551},{"$f":"IF(CN3=0,0,(SUM(CN3/CO3)*3))","v":51.740471869328495},{"$f":"IF(CL3=0,0,SUM(CO3/CL3))","v":36.733333333333334},{"$f":"SUM(D3+H3+L3+P3+T3+X3+AB3+AF3+AJ3+AN3+AR3+AV3+AZ3+BD3+BH3+BL3+BP3+BT3+BX3+CB3+CF3+CJ3)","v":32},{"$f":"IF(CL3=0,0,(SUM(CR3/CL3)))","v":2.1333333333333333},{"$f":"SUM(E3+I3+M3+Q3+U3+Y3+AC3+AG3+AK3+AO3+AS3+AW3+BA3+BE3+BI3+BM3+BQ3+BU3+BY3+CC3+CG3+CK3)","v":0},{"$f":"SUM(E17+I17+M17+Q17+U17+Y17+AC17+AG17+AK17+AO17+AS17+AW17+BA17+BE17+BI17+BM17+BQ17+BU17+BY17+CC17+CG17+CK17)","v":0},{"$f":"MIN(C29,G29,K29,O29,S29,W29,AA29,AE29,AI29,AM29,AQ29,AU29,AY29,BC29,BG29,BK29,BO29,BS29,BW29,CA29,CE29,CI29)","v":32},{"$f":"MAX($C29,$G29,$K29,$O29,$S29,$W29,$AA29,$AE29,$AI29,$AM29,$AQ29,$AU29,$AY29,$BC29,$BG29,$BK29,$BO29,$BS29,$BW29,$CA29,$CE29,$CI29)","v":44}]
["Andy Haw",685,48,null,null,685,45,null,null,666,48,2,null,701,51,null,null,701,48,null,null,429,33,null,null,null,null,null,null,307,27,1,null,null,null,null,null,691,42,1,null,701,41,null,1,685,39,2,null,701,59,4,null,434,33,1,null,695,45,1,null,626,33,1,null,701,58,2,null,null,null,null,null,null,null,null,null,null,null,null,null,null,null,null,null,null,null,null,null,{"$f":"SUM(B18+F18+J18+N18+R18+V18+Z18+AD18+AH18+AL18+AP18+AT18+AX18+BB18+BF18+BJ18+BN18+BR18+BV18+BZ18+CD18+CH18)","v":15},{"$f":"SUM(B30+F30+J30+N30+R30+V30+Z30+AD30+AH30+AL30+AP30+AT30+AX30+BB30+BF30+BJ30+BN30+BR30+BV30+BZ30+CD30+CH30)","v":5},{"$f":"SUM(B4+F4+J4+N4+R4+V4+Z4+AD4+AH4+AL4+AP4+AT4+AX4+BB4+BF4+BJ4+BN4+BR4+BV4+BZ4+CD4+CH4)","v":9408},{"$f":"SUM(C4+G4+K4+O4+S4+W4+AA4+AE4+AI4+AM4+AQ4+AU4+AY4+BC4+BG4+BK4+BO4+BS4+BW4+CA4+CE4+CI4)","v":650},{"$f":"IF(CN4=0,0,(SUM(CN4/CO4)*3))","v":43.421538461538461},43.333333333333336,{"$f":"SUM(D4+H4+L4+P4+T4+X4+AB4+AF4+AJ4+AN4+AR4+AV4+AZ4+BD4+BH4+BL4+BP4+BT4+BX4+CB4+CF4+CJ4)","v":15},{"$f":"IF(CL4=0,0,(SUM(CR4/CL4)))","v":1},{"$f":"SUM(E4+I4+M4+Q4+U4+Y4+AC4+AG4+AK4+AO4+AS4+AW4+BA4+BE4+BI4+BM4+BQ4+BU4+BY4+CC4+CG4+CK4)","v":1},{"$f":"SUM(E18+I18+M18+Q18+U18+Y18+AC18+AG18+AK18+AO18+AS18+AW18+BA18+BE18+BI18+BM18+BQ18+BU18+BY18+CC18+CG18+CK18)","v":0},{"$f":"MIN(C30,G30,K30,O30,S30,W30,AA30,AE30,AI30,AM30,AQ30,AU30,AY30,BC30,BG30,BK30,BO30,BS30,BW30,CA30,CE30,CI30)","v":41},59]
["Steve Atkinson",701,44,1,null,null,null,null,null,null,null,null,null,null,null,2,null,701,43,1,null,699,45,null,null,541,36,null,null,701,42,null,null,null,null,null,null,619,33,1,null,685,42,null,null,679,42,null,null,697,69,null,null,null,null,null,null,697,48,1,null,676,45,1,null,589,36,null,null,null,null,null,null,null,null,null,null,null,null,null,null,null,null,null,null,null,null,null,null,12,3,7985,525,45.628571428571426,43.75,7,0.58333333333333337,0,0,42,44]
["Gaz Lumley",681,39,2,null,579,36,1,null,681,48,null,null,null,null,null,null,368,24,1,null,701,37,2,null,577,42,null,null,null,null,null,null,null,null,null,null,null,null,null,null,502,42,null,null,701,49,null,null,null,null,null,null,528,30,null,null,701,46,1,null,null,null,null,null,null,null,1,null,null,null,null,null,null,null,null,null,null,null,null,null,null,null,null,null,null,null,null,null,10,3,6019,393,45.94656488549618,39.299999999999997,8,0.8,0,0,37,49]
["Dave Crilly",594,39,null,null,669,36,2,null,671,45,2,null,701,37,5,null,347,27,null,null,null,null,null,null,373,30,null,null,701,40,null,null,null,null,null,null,458,36,1,null,669,45,1,null,701,35,1,null,701,46,3,null,687,42,1,null,539,36,1,null,661,30,3,null,661,36,null,null,null,null,null,null,null,null,null,null,null,null,null,null,null,null,null,null,null,null,null,null,15,4,9133,560,48.926785714285714,37.333333333333336,20,1.3333333333333333,0,0,35,46]
["Steve Cooke",701,51,1,null,701,48,null,null,697,45,3,1,669,51,1,null,701,45,2,null,701,35,4,null,694,42,3,null,701,44,1,null,null,null,null,null,465,27,null,null,701,37,1,null,null,null,null,null,null,null,1,null,426,27,1,null,null,null,1,null,569,39,null,null,483,30,1,null,null,null,null,null,null,null,null,null,null,null,null,null,null,null,null,null,null,null,null,null,13,6,8209,521,47.268714011516309,40.07692307692308,20,1.5384615384615385,1,0,35,51]
["Jake Doherty",null,null,null,null,699,48,1,null,null,null,null,null,null,null,null,null,null,null,null,null,null,null,null,null,null,null,null,null,null,null,null,null,null,null,null,null,null,null,null,null,null,null,null,null,null,null,null,null,null,null,null,null,null,null,null,null,null,null,null,null,null,null,null,null,null,null,null,null,null,null,null,null,null,null,null,null,null,null,null,null,null,null,null,null,null,null,null,null,1,0,699,48,43.6875,48,1,1,0,0,0,0]
["Steve Gibb",null,null,null,null,null,null,null,null,null,null,null,null,null,null,null,null,null,null,null,null,null,null,null,null,null,null,null,null,null,null,null,null,null,null,null,null,null,null,null,null,null,null,null,null,null,null,null,null,null,null,null,null,null,null,null,null,null,null,null,null,null,null,null,null,null,null,null,null,null,null,null,null,null,null,null,null,null,null,null,null,null,null,null,null,null,null,null,null,0,0,0,0,0,0,0,0,0,0,0,0]
["Stuart Truman",null,null,null,null,null,null,1,null,687,45,1,null,701,61,1,null,null,null,1,null,602,45,null,null,367,30,null,null,606,48,null,null,null,null,null,null,655,36,1,null,null,null,null,null,622,39,1,null,693,63,null,null,null,null,1,null,701,50,1,null,null,null,null,null,null,null,null,null,null,null,null,null,null,null,null,null,null,null,null,null,null,null,null,null,null,null,null,null,9,2,5634,417,40.532374100719423,46.333333333333336,8,0.88888888888888884,0,0,50,61]
["Kenny Kerringan",null,null,null,null,null,null,null,null,null,null,null,null,null,null,null,null,null,null,null,null,null,null,null,null,null,null,null,null,null,null,1,null,null,null,null,null,null,null,null,null,null,null,null,null,null,null,2,null,475,30,2,null,567,33,1,null,701,48,1,null,641,39,2,null,423,24,2,null,null,null,null,null,null,null,null,null,null,null,null,null,null,null,null,null,null,null,null,null,5,1,2807,174,48.396551724137936,34.799999999999997,11,2.2000000000000002,0,0,48,48]
[null,null,null,null,null,null,null,null,null,null,null,null,null,null,null,null,null,null,null,null,null,null,null,null,null,null,null,null,null,null,null,null,null,null,null,null,null,null,null,null,null,null,null,null,null,null,null,null,null,null,null,null,null,null,null,null,null,null,null,null,null,null,null,null,null,null,null,null,null,null,null,null,null,null,null,null,null,null,null,null,null,null,null,null,null,null,null,null,null,0,0,0,0,0,0,0,0,0,0,0,0]
[null,null,null,null,null,null,null,null,null,null,null,null,null,null,null,null,null,null,null,null,null,null,null,null,null,null,null,null,null,null,null,null,null,null,null,null,null,null,null,null,null,null,null,null,null,null,null,null,null,null,null,null,null,null,null,null,null,null,null,null,null,null,null,null,null,null,null,null,null,null,null,null,null,null,null,null,null,null,null,null,null,null,null,null,null,null,null,null,null,0,0,0,0,{"$f":"IF(CN14=0,0,(SUM(CN14/CO14)*3))","v":0},{"$f":"IF(CL14=0,0,SUM(CO14/CL14))","v":0},0,0,0,0,0,0]
[]
[]
[null,{"$f":"IF(B3<>\"\",1,0)","v":1},{"$f":"IF(C3<=30,1,0)","v":0},{"$f":"IF(C3=0,1,0)","v":0},{"$f":"IF(B29=1,(SUM(C17-D17)),0)","v":0},{"$f":"IF(F3<>\"\",1,0)","v":1},{"$f":"IF(G3<=30,1,0)","v":0},{"$f":"IF(G3=0,1,0)","v":0},{"$f":"IF(F29=1,(SUM(G17-H17)),0)","v":0},{"$f":"IF(J3<>\"\",1,0)","v":1},{"$f":"IF(K3<=30,1,0)","v":0},{"$f":"IF(K3=0,1,0)","v":0},{"$f":"IF(J29=1,(SUM(K17-L17)),0)","v":0},{"$f":"IF(N3<>\"\",1,0)","v":1},{"$f":"IF(O3<=30,1,0)","v":0},{"$f":"IF(O3=0,1,0)","v":0},{"$f":"IF(N29=1,(SUM(O17-P17)),0)","v":0},{"$f":"IF(R3<>\"\",1,0)","v":1},{"$f":"IF(S3<=30,1,0)","v":0},{"$f":"IF(S3=0,1,0)","v":0},{"$f":"IF(R29=1,(SUM(S17-T17)),0)","v":0},{"$f":"IF(V3<>\"\",1,0)","v":1},{"$f":"IF(W3<=30,1,0)","v":0},{"$f":"IF(W3=0,1,0)","v":0},{"$f":"IF(V29=1,(SUM(W17-X17)),0)","v":0},{"$f":"IF(Z3<>\"\",1,0)","v":1},{"$f":"IF(AA3<=30,1,0)","v":1},{"$f":"IF(AA3=0,1,0)","v":0},{"$f":"IF(Z29=1,(SUM(AA17-AB17)),0)","v":0},{"$f":"IF(AD3<>\"\",1,0)","v":1},{"$f":"IF(AE3<=30,1,0)","v":1},{"$f":"IF(AE3=0,1,0)","v":0},{"$f":"IF(AD29=1,(SUM(AE17-AF17)),0)","v":0},{"$f":"IF(AH3<>\"\",1,0)","v":0},{"$f":"IF(AI3<=30,1,0)","v":1},{"$f":"IF(AI3=0,1,0)","v":1},{"$f":"IF(AH29=1,(SUM(AI17-AJ17)),0)","v":0},{"$f":"IF(AL3<>\"\",1,0)","v":1},{"$f":"IF(AM3<=30,1,0)","v":0},{"$f":"IF(AM3=0,1,0)","v":0},{"$f":"IF(AL29=1,(SUM(AM17-AN17)),0)","v":0},{"$f":"IF(AP3<>\"\",1,0)","v":1},{"$f":"IF(AQ3<=30,1,0)","v":0},{"$f":"IF(AQ3=0,1,0)","v":0},{"$f":"IF(AP29=1,(SUM(AQ17-AR17)),0)","v":0},{"$f":"IF(AT3<>\"\",1,0)","v":1},{"$f":"IF(AU3<=30,1,0)","v":0},{"$f":"IF(AU3=0,1,0)","v":0},{"$f":"IF(AT29=1,(SUM(AU17-AV17)),0)","v":0},{"$f":"IF(AX3<>\"\",1,0)","v":1},{"$f":"IF(AY3<=30,1,0)","v":0},{"$f":"IF(AY3=0,1,0)","v":0},{"$f":"IF(AX29=1,(SUM(AY17-AZ17)),0)","v":0},{"$f":"IF(BB3<>\"\",1,0)","v":1},{"$f":"IF(BC3<=30,1,0)","v":0},{"$f":"IF(BC3=0,1,0)","v":0},{"$f":"IF(BB29=1,(SUM(BC17-BD17)),0)","v":0},{"$f":"IF(BF3<>\"\",1,0)","v":0},{"$f":"IF(BG3<=30,1,0)","v":1},{"$f":"IF(BG3=0,1,0)","v":1},{"$f":"IF(BF29=1,(SUM(BG17-BH17)),0)","v":0},{"$f":"IF(BJ3<>\"\",1,0)","v":1},{"$f":"IF(BK3<=30,1,0)","v":0},{"$f":"IF(BK3=0,1,0)","v":0},{"$f":"IF(BJ29=1,(SUM(BK17-BL17)),0)","v":0},{"$f":"IF(BN3<>\"\",1,0)","v":1},{"$f":"IF(BO3<=30,1,0)","v":0},{"$f":"IF(BO3=0,1,0)","v":0},{"$f":"IF(BN29=1,(SUM(BO17-BP17)),0)","v":0},{"$f":"IF(BR3<>\"\",1,0)","v":0},{"$f":"IF(BS3<=30,1,0)","v":1},{"$f":"IF(BS3=0,1,0)","v":1},{"$f":"IF(BR29=1,(SUM(BS17-BT17)),0)","v":0},{"$f":"IF(BV3<>\"\",1,0)","v":0},{"$f":"IF(BW3<=30,1,0)","v":1},{"$f":"IF(BW3=0,1,0)","v":1},{"$f":"IF(BV29=1,(SUM(BW17-BX17)),0)","v":0},{"$f":"IF(BZ3<>\"\",1,0)","v":0},{"$f":"IF(CA3<=30,1,0)","v":1},{"$f":"IF(CA3=0,1,0)","v":1},{"$f":"IF(BZ29=1,(SUM(CA17-CB17)),0)","v":0},{"$f":"IF(CD3<>\"\",1,0)","v":0},{"$f":"IF(CE3<=30,1,0)","v":1},{"$f":"IF(CE3=0,1,0)","v":1},{"$f":"IF(CD29=1,(SUM(CE17-CF17)),0)","v":0},{"$f":"IF(CH3<>\"\",1,0)","v":0},{"$f":"IF(CI3<=30,1,0)","v":1},{"$f":"IF(CI3=0,1,0)","v":1},{"$f":"IF(CH29=1,(SUM(CI17-CJ17)),0)","v":0}]
[null,1,{"$f":"IF(C4<=30,1,0)","v":0},{"$f":"IF(C4=0,1,0)","v":0},{"$f":"IF(B30=1,(SUM(C18-D18)),0)","v":0},1,{"$f":"IF(G4<=30,1,0)","v":0},{"$f":"IF(G4=0,1,0)","v":0},{"$f":"IF(F30=1,(SUM(G18-H18)),0)","v":0},1,{"$f":"IF(K4<=30,1,0)","v":0},{"$f":"IF(K4=0,1,0)","v":0},{"$f":"IF(J30=1,(SUM(K18-L18)),0)","v":0},1,{"$f":"IF(O4<=30,1,0)","v":0},{"$f":"IF(O4=0,1,0)","v":0},{"$f":"IF(N30=1,(SUM(O18-P18)),0)","v":0},1,{"$f":"IF(S4<=30,1,0)","v":0},{"$f":"IF(S4=0,1,0)","v":0},{"$f":"IF(R30=1,(SUM(S18-T18)),0)","v":0},1,{"$f":"IF(W4<=30,1,0)","v":0},{"$f":"IF(W4=0,1,0)","v":0},{"$f":"IF(V30=1,(SUM(W18-X18)),0)","v":0},0,{"$f":"IF(AA4<=30,1,0)","v":1},{"$f":"IF(AA4=0,1,0)","v":1},{"$f":"IF(Z30=1,(SUM(AA18-AB18)),0)","v":0},1,{"$f":"IF(AE4<=30,1,0)","v":1},{"$f":"IF(AE4=0,1,0)","v":0},{"$f":"IF(AD30=1,(SUM(AE18-AF18)),0)","v":0},0,{"$f":"IF(AI4<=30,1,0)","v":1},{"$f":"IF(AI4=0,1,0)","v":1},{"$f":"IF(AH30=1,(SUM(AI18-AJ18)),0)","v":0},1,{"$f":"IF(AM4<=30,1,0)","v":0},{"$f":"IF(AM4=0,1,0)","v":0},{"$f":"IF(AL30=1,(SUM(AM18-AN18)),0)","v":0},1,{"$f":"IF(AQ4<=30,1,0)","v":0},{"$f":"IF(AQ4=0,1,0)","v":0},{"$f":"IF(AP30=1,(SUM(AQ18-AR18)),0)","v":0},1,{"$f":"IF(AU4<=30,1,0)","v":0},{"$f":"IF(AU4=0,1,0)","v":0},{"$f":"IF(AT30=1,(SUM(AU18-AV18)),0)","v":0},1,{"$f":"IF(AY4<=30,1,0)","v":0},{"$f":"IF(AY4=0,1,0)","v":0},{"$f":"IF(AX30=1,(SUM(AY18-AZ18)),0)","v":0},1,{"$f":"IF(BC4<=30,1,0)","v":0},{"$f":"IF(BC4=0,1,0)","v":0},{"$f":"IF(BB30=1,(SUM(BC18-BD18)),0)","v":0},1,{"$f":"IF(BG4<=30,1,0)","v":0},{"$f":"IF(BG4=0,1,0)","v":0},{"$f":"IF(BF30=1,(SUM(BG18-BH18)),0)","v":0},1,{"$f":"IF(BK4<=30,1,0)","v":0},{"$f":"IF(BK4=0,1,0)","v":0},{"$f":"IF(BJ30=1,(SUM(BK18-BL18)),0)","v":0},1,{"$f":"IF(BO4<=30,1,0)","v":0},{"$f":"IF(BO4=0,1,0)","v":0},{"$f":"IF(BN30=1,(SUM(BO18-BP18)),0)","v":0},0,{"$f":"IF(BS4<=30,1,0)","v":1},{"$f":"IF(BS4=0,1,0)","v":1},{"$f":"IF(BR30=1,(SUM(BS18-BT18)),0)","v":0},0,{"$f":"IF(BW4<=30,1,0)","v":1},{"$f":"IF(BW4=0,1,0)","v":1},{"$f":"IF(BV30=1,(SUM(BW18-BX18)),0)","v":0},0,{"$f":"IF(CA4<=30,1,0)","v":1},{"$f":"IF(CA4=0,1,0)","v":1},{"$f":"IF(BZ30=1,(SUM(CA18-CB18)),0)","v":0},0,{"$f":"IF(CE4<=30,1,0)","v":1},{"$f":"IF(CE4=0,1,0)","v":1},{"$f":"IF(CD30=1,(SUM(CE18-CF18)),0)","v":0},0,{"$f":"IF(CI4<=30,1,0)","v":1},{"$f":"IF(CI4=0,1,0)","v":1},{"$f":"IF(CH30=1,(SUM(CI18-CJ18)),0)","v":0}]
[null,1,0,0,0,0,1,1,0,0,1,1,0,0,1,1,0,1,0,0,0,1,0,0,0,1,0,0,0,1,0,0,0,0,1,1,0,1,0,0,0,1,0,0,0,1,0,0,0,1,0,0,0,0,1,1,0,1,0,0,0,1,0,0,0,1,0,0,0,0,1,1,0,0,1,1,0,0,1,1,0,0,1,1,0,0,1,1,0]
[null,1,0,0,0,1,0,0,0,1,0,0,0,0,1,1,0,1,1,0,0,1,0,0,0,1,0,0,0,0,1,1,0,0,1,1,0,0,1,1,0,1,0,0,0,1,0,0,0,0,1,1,0,1,1,0,0,1,0,0,0,0,1,1,0,0,1,1,0,0,1,1,0,0,1,1,0,0,1,1,0,0,1,1,0,0,1,1,0]
[null,1,0,0,0,1,0,0,0,1,0,0,0,1,0,0,0,1,1,0,0,0,1,1,0,1,1,0,0,1,0,0,0,0,1,1,0,1,0,0,0,1,0,0,0,1,0,0,0,1,0,0,0,1,0,0,0,1,0,0,0,1,1,0,0,1,0,0,0,0,1,1,0,0,1,1,0,0,1,1,0,0,1,1,0,0,1,1,0]
[null,1,0,0,0,1,0,0,0,1,0,0,0,1,0,0,0,1,0,0,0,1,0,0,0,1,0,0,0,1,0,0,0,0,1,1,0,1,1,0,0,1,0,0,0,0,1,1,0,0,1,1,0,1,1,0,0,0,1,1,0,1,0,0,0,1,1,0,0,0,1,1,0,0,1,1,0,0,1,1,0,0,1,1,0,0,1,1,0]
[null,0,1,1,0,1,0,0,0,0,1,1,0,0,1,1,0,0,1,1,0,0,1,1,0,0,1,1,0,0,1,1,0,0,1,1,0,0,1,1,0,0,1,1,0,0,1,1,0,0,1,1,0,0,1,1,0,0,1,1,0,0,1,1,0,0,1,1,0,0,1,1,0,0,1,1,0,0,1,1,0,0,1,1,0,0,1,1,0]
[null,0,1,1,0,0,1,1,0,0,1,1,0,0,1,1,0,0,1,1,0,0,1,1,0,0,1,1,0,0,1,1,0,0,1,1,0,0,1,1,0,0,1,1,0,0,1,1,0,0,1,1,0,0,1,1,0,0,1,1,0,0,1,1,0,0,1,1,0,0,1,1,0,0,1,1,0,0,1,1,0,0,1,1,0,0,1,1,0]
[null,0,1,1,0,0,1,1,0,1,0,0,0,1,0,0,0,0,1,1,0,1,0,0,0,1,1,0,0,1,0,0,0,0,1,1,0,1,0,0,0,0,1,1,0,1,0,0,0,1,0,0,0,0,1,1,0,1,0,0,0,0,1,1,0,0,1,1,0,0,1,1,0,0,1,1,0,0,1,1,0,0,1,1,0,0,1,1,0]
[null,0,1,1,0,0,1,1,0,0,1,1,0,0,1,1,0,0,1,1,0,0,1,1,0,0,1,1,0,0,1,1,0,0,1,1,0,0,1,1,0,0,1,1,0,0,1,1,0,1,1,0,0,1,0,0,0,1,0,0,0,1,0,0,0,1,1,0,0,0,1,1,0,0,1,1,0,0,1,1,0,0,1,1,0,0,1,1,0]
[null,0,1,1,0,0,1,1,0,0,1,1,0,0,1,1,0,0,1,1,0,0,1,1,0,0,1,1,0,0,1,1,0,0,1,1,0,0,1,1,0,0,1,1,0,0,1,1,0,0,1,1,0,0,1,1,0,0,1,1,0,0,1,1,0,0,1,1,0,0,1,1,0,0,1,1,0,0,1,1,0,0,1,1,0,0,1,1,0]
[null,0,1,1,0,0,1,1,0,0,1,1,0,0,1,1,0,0,1,1,0,0,1,1,0,0,1,1,0,0,1,1,0,0,1,1,0,0,1,1,0,0,1,1,0,0,1,1,0,0,1,1,0,0,1,1,0,0,1,1,0,0,1,1,0,0,1,1,0,0,1,1,0,0,1,1,0,0,1,1,0,0,1,1,0,0,1,1,0]
[null,{"$f":"IF(B3=701,1,0)","v":0},{"$f":"IF(B29=1,C3,\"\")","v":""},null,null,{"$f":"IF(F3=701,1,0)","v":1},{"$f":"IF(F29=1,G3,\"\")","v":41},null,null,{"$f":"IF(J3=701,1,0)","v":1},{"$f":"IF(J29=1,K3,\"\")","v":44},null,null,{"$f":"IF(N3=701,1,0)","v":0},{"$f":"IF(N29=1,O3,\"\")","v":""},null,null,{"$f":"IF(R3=701,1,0)","v":1},{"$f":"IF(R29=1,S3,\"\")","v":44},null,null,{"$f":"IF(V3=701,1,0)","v":1},{"$f":"IF(V29=1,W3,\"\")","v":38},null,null,{"$f":"IF(Z3=701,1,0)","v":0},{"$f":"IF(Z29=1,AA3,\"\")","v":""},null,null,{"$f":"IF(AD3=701,1,0)","v":0},{"$f":"IF(AD29=1,AE3,\"\")","v":""},null,null,{"$f":"IF(AH3=701,1,0)","v":0},{"$f":"IF(AH29=1,AI3,\"\")","v":""},null,null,{"$f":"IF(AL3=701,1,0)","v":0},{"$f":"IF(AL29=1,AM3,\"\")","v":""},null,null,{"$f":"IF(AP3=701,1,0)","v":1},{"$f":"IF(AP29=1,AQ3,\"\")","v":33},null,null,{"$f":"IF(AT3=701,1,0)","v":1},{"$f":"IF(AT29=1,AU3,\"\")","v":32},null,null,{"$f":"IF(AX3=701,1,0)","v":1},{"$f":"IF(AX29=1,AY3,\"\")","v":40},null,null,{"$f":"IF(BB3=701,1,0)","v":0},{"$f":"IF(BB29=1,BC3,\"\")","v":""},null,null,{"$f":"IF(BF3=701,1,0)","v":0},{"$f":"IF(BF29=1,BG3,\"\")","v":""},null,null,{"$f":"IF(BJ3=701,1,0)","v":0},{"$f":"IF(BJ29=1,BK3,\"\")","v":""},null,null,{"$f":"IF(BN3=701,1,0)","v":0},{"$f":"IF(BN29=1,BO3,\"\")","v":""},null,null,{"$f":"IF(BR3=701,1,0)","v":0},{"$f":"IF(BR29=1,BS3,\"\")","v":""},null,null,{"$f":"IF(BV3=701,1,0)","v":0},{"$f":"IF(BV29=1,BW3,\"\")","v":""},null,null,{"$f":"IF(BZ3=701,1,0)","v":0},{"$f":"IF(BZ29=1,CA3,\"\")","v":""},null,null,{"$f":"IF(CD3=701,1,0)","v":0},{"$f":"IF(CD29=1,CE3,\"\")","v":""},null,null,{"$f":"IF(CH3=701,1,0)","v":0},{"$f":"IF(CH29=1,CI3,\"\")","v":""}]
[null,{"$f":"IF(B4=701,1,0)","v":0},"",null,null,{"$f":"IF(F4=701,1,0)","v":0},"",null,null,{"$f":"IF(J4=701,1,0)","v":0},"",null,null,{"$f":"IF(N4=701,1,0)","v":1},51,null,null,{"$f":"IF(R4=701,1,0)","v":1},48,null,null,{"$f":"IF(V4=701,1,0)","v":0},"",null,null,{"$f":"IF(Z4=701,1,0)","v":0},"",null,null,{"$f":"IF(AD4=701,1,0)","v":0},"",null,null,{"$f":"IF(AH4=701,1,0)","v":0},"",null,null,{"$f":"IF(AL4=701,1,0)","v":0},"",null,null,{"$f":"IF(AP4=701,1,0)","v":1},41,null,null,{"$f":"IF(AT4=701,1,0)","v":0},"",null,null,{"$f":"IF(AX4=701,1,0)","v":1},59,null,null,{"$f":"IF(BB4=701,1,0)","v":0},"",null,null,{"$f":"IF(BF4=701,1,0)","v":0},"",null,null,{"$f":"IF(BJ4=701,1,0)","v":0},"",null,null,{"$f":"IF(BN4=701,1,0)","v":1},58,null,null,{"$f":"IF(BR4=701,1,0)","v":0},"",null,null,{"$f":"IF(BV4=701,1,0)","v":0},"",null,null,{"$f":"IF(BZ4=701,1,0)","v":0},"",null,null,{"$f":"IF(CD4=701,1,0)","v":0},"",null,null,{"$f":"IF(CH4=701,1,0)","v":0},""]
[null,1,44,null,null,0,"",null,null,0,"",null,null,0,"",null,null,1,43,null,null,0,"",null,null,0,"",null,null,1,42,null,null,0,"",null,null,0,"",null,null,0,"",null,null,0,"",null,null,0,"",null,null,0,"",null,null,0,"",null,null,0,"",null,null,0,"",null,null,0,"",null,null,0,"",null,null,0,"",null,null,0,"",null,null,0,""]
[null,0,"",null,null,0,"",null,null,0,"",null,null,0,"",null,null,0,"",null,null,1,37,null,null,0,"",null,null,0,"",null,null,0,"",null,null,0,"",null,null,0,"",null,null,1,49,null,null,0,"",null,null,0,"",null,null,1,46,null,null,0,"",null,null,0,"",null,null,0,"",null,null,0,"",null,null,0,"",null,null,0,"",null,null,0,""]
[null,0,"",null,null,0,"",null,null,0,"",null,null,1,37,null,null,0,"",null,null,0,"",null,null,0,"",null,null,1,40,null,null,0,"",null,null,0,"",null,null,0,"",null,null,1,35,null,null,1,46,null,null,0,"",null,null,0,"",null,null,0,"",null,null,0,"",null,null,0,"",null,null,0,"",null,null,0,"",null,null,0,"",null,null,0,""]
[null,1,51,null,null,1,48,null,null,0,"",null,null,0,"",null,null,1,45,null,null,1,35,null,null,0,"",null,null,1,44,null,null,0,"",null,null,0,"",null,null,1,37,null,null,0,"",null,null,0,"",null,null,0,"",null,null,0,"",null,null,0,"",null,null,0,"",null,null,0,"",null,null,0,"",null,null,0,"",null,null,0,"",null,null,0,""]
[null,0,"",null,null,0,"",null,null,0,"",null,null,0,"",null,null,0,"",null,null,0,"",null,null,0,"",null,null,0,"",null,null,0,"",null,null,0,"",null,null,0,"",null,null,0,"",null,null,0,"",null,null,0,"",null,null,0,"",null,null,0,"",null,null,0,"",null,null,0,"",null,null,0,"",null,null,0,"",null,null,0,"",null,null,0,""]
[null,0,"",null,null,0,"",null,null,0,"",null,null,0,"",null,null,0,"",null,null,0,"",null,null,0,"",null,null,0,"",null,null,0,"",null,null,0,"",null,null,0,"",null,null,0,"",null,null,0,"",null,null,0,"",null,null,0,"",null,null,0,"",null,null,0,"",null,null,0,"",null,null,0,"",null,null,0,"",null,null,0,"",null,null,0,""]
[null,0,"",null,null,0,"",null,null,0,"",null,null,1,61,null,null,0,"",null,null,0,"",null,null,0,"",null,null,0,"",null,null,0,"",null,null,0,"",null,null,0,"",null,null,0,"",null,null,0,"",null,null,0,"",null,null,1,50,null,null,0,"",null,null,0,"",null,null,0,"",null,null,0,"",null,null,0,"",null,null,0,"",null,null,0,""]
[null,0,"",null,null,0,"",null,null,0,"",null,null,0,"",null,null,0,"",null,null,0,"",null,null,0,"",null,null,0,"",null,null,0,"",null,null,0,"",null,null,0,"",null,null,0,"",null,null,0,"",null,null,0,"",null,null,1,48,null,null,0,"",null,null,0,"",null,null,0,"",null,null,0,"",null,null,0,"",null,null,0,"",null,null,0,""]
[null,0,"",null,null,0,"",null,null,0,"",null,null,0,"",null,null,0,"",null,null,0,"",null,null,0,"",null,null,0,"",null,null,0,"",null,null,0,"",null,null,0,"",null,null,0,"",null,null,0,"",null,null,0,"",null,null,0,"",null,null,0,"",null,null,0,"",null,null,0,"",null,null,0,"",null,null,0,"",null,null,0,"",null,null,0,""]
[null,0,"",null,null,0,"",null,null,0,"",null,null,0,"",null,null,0,"",null,null,0,"",null,null,0,"",null,null,0,"",null,null,0,"",null,null,0,"",null,null,0,"",null,null,0,"",null,null,0,"",null,null,0,"",null,null,0,"",null,null,0,"",null,null,0,"",null,null,0,"",null,null,0,"",null,null,0,"",null,null,0,"",null,null,0,""]
["Singles Won",{"$f":"SUM(B29:B40)","v":2},null,null,null,{"$f":"SUM(F29:F40)","v":2},null,null,null,{"$f":"SUM(J29:J40)","v":1},null,null,null,{"$f":"SUM(N29:N40)","v":3},null,null,null,{"$f":"SUM(R29:R40)","v":4},null,null,null,{"$f":"SUM(V29:V40)","v":3},null,null,null,{"$f":"SUM(Z29:Z40)","v":0},null,null,null,{"$f":"SUM(AD29:AD40)","v":3},null,null,null,{"$f":"SUM(AH29:AH40)","v":0},null,null,null,{"$f":"SUM(AL29:AL40)","v":0},null,null,null,{"$f":"SUM(AP29:AP40)","v":3},null,null,null,{"$f":"SUM(AT29:AT40)","v":3},null,null,null,{"$f":"SUM(AX29:AX40)","v":3},null,null,null,{"$f":"SUM(BB29:BB40)","v":0},null,null,null,{"$f":"SUM(BF29:BF40)","v":3},null,null,null,{"$f":"SUM(BJ29:BJ40)","v":0},null,null,null,{"$f":"SUM(BN29:BN40)","v":1},null,null,null,{"$f":"SUM(BR29:BR40)","v":0},null,null,null,{"$f":"SUM(BV29:BV40)","v":0},null,null,null,{"$f":"SUM(BZ29:BZ40)","v":0},null,null,null,{"$f":"SUM(CD29:CD40)","v":0},null,null,null,{"$f":"SUM(CH29:CH40)","v":0}]
["Pairs Games Won",0,null,null,null,0,null,null,null,2,null,null,null,2,null,null,null,0,null,null,null,2,null,null,null,0,null,null,null,2,null,null,null,null,null,null,null,0,null,null,null,1,null,null,null,1,null,null,null,3,null,null,null,0,null,null,null,3,null,null,null,1,null,null,null,1]

{"sheet":"Team 11 - Unused","index":18,"n_rows":42,"n_cols":101,"rows_kept":42,"cut":false,"hidden":true,"merged":[[0,1,0,4],[0,5,0,8],[0,9,0,12],[0,13,0,16],[0,17,0,20],[0,21,0,24],[0,49,0,52],[0,25,0,28],[0,29,0,32],[0,53,0,56],[0,57,0,60],[0,33,0,36],[0,37,0,40],[0,41,0,44],[0,45,0,48],[0,85,0,88],[0,69,0,72],[0,61,0,64],[0,65,0,68],[0,73,0,76],[0,77,0,80],[0,81,0,84]]}
[null,"WEEK 1",null,null,null,"WEEK 2",null,null,null,"WEEK 3",null,null,null,"WEEK 4",null,null,null,"WEEK 5",null,null,null,"WEEK 6",null,null,null,"WEEK 7",null,null,null,"WEEK 8",null,null,null,"WEEK 9",null,null,null,"WEEK 10",null,null,null,"WEEK 11",null,null,null,"WEEK 12",null,null,null,"WEEK 13",null,null,null,"WEEK 14",null,null,null,"WEEK 15",null,null,null,"WEEK 16",null,null,null,"WEEK 17",null,null,null,"WEEK 18",null,null,null,"WEEK 19",null,null,null,"WEEK 20",null,null,null,"WEEK 21",null,null,null,"WEEK 22"]
[null,"PS","DT","100 +","180's","PS","DT","100 +","180's","PS","DT","100 +","180's","PS","DT","100 +","180's","PS","DT","100 +","180's","PS","DT","100 +","180's","PS","DT","100 +","180's","PS","DT","100 +","180's","PS","DT","100 +","180's","PS","DT","100 +","180's","PS","DT","100 +","180's","PS","DT","100 +","180's","PS","DT","100 +","180's","PS","DT","100 +","180's","PS","DT","100 +","180's","PS","DT","100 +","180's","PS","DT","100 +","180's","PS","DT","100 +","180's","PS","DT","100 +","180's","PS","DT","100 +","180's","PS","DT","100 +","180's","PS","DT","100 +","180's","GP","GW","TP","TD","AVG","AVG D/G","T100+","AVG 100+/G","T180's","T<30","Least Darts","Most Darts"]
[null,null,null,null,null,null,null,null,null,null,null,null,null,null,null,null,null,null,null,null,null,null,null,null,null,null,null,null,null,null,null,null,null,null,null,null,null,null,null,null,null,null,null,null,null,null,null,null,null,null,null,null,null,null,null,null,null,null,null,null,null,null,null,null,null,null,null,null,null,null,null,null,null,null,null,null,null,null,null,null,null,null,null,null,null,null,null,null,null,{"$f":"SUM(B17+F17+J17+N17+R17+V17+Z17+AD17+AH17+AL17+AP17+AT17+AX17+BB17+BF17+BJ17+BN17+BR17+BV17+BZ17+CD17+CH17)","v":0},{"$f":"SUM(B29+F29+J29+N29+R29+V29+Z29+AD29+AH29+AL29+AP29+AT29+AX29+BB29+BF29+BJ29+BN29+BR29+BV29+BZ29+CD29+CH29)","v":0},{"$f":"SUM(B3+F3+J3+N3+R3+V3+Z3+AD3+AH3+AL3+AP3+AT3+AX3+BB3+BF3+BJ3+BN3+BR3+BV3+BZ3+CD3+CH3)","v":0},{"$f":"SUM(C3+G3+K3+O3+S3+W3+AA3+AE3+AI3+AM3+AQ3+AU3+AY3+BC3+BG3+BK3+BO3+BS3+BW3+CA3+CE3+CI3)","v":0},{"$f":"IF(CN3=0,0,(SUM(CN3/CO3)*3))","v":0},{"$f":"IF(CL3=0,0,SUM(CO3/CL3))","v":0},{"$f":"SUM(D3+H3+L3+P3+T3+X3+AB3+AF3+AJ3+AN3+AR3+AV3+AZ3+BD3+BH3+BL3+BP3+BT3+BX3+CB3+CF3+CJ3)","v":0},{"$f":"IF(CL3=0,0,(SUM(CR3/CL3)))","v":0},{"$f":"SUM(E3+I3+M3+Q3+U3+Y3+AC3+AG3+AK3+AO3+AS3+AW3+BA3+BE3+BI3+BM3+BQ3+BU3+BY3+CC3+CG3+CK3)","v":0},{"$f":"SUM(E17+I17+M17+Q17+U17+Y17+AC17+AG17+AK17+AO17+AS17+AW17+BA17+BE17+BI17+BM17+BQ17+BU17+BY17+CC17+CG17+CK17)","v":0},{"$f":"MIN(C29, G29, K29,O29,S29,W29,AA29,AE29,AI29,AM29,AQ29,AU29,AY29,BC29,BG29,BK29,BO29,BS29,BW29,CA29,CE29,CI29)","v":0},{"$f":"MAX($C29,$G29,$K29,$O29,$S29,$W29,$AA29,$AE29,$AI29,$AM29,$AQ29,$AU29,$AY29,$BC29,$BG29,$BK29,$BO29,$BS29,$BW29,$CA29,$CE29,$CI29)","v":0}]
[null,null,null,null,null,null,null,null,null,null,null,null,null,null,null,null,null,null,null,null,null,null,null,null,null,null,null,null,null,null,null,null,null,null,null,null,null,null,null,null,null,null,null,null,null,null,null,null,null,null,null,null,null,null,null,null,null,null,null,null,null,null,null,null,null,null,null,null,null,null,null,null,null,null,null,null,null,null,null,null,null,null,null,null,null,null,null,null,null,{"$f":"SUM(B18+F18+J18+N18+R18+V18+Z18+AD18+AH18+AL18+AP18+AT18+AX18+BB18+BF18+BJ18+BN18+BR18+BV18+BZ18+CD18+CH18)","v":0},{"$f":"SUM(B30+F30+J30+N30+R30+V30+Z30+AD30+AH30+AL30+AP30+AT30+AX30+BB30+BF30+BJ30+BN30+BR30+BV30+BZ30+CD30+CH30)","v":0},{"$f":"SUM(B4+F4+J4+N4+R4+V4+Z4+AD4+AH4+AL4+AP4+AT4+AX4+BB4+BF4+BJ4+BN4+BR4+BV4+BZ4+CD4+CH4)","v":0},{"$f":"SUM(C4+G4+K4+O4+S4+W4+AA4+AE4+AI4+AM4+AQ4+AU4+AY4+BC4+BG4+BK4+BO4+BS4+BW4+CA4+CE4+CI4)","v":0},{"$f":"IF(CN4=0,0,(SUM(CN4/CO4)*3))","v":0},0,{"$f":"SUM(D4+H4+L4+P4+T4+X4+AB4+AF4+AJ4+AN4+AR4+AV4+AZ4+BD4+BH4+BL4+BP4+BT4+BX4+CB4+CF4+CJ4)","v":0},{"$f":"IF(CL4=0,0,(SUM(CR4/CL4)))","v":0},{"$f":"SUM(E4+I4+M4+Q4+U4+Y4+AC4+AG4+AK4+AO4+AS4+AW4+BA4+BE4+BI4+BM4+BQ4+BU4+BY4+CC4+CG4+CK4)","v":0},{"$f":"SUM(E18+I18+M18+Q18+U18+Y18+AC18+AG18+AK18+AO18+AS18+AW18+BA18+BE18+BI18+BM18+BQ18+BU18+BY18+CC18+CG18+CK18)","v":0},0,0]
[null,null,null,null,null,null,null,null,null,null,null,null,null,null,null,null,null,null,null,null,null,null,null,null,null,null,null,null,null,null,null,null,null,null,null,null,null,null,null,null,null,null,null,null,null,null,null,null,null,null,null,null,null,null,null,null,null,null,null,null,null,null,null,null,null,null,null,null,null,null,null,null,null,null,null,null,null,null,null,null,null,null,null,null,null,null,null,null,null,0,0,0,0,0,0,0,0,0,0,0,0]
[null,null,null,null,null,null,null,null,null,null,null,null,null,null,null,null,null,null,null,null,null,null,null,null,null,null,null,null,null,null,null,null,null,null,null,null,null,null,null,null,null,null,null,null,null,null,null,null,null,null,null,null,null,null,null,null,null,null,null,null,null,null,null,null,null,null,null,null,null,null,null,null,null,null,null,null,null,null,null,null,null,null,null,null,null,null,null,null,null,0,0,0,0,0,0,0,0,0,0,0,0]
[null,null,null,null,null,null,null,null,null,null,null,null,null,null,null,null,null,null,null,null,null,null,null,null,null,null,null,null,null,null,null,null,null,null,null,null,null,null,null,null,null,null,null,null,null,null,null,null,null,null,null,null,null,null,null,null,null,null,null,null,null,null,null,null,null,null,null,null,null,null,null,null,null,null,null,null,null,null,null,null,null,null,null,null,null,null,null,null,null,0,0,0,0,0,0,0,0,0,0,0,0]
[null,null,null,null,null,null,null,null,null,null,null,null,null,null,null,null,null,null,null,null,null,null,null,null,null,null,null,null,null,null,null,null,null,null,null,null,null,null,null,null,null,null,null,null,null,null,null,null,null,null,null,null,null,null,null,null,null,null,null,null,null,null,null,null,null,null,null,null,null,null,null,null,null,null,null,null,null,null,null,null,null,null,null,null,null,null,null,null,null,0,0,0,0,0,0,0,0,0,0,0,0]
[null,null,null,null,null,null,null,null,null,null,null,null,null,null,null,null,null,null,null,null,null,null,null,null,null,null,null,null,null,null,null,null,null,null,null,null,null,null,null,null,null,null,null,null,null,null,null,null,null,null,null,null,null,null,null,null,null,null,null,null,null,null,null,null,null,null,null,null,null,null,null,null,null,null,null,null,null,null,null,null,null,null,null,null,null,null,null,null,null,0,0,0,0,0,0,0,0,0,0,0,0]
[null,null,null,null,null,null,null,null,null,null,null,null,null,null,null,null,null,null,null,null,null,null,null,null,null,null,null,null,null,null,null,null,null,null,null,null,null,null,null,null,null,null,null,null,null,null,null,null,null,null,null,null,null,null,null,null,null,null,null,null,null,null,null,null,null,null,null,null,null,null,null,null,null,null,null,null,null,null,null,null,null,null,null,null,null,null,null,null,null,0,0,0,0,0,0,0,0,0,0,0,0]
[null,null,null,null,null,null,null,null,null,null,null,null,null,null,null,null,null,null,null,null,null,null,null,null,null,null,null,null,null,null,null,null,null,null,null,null,null,null,null,null,null,null,null,null,null,null,null,null,null,null,null,null,null,null,null,null,null,null,null,null,null,null,null,null,null,null,null,null,null,null,null,null,null,null,null,null,null,null,null,null,null,null,null,null,null,null,null,null,null,0,0,0,0,0,0,0,0,0,0,0,0]
[null,null,null,null,null,null,null,null,null,null,null,null,null,null,null,null,null,null,null,null,null,null,null,null,null,null,null,null,null,null,null,null,null,null,null,null,null,null,null,null,null,null,null,null,null,null,null,null,null,null,null,null,null,null,null,null,null,null,null,null,null,null,null,null,null,null,null,null,null,null,null,null,null,null,null,null,null,null,null,null,null,null,null,null,null,null,null,null,null,0,0,0,0,0,0,0,0,0,0,0,0]
[null,null,null,null,null,null,null,null,null,null,null,null,null,null,null,null,null,null,null,null,null,null,null,null,null,null,null,null,null,null,null,null,null,null,null,null,null,null,null,null,null,null,null,null,null,null,null,null,null,null,null,null,null,null,null,null,null,null,null,null,null,null,null,null,null,null,null,null,null,null,null,null,null,null,null,null,null,null,null,null,null,null,null,null,null,null,null,null,null,0,0,0,0,0,0,0,0,0,0,0,0]
[null,null,null,null,null,null,null,null,null,null,null,null,null,null,null,null,null,null,null,null,null,null,null,null,null,null,null,null,null,null,null,null,null,null,null,null,null,null,null,null,null,null,null,null,null,null,null,null,null,null,null,null,null,null,null,null,null,null,null,null,null,null,null,null,null,null,null,null,null,null,null,null,null,null,null,null,null,null,null,null,null,null,null,null,null,null,null,null,null,0,0,0,0,{"$f":"IF(CN14=0,0,(SUM(CN14/CO14)*3))","v":0},{"$f":"IF(CL14=0,0,SUM(CO14/CL14))","v":0},0,0,0,0,0,0]
[]
[]
[null,{"$f":"IF(B3<>\"\",1,0)","v":0},{"$f":"IF(C3<=30,1,0)","v":1},{"$f":"IF(C3=0,1,0)","v":1},{"$f":"IF(B29=1,(SUM(C17-D17)),0)","v":0},{"$f":"IF(F3<>\"\",1,0)","v":0},{"$f":"IF(G3<=30,1,0)","v":1},{"$f":"IF(G3=0,1,0)","v":1},{"$f":"IF(F29=1,(SUM(G17-H17)),0)","v":0},{"$f":"IF(J3<>\"\",1,0)","v":0},{"$f":"IF(K3<=30,1,0)","v":1},{"$f":"IF(K3=0,1,0)","v":1},{"$f":"IF(J29=1,(SUM(K17-L17)),0)","v":0},{"$f":"IF(N3<>\"\",1,0)","v":0},{"$f":"IF(O3<=30,1,0)","v":1},{"$f":"IF(O3=0,1,0)","v":1},{"$f":"IF(N29=1,(SUM(O17-P17)),0)","v":0},{"$f":"IF(R3<>\"\",1,0)","v":0},{"$f":"IF(S3<=30,1,0)","v":1},{"$f":"IF(S3=0,1,0)","v":1},{"$f":"IF(R29=1,(SUM(S17-T17)),0)","v":0},{"$f":"IF(V3<>\"\",1,0)","v":0},{"$f":"IF(W3<=30,1,0)","v":1},{"$f":"IF(W3=0,1,0)","v":1},{"$f":"IF(V29=1,(SUM(W17-X17)),0)","v":0},{"$f":"IF(Z3<>\"\",1,0)","v":0},{"$f":"IF(AA3<=30,1,0)","v":1},{"$f":"IF(AA3=0,1,0)","v":1},{"$f":"IF(Z29=1,(SUM(AA17-AB17)),0)","v":0},{"$f":"IF(AD3<>\"\",1,0)","v":0},{"$f":"IF(AE3<=30,1,0)","v":1},{"$f":"IF(AE3=0,1,0)","v":1},{"$f":"IF(AD29=1,(SUM(AE17-AF17)),0)","v":0},{"$f":"IF(AH3<>\"\",1,0)","v":0},{"$f":"IF(AI3<=30,1,0)","v":1},{"$f":"IF(AI3=0,1,0)","v":1},{"$f":"IF(AH29=1,(SUM(AI17-AJ17)),0)","v":0},{"$f":"IF(AL3<>\"\",1,0)","v":0},{"$f":"IF(AM3<=30,1,0)","v":1},{"$f":"IF(AM3=0,1,0)","v":1},{"$f":"IF(AL29=1,(SUM(AM17-AN17)),0)","v":0},{"$f":"IF(AP3<>\"\",1,0)","v":0},{"$f":"IF(AQ3<=30,1,0)","v":1},{"$f":"IF(AQ3=0,1,0)","v":1},{"$f":"IF(AP29=1,(SUM(AQ17-AR17)),0)","v":0},{"$f":"IF(AT3<>\"\",1,0)","v":0},{"$f":"IF(AU3<=30,1,0)","v":1},{"$f":"IF(AU3=0,1,0)","v":1},{"$f":"IF(AT29=1,(SUM(AU17-AV17)),0)","v":0},{"$f":"IF(AX3<>\"\",1,0)","v":0},{"$f":"IF(AY3<=30,1,0)","v":1},{"$f":"IF(AY3=0,1,0)","v":1},{"$f":"IF(AX29=1,(SUM(AY17-AZ17)),0)","v":0},{"$f":"IF(BB3<>\"\",1,0)","v":0},{"$f":"IF(BC3<=30,1,0)","v":1},{"$f":"IF(BC3=0,1,0)","v":1},{"$f":"IF(BB29=1,(SUM(BC17-BD17)),0)","v":0},{"$f":"IF(BF3<>\"\",1,0)","v":0},{"$f":"IF(BG3<=30,1,0)","v":1},{"$f":"IF(BG3=0,1,0)","v":1},{"$f":"IF(BF29=1,(SUM(BG17-BH17)),0)","v":0},{"$f":"IF(BJ3<>\"\",1,0)","v":0},{"$f":"IF(BK3<=30,1,0)","v":1},{"$f":"IF(BK3=0,1,0)","v":1},{"$f":"IF(BJ29=1,(SUM(BK17-BL17)),0)","v":0},{"$f":"IF(BN3<>\"\",1,0)","v":0},{"$f":"IF(BO3<=30,1,0)","v":1},{"$f":"IF(BO3=0,1,0)","v":1},{"$f":"IF(BN29=1,(SUM(BO17-BP17)),0)","v":0},{"$f":"IF(BR3<>\"\",1,0)","v":0},{"$f":"IF(BS3<=30,1,0)","v":1},{"$f":"IF(BS3=0,1,0)","v":1},{"$f":"IF(BR29=1,(SUM(BS17-BT17)),0)","v":0},{"$f":"IF(BV3<>\"\",1,0)","v":0},{"$f":"IF(BW3<=30,1,0)","v":1},{"$f":"IF(BW3=0,1,0)","v":1},{"$f":"IF(BV29=1,(SUM(BW17-BX17)),0)","v":0},{"$f":"IF(BZ3<>\"\",1,0)","v":0},{"$f":"IF(CA3<=30,1,0)","v":1},{"$f":"IF(CA3=0,1,0)","v":1},{"$f":"IF(BZ29=1,(SUM(CA17-CB17)),0)","v":0},{"$f":"IF(CD3<>\"\",1,0)","v":0},{"$f":"IF(CE3<=30,1,0)","v":1},{"$f":"IF(CE3=0,1,0)","v":1},{"$f":"IF(CD29=1,(SUM(CE17-CF17)),0)","v":0},{"$f":"IF(CH3<>\"\",1,0)","v":0},{"$f":"IF(CI3<=30,1,0)","v":1},{"$f":"IF(CI3=0,1,0)","v":1},{"$f":"IF(CH29=1,(SUM(CI17-CJ17)),0)","v":0}]
[null,0,{"$f":"IF(C4<=30,1,0)","v":1},{"$f":"IF(C4=0,1,0)","v":1},{"$f":"IF(B30=1,(SUM(C18-D18)),0)","v":0},0,{"$f":"IF(G4<=30,1,0)","v":1},{"$f":"IF(G4=0,1,0)","v":1},{"$f":"IF(F30=1,(SUM(G18-H18)),0)","v":0},0,{"$f":"IF(K4<=30,1,0)","v":1},{"$f":"IF(K4=0,1,0)","v":1},{"$f":"IF(J30=1,(SUM(K18-L18)),0)","v":0},0,{"$f":"IF(O4<=30,1,0)","v":1},{"$f":"IF(O4=0,1,0)","v":1},{"$f":"IF(N30=1,(SUM(O18-P18)),0)","v":0},0,{"$f":"IF(S4<=30,1,0)","v":1},{"$f":"IF(S4=0,1,0)","v":1},{"$f":"IF(R30=1,(SUM(S18-T18)),0)","v":0},0,{"$f":"IF(W4<=30,1,0)","v":1},{"$f":"IF(W4=0,1,0)","v":1},{"$f":"IF(V30=1,(SUM(W18-X18)),0)","v":0},0,{"$f":"IF(AA4<=30,1,0)","v":1},{"$f":"IF(AA4=0,1,0)","v":1},{"$f":"IF(Z30=1,(SUM(AA18-AB18)),0)","v":0},0,{"$f":"IF(AE4<=30,1,0)","v":1},{"$f":"IF(AE4=0,1,0)","v":1},{"$f":"IF(AD30=1,(SUM(AE18-AF18)),0)","v":0},0,{"$f":"IF(AI4<=30,1,0)","v":1},{"$f":"IF(AI4=0,1,0)","v":1},{"$f":"IF(AH30=1,(SUM(AI18-AJ18)),0)","v":0},0,{"$f":"IF(AM4<=30,1,0)","v":1},{"$f":"IF(AM4=0,1,0)","v":1},{"$f":"IF(AL30=1,(SUM(AM18-AN18)),0)","v":0},0,{"$f":"IF(AQ4<=30,1,0)","v":1},{"$f":"IF(AQ4=0,1,0)","v":1},{"$f":"IF(AP30=1,(SUM(AQ18-AR18)),0)","v":0},0,{"$f":"IF(AU4<=30,1,0)","v":1},{"$f":"IF(AU4=0,1,0)","v":1},{"$f":"IF(AT30=1,(SUM(AU18-AV18)),0)","v":0},0,{"$f":"IF(AY4<=30,1,0)","v":1},{"$f":"IF(AY4=0,1,0)","v":1},{"$f":"IF(AX30=1,(SUM(AY18-AZ18)),0)","v":0},0,{"$f":"IF(BC4<=30,1,0)","v":1},{"$f":"IF(BC4=0,1,0)","v":1},{"$f":"IF(BB30=1,(SUM(BC18-BD18)),0)","v":0},0,{"$f":"IF(BG4<=30,1,0)","v":1},{"$f":"IF(BG4=0,1,0)","v":1},{"$f":"IF(BF30=1,(SUM(BG18-BH18)),0)","v":0},0,{"$f":"IF(BK4<=30,1,0)","v":1},{"$f":"IF(BK4=0,1,0)","v":1},{"$f":"IF(BJ30=1,(SUM(BK18-BL18)),0)","v":0},0,{"$f":"IF(BO4<=30,1,0)","v":1},{"$f":"IF(BO4=0,1,0)","v":1},{"$f":"IF(BN30=1,(SUM(BO18-BP18)),0)","v":0},0,{"$f":"IF(BS4<=30,1,0)","v":1},{"$f":"IF(BS4=0,1,0)","v":1},{"$f":"IF(BR30=1,(SUM(BS18-BT18)),0)","v":0},0,{"$f":"IF(BW4<=30,1,0)","v":1},{"$f":"IF(BW4=0,1,0)","v":1},{"$f":"IF(BV30=1,(SUM(BW18-BX18)),0)","v":0},0,{"$f":"IF(CA4<=30,1,0)","v":1},{"$f":"IF(CA4=0,1,0)","v":1},{"$f":"IF(BZ30=1,(SUM(CA18-CB18)),0)","v":0},0,{"$f":"IF(CE4<=30,1,0)","v":1},{"$f":"IF(CE4=0,1,0)","v":1},{"$f":"IF(CD30=1,(SUM(CE18-CF18)),0)","v":0},0,{"$f":"IF(CI4<=30,1,0)","v":1},{"$f":"IF(CI4=0,1,0)","v":1},{"$f":"IF(CH30=1,(SUM(CI18-CJ18)),0)","v":0}]
[null,0,1,1,0,0,1,1,0,0,1,1,0,0,1,1,0,0,1,1,0,0,1,1,0,0,1,1,0,0,1,1,0,0,1,1,0,0,1,1,0,0,1,1,0,0,1,1,0,0,1,1,0,0,1,1,0,0,1,1,0,0,1,1,0,0,1,1,0,0,1,1,0,0,1,1,0,0,1,1,0,0,1,1,0,0,1,1,0]
[null,0,1,1,0,0,1,1,0,0,1,1,0,0,1,1,0,0,1,1,0,0,1,1,0,0,1,1,0,0,1,1,0,0,1,1,0,0,1,1,0,0,1,1,0,0,1,1,0,0,1,1,0,0,1,1,0,0,1,1,0,0,1,1,0,0,1,1,0,0,1,1,0,0,1,1,0,0,1,1,0,0,1,1,0,0,1,1,0]
[null,0,1,1,0,0,1,1,0,0,1,1,0,0,1,1,0,0,1,1,0,0,1,1,0,0,1,1,0,0,1,1,0,0,1,1,0,0,1,1,0,0,1,1,0,0,1,1,0,0,1,1,0,0,1,1,0,0,1,1,0,0,1,1,0,0,1,1,0,0,1,1,0,0,1,1,0,0,1,1,0,0,1,1,0,0,1,1,0]
[null,0,1,1,0,0,1,1,0,0,1,1,0,0,1,1,0,0,1,1,0,0,1,1,0,0,1,1,0,0,1,1,0,0,1,1,0,0,1,1,0,0,1,1,0,0,1,1,0,0,1,1,0,0,1,1,0,0,1,1,0,0,1,1,0,0,1,1,0,0,1,1,0,0,1,1,0,0,1,1,0,0,1,1,0,0,1,1,0]
[null,0,1,1,0,0,1,1,0,0,1,1,0,0,1,1,0,0,1,1,0,0,1,1,0,0,1,1,0,0,1,1,0,0,1,1,0,0,1,1,0,0,1,1,0,0,1,1,0,0,1,1,0,0,1,1,0,0,1,1,0,0,1,1,0,0,1,1,0,0,1,1,0,0,1,1,0,0,1,1,0,0,1,1,0,0,1,1,0]
[null,0,1,1,0,0,1,1,0,0,1,1,0,0,1,1,0,0,1,1,0,0,1,1,0,0,1,1,0,0,1,1,0,0,1,1,0,0,1,1,0,0,1,1,0,0,1,1,0,0,1,1,0,0,1,1,0,0,1,1,0,0,1,1,0,0,1,1,0,0,1,1,0,0,1,1,0,0,1,1,0,0,1,1,0,0,1,1,0]
[null,0,1,1,0,0,1,1,0,0,1,1,0,0,1,1,0,0,1,1,0,0,1,1,0,0,1,1,0,0,1,1,0,0,1,1,0,0,1,1,0,0,1,1,0,0,1,1,0,0,1,1,0,0,1,1,0,0,1,1,0,0,1,1,0,0,1,1,0,0,1,1,0,0,1,1,0,0,1,1,0,0,1,1,0,0,1,1,0]
[null,0,1,1,0,0,1,1,0,0,1,1,0,0,1,1,0,0,1,1,0,0,1,1,0,0,1,1,0,0,1,1,0,0,1,1,0,0,1,1,0,0,1,1,0,0,1,1,0,0,1,1,0,0,1,1,0,0,1,1,0,0,1,1,0,0,1,1,0,0,1,1,0,0,1,1,0,0,1,1,0,0,1,1,0,0,1,1,0]
[null,0,1,1,0,0,1,1,0,0,1,1,0,0,1,1,0,0,1,1,0,0,1,1,0,0,1,1,0,0,1,1,0,0,1,1,0,0,1,1,0,0,1,1,0,0,1,1,0,0,1,1,0,0,1,1,0,0,1,1,0,0,1,1,0,0,1,1,0,0,1,1,0,0,1,1,0,0,1,1,0,0,1,1,0,0,1,1,0]
[null,0,1,1,0,0,1,1,0,0,1,1,0,0,1,1,0,0,1,1,0,0,1,1,0,0,1,1,0,0,1,1,0,0,1,1,0,0,1,1,0,0,1,1,0,0,1,1,0,0,1,1,0,0,1,1,0,0,1,1,0,0,1,1,0,0,1,1,0,0,1,1,0,0,1,1,0,0,1,1,0,0,1,1,0,0,1,1,0]
[null,{"$f":"IF(B3=701,1,0)","v":0},{"$f":"IF(B29=1,C3,\"\")","v":""},null,null,{"$f":"IF(F3=701,1,0)","v":0},{"$f":"IF(F29=1,G3,\"\")","v":""},null,null,{"$f":"IF(J3=701,1,0)","v":0},{"$f":"IF(J29=1,K3,\"\")","v":""},null,null,{"$f":"IF(N3=701,1,0)","v":0},{"$f":"IF(N29=1,O3,\"\")","v":""},null,null,{"$f":"IF(R3=701,1,0)","v":0},{"$f":"IF(R29=1,S3,\"\")","v":""},null,null,{"$f":"IF(V3=701,1,0)","v":0},{"$f":"IF(V29=1,W3,\"\")","v":""},null,null,{"$f":"IF(Z3=701,1,0)","v":0},{"$f":"IF(Z29=1,AA3,\"\")","v":""},null,null,{"$f":"IF(AD3=701,1,0)","v":0},{"$f":"IF(AD29=1,AE3,\"\")","v":""},null,null,{"$f":"IF(AH3=701,1,0)","v":0},{"$f":"IF(AH29=1,AI3,\"\")","v":""},null,null,{"$f":"IF(AL3=701,1,0)","v":0},{"$f":"IF(AL29=1,AM3,\"\")","v":""},null,null,{"$f":"IF(AP3=701,1,0)","v":0},{"$f":"IF(AP29=1,AQ3,\"\")","v":""},null,null,{"$f":"IF(AT3=701,1,0)","v":0},{"$f":"IF(AT29=1,AU3,\"\")","v":""},null,null,{"$f":"IF(AX3=701,1,0)","v":0},{"$f":"IF(AX29=1,AY3,\"\")","v":""},null,null,{"$f":"IF(BB3=701,1,0)","v":0},{"$f":"IF(BB29=1,BC3,\"\")","v":""},null,null,{"$f":"IF(BF3=701,1,0)","v":0},{"$f":"IF(BF29=1,BG3,\"\")","v":""},null,null,{"$f":"IF(BJ3=701,1,0)","v":0},{"$f":"IF(BJ29=1,BK3,\"\")","v":""},null,null,{"$f":"IF(BN3=701,1,0)","v":0},{"$f":"IF(BN29=1,BO3,\"\")","v":""},null,null,{"$f":"IF(BR3=701,1,0)","v":0},{"$f":"IF(BR29=1,BS3,\"\")","v":""},null,null,{"$f":"IF(BV3=701,1,0)","v":0},{"$f":"IF(BV29=1,BW3,\"\")","v":""},null,null,{"$f":"IF(BZ3=701,1,0)","v":0},{"$f":"IF(BZ29=1,CA3,\"\")","v":""},null,null,{"$f":"IF(CD3=701,1,0)","v":0},{"$f":"IF(CD29=1,CE3,\"\")","v":""},null,null,{"$f":"IF(CH3=701,1,0)","v":0},{"$f":"IF(CH29=1,CI3,\"\")","v":""}]
[null,{"$f":"IF(B4=701,1,0)","v":0},{"$f":"IF(B30=1,C4,\"\")","v":""},null,null,{"$f":"IF(F4=701,1,0)","v":0},{"$f":"IF(F30=1,G4,\"\")","v":""},null,null,{"$f":"IF(J4=701,1,0)","v":0},{"$f":"IF(J30=1,K4,\"\")","v":""},null,null,{"$f":"IF(N4=701,1,0)","v":0},{"$f":"IF(N30=1,O4,\"\")","v":""},null,null,{"$f":"IF(R4=701,1,0)","v":0},{"$f":"IF(R30=1,S4,\"\")","v":""},null,null,{"$f":"IF(V4=701,1,0)","v":0},{"$f":"IF(V30=1,W4,\"\")","v":""},null,null,{"$f":"IF(Z4=701,1,0)","v":0},{"$f":"IF(Z30=1,AA4,\"\")","v":""},null,null,{"$f":"IF(AD4=701,1,0)","v":0},{"$f":"IF(AD30=1,AE4,\"\")","v":""},null,null,{"$f":"IF(AH4=701,1,0)","v":0},{"$f":"IF(AH30=1,AI4,\"\")","v":""},null,null,{"$f":"IF(AL4=701,1,0)","v":0},{"$f":"IF(AL30=1,AM4,\"\")","v":""},null,null,{"$f":"IF(AP4=701,1,0)","v":0},{"$f":"IF(AP30=1,AQ4,\"\")","v":""},null,null,{"$f":"IF(AT4=701,1,0)","v":0},{"$f":"IF(AT30=1,AU4,\"\")","v":""},null,null,{"$f":"IF(AX4=701,1,0)","v":0},{"$f":"IF(AX30=1,AY4,\"\")","v":""},null,null,{"$f":"IF(BB4=701,1,0)","v":0},{"$f":"IF(BB30=1,BC4,\"\")","v":""},null,null,{"$f":"IF(BF4=701,1,0)","v":0},{"$f":"IF(BF30=1,BG4,\"\")","v":""},null,null,{"$f":"IF(BJ4=701,1,0)","v":0},{"$f":"IF(BJ30=1,BK4,\"\")","v":""},null,null,{"$f":"IF(BN4=701,1,0)","v":0},{"$f":"IF(BN30=1,BO4,\"\")","v":""},null,null,{"$f":"IF(BR4=701,1,0)","v":0},{"$f":"IF(BR30=1,BS4,\"\")","v":""},null,null,{"$f":"IF(BV4=701,1,0)","v":0},{"$f":"IF(BV30=1,BW4,\"\")","v":""},null,null,{"$f":"IF(BZ4=701,1,0)","v":0},{"$f":"IF(BZ30=1,CA4,\"\")","v":""},null,null,{"$f":"IF(CD4=701,1,0)","v":0},{"$f":"IF(CD30=1,CE4,\"\")","v":""},null,null,{"$f":"IF(CH4=701,1,0)","v":0},{"$f":"IF(CH30=1,CI4,\"\")","v":""}]
[null,0,"",null,null,0,"",null,null,0,"",null,null,0,"",null,null,0,"",null,null,0,"",null,null,0,"",null,null,0,"",null,null,0,"",null,null,0,"",null,null,0,"",null,null,0,"",null,null,0,"",null,null,0,"",null,null,0,"",null,null,0,"",null,null,0,"",null,null,0,"",null,null,0,"",null,null,0,"",null,null,0,"",null,null,0,""]
[null,0,"",null,null,0,"",null,null,0,"",null,null,0,"",null,null,0,"",null,null,0,"",null,null,0,"",null,null,0,"",null,null,0,"",null,null,0,"",null,null,0,"",null,null,0,"",null,null,0,"",null,null,0,"",null,null,0,"",null,null,0,"",null,null,0,"",null,null,0,"",null,null,0,"",null,null,0,"",null,null,0,"",null,null,0,""]
[null,0,"",null,null,0,"",null,null,0,"",null,null,0,"",null,null,0,"",null,null,0,"",null,null,0,"",null,null,0,"",null,null,0,"",null,null,0,"",null,null,0,"",null,null,0,"",null,null,0,"",null,null,0,"",null,null,0,"",null,null,0,"",null,null,0,"",null,null,0,"",null,null,0,"",null,null,0,"",null,null,0,"",null,null,0,""]
[null,0,"",null,null,0,"",null,null,0,"",null,null,0,"",null,null,0,"",null,null,0,"",null,null,0,"",null,null,0,"",null,null,0,"",null,null,0,"",null,null,0,"",null,null,0,"",null,null,0,"",null,null,0,"",null,null,0,"",null,null,0,"",null,null,0,"",null,null,0,"",null,null,0,"",null,null,0,"",null,null,0,"",null,null,0,""]
[null,0,"",null,null,0,"",null,null,0,"",null,null,0,"",null,null,0,"",null,null,0,"",null,null,0,"",null,null,0,"",null,null,0,"",null,null,0,"",null,null,0,"",null,null,0,"",null,null,0,"",null,null,0,"",null,null,0,"",null,null,0,"",null,null,0,"",null,null,0,"",null,null,0,"",null,null,0,"",null,null,0,"",null,null,0,""]
[null,0,"",null,null,0,"",null,null,0,"",null,null,0,"",null,null,0,"",null,null,0,"",null,null,0,"",null,null,0,"",null,null,0,"",null,null,0,"",null,null,0,"",null,null,0,"",null,null,0,"",null,null,0,"",null,null,0,"",null,null,0,"",null,null,0,"",null,null,0,"",null,null,0,"",null,null,0,"",null,null,0,"",null,null,0,""]
[null,0,"",null,null,0,"",null,null,0,"",null,null,0,"",null,null,0,"",null,null,0,"",null,null,0,"",null,null,0,"",null,null,0,"",null,null,0,"",null,null,0,"",null,null,0,"",null,null,0,"",null,null,0,"",null,null,0,"",null,null,0,"",null,null,0,"",null,null,0,"",null,null,0,"",null,null,0,"",null,null,0,"",null,null,0,""]
[null,0,"",null,null,0,"",null,null,0,"",null,null,0,"",null,null,0,"",null,null,0,"",null,null,0,"",null,null,0,"",null,null,0,"",null,null,0,"",null,null,0,"",null,null,0,"",null,null,0,"",null,null,0,"",null,null,0,"",null,null,0,"",null,null,0,"",null,null,0,"",null,null,0,"",null,null,0,"",null,null,0,"",null,null,0,""]
[null,0,"",null,null,0,"",null,null,0,"",null,null,0,"",null,null,0,"",null,null,0,"",null,null,0,"",null,null,0,"",null,null,0,"",null,null,0,"",null,null,0,"",null,null,0,"",null,null,0,"",null,null,0,"",null,null,0,"",null,null,0,"",null,null,0,"",null,null,0,"",null,null,0,"",null,null,0,"",null,null,0,"",null,null,0,""]
[null,0,"",null,null,0,"",null,null,0,"",null,null,0,"",null,null,0,"",null,null,0,"",null,null,0,"",null,null,0,"",null,null,0,"",null,null,0,"",null,null,0,"",null,null,0,"",null,null,0,"",null,null,0,"",null,null,0,"",null,null,0,"",null,null,0,"",null,null,0,"",null,null,0,"",null,null,0,"",null,null,0,"",null,null,0,""]
["Singles Won",{"$f":"SUM(B29:B40)","v":0},null,null,null,{"$f":"SUM(F29:F40)","v":0},null,null,null,{"$f":"SUM(J29:J40)","v":0},null,null,null,{"$f":"SUM(N29:N40)","v":0},null,null,null,{"$f":"SUM(R29:R40)","v":0},null,null,null,{"$f":"SUM(V29:V40)","v":0},null,null,null,{"$f":"SUM(Z29:Z40)","v":0},null,null,null,{"$f":"SUM(AD29:AD40)","v":0},null,null,null,{"$f":"SUM(AH29:AH40)","v":0},null,null,null,{"$f":"SUM(AL29:AL40)","v":0},null,null,null,{"$f":"SUM(AP29:AP40)","v":0},null,null,null,{"$f":"SUM(AT29:AT40)","v":0},null,null,null,{"$f":"SUM(AX29:AX40)","v":0},null,null,null,{"$f":"SUM(BB29:BB40)","v":0},null,null,null,{"$f":"SUM(BF29:BF40)","v":0},null,null,null,{"$f":"SUM(BJ29:BJ40)","v":0},null,null,null,{"$f":"SUM(BN29:BN40)","v":0},null,null,null,{"$f":"SUM(BR29:BR40)","v":0},null,null,null,{"$f":"SUM(BV29:BV40)","v":0},null,null,null,{"$f":"SUM(BZ29:BZ40)","v":0},null,null,null,{"$f":"SUM(CD29:CD40)","v":0},null,null,null,{"$f":"SUM(CH29:CH40)","v":0}]
["Pairs Games Won"]

{"sheet":"Team 12 - Unused","index":19,"n_rows":42,"n_cols":101,"rows_kept":42,"cut":false,"hidden":true,"merged":[[0,1,0,4],[0,5,0,8],[0,9,0,12],[0,13,0,16],[0,37,0,40],[0,33,0,36],[0,17,0,20],[0,21,0,24],[0,25,0,28],[0,29,0,32],[0,41,0,44],[0,45,0,48],[0,49,0,52],[0,53,0,56],[0,81,0,84],[0,85,0,88],[0,57,0,60],[0,61,0,64],[0,65,0,68],[0,69,0,72],[0,73,0,76],[0,77,0,80]]}
[null,"WEEK 1",null,null,null,"WEEK 2",null,null,null,"WEEK 3",null,null,null,"WEEK 4",null,null,null,"WEEK 5",null,null,null,"WEEK 6",null,null,null,"WEEK 7",null,null,null,"WEEK 8",null,null,null,"WEEK 9",null,null,null,"WEEK 10",null,null,null,"WEEK 11",null,null,null,"WEEK 12",null,null,null,"WEEK 13",null,null,null,"WEEK 14",null,null,null,"WEEK 15",null,null,null,"WEEK 16",null,null,null,"WEEK 17",null,null,null,"WEEK 18",null,null,null,"WEEK 19",null,null,null,"WEEK 20",null,null,null,"WEEK 21",null,null,null,"WEEK 22"]
[null,"PS","DT","100 +","180's","PS","DT","100 +","180's","PS","DT","100 +","180's","PS","DT","100 +","180's","PS","DT","100 +","180's","PS","DT","100 +","180's","PS","DT","100 +","180's","PS","DT","100 +","180's","PS","DT","100 +","180's","PS","DT","100 +","180's","PS","DT","100 +","180's","PS","DT","100 +","180's","PS","DT","100 +","180's","PS","DT","100 +","180's","PS","DT","100 +","180's","PS","DT","100 +","180's","PS","DT","100 +","180's","PS","DT","100 +","180's","PS","DT","100 +","180's","PS","DT","100 +","180's","PS","DT","100 +","180's","PS","DT","100 +","180's","GP","GW","TP","TD","AVG","AVG D/G","T100+","AVG 100+/G","T180's","T<30","Least Darts","Most Darts"]
[null,null,null,null,null,null,null,null,null,null,null,null,null,null,null,null,null,null,null,null,null,null,null,null,null,null,null,null,null,null,null,null,null,null,null,null,null,null,null,null,null,null,null,null,null,null,null,null,null,null,null,null,null,null,null,null,null,null,null,null,null,null,null,null,null,null,null,null,null,null,null,null,null,null,null,null,null,null,null,null,null,null,null,null,null,null,null,null,null,{"$f":"SUM(B17+F17+J17+N17+R17+V17+Z17+AD17+AH17+AL17+AP17+AT17+AX17+BB17+BF17+BJ17+BN17+BR17+BV17+BZ17+CD17+CH17)","v":0},{"$f":"SUM(B29+F29+J29+N29+R29+V29+Z29+AD29+AH29+AL29+AP29+AT29+AX29+BB29+BF29+BJ29+BN29+BR29+CD29+CH29+BV29+BZ29)","v":0},{"$f":"SUM(B3+F3+J3+N3+R3+V3+Z3+AD3+AH3+AL3+AP3+AT3+AX3+BB3+BF3+BJ3+BN3+BR3+CD3+CH3+BV3+BZ3)","v":0},{"$f":"SUM(C3+G3+K3+O3+S3+W3+AA3+AE3+AI3+AM3+AQ3+AU3+AY3+BC3+BG3+BK3+BO3+BS3+CE3+CI3+BW3+CA3)","v":0},{"$f":"IF(CN3=0,0,(SUM(CN3/CO3)*3))","v":0},{"$f":"IF(CL3=0,0,SUM(CO3/CL3))","v":0},{"$f":"SUM(D3+H3+L3+P3+T3+X3+AB3+AF3+AJ3+AN3+AR3+AV3+AZ3+BD3+BH3+BL3+BP3+BT3+CF3+CJ3+CB3+BX3)","v":0},{"$f":"IF(CL3=0,0,(SUM(CR3/CL3)))","v":0},{"$f":"SUM(E3+I3+M3+Q3+U3+Y3+AC3+AG3+AK3+AO3+AS3+AW3+BA3+BE3+BI3+BM3+BQ3+BU3+CG3+CK3+BY3+CC3)","v":0},{"$f":"SUM(E17+I17+M17+Q17+U17+Y17+AC17+AG17+AK17+AO17+AS17+AW17+BA17+BE17+BI17+BM17+BQ17+BU17+CG17+CK17+BY17+CC17)","v":0},{"$f":"MIN(C29,G29,K29,O29,S29,W29,AA29,AE29,AI29,AM29,AQ29,AU29,AY29,BC29,BG29,BK29,BO29,BS29,CE29,CI29,BW29,CA29)","v":0},{"$f":"MAX($C29,$G29,$K29,$O29,$S29,$W29,$AA29,$AE29,$AI29,$AM29,$AQ29,$AU29,$AY29,$BC29,$BG29,$BK29,$BO29,$BS29,$CE29,CI29,BW29,CA29)","v":0}]
[null,null,null,null,null,null,null,null,null,null,null,null,null,null,null,null,null,null,null,null,null,null,null,null,null,null,null,null,null,null,null,null,null,null,null,null,null,null,null,null,null,null,null,null,null,null,null,null,null,null,null,null,null,null,null,null,null,null,null,null,null,null,null,null,null,null,null,null,null,null,null,null,null,null,null,null,null,null,null,null,null,null,null,null,null,null,null,null,null,0,0,0,0,0,0,0,0,0,0,0,0]
[null,null,null,null,null,null,null,null,null,null,null,null,null,null,null,null,null,null,null,null,null,null,null,null,null,null,null,null,null,null,null,null,null,null,null,null,null,null,null,null,null,null,null,null,null,null,null,null,null,null,null,null,null,null,null,null,null,null,null,null,null,null,null,null,null,null,null,null,null,null,null,null,null,null,null,null,null,null,null,null,null,null,null,null,null,null,null,null,null,0,0,0,0,0,0,0,0,0,0,0,0]
[null,null,null,null,null,null,null,null,null,null,null,null,null,null,null,null,null,null,null,null,null,null,null,null,null,null,null,null,null,null,null,null,null,null,null,null,null,null,null,null,null,null,null,null,null,null,null,null,null,null,null,null,null,null,null,null,null,null,null,null,null,null,null,null,null,null,null,null,null,null,null,null,null,null,null,null,null,null,null,null,null,null,null,null,null,null,null,null,null,0,0,0,0,0,0,0,0,0,0,0,0]
[null,null,null,null,null,null,null,null,null,null,null,null,null,null,null,null,null,null,null,null,null,null,null,null,null,null,null,null,null,null,null,null,null,null,null,null,null,null,null,null,null,null,null,null,null,null,null,null,null,null,null,null,null,null,null,null,null,null,null,null,null,null,null,null,null,null,null,null,null,null,null,null,null,null,null,null,null,null,null,null,null,null,null,null,null,null,null,null,null,0,0,0,0,0,0,0,0,0,0,0,0]
[null,null,null,null,null,null,null,null,null,null,null,null,null,null,null,null,null,null,null,null,null,null,null,null,null,null,null,null,null,null,null,null,null,null,null,null,null,null,null,null,null,null,null,null,null,null,null,null,null,null,null,null,null,null,null,null,null,null,null,null,null,null,null,null,null,null,null,null,null,null,null,null,null,null,null,null,null,null,null,null,null,null,null,null,null,null,null,null,null,0,0,0,0,0,0,0,0,0,0,0,0]
[null,null,null,null,null,null,null,null,null,null,null,null,null,null,null,null,null,null,null,null,null,null,null,null,null,null,null,null,null,null,null,null,null,null,null,null,null,null,null,null,null,null,null,null,null,null,null,null,null,null,null,null,null,null,null,null,null,null,null,null,null,null,null,null,null,null,null,null,null,null,null,null,null,null,null,null,null,null,null,null,null,null,null,null,null,null,null,null,null,0,0,0,0,0,0,0,0,0,0,0,0]
[null,null,null,null,null,null,null,null,null,null,null,null,null,null,null,null,null,null,null,null,null,null,null,null,null,null,null,null,null,null,null,null,null,null,null,null,null,null,null,null,null,null,null,null,null,null,null,null,null,null,null,null,null,null,null,null,null,null,null,null,null,null,null,null,null,null,null,null,null,null,null,null,null,null,null,null,null,null,null,null,null,null,null,null,null,null,null,null,null,0,0,0,0,0,0,0,0,0,0,0,0]
[null,null,null,null,null,null,null,null,null,null,null,null,null,null,null,null,null,null,null,null,null,null,null,null,null,null,null,null,null,null,null,null,null,null,null,null,null,null,null,null,null,null,null,null,null,null,null,null,null,null,null,null,null,null,null,null,null,null,null,null,null,null,null,null,null,null,null,null,null,null,null,null,null,null,null,null,null,null,null,null,null,null,null,null,null,null,null,null,null,0,0,0,0,0,0,0,0,0,0,0,0]
[null,null,null,null,null,null,null,null,null,null,null,null,null,null,null,null,null,null,null,null,null,null,null,null,null,null,null,null,null,null,null,null,null,null,null,null,null,null,null,null,null,null,null,null,null,null,null,null,null,null,null,null,null,null,null,null,null,null,null,null,null,null,null,null,null,null,null,null,null,null,null,null,null,null,null,null,null,null,null,null,null,null,null,null,null,null,null,null,null,0,0,0,0,0,0,0,0,0,0,0,0]
[null,null,null,null,null,null,null,null,null,null,null,null,null,null,null,null,null,null,null,null,null,null,null,null,null,null,null,null,null,null,null,null,null,null,null,null,null,null,null,null,null,null,null,null,null,null,null,null,null,null,null,null,null,null,null,null,null,null,null,null,null,null,null,null,null,null,null,null,null,null,null,null,null,null,null,null,null,null,null,null,null,null,null,null,null,null,null,null,null,0,0,0,0,0,0,0,0,0,0,0,0]
[null,null,null,null,null,null,null,null,null,null,null,null,null,null,null,null,null,null,null,null,null,null,null,null,null,null,null,null,null,null,null,null,null,null,null,null,null,null,null,null,null,null,null,null,null,null,null,null,null,null,null,null,null,null,null,null,null,null,null,null,null,null,null,null,null,null,null,null,null,null,null,null,null,null,null,null,null,null,null,null,null,null,null,null,null,null,null,null,null,0,0,0,0,0,0,0,0,0,0,0,0]
[]
[]
[null,{"$f":"IF(B3<>\"\",1,0)","v":0},{"$f":"IF(C3<=30,1,0)","v":1},{"$f":"IF(C3=0,1,0)","v":1},{"$f":"IF(B29=1,(SUM(C17-D17)),0)","v":0},{"$f":"IF(F3<>\"\",1,0)","v":0},{"$f":"IF(G3<=30,1,0)","v":1},{"$f":"IF(G3=0,1,0)","v":1},{"$f":"IF(F29=1,(SUM(G17-H17)),0)","v":0},{"$f":"IF(J3<>\"\",1,0)","v":0},{"$f":"IF(K3<=30,1,0)","v":1},{"$f":"IF(K3=0,1,0)","v":1},{"$f":"IF(J29=1,(SUM(K17-L17)),0)","v":0},{"$f":"IF(N3<>\"\",1,0)","v":0},{"$f":"IF(O3<=30,1,0)","v":1},{"$f":"IF(O3=0,1,0)","v":1},{"$f":"IF(N29=1,(SUM(O17-P17)),0)","v":0},{"$f":"IF(R3<>\"\",1,0)","v":0},{"$f":"IF(S3<=30,1,0)","v":1},{"$f":"IF(S3=0,1,0)","v":1},{"$f":"IF(R29=1,(SUM(S17-T17)),0)","v":0},{"$f":"IF(V3<>\"\",1,0)","v":0},{"$f":"IF(W3<=30,1,0)","v":1},{"$f":"IF(W3=0,1,0)","v":1},{"$f":"IF(V29=1,(SUM(W17-X17)),0)","v":0},{"$f":"IF(Z3<>\"\",1,0)","v":0},{"$f":"IF(AA3<=30,1,0)","v":1},{"$f":"IF(AA3=0,1,0)","v":1},{"$f":"IF(Z29=1,(SUM(AA17-AB17)),0)","v":0},{"$f":"IF(AD3<>\"\",1,0)","v":0},{"$f":"IF(AE3<=30,1,0)","v":1},{"$f":"IF(AE3=0,1,0)","v":1},{"$f":"IF(AD29=1,(SUM(AE17-AF17)),0)","v":0},{"$f":"IF(AH3<>\"\",1,0)","v":0},{"$f":"IF(AI3<=30,1,0)","v":1},{"$f":"IF(AI3=0,1,0)","v":1},{"$f":"IF(AH29=1,(SUM(AI17-AJ17)),0)","v":0},{"$f":"IF(AL3<>\"\",1,0)","v":0},{"$f":"IF(AM3<=30,1,0)","v":1},{"$f":"IF(AM3=0,1,0)","v":1},{"$f":"IF(AL29=1,(SUM(AM17-AN17)),0)","v":0},{"$f":"IF(AP3<>\"\",1,0)","v":0},{"$f":"IF(AQ3<=30,1,0)","v":1},{"$f":"IF(AQ3=0,1,0)","v":1},{"$f":"IF(AP29=1,(SUM(AQ17-AR17)),0)","v":0},{"$f":"IF(AT3<>\"\",1,0)","v":0},{"$f":"IF(AU3<=30,1,0)","v":1},{"$f":"IF(AU3=0,1,0)","v":1},{"$f":"IF(AT29=1,(SUM(AU17-AV17)),0)","v":0},{"$f":"IF(AX3<>\"\",1,0)","v":0},{"$f":"IF(AY3<=30,1,0)","v":1},{"$f":"IF(AY3=0,1,0)","v":1},{"$f":"IF(AX29=1,(SUM(AY17-AZ17)),0)","v":0},{"$f":"IF(BB3<>\"\",1,0)","v":0},{"$f":"IF(BC3<=30,1,0)","v":1},{"$f":"IF(BC3=0,1,0)","v":1},{"$f":"IF(BB29=1,(SUM(BC17-BD17)),0)","v":0},{"$f":"IF(BF3<>\"\",1,0)","v":0},{"$f":"IF(BG3<=30,1,0)","v":1},{"$f":"IF(BG3=0,1,0)","v":1},{"$f":"IF(BF29=1,(SUM(BG17-BH17)),0)","v":0},{"$f":"IF(BJ3<>\"\",1,0)","v":0},{"$f":"IF(BK3<=30,1,0)","v":1},{"$f":"IF(BK3=0,1,0)","v":1},{"$f":"IF(BJ29=1,(SUM(BK17-BL17)),0)","v":0},{"$f":"IF(BN3<>\"\",1,0)","v":0},{"$f":"IF(BO3<=30,1,0)","v":1},{"$f":"IF(BO3=0,1,0)","v":1},{"$f":"IF(BN29=1,(SUM(BO17-BP17)),0)","v":0},{"$f":"IF(BR3<>\"\",1,0)","v":0},{"$f":"IF(BS3<=30,1,0)","v":1},{"$f":"IF(BS3=0,1,0)","v":1},{"$f":"IF(BR29=1,(SUM(BS17-BT17)),0)","v":0},{"$f":"IF(BV3<>\"\",1,0)","v":0},{"$f":"IF(BW3<=30,1,0)","v":1},{"$f":"IF(BW3=0,1,0)","v":1},{"$f":"IF(BV29=1,(SUM(BW17-BX17)),0)","v":0},{"$f":"IF(BZ3<>\"\",1,0)","v":0},{"$f":"IF(CA3<=30,1,0)","v":1},{"$f":"IF(CA3=0,1,0)","v":1},{"$f":"IF(BZ29=1,(SUM(CA17-CB17)),0)","v":0},{"$f":"IF(CD3<>\"\",1,0)","v":0},{"$f":"IF(CE3<=30,1,0)","v":1},{"$f":"IF(CE3=0,1,0)","v":1},{"$f":"IF(CD29=1,(SUM(CE17-CF17)),0)","v":0},{"$f":"IF(CH3<>\"\",1,0)","v":0},{"$f":"IF(CI3<=30,1,0)","v":1},{"$f":"IF(CI3=0,1,0)","v":1},{"$f":"IF(CH29=1,(SUM(CI17-CJ17)),0)","v":0}]
[null,0,1,1,0,0,1,1,0,0,1,1,0,0,1,1,0,0,1,1,0,0,1,1,0,0,1,1,0,0,1,1,0,0,1,1,0,0,1,1,0,0,1,1,0,0,1,1,0,0,1,1,0,0,1,1,0,0,1,1,0,0,1,1,0,0,1,1,0,0,1,1,0,0,1,1,0,0,1,1,0,0,1,1,0,0,1,1,0]
[null,0,1,1,0,0,1,1,0,0,1,1,0,0,1,1,0,0,1,1,0,0,1,1,0,0,1,1,0,0,1,1,0,0,1,1,0,0,1,1,0,0,1,1,0,0,1,1,0,0,1,1,0,0,1,1,0,0,1,1,0,0,1,1,0,0,1,1,0,0,1,1,0,0,1,1,0,0,1,1,0,0,1,1,0,0,1,1,0]
[null,0,1,1,0,0,1,1,0,0,1,1,0,0,1,1,0,0,1,1,0,0,1,1,0,0,1,1,0,0,1,1,0,0,1,1,0,0,1,1,0,0,1,1,0,0,1,1,0,0,1,1,0,0,1,1,0,0,1,1,0,0,1,1,0,0,1,1,0,0,1,1,0,0,1,1,0,0,1,1,0,0,1,1,0,0,1,1,0]
[null,0,1,1,0,0,1,1,0,0,1,1,0,0,1,1,0,0,1,1,0,0,1,1,0,0,1,1,0,0,1,1,0,0,1,1,0,0,1,1,0,0,1,1,0,0,1,1,0,0,1,1,0,0,1,1,0,0,1,1,0,0,1,1,0,0,1,1,0,0,1,1,0,0,1,1,0,0,1,1,0,0,1,1,0,0,1,1,0]
[null,0,1,1,0,0,1,1,0,0,1,1,0,0,1,1,0,0,1,1,0,0,1,1,0,0,1,1,0,0,1,1,0,0,1,1,0,0,1,1,0,0,1,1,0,0,1,1,0,0,1,1,0,0,1,1,0,0,1,1,0,0,1,1,0,0,1,1,0,0,1,1,0,0,1,1,0,0,1,1,0,0,1,1,0,0,1,1,0]
[null,0,1,1,0,0,1,1,0,0,1,1,0,0,1,1,0,0,1,1,0,0,1,1,0,0,1,1,0,0,1,1,0,0,1,1,0,0,1,1,0,0,1,1,0,0,1,1,0,0,1,1,0,0,1,1,0,0,1,1,0,0,1,1,0,0,1,1,0,0,1,1,0,0,1,1,0,0,1,1,0,0,1,1,0,0,1,1,0]
[null,0,1,1,0,0,1,1,0,0,1,1,0,0,1,1,0,0,1,1,0,0,1,1,0,0,1,1,0,0,1,1,0,0,1,1,0,0,1,1,0,0,1,1,0,0,1,1,0,0,1,1,0,0,1,1,0,0,1,1,0,0,1,1,0,0,1,1,0,0,1,1,0,0,1,1,0,0,1,1,0,0,1,1,0,0,1,1,0]
[null,0,1,1,0,0,1,1,0,0,1,1,0,0,1,1,0,0,1,1,0,0,1,1,0,0,1,1,0,0,1,1,0,0,1,1,0,0,1,1,0,0,1,1,0,0,1,1,0,0,1,1,0,0,1,1,0,0,1,1,0,0,1,1,0,0,1,1,0,0,1,1,0,0,1,1,0,0,1,1,0,0,1,1,0,0,1,1,0]
[null,0,1,1,0,0,1,1,0,0,1,1,0,0,1,1,0,0,1,1,0,0,1,1,0,0,1,1,0,0,1,1,0,0,1,1,0,0,1,1,0,0,1,1,0,0,1,1,0,0,1,1,0,0,1,1,0,0,1,1,0,0,1,1,0,0,1,1,0,0,1,1,0,0,1,1,0,0,1,1,0,0,1,1,0,0,1,1,0]
[null,0,1,1,0,0,1,1,0,0,1,1,0,0,1,1,0,0,1,1,0,0,1,1,0,0,1,1,0,0,1,1,0,0,1,1,0,0,1,1,0,0,1,1,0,0,1,1,0,0,1,1,0,0,1,1,0,0,1,1,0,0,1,1,0,0,1,1,0,0,1,1,0,0,1,1,0,0,1,1,0,0,1,1,0,0,1,1,0]
[null,0,1,1,0,0,1,1,0,0,1,1,0,0,1,1,0,0,1,1,0,0,1,1,0,0,1,1,0,0,1,1,0,0,1,1,0,0,1,1,0,0,1,1,0,0,1,1,0,0,1,1,0,0,1,1,0,0,1,1,0,0,1,1,0,0,1,1,0,0,1,1,0,0,1,1,0,0,1,1,0,0,1,1,0,0,1,1,0]
[null,{"$f":"IF(B3=701,1,0)","v":0},{"$f":"IF(B29=1,C3,\"\")","v":""},null,null,{"$f":"IF(F3=701,1,0)","v":0},{"$f":"IF(F29=1,G3,\"\")","v":""},null,null,{"$f":"IF(J3=701,1,0)","v":0},{"$f":"IF(J29=1,K3,\"\")","v":""},null,null,{"$f":"IF(N3=701,1,0)","v":0},{"$f":"IF(N29=1,O3,\"\")","v":""},null,null,{"$f":"IF(R3=701,1,0)","v":0},{"$f":"IF(R29=1,S3,\"\")","v":""},null,null,{"$f":"IF(V3=701,1,0)","v":0},{"$f":"IF(V29=1,W3,\"\")","v":""},null,null,{"$f":"IF(Z3=701,1,0)","v":0},{"$f":"IF(Z29=1,AA3,\"\")","v":""},null,null,{"$f":"IF(AD3=701,1,0)","v":0},{"$f":"IF(AD29=1,AE3,\"\")","v":""},null,null,{"$f":"IF(AH3=701,1,0)","v":0},{"$f":"IF(AH29=1,AI3,\"\")","v":""},null,null,{"$f":"IF(AL3=701,1,0)","v":0},{"$f":"IF(AL29=1,AM3,\"\")","v":""},null,null,{"$f":"IF(AP3=701,1,0)","v":0},{"$f":"IF(AP29=1,AQ3,\"\")","v":""},null,null,{"$f":"IF(AT3=701,1,0)","v":0},{"$f":"IF(AT29=1,AU3,\"\")","v":""},null,null,{"$f":"IF(AX3=701,1,0)","v":0},{"$f":"IF(AX29=1,AY3,\"\")","v":""},null,null,{"$f":"IF(BB3=701,1,0)","v":0},{"$f":"IF(BB29=1,BC3,\"\")","v":""},null,null,{"$f":"IF(BF3=701,1,0)","v":0},{"$f":"IF(BF29=1,BG3,\"\")","v":""},null,null,{"$f":"IF(BJ3=701,1,0)","v":0},{"$f":"IF(BJ29=1,BK3,\"\")","v":""},null,null,{"$f":"IF(BN3=701,1,0)","v":0},{"$f":"IF(BN29=1,BO3,\"\")","v":""},null,null,{"$f":"IF(BR3=701,1,0)","v":0},{"$f":"IF(BR29=1,BS3,\"\")","v":""},null,null,{"$f":"IF(BV3=701,1,0)","v":0},{"$f":"IF(BV29=1,BW3,\"\")","v":""},null,null,{"$f":"IF(BZ3=701,1,0)","v":0},{"$f":"IF(BZ29=1,CA3,\"\")","v":""},null,null,{"$f":"IF(CD3=701,1,0)","v":0},{"$f":"IF(CD29=1,CE3,\"\")","v":""},null,null,{"$f":"IF(CH3=701,1,0)","v":0},{"$f":"IF(CH29=1,CI3,\"\")","v":""}]
[null,0,"",null,null,0,"",null,null,0,"",null,null,0,"",null,null,0,"",null,null,0,"",null,null,0,"",null,null,0,"",null,null,0,"",null,null,0,"",null,null,0,"",null,null,0,"",null,null,0,"",null,null,0,"",null,null,0,"",null,null,0,"",null,null,0,"",null,null,0,"",null,null,0,"",null,null,0,"",null,null,0,"",null,null,0,""]
[null,0,"",null,null,0,"",null,null,0,"",null,null,0,"",null,null,0,"",null,null,0,"",null,null,0,"",null,null,0,"",null,null,0,"",null,null,0,"",null,null,0,"",null,null,0,"",null,null,0,"",null,null,0,"",null,null,0,"",null,null,0,"",null,null,0,"",null,null,0,"",null,null,0,"",null,null,0,"",null,null,0,"",null,null,0,""]
[null,0,"",null,null,0,"",null,null,0,"",null,null,0,"",null,null,0,"",null,null,0,"",null,null,0,"",null,null,0,"",null,null,0,"",null,null,0,"",null,null,0,"",null,null,0,"",null,null,0,"",null,null,0,"",null,null,0,"",null,null,0,"",null,null,0,"",null,null,0,"",null,null,0,"",null,null,0,"",null,null,0,"",null,null,0,""]
[null,0,"",null,null,0,"",null,null,0,"",null,null,0,"",null,null,0,"",null,null,0,"",null,null,0,"",null,null,0,"",null,null,0,"",null,null,0,"",null,null,0,"",null,null,0,"",null,null,0,"",null,null,0,"",null,null,0,"",null,null,0,"",null,null,0,"",null,null,0,"",null,null,0,"",null,null,0,"",null,null,0,"",null,null,0,""]
[null,0,"",null,null,0,"",null,null,0,"",null,null,0,"",null,null,0,"",null,null,0,"",null,null,0,"",null,null,0,"",null,null,0,"",null,null,0,"",null,null,0,"",null,null,0,"",null,null,0,"",null,null,0,"",null,null,0,"",null,null,0,"",null,null,0,"",null,null,0,"",null,null,0,"",null,null,0,"",null,null,0,"",null,null,0,""]
[null,0,"",null,null,0,"",null,null,0,"",null,null,0,"",null,null,0,"",null,null,0,"",null,null,0,"",null,null,0,"",null,null,0,"",null,null,0,"",null,null,0,"",null,null,0,"",null,null,0,"",null,null,0,"",null,null,0,"",null,null,0,"",null,null,0,"",null,null,0,"",null,null,0,"",null,null,0,"",null,null,0,"",null,null,0,""]
[null,0,"",null,null,0,"",null,null,0,"",null,null,0,"",null,null,0,"",null,null,0,"",null,null,0,"",null,null,0,"",null,null,0,"",null,null,0,"",null,null,0,"",null,null,0,"",null,null,0,"",null,null,0,"",null,null,0,"",null,null,0,"",null,null,0,"",null,null,0,"",null,null,0,"",null,null,0,"",null,null,0,"",null,null,0,""]
[null,0,"",null,null,0,"",null,null,0,"",null,null,0,"",null,null,0,"",null,null,0,"",null,null,0,"",null,null,0,"",null,null,0,"",null,null,0,"",null,null,0,"",null,null,0,"",null,null,0,"",null,null,0,"",null,null,0,"",null,null,0,"",null,null,0,"",null,null,0,"",null,null,0,"",null,null,0,"",null,null,0,"",null,null,0,""]
[null,0,"",null,null,0,"",null,null,0,"",null,null,0,"",null,null,0,"",null,null,0,"",null,null,0,"",null,null,0,"",null,null,0,"",null,null,0,"",null,null,0,"",null,null,0,"",null,null,0,"",null,null,0,"",null,null,0,"",null,null,0,"",null,null,0,"",null,null,0,"",null,null,0,"",null,null,0,"",null,null,0,"",null,null,0,""]
[null,0,"",null,null,0,"",null,null,0,"",null,null,0,"",null,null,0,"",null,null,0,"",null,null,0,"",null,null,0,"",null,null,0,"",null,null,0,"",null,null,0,"",null,null,0,"",null,null,0,"",null,null,0,"",null,null,0,"",null,null,0,"",null,null,0,"",null,null,0,"",null,null,0,"",null,null,0,"",null,null,0,"",null,null,0,""]
[null,0,"",null,null,0,"",null,null,0,"",null,null,0,"",null,null,0,"",null,null,0,"",null,null,0,"",null,null,0,"",null,null,0,"",null,null,0,"",null,null,0,"",null,null,0,"",null,null,0,"",null,null,0,"",null,null,0,"",null,null,0,"",null,null,0,"",null,null,0,"",null,null,0,"",null,null,0,"",null,null,0,"",null,null,0,""]
["Singles Won",{"$f":"SUM(B29:B40)","v":0},null,null,null,{"$f":"SUM(F29:F40)","v":0},null,null,null,{"$f":"SUM(J29:J40)","v":0},null,null,null,{"$f":"SUM(N29:N40)","v":0},null,null,null,{"$f":"SUM(R29:R40)","v":0},null,null,null,{"$f":"SUM(V29:V40)","v":0},null,null,null,{"$f":"SUM(Z29:Z40)","v":0},null,null,null,{"$f":"SUM(AD29:AD40)","v":0},null,null,null,{"$f":"SUM(AH29:AH40)","v":0},null,null,null,{"$f":"SUM(AL29:AL40)","v":0},null,null,null,{"$f":"SUM(AP29:AP40)","v":0},null,null,null,{"$f":"SUM(AT29:AT40)","v":0},null,null,null,{"$f":"SUM(AX29:AX40)","v":0},null,null,null,{"$f":"SUM(BB29:BB40)","v":0},null,null,null,{"$f":"SUM(BF29:BF40)","v":0},null,null,null,{"$f":"SUM(BJ29:BJ40)","v":0},null,null,null,{"$f":"SUM(BN29:BN40)","v":0},null,null,null,{"$f":"SUM(BR29:BR40)","v":0},null,null,null,{"$f":"SUM(BV29:BV40)","v":0},null,null,null,{"$f":"SUM(BZ29:BZ40)","v":0},null,null,null,{"$f":"SUM(CD29:CD40)","v":0},null,null,null,{"$f":"SUM(CH29:CH40)","v":0}]
["Pairs Games Won"]

{"sheet":"AVERAGES WORKING SHEET","index":20,"n_rows":145,"n_cols":8,"rows_kept":145,"cut":false,"hidden":true,"merged":[]}
["NAME","GP","GW","TP","DT","AVG D/G","AVERAGE","OVER 10 GAMES?"]
[{"$f":"'NAGS HEAD \"A\"'!A3","v":"Steve Blewitt"},{"$f":"'NAGS HEAD \"A\"'!CL3","v":15},{"$f":"'NAGS HEAD \"A\"'!CM3","v":12},{"$f":"'NAGS HEAD \"A\"'!CN3","v":10025},{"$f":"'NAGS HEAD \"A\"'!CO3","v":515},{"$f":"'NAGS HEAD \"A\"'!CQ3","v":34.333333333333336},{"$f":"'NAGS HEAD \"A\"'!CP3","v":58.398058252427184},{"$f":"IF(B2>=10,1,0)","v":1}]
[{"$f":"'NAGS HEAD \"A\"'!A4","v":"Sean Kendrew"},{"$f":"'NAGS HEAD \"A\"'!CL4","v":16},{"$f":"'NAGS HEAD \"A\"'!CM4","v":15},{"$f":"'NAGS HEAD \"A\"'!CN4","v":11196},{"$f":"'NAGS HEAD \"A\"'!CO4","v":527},{"$f":"'NAGS HEAD \"A\"'!CQ4","v":32.9375},{"$f":"'NAGS HEAD \"A\"'!CP4","v":63.734345351043643},{"$f":"IF(B3>=10,1,0)","v":1}]
[{"$f":"'NAGS HEAD \"A\"'!A5","v":"Steve Truman"},{"$f":"'NAGS HEAD \"A\"'!CL5","v":14},{"$f":"'NAGS HEAD \"A\"'!CM5","v":10},{"$f":"'NAGS HEAD \"A\"'!CN5","v":9587},{"$f":"'NAGS HEAD \"A\"'!CO5","v":528},{"$f":"'NAGS HEAD \"A\"'!CQ5","v":37.714285714285715},{"$f":"'NAGS HEAD \"A\"'!CP5","v":54.471590909090907},1]
[{"$f":"'NAGS HEAD \"A\"'!A6","v":"Al Spence"},{"$f":"'NAGS HEAD \"A\"'!CL6","v":10},{"$f":"'NAGS HEAD \"A\"'!CM6","v":6},{"$f":"'NAGS HEAD \"A\"'!CN6","v":6688},{"$f":"'NAGS HEAD \"A\"'!CO6","v":429},{"$f":"'NAGS HEAD \"A\"'!CQ6","v":42.9},{"$f":"'NAGS HEAD \"A\"'!CP6","v":46.769230769230766},1]
[{"$f":"'NAGS HEAD \"A\"'!A7","v":"Al Whelan"},{"$f":"'NAGS HEAD \"A\"'!CL7","v":14},{"$f":"'NAGS HEAD \"A\"'!CM7","v":9},{"$f":"'NAGS HEAD \"A\"'!CN7","v":9495},{"$f":"'NAGS HEAD \"A\"'!CO7","v":566},{"$f":"'NAGS HEAD \"A\"'!CQ7","v":40.428571428571431},{"$f":"'NAGS HEAD \"A\"'!CP7","v":50.326855123674903},1]
[{"$f":"'NAGS HEAD \"A\"'!A8","v":"Dave Atkinson"},{"$f":"'NAGS HEAD \"A\"'!CL8","v":15},{"$f":"'NAGS HEAD \"A\"'!CM8","v":12},{"$f":"'NAGS HEAD \"A\"'!CN8","v":10089},{"$f":"'NAGS HEAD \"A\"'!CO8","v":527},{"$f":"'NAGS HEAD \"A\"'!CQ8","v":35.133333333333333},{"$f":"'NAGS HEAD \"A\"'!CP8","v":57.4326375711575},1]
[{"$f":"'NAGS HEAD \"A\"'!A9","v":"Greg Tozier"},{"$f":"'NAGS HEAD \"A\"'!CL9","v":1},{"$f":"'NAGS HEAD \"A\"'!CM9","v":0},{"$f":"'NAGS HEAD \"A\"'!CN9","v":503},{"$f":"'NAGS HEAD \"A\"'!CO9","v":48},{"$f":"'NAGS HEAD \"A\"'!CQ9","v":48},{"$f":"'NAGS HEAD \"A\"'!CP9","v":31.4375},0]
[{"$f":"'NAGS HEAD \"A\"'!A10","v":"Col Lagan"},{"$f":"'NAGS HEAD \"A\"'!CL10","v":9},{"$f":"'NAGS HEAD \"A\"'!CM10","v":3},{"$f":"'NAGS HEAD \"A\"'!CN10","v":5691},{"$f":"'NAGS HEAD \"A\"'!CO10","v":329},{"$f":"'NAGS HEAD \"A\"'!CQ10","v":36.555555555555557},{"$f":"'NAGS HEAD \"A\"'!CP10","v":51.893617021276597},0]
[{"$f":"'NAGS HEAD \"A\"'!A11","v":"Kireon Timmons"},{"$f":"'NAGS HEAD \"A\"'!CL11","v":2},{"$f":"'NAGS HEAD \"A\"'!CM11","v":1},{"$f":"'NAGS HEAD \"A\"'!CN11","v":1294},{"$f":"'NAGS HEAD \"A\"'!CO11","v":76},{"$f":"'NAGS HEAD \"A\"'!CQ11","v":38},{"$f":"'NAGS HEAD \"A\"'!CP11","v":51.078947368421055},0]
[{"$f":"'NAGS HEAD \"A\"'!A12","v":0},{"$f":"'NAGS HEAD \"A\"'!CL12","v":0},{"$f":"'NAGS HEAD \"A\"'!CM12","v":0},{"$f":"'NAGS HEAD \"A\"'!CN12","v":0},{"$f":"'NAGS HEAD \"A\"'!CO12","v":0},{"$f":"'NAGS HEAD \"A\"'!CQ12","v":0},{"$f":"'NAGS HEAD \"A\"'!CP12","v":0},0]
[{"$f":"'NAGS HEAD \"A\"'!A13","v":0},{"$f":"'NAGS HEAD \"A\"'!CL13","v":0},{"$f":"'NAGS HEAD \"A\"'!CM13","v":0},{"$f":"'NAGS HEAD \"A\"'!CN13","v":0},{"$f":"'NAGS HEAD \"A\"'!CO13","v":0},{"$f":"'NAGS HEAD \"A\"'!CQ13","v":0},{"$f":"'NAGS HEAD \"A\"'!CP13","v":0},0]
[{"$f":"'NAGS HEAD \"A\"'!A14","v":0},{"$f":"'NAGS HEAD \"A\"'!CL14","v":0},{"$f":"'NAGS HEAD \"A\"'!CM14","v":0},{"$f":"'NAGS HEAD \"A\"'!CN14","v":0},{"$f":"'NAGS HEAD \"A\"'!CO14","v":0},{"$f":"'NAGS HEAD \"A\"'!CQ14","v":0},{"$f":"'NAGS HEAD \"A\"'!CP14","v":0},0]
[{"$f":"'CRICKET CLUB'!A3","v":"Pete Wilkinson"},{"$f":"'CRICKET CLUB'!CL3","v":0},{"$f":"'CRICKET CLUB'!CM3","v":0},{"$f":"'CRICKET CLUB'!CN3","v":0},{"$f":"'CRICKET CLUB'!CO3","v":0},{"$f":"'CRICKET CLUB'!CQ3","v":0},{"$f":"'CRICKET CLUB'!CP3","v":0},0]
[{"$f":"'CRICKET CLUB'!A4","v":"Dan Buxton"},{"$f":"'CRICKET CLUB'!CL4","v":14},{"$f":"'CRICKET CLUB'!CM4","v":6},{"$f":"'CRICKET CLUB'!CN4","v":9042},{"$f":"'CRICKET CLUB'!CO4","v":589},{"$f":"'CRICKET CLUB'!CQ4","v":42.071428571428569},{"$f":"'CRICKET CLUB'!CP4","v":46.054329371816642},1]
[{"$f":"'CRICKET CLUB'!A5","v":"Chris Wayman"},{"$f":"'CRICKET CLUB'!CL5","v":6},{"$f":"'CRICKET CLUB'!CM5","v":2},{"$f":"'CRICKET CLUB'!CN5","v":3810},{"$f":"'CRICKET CLUB'!CO5","v":264},{"$f":"'CRICKET CLUB'!CQ5","v":44},{"$f":"'CRICKET CLUB'!CP5","v":43.295454545454547},0]
[{"$f":"'CRICKET CLUB'!A6","v":"Phil Wayman"},{"$f":"'CRICKET CLUB'!CL6","v":0},{"$f":"'CRICKET CLUB'!CM6","v":0},{"$f":"'CRICKET CLUB'!CN6","v":0},{"$f":"'CRICKET CLUB'!CO6","v":0},{"$f":"'CRICKET CLUB'!CQ6","v":0},{"$f":"'CRICKET CLUB'!CP6","v":0},0]
[{"$f":"'CRICKET CLUB'!A7","v":"Mike Wayman"},{"$f":"'CRICKET CLUB'!CL7","v":13},{"$f":"'CRICKET CLUB'!CM7","v":10},{"$f":"'CRICKET CLUB'!CN7","v":9013},{"$f":"'CRICKET CLUB'!CO7","v":494},{"$f":"'CRICKET CLUB'!CQ7","v":38},{"$f":"'CRICKET CLUB'!CP7","v":54.734817813765176},1]
[{"$f":"'CRICKET CLUB'!A8","v":"Chris Garsed"},{"$f":"'CRICKET CLUB'!CL8","v":14},{"$f":"'CRICKET CLUB'!CM8","v":13},{"$f":"'CRICKET CLUB'!CN8","v":9798},{"$f":"'CRICKET CLUB'!CO8","v":396},{"$f":"'CRICKET CLUB'!CQ8","v":28.285714285714285},{"$f":"'CRICKET CLUB'!CP8","v":74.22727272727272},1]
[{"$f":"'CRICKET CLUB'!A9","v":"George Webb"},{"$f":"'CRICKET CLUB'!CL9","v":16},{"$f":"'CRICKET CLUB'!CM9","v":13},{"$f":"'CRICKET CLUB'!CN9","v":10918},{"$f":"'CRICKET CLUB'!CO9","v":563},{"$f":"'CRICKET CLUB'!CQ9","v":35.1875},{"$f":"'CRICKET CLUB'!CP9","v":58.177619893428066},1]
[{"$f":"'CRICKET CLUB'!A10","v":"Bob Berry"},{"$f":"'CRICKET CLUB'!CL10","v":0},{"$f":"'CRICKET CLUB'!CM10","v":0},{"$f":"'CRICKET CLUB'!CN10","v":0},{"$f":"'CRICKET CLUB'!CO10","v":0},{"$f":"'CRICKET CLUB'!CQ10","v":0},{"$f":"'CRICKET CLUB'!CP10","v":0},0]
[{"$f":"'CRICKET CLUB'!A11","v":"Howard Ward"},{"$f":"'CRICKET CLUB'!CL11","v":5},{"$f":"'CRICKET CLUB'!CM11","v":4},{"$f":"'CRICKET CLUB'!CN11","v":3443},{"$f":"'CRICKET CLUB'!CO11","v":188},{"$f":"'CRICKET CLUB'!CQ11","v":37.6},{"$f":"'CRICKET CLUB'!CP11","v":54.941489361702125},0]
[{"$f":"'CRICKET CLUB'!A12","v":"Mel Paylor"},{"$f":"'CRICKET CLUB'!CL12","v":13},{"$f":"'CRICKET CLUB'!CM12","v":8},{"$f":"'CRICKET CLUB'!CN12","v":8493},{"$f":"'CRICKET CLUB'!CO12","v":552},{"$f":"'CRICKET CLUB'!CQ12","v":42.46153846153846},{"$f":"'CRICKET CLUB'!CP12","v":46.157608695652172},1]
[{"$f":"'CRICKET CLUB'!A13","v":"George Kay"},{"$f":"'CRICKET CLUB'!CL13","v":15},{"$f":"'CRICKET CLUB'!CM13","v":10},{"$f":"'CRICKET CLUB'!CN13","v":10307},{"$f":"'CRICKET CLUB'!CO13","v":559},{"$f":"'CRICKET CLUB'!CQ13","v":37.266666666666666},{"$f":"'CRICKET CLUB'!CP13","v":55.314847942754923},1]
[{"$f":"'CRICKET CLUB'!A14","v":"Ben Jack"},{"$f":"'CRICKET CLUB'!CL14","v":0},{"$f":"'CRICKET CLUB'!CM14","v":0},{"$f":"'CRICKET CLUB'!CN14","v":0},{"$f":"'CRICKET CLUB'!CO14","v":0},{"$f":"'CRICKET CLUB'!CQ14","v":0},{"$f":"'CRICKET CLUB'!CP14","v":0},0]
[{"$f":"CROWN!A3","v":"Mark Outram"},{"$f":"CROWN!CL3","v":16},{"$f":"CROWN!CM3","v":6},{"$f":"CROWN!CN3","v":10292},{"$f":"CROWN!CO3","v":613},{"$f":"CROWN!CQ3","v":38.3125},{"$f":"CROWN!CP3","v":50.368678629690052},1]
[{"$f":"CROWN!A4","v":"Dave Thornton"},{"$f":"CROWN!CL4","v":6},{"$f":"CROWN!CM4","v":1},{"$f":"CROWN!CN4","v":3843},{"$f":"CROWN!CO4","v":273},{"$f":"CROWN!CQ4","v":45.5},{"$f":"CROWN!CP4","v":42.230769230769226},0]
[{"$f":"CROWN!A5","v":"Dean Wakeling  "},{"$f":"CROWN!CL5","v":8},{"$f":"CROWN!CM5","v":1},{"$f":"CROWN!CN5","v":4078},{"$f":"CROWN!CO5","v":327},{"$f":"CROWN!CQ5","v":40.875},{"$f":"CROWN!CP5","v":37.412844036697251},0]
[{"$f":"CROWN!A6","v":"David Langthorne"},{"$f":"CROWN!CL6","v":16},{"$f":"CROWN!CM6","v":4},{"$f":"CROWN!CN6","v":9777},{"$f":"CROWN!CO6","v":673},{"$f":"CROWN!CQ6","v":42.0625},{"$f":"CROWN!CP6","v":43.582466567607725},1]
[{"$f":"CROWN!A7","v":"Tony Bell"},{"$f":"CROWN!CL7","v":0},{"$f":"CROWN!CM7","v":0},{"$f":"CROWN!CN7","v":0},{"$f":"CROWN!CO7","v":0},{"$f":"CROWN!CQ7","v":0},{"$f":"CROWN!CP7","v":0},0]
[{"$f":"CROWN!A8","v":"Chris Cockerline"},{"$f":"CROWN!CL8","v":15},{"$f":"CROWN!CM8","v":4},{"$f":"CROWN!CN8","v":8892},{"$f":"CROWN!CO8","v":634},{"$f":"CROWN!CQ8","v":42.266666666666666},{"$f":"CROWN!CP8","v":42.07570977917981},1]
[{"$f":"CROWN!A9","v":"Mark Natttrass"},{"$f":"CROWN!CL9","v":16},{"$f":"CROWN!CM9","v":3},{"$f":"CROWN!CN9","v":9360},{"$f":"CROWN!CO9","v":719},{"$f":"CROWN!CQ9","v":44.9375},{"$f":"CROWN!CP9","v":39.054242002781642},1]
[{"$f":"CROWN!A10","v":"Phil Teare"},{"$f":"CROWN!CL10","v":16},{"$f":"CROWN!CM10","v":6},{"$f":"CROWN!CN10","v":10219},{"$f":"CROWN!CO10","v":632},{"$f":"CROWN!CQ10","v":39.5},{"$f":"CROWN!CP10","v":48.507911392405063},1]
[{"$f":"CROWN!A11","v":"Richard Salton"},{"$f":"CROWN!CL11","v":1},{"$f":"CROWN!CM11","v":0},{"$f":"CROWN!CN11","v":343},{"$f":"CROWN!CO11","v":27},{"$f":"CROWN!CQ11","v":27},{"$f":"CROWN!CP11","v":38.111111111111114},0]
[{"$f":"CROWN!A12","v":"Shaun Raynor"},{"$f":"CROWN!CL12","v":0},{"$f":"CROWN!CM12","v":0},{"$f":"CROWN!CN12","v":0},{"$f":"CROWN!CO12","v":0},{"$f":"CROWN!CQ12","v":0},{"$f":"CROWN!CP12","v":0},0]
[{"$f":"CROWN!A13","v":"Adam Carter"},{"$f":"CROWN!CL13","v":0},{"$f":"CROWN!CM13","v":0},{"$f":"CROWN!CN13","v":0},{"$f":"CROWN!CO13","v":0},{"$f":"CROWN!CQ13","v":0},{"$f":"CROWN!CP13","v":0},0]
[{"$f":"CROWN!A14","v":"Tim Bowman"},{"$f":"CROWN!CL14","v":0},{"$f":"CROWN!CM14","v":0},{"$f":"CROWN!CN14","v":0},{"$f":"CROWN!CO14","v":0},{"$f":"CROWN!CQ14","v":0},{"$f":"CROWN!CP14","v":0},0]
[{"$f":"'JOLLY MINSTER'!A$3","v":"Eric Stapley"},{"$f":"'JOLLY MINSTER'!CL$3","v":15},{"$f":"'JOLLY MINSTER'!CM$3","v":6},{"$f":"'JOLLY MINSTER'!CN$3","v":10214},{"$f":"'JOLLY MINSTER'!CO$3","v":638},{"$f":"'JOLLY MINSTER'!CQ$3","v":42.533333333333331},{"$f":"'JOLLY MINSTER'!CP$3","v":48.028213166144205},1]
[{"$f":"'JOLLY MINSTER'!A4","v":"Ian Atherton"},{"$f":"'JOLLY MINSTER'!CL4","v":16},{"$f":"'JOLLY MINSTER'!CM4","v":4},{"$f":"'JOLLY MINSTER'!CN4","v":9527},{"$f":"'JOLLY MINSTER'!CO4","v":643},{"$f":"'JOLLY MINSTER'!CQ4","v":40.1875},{"$f":"'JOLLY MINSTER'!CP4","v":44.44945567651633},1]
[{"$f":"'JOLLY MINSTER'!A5","v":"George McPhee"},{"$f":"'JOLLY MINSTER'!CL5","v":15},{"$f":"'JOLLY MINSTER'!CM5","v":3},{"$f":"'JOLLY MINSTER'!CN5","v":9026},{"$f":"'JOLLY MINSTER'!CO5","v":659},{"$f":"'JOLLY MINSTER'!CQ5","v":43.93333333333333},{"$f":"'JOLLY MINSTER'!CP5","v":41.089529590288315},1]
[{"$f":"'JOLLY MINSTER'!A6","v":"Craig Burns"},{"$f":"'JOLLY MINSTER'!CL6","v":13},{"$f":"'JOLLY MINSTER'!CM6","v":3},{"$f":"'JOLLY MINSTER'!CN6","v":7766},{"$f":"'JOLLY MINSTER'!CO6","v":540},{"$f":"'JOLLY MINSTER'!CQ6","v":41.53846153846154},{"$f":"'JOLLY MINSTER'!CP6","v":43.144444444444446},1]
[{"$f":"'JOLLY MINSTER'!A7","v":"Tymo Sobkowiak"},{"$f":"'JOLLY MINSTER'!CL7","v":16},{"$f":"'JOLLY MINSTER'!CM7","v":4},{"$f":"'JOLLY MINSTER'!CN7","v":9308},{"$f":"'JOLLY MINSTER'!CO7","v":706},{"$f":"'JOLLY MINSTER'!CQ7","v":44.125},{"$f":"'JOLLY MINSTER'!CP7","v":39.552407932011334},1]
[{"$f":"'JOLLY MINSTER'!A8","v":"Anthony Clemmet"},{"$f":"'JOLLY MINSTER'!CL8","v":16},{"$f":"'JOLLY MINSTER'!CM8","v":5},{"$f":"'JOLLY MINSTER'!CN8","v":10282},{"$f":"'JOLLY MINSTER'!CO8","v":722},{"$f":"'JOLLY MINSTER'!CQ8","v":45.125},{"$f":"'JOLLY MINSTER'!CP8","v":42.722991689750693},1]
[{"$f":"'JOLLY MINSTER'!A9","v":"Sam Mathews"},{"$f":"'JOLLY MINSTER'!CL9","v":2},{"$f":"'JOLLY MINSTER'!CM9","v":0},{"$f":"'JOLLY MINSTER'!CN9","v":1243},{"$f":"'JOLLY MINSTER'!CO9","v":87},{"$f":"'JOLLY MINSTER'!CQ9","v":43.5},{"$f":"'JOLLY MINSTER'!CP9","v":42.862068965517238},0]
[{"$f":"'JOLLY MINSTER'!A10","v":"Tony Read"},{"$f":"'JOLLY MINSTER'!CL10","v":0},{"$f":"'JOLLY MINSTER'!CM10","v":0},{"$f":"'JOLLY MINSTER'!CN10","v":0},{"$f":"'JOLLY MINSTER'!CO10","v":0},{"$f":"'JOLLY MINSTER'!CQ10","v":0},{"$f":"'JOLLY MINSTER'!CP10","v":0},0]
[{"$f":"'JOLLY MINSTER'!A11","v":"Josh Willis"},{"$f":"'JOLLY MINSTER'!CL11","v":0},{"$f":"'JOLLY MINSTER'!CM11","v":0},{"$f":"'JOLLY MINSTER'!CN11","v":0},{"$f":"'JOLLY MINSTER'!CO11","v":0},{"$f":"'JOLLY MINSTER'!CQ11","v":0},{"$f":"'JOLLY MINSTER'!CP11","v":0},0]
[{"$f":"'JOLLY MINSTER'!A12","v":"Marty Burns"},{"$f":"'JOLLY MINSTER'!CL12","v":1},{"$f":"'JOLLY MINSTER'!CM12","v":0},{"$f":"'JOLLY MINSTER'!CN12","v":587},{"$f":"'JOLLY MINSTER'!CO12","v":45},{"$f":"'JOLLY MINSTER'!CQ12","v":45},{"$f":"'JOLLY MINSTER'!CP12","v":39.133333333333333},0]
[{"$f":"'JOLLY MINSTER'!A13","v":0},{"$f":"'JOLLY MINSTER'!CL13","v":0},{"$f":"'JOLLY MINSTER'!CM13","v":0},{"$f":"'JOLLY MINSTER'!CN13","v":0},{"$f":"'JOLLY MINSTER'!CO13","v":0},{"$f":"'JOLLY MINSTER'!CQ13","v":0},{"$f":"'JOLLY MINSTER'!CP13","v":0},0]
[{"$f":"'JOLLY MINSTER'!A14","v":0},{"$f":"'JOLLY MINSTER'!CL14","v":0},{"$f":"'JOLLY MINSTER'!CM14","v":0},{"$f":"'JOLLY MINSTER'!CN14","v":0},{"$f":"'JOLLY MINSTER'!CO14","v":0},{"$f":"'JOLLY MINSTER'!CQ14","v":0},{"$f":"'JOLLY MINSTER'!CP14","v":0},0]
[{"$f":"'WORKMENS CLUB \"A\"'!A3","v":"Mick Smedley"},{"$f":"'WORKMENS CLUB \"A\"'!CL3","v":15},{"$f":"'WORKMENS CLUB \"A\"'!CM3","v":11},{"$f":"'WORKMENS CLUB \"A\"'!CN3","v":9860},{"$f":"'WORKMENS CLUB \"A\"'!CO3","v":597},{"$f":"'WORKMENS CLUB \"A\"'!CQ3","v":39.799999999999997},{"$f":"'WORKMENS CLUB \"A\"'!CP3","v":49.547738693467338},1]
[{"$f":"'WORKMENS CLUB \"A\"'!A4","v":"Joe Hutchinson"},{"$f":"'WORKMENS CLUB \"A\"'!CL4","v":14},{"$f":"'WORKMENS CLUB \"A\"'!CM4","v":6},{"$f":"'WORKMENS CLUB \"A\"'!CN4","v":9282},{"$f":"'WORKMENS CLUB \"A\"'!CO4","v":577},{"$f":"'WORKMENS CLUB \"A\"'!CQ4","v":41.214285714285715},{"$f":"'WORKMENS CLUB \"A\"'!CP4","v":48.259965337954938},1]
[{"$f":"'WORKMENS CLUB \"A\"'!A5","v":"Andy Etherington"},{"$f":"'WORKMENS CLUB \"A\"'!CL5","v":13},{"$f":"'WORKMENS CLUB \"A\"'!CM5","v":6},{"$f":"'WORKMENS CLUB \"A\"'!CN5","v":8447},{"$f":"'WORKMENS CLUB \"A\"'!CO5","v":484},{"$f":"'WORKMENS CLUB \"A\"'!CQ5","v":37.230769230769234},{"$f":"'WORKMENS CLUB \"A\"'!CP5","v":52.357438016528917},1]
[{"$f":"'WORKMENS CLUB \"A\"'!A6","v":"Bill Rispin"},{"$f":"'WORKMENS CLUB \"A\"'!CL6","v":6},{"$f":"'WORKMENS CLUB \"A\"'!CM6","v":1},{"$f":"'WORKMENS CLUB \"A\"'!CN6","v":3385},{"$f":"'WORKMENS CLUB \"A\"'!CO6","v":204},{"$f":"'WORKMENS CLUB \"A\"'!CQ6","v":34},{"$f":"'WORKMENS CLUB \"A\"'!CP6","v":49.779411764705884},0]
[{"$f":"'WORKMENS CLUB \"A\"'!A7","v":"Morris Walker"},{"$f":"'WORKMENS CLUB \"A\"'!CL7","v":16},{"$f":"'WORKMENS CLUB \"A\"'!CM7","v":10},{"$f":"'WORKMENS CLUB \"A\"'!CN7","v":10318},{"$f":"'WORKMENS CLUB \"A\"'!CO7","v":629},{"$f":"'WORKMENS CLUB \"A\"'!CQ7","v":39.3125},{"$f":"'WORKMENS CLUB \"A\"'!CP7","v":49.211446740858506},1]
[{"$f":"'WORKMENS CLUB \"A\"'!A8","v":"Morris Weighell"},{"$f":"'WORKMENS CLUB \"A\"'!CL8","v":7},{"$f":"'WORKMENS CLUB \"A\"'!CM8","v":2},{"$f":"'WORKMENS CLUB \"A\"'!CN8","v":4508},{"$f":"'WORKMENS CLUB \"A\"'!CO8","v":326},{"$f":"'WORKMENS CLUB \"A\"'!CQ8","v":46.571428571428569},{"$f":"'WORKMENS CLUB \"A\"'!CP8","v":41.484662576687114},0]
[{"$f":"'WORKMENS CLUB \"A\"'!A9","v":"Tom Melvil"},{"$f":"'WORKMENS CLUB \"A\"'!CL9","v":1},{"$f":"'WORKMENS CLUB \"A\"'!CM9","v":0},{"$f":"'WORKMENS CLUB \"A\"'!CN9","v":450},{"$f":"'WORKMENS CLUB \"A\"'!CO9","v":36},{"$f":"'WORKMENS CLUB \"A\"'!CQ9","v":36},{"$f":"'WORKMENS CLUB \"A\"'!CP9","v":37.5},0]
[{"$f":"'WORKMENS CLUB \"A\"'!A10","v":"Chris Pattison"},{"$f":"'WORKMENS CLUB \"A\"'!CL10","v":8},{"$f":"'WORKMENS CLUB \"A\"'!CM10","v":5},{"$f":"'WORKMENS CLUB \"A\"'!CN10","v":5388},{"$f":"'WORKMENS CLUB \"A\"'!CO10","v":323},{"$f":"'WORKMENS CLUB \"A\"'!CQ10","v":40.375},{"$f":"'WORKMENS CLUB \"A\"'!CP10","v":50.043343653250773},0]
[{"$f":"'WORKMENS CLUB \"A\"'!A11","v":"Matthew Cornforth"},{"$f":"'WORKMENS CLUB \"A\"'!CL11","v":15},{"$f":"'WORKMENS CLUB \"A\"'!CM11","v":8},{"$f":"'WORKMENS CLUB \"A\"'!CN11","v":10072},{"$f":"'WORKMENS CLUB \"A\"'!CO11","v":557},{"$f":"'WORKMENS CLUB \"A\"'!CQ11","v":37.133333333333333},{"$f":"'WORKMENS CLUB \"A\"'!CP11","v":54.247755834829448},1]
[{"$f":"'WORKMENS CLUB \"A\"'!A12","v":"John Oliver"},{"$f":"'WORKMENS CLUB \"A\"'!CL12","v":0},{"$f":"'WORKMENS CLUB \"A\"'!CM12","v":0},{"$f":"'WORKMENS CLUB \"A\"'!CN12","v":0},{"$f":"'WORKMENS CLUB \"A\"'!CO12","v":0},{"$f":"'WORKMENS CLUB \"A\"'!CQ12","v":0},{"$f":"'WORKMENS CLUB \"A\"'!CP12","v":0},0]
[{"$f":"'WORKMENS CLUB \"A\"'!A13","v":0},{"$f":"'WORKMENS CLUB \"A\"'!CL13","v":0},{"$f":"'WORKMENS CLUB \"A\"'!CM13","v":0},{"$f":"'WORKMENS CLUB \"A\"'!CN13","v":0},{"$f":"'WORKMENS CLUB \"A\"'!CO13","v":0},{"$f":"'WORKMENS CLUB \"A\"'!CQ13","v":0},{"$f":"'WORKMENS CLUB \"A\"'!CP13","v":0},0]
[{"$f":"'WORKMENS CLUB \"A\"'!A14","v":0},{"$f":"'WORKMENS CLUB \"A\"'!CL14","v":0},{"$f":"'WORKMENS CLUB \"A\"'!CM14","v":0},{"$f":"'WORKMENS CLUB \"A\"'!CN14","v":0},{"$f":"'WORKMENS CLUB \"A\"'!CO14","v":0},{"$f":"'WORKMENS CLUB \"A\"'!CQ14","v":0},{"$f":"'WORKMENS CLUB \"A\"'!CP14","v":0},0]
[{"$f":"'BUCK INN'!A3","v":"Jim Timmons"},{"$f":"'BUCK INN'!CL3","v":0},{"$f":"'BUCK INN'!CM3","v":0},{"$f":"'BUCK INN'!CN3","v":0},{"$f":"'BUCK INN'!CO3","v":0},{"$f":"'BUCK INN'!CQ3","v":0},{"$f":"'BUCK INN'!CP3","v":0},0]
[{"$f":"'BUCK INN'!A4","v":"Graham Lake"},{"$f":"'BUCK INN'!CL4","v":0},{"$f":"'BUCK INN'!CM4","v":0},{"$f":"'BUCK INN'!CN4","v":0},{"$f":"'BUCK INN'!CO4","v":0},{"$f":"'BUCK INN'!CQ4","v":0},{"$f":"'BUCK INN'!CP4","v":0},0]
[{"$f":"'BUCK INN'!A5","v":"Kireon Timmons"},{"$f":"'BUCK INN'!CL5","v":0},{"$f":"'BUCK INN'!CM5","v":0},{"$f":"'BUCK INN'!CN5","v":0},{"$f":"'BUCK INN'!CO5","v":0},{"$f":"'BUCK INN'!CQ5","v":0},{"$f":"'BUCK INN'!CP5","v":0},0]
[{"$f":"'BUCK INN'!A6","v":"Kenny Kerrigan"},{"$f":"'BUCK INN'!CL6","v":0},{"$f":"'BUCK INN'!CM6","v":0},{"$f":"'BUCK INN'!CN6","v":0},{"$f":"'BUCK INN'!CO6","v":0},{"$f":"'BUCK INN'!CQ6","v":0},{"$f":"'BUCK INN'!CP6","v":0},0]
[{"$f":"'BUCK INN'!A7","v":"Lee Johnson"},{"$f":"'BUCK INN'!CL7","v":0},{"$f":"'BUCK INN'!CM7","v":0},{"$f":"'BUCK INN'!CN7","v":0},{"$f":"'BUCK INN'!CO7","v":0},{"$f":"'BUCK INN'!CQ7","v":0},{"$f":"'BUCK INN'!CP7","v":0},0]
[{"$f":"'BUCK INN'!A8","v":"Chris Timmons"},{"$f":"'BUCK INN'!CL8","v":0},{"$f":"'BUCK INN'!CM8","v":0},{"$f":"'BUCK INN'!CN8","v":0},{"$f":"'BUCK INN'!CO8","v":0},{"$f":"'BUCK INN'!CQ8","v":0},{"$f":"'BUCK INN'!CP8","v":0},{"$f":"IF(B67>=10,1,0)","v":0}]
[{"$f":"'BUCK INN'!A9","v":"M. Meadley"},{"$f":"'BUCK INN'!CL9","v":0},{"$f":"'BUCK INN'!CM9","v":0},{"$f":"'BUCK INN'!CN9","v":0},{"$f":"'BUCK INN'!CO9","v":0},{"$f":"'BUCK INN'!CQ9","v":0},{"$f":"'BUCK INN'!CP9","v":0},0]
[{"$f":"'BUCK INN'!A10","v":0},{"$f":"'BUCK INN'!CL10","v":0},{"$f":"'BUCK INN'!CM10","v":0},{"$f":"'BUCK INN'!CN10","v":0},{"$f":"'BUCK INN'!CO10","v":0},{"$f":"'BUCK INN'!CQ10","v":0},{"$f":"'BUCK INN'!CP10","v":0},0]
[{"$f":"'BUCK INN'!A11","v":0},{"$f":"'BUCK INN'!CL11","v":0},{"$f":"'BUCK INN'!CM11","v":0},{"$f":"'BUCK INN'!CN11","v":0},{"$f":"'BUCK INN'!CO11","v":0},{"$f":"'BUCK INN'!CQ11","v":0},{"$f":"'BUCK INN'!CP11","v":0},0]
[{"$f":"'BUCK INN'!A12","v":0},{"$f":"'BUCK INN'!CL12","v":0},{"$f":"'BUCK INN'!CM12","v":0},{"$f":"'BUCK INN'!CN12","v":0},{"$f":"'BUCK INN'!CO12","v":0},{"$f":"'BUCK INN'!CQ12","v":0},{"$f":"'BUCK INN'!CP12","v":0},0]
[{"$f":"'BUCK INN'!A13","v":0},{"$f":"'BUCK INN'!CL13","v":0},{"$f":"'BUCK INN'!CM13","v":0},{"$f":"'BUCK INN'!CN13","v":0},{"$f":"'BUCK INN'!CO13","v":0},{"$f":"'BUCK INN'!CQ13","v":0},{"$f":"'BUCK INN'!CP13","v":0},0]
[{"$f":"'BUCK INN'!A14","v":0},{"$f":"'BUCK INN'!CL14","v":0},{"$f":"'BUCK INN'!CM14","v":0},{"$f":"'BUCK INN'!CN14","v":0},{"$f":"'BUCK INN'!CO14","v":0},{"$f":"'BUCK INN'!CQ14","v":0},{"$f":"'BUCK INN'!CP14","v":0},0]
[{"$f":"'ODD FELLOWS'!A3","v":"Steve Monk"},{"$f":"'ODD FELLOWS'!CL3","v":10},{"$f":"'ODD FELLOWS'!CM3","v":2},{"$f":"'ODD FELLOWS'!CN3","v":6365},{"$f":"'ODD FELLOWS'!CO3","v":410},{"$f":"'ODD FELLOWS'!CQ3","v":41},{"$f":"'ODD FELLOWS'!CP3","v":46.573170731707314},1]
[{"$f":"'ODD FELLOWS'!A4","v":"Craig Monk"},{"$f":"'ODD FELLOWS'!CL4","v":16},{"$f":"'ODD FELLOWS'!CM4","v":13},{"$f":"'ODD FELLOWS'!CN4","v":11159},{"$f":"'ODD FELLOWS'!CO4","v":497},{"$f":"'ODD FELLOWS'!CQ4","v":31.0625},{"$f":"'ODD FELLOWS'!CP4","v":67.358148893360166},1]
[{"$f":"'ODD FELLOWS'!A5","v":"Liam Monk"},{"$f":"'ODD FELLOWS'!CL5","v":0},{"$f":"'ODD FELLOWS'!CM5","v":0},{"$f":"'ODD FELLOWS'!CN5","v":0},{"$f":"'ODD FELLOWS'!CO5","v":0},{"$f":"'ODD FELLOWS'!CQ5","v":0},{"$f":"'ODD FELLOWS'!CP5","v":0},0]
[{"$f":"'ODD FELLOWS'!A6","v":"Alan Martin"},{"$f":"'ODD FELLOWS'!CL6","v":15},{"$f":"'ODD FELLOWS'!CM6","v":13},{"$f":"'ODD FELLOWS'!CN6","v":10497},{"$f":"'ODD FELLOWS'!CO6","v":518},{"$f":"'ODD FELLOWS'!CQ6","v":34.533333333333331},{"$f":"'ODD FELLOWS'!CP6","v":60.793436293436287},1]
[{"$f":"'ODD FELLOWS'!A7","v":"Tim Whiting JNR"},{"$f":"'ODD FELLOWS'!CL7","v":16},{"$f":"'ODD FELLOWS'!CM7","v":9},{"$f":"'ODD FELLOWS'!CN7","v":10408},{"$f":"'ODD FELLOWS'!CO7","v":593},{"$f":"'ODD FELLOWS'!CQ7","v":37.0625},{"$f":"'ODD FELLOWS'!CP7","v":52.654300168634066},1]
[{"$f":"'ODD FELLOWS'!A8","v":"Tim Whiting SNR"},{"$f":"'ODD FELLOWS'!CL8","v":0},{"$f":"'ODD FELLOWS'!CM8","v":0},{"$f":"'ODD FELLOWS'!CN8","v":0},{"$f":"'ODD FELLOWS'!CO8","v":0},{"$f":"'ODD FELLOWS'!CQ8","v":0},{"$f":"'ODD FELLOWS'!CP8","v":0},0]
[{"$f":"'ODD FELLOWS'!A9","v":"Darren Downs"},{"$f":"'ODD FELLOWS'!CL9","v":8},{"$f":"'ODD FELLOWS'!CM9","v":2},{"$f":"'ODD FELLOWS'!CN9","v":4857},{"$f":"'ODD FELLOWS'!CO9","v":355},{"$f":"'ODD FELLOWS'!CQ9","v":44.375},{"$f":"'ODD FELLOWS'!CP9","v":41.045070422535211},0]
[{"$f":"'ODD FELLOWS'!A10","v":"Dennis Clarkson"},{"$f":"'ODD FELLOWS'!CL10","v":16},{"$f":"'ODD FELLOWS'!CM10","v":13},{"$f":"'ODD FELLOWS'!CN10","v":11164},{"$f":"'ODD FELLOWS'!CO10","v":525},{"$f":"'ODD FELLOWS'!CQ10","v":32.8125},{"$f":"'ODD FELLOWS'!CP10","v":63.794285714285714},1]
[{"$f":"'ODD FELLOWS'!A11","v":"Alex Sinclair"},{"$f":"'ODD FELLOWS'!CL11","v":3},{"$f":"'ODD FELLOWS'!CM11","v":2},{"$f":"'ODD FELLOWS'!CN11","v":1886},{"$f":"'ODD FELLOWS'!CO11","v":119},{"$f":"'ODD FELLOWS'!CQ11","v":39.666666666666664},{"$f":"'ODD FELLOWS'!CP11","v":47.54621848739496},0]
[{"$f":"'ODD FELLOWS'!A12","v":"Carl Bickerton"},{"$f":"'ODD FELLOWS'!CL12","v":11},{"$f":"'ODD FELLOWS'!CM12","v":5},{"$f":"'ODD FELLOWS'!CN12","v":6984},{"$f":"'ODD FELLOWS'!CO12","v":485},{"$f":"'ODD FELLOWS'!CQ12","v":44.090909090909093},{"$f":"'ODD FELLOWS'!CP12","v":43.2},1]
[{"$f":"'ODD FELLOWS'!A13","v":0},{"$f":"'ODD FELLOWS'!CL13","v":0},{"$f":"'ODD FELLOWS'!CM13","v":0},{"$f":"'ODD FELLOWS'!CN13","v":0},{"$f":"'ODD FELLOWS'!CO13","v":0},{"$f":"'ODD FELLOWS'!CQ13","v":0},{"$f":"'ODD FELLOWS'!CP13","v":0},0]
[{"$f":"'ODD FELLOWS'!A14","v":0},{"$f":"'ODD FELLOWS'!CL14","v":0},{"$f":"'ODD FELLOWS'!CM14","v":0},{"$f":"'ODD FELLOWS'!CN14","v":0},{"$f":"'ODD FELLOWS'!CO14","v":0},{"$f":"'ODD FELLOWS'!CQ14","v":0},{"$f":"'ODD FELLOWS'!CP14","v":0},0]
[{"$f":"SPORTSMANS!A3","v":"Nigel Outram"},{"$f":"SPORTSMANS!CL3","v":16},{"$f":"SPORTSMANS!CM3","v":12},{"$f":"SPORTSMANS!CN3","v":10659},{"$f":"SPORTSMANS!CO3","v":546},{"$f":"SPORTSMANS!CQ3","v":34.125},{"$f":"SPORTSMANS!CP3","v":58.565934065934066},1]
[{"$f":"SPORTSMANS!A4","v":"Martin Young"},{"$f":"SPORTSMANS!CL4","v":16},{"$f":"SPORTSMANS!CM4","v":8},{"$f":"SPORTSMANS!CN4","v":10507},{"$f":"SPORTSMANS!CO4","v":601},{"$f":"SPORTSMANS!CQ4","v":37.5625},{"$f":"SPORTSMANS!CP4","v":52.447587354409322},1]
[{"$f":"SPORTSMANS!A5","v":"Andy Monk"},{"$f":"SPORTSMANS!CL5","v":16},{"$f":"SPORTSMANS!CM5","v":8},{"$f":"SPORTSMANS!CN5","v":10543},{"$f":"SPORTSMANS!CO5","v":614},{"$f":"SPORTSMANS!CQ5","v":38.375},{"$f":"SPORTSMANS!CP5","v":51.513029315960907},1]
[{"$f":"SPORTSMANS!A6","v":"Pete Young"},{"$f":"SPORTSMANS!CL6","v":3},{"$f":"SPORTSMANS!CM6","v":0},{"$f":"SPORTSMANS!CN6","v":1680},{"$f":"SPORTSMANS!CO6","v":117},{"$f":"SPORTSMANS!CQ6","v":39},{"$f":"SPORTSMANS!CP6","v":43.07692307692308},0]
[{"$f":"SPORTSMANS!A7","v":"Kyle Young"},{"$f":"SPORTSMANS!CL7","v":15},{"$f":"SPORTSMANS!CM7","v":14},{"$f":"SPORTSMANS!CN7","v":10466},{"$f":"SPORTSMANS!CO7","v":511},{"$f":"SPORTSMANS!CQ7","v":34.06666666666667},{"$f":"SPORTSMANS!CP7","v":61.444227005870843},1]
[{"$f":"SPORTSMANS!A8","v":"Baz Pearson"},{"$f":"SPORTSMANS!CL8","v":13},{"$f":"SPORTSMANS!CM8","v":8},{"$f":"SPORTSMANS!CN8","v":8478},{"$f":"SPORTSMANS!CO8","v":566},{"$f":"SPORTSMANS!CQ8","v":43.53846153846154},{"$f":"SPORTSMANS!CP8","v":44.936395759717314},1]
[{"$f":"SPORTSMANS!A9","v":"Ian Whittaker"},{"$f":"SPORTSMANS!CL9","v":15},{"$f":"SPORTSMANS!CM9","v":12},{"$f":"SPORTSMANS!CN9","v":10328},{"$f":"SPORTSMANS!CO9","v":520},{"$f":"SPORTSMANS!CQ9","v":34.666666666666664},{"$f":"SPORTSMANS!CP9","v":59.58461538461539},1]
[{"$f":"SPORTSMANS!A10","v":"Ian Windress"},{"$f":"SPORTSMANS!CL10","v":0},{"$f":"SPORTSMANS!CM10","v":0},{"$f":"SPORTSMANS!CN10","v":0},{"$f":"SPORTSMANS!CO10","v":0},{"$f":"SPORTSMANS!CQ10","v":0},{"$f":"SPORTSMANS!CP10","v":0},0]
[{"$f":"SPORTSMANS!A11","v":"Dan Clarke"},{"$f":"SPORTSMANS!CL11","v":0},{"$f":"SPORTSMANS!CM11","v":0},{"$f":"SPORTSMANS!CN11","v":0},{"$f":"SPORTSMANS!CO11","v":0},{"$f":"SPORTSMANS!CQ11","v":0},{"$f":"SPORTSMANS!CP11","v":0},0]
[{"$f":"SPORTSMANS!A12","v":"Jack Stevenson"},{"$f":"SPORTSMANS!CL12","v":2},{"$f":"SPORTSMANS!CM12","v":1},{"$f":"SPORTSMANS!CN12","v":1235},{"$f":"SPORTSMANS!CO12","v":82},{"$f":"SPORTSMANS!CQ12","v":41},{"$f":"SPORTSMANS!CP12","v":45.18292682926829},0]
[{"$f":"SPORTSMANS!A13","v":0},{"$f":"SPORTSMANS!CL13","v":0},{"$f":"SPORTSMANS!CM13","v":0},{"$f":"SPORTSMANS!CN13","v":0},{"$f":"SPORTSMANS!CO13","v":0},{"$f":"SPORTSMANS!CQ13","v":0},{"$f":"SPORTSMANS!CP13","v":0},0]
[{"$f":"SPORTSMANS!A14","v":0},{"$f":"SPORTSMANS!CL14","v":0},{"$f":"SPORTSMANS!CM14","v":0},{"$f":"SPORTSMANS!CN14","v":0},{"$f":"SPORTSMANS!CO14","v":0},{"$f":"SPORTSMANS!CQ14","v":0},{"$f":"SPORTSMANS!CP14","v":0},0]
[{"$f":"'WORKMENS CLUB \"B\"'!A3","v":"Chris Whiting"},{"$f":"'WORKMENS CLUB \"B\"'!CL3","v":7},{"$f":"'WORKMENS CLUB \"B\"'!CM3","v":2},{"$f":"'WORKMENS CLUB \"B\"'!CN3","v":3904},{"$f":"'WORKMENS CLUB \"B\"'!CO3","v":281},{"$f":"'WORKMENS CLUB \"B\"'!CQ3","v":40.142857142857146},{"$f":"'WORKMENS CLUB \"B\"'!CP3","v":41.679715302491104},0]
[{"$f":"'WORKMENS CLUB \"B\"'!A4","v":"Phil Wells"},{"$f":"'WORKMENS CLUB \"B\"'!CL4","v":9},{"$f":"'WORKMENS CLUB \"B\"'!CM4","v":3},{"$f":"'WORKMENS CLUB \"B\"'!CN4","v":5612},{"$f":"'WORKMENS CLUB \"B\"'!CO4","v":385},{"$f":"'WORKMENS CLUB \"B\"'!CQ4","v":42.777777777777779},{"$f":"'WORKMENS CLUB \"B\"'!CP4","v":43.729870129870136},0]
[{"$f":"'WORKMENS CLUB \"B\"'!A5","v":"Ian Richards"},{"$f":"'WORKMENS CLUB \"B\"'!CL5","v":13},{"$f":"'WORKMENS CLUB \"B\"'!CM5","v":7},{"$f":"'WORKMENS CLUB \"B\"'!CN5","v":8488},{"$f":"'WORKMENS CLUB \"B\"'!CO5","v":482},{"$f":"'WORKMENS CLUB \"B\"'!CQ5","v":37.07692307692308},{"$f":"'WORKMENS CLUB \"B\"'!CP5","v":52.829875518672203},1]
[{"$f":"'WORKMENS CLUB \"B\"'!A6","v":"Adam Richards"},{"$f":"'WORKMENS CLUB \"B\"'!CL6","v":0},{"$f":"'WORKMENS CLUB \"B\"'!CM6","v":0},{"$f":"'WORKMENS CLUB \"B\"'!CN6","v":0},{"$f":"'WORKMENS CLUB \"B\"'!CO6","v":0},{"$f":"'WORKMENS CLUB \"B\"'!CQ6","v":0},{"$f":"'WORKMENS CLUB \"B\"'!CP6","v":0},0]
[{"$f":"'WORKMENS CLUB \"B\"'!A7","v":"Alex Watson"},{"$f":"'WORKMENS CLUB \"B\"'!CL7","v":9},{"$f":"'WORKMENS CLUB \"B\"'!CM7","v":4},{"$f":"'WORKMENS CLUB \"B\"'!CN7","v":5882},{"$f":"'WORKMENS CLUB \"B\"'!CO7","v":390},{"$f":"'WORKMENS CLUB \"B\"'!CQ7","v":43.333333333333336},{"$f":"'WORKMENS CLUB \"B\"'!CP7","v":45.246153846153845},0]
[{"$f":"'WORKMENS CLUB \"B\"'!A8","v":"Ian Appleby"},{"$f":"'WORKMENS CLUB \"B\"'!CL8","v":0},{"$f":"'WORKMENS CLUB \"B\"'!CM8","v":0},{"$f":"'WORKMENS CLUB \"B\"'!CN8","v":0},{"$f":"'WORKMENS CLUB \"B\"'!CO8","v":0},{"$f":"'WORKMENS CLUB \"B\"'!CQ8","v":0},{"$f":"'WORKMENS CLUB \"B\"'!CP8","v":0},0]
[{"$f":"'WORKMENS CLUB \"B\"'!A9","v":"Bob Carter"},{"$f":"'WORKMENS CLUB \"B\"'!CL9","v":14},{"$f":"'WORKMENS CLUB \"B\"'!CM9","v":8},{"$f":"'WORKMENS CLUB \"B\"'!CN9","v":9228},{"$f":"'WORKMENS CLUB \"B\"'!CO9","v":523},{"$f":"'WORKMENS CLUB \"B\"'!CQ9","v":37.357142857142854},{"$f":"'WORKMENS CLUB \"B\"'!CP9","v":52.933078393881452},1]
[{"$f":"'WORKMENS CLUB \"B\"'!A10","v":"B. Dawson"},{"$f":"'WORKMENS CLUB \"B\"'!CL10","v":12},{"$f":"'WORKMENS CLUB \"B\"'!CM10","v":3},{"$f":"'WORKMENS CLUB \"B\"'!CN10","v":7284},{"$f":"'WORKMENS CLUB \"B\"'!CO10","v":511},{"$f":"'WORKMENS CLUB \"B\"'!CQ10","v":42.583333333333336},{"$f":"'WORKMENS CLUB \"B\"'!CP10","v":42.763209393346379},1]
[{"$f":"'WORKMENS CLUB \"B\"'!A11","v":"Trevor Brown"},{"$f":"'WORKMENS CLUB \"B\"'!CL11","v":15},{"$f":"'WORKMENS CLUB \"B\"'!CM11","v":7},{"$f":"'WORKMENS CLUB \"B\"'!CN11","v":9819},{"$f":"'WORKMENS CLUB \"B\"'!CO11","v":646},{"$f":"'WORKMENS CLUB \"B\"'!CQ11","v":43.06666666666667},{"$f":"'WORKMENS CLUB \"B\"'!CP11","v":45.599071207430342},1]
[{"$f":"'WORKMENS CLUB \"B\"'!A12","v":"Mark Cox"},{"$f":"'WORKMENS CLUB \"B\"'!CL12","v":16},{"$f":"'WORKMENS CLUB \"B\"'!CM12","v":8},{"$f":"'WORKMENS CLUB \"B\"'!CN12","v":10376},{"$f":"'WORKMENS CLUB \"B\"'!CO12","v":584},{"$f":"'WORKMENS CLUB \"B\"'!CQ12","v":36.5},{"$f":"'WORKMENS CLUB \"B\"'!CP12","v":53.301369863013697},1]
[{"$f":"'WORKMENS CLUB \"B\"'!A13","v":0},{"$f":"'WORKMENS CLUB \"B\"'!CL13","v":0},{"$f":"'WORKMENS CLUB \"B\"'!CM13","v":0},{"$f":"'WORKMENS CLUB \"B\"'!CN13","v":0},{"$f":"'WORKMENS CLUB \"B\"'!CO13","v":0},{"$f":"'WORKMENS CLUB \"B\"'!CQ13","v":0},{"$f":"'WORKMENS CLUB \"B\"'!CP13","v":0},0]
[{"$f":"'WORKMENS CLUB \"B\"'!A14","v":0},{"$f":"'WORKMENS CLUB \"B\"'!CL14","v":0},{"$f":"'WORKMENS CLUB \"B\"'!CM14","v":0},{"$f":"'WORKMENS CLUB \"B\"'!CN14","v":0},{"$f":"'WORKMENS CLUB \"B\"'!CO14","v":0},{"$f":"'WORKMENS CLUB \"B\"'!CQ14","v":0},{"$f":"'WORKMENS CLUB \"B\"'!CP14","v":0},0]
[{"$f":"'NAGS HEAD \"B\"'!A3","v":"Andy Johnson"},{"$f":"'NAGS HEAD \"B\"'!CL3","v":15},{"$f":"'NAGS HEAD \"B\"'!CM3","v":7},{"$f":"'NAGS HEAD \"B\"'!CN3","v":9503},{"$f":"'NAGS HEAD \"B\"'!CO3","v":551},{"$f":"'NAGS HEAD \"B\"'!CQ3","v":36.733333333333334},{"$f":"'NAGS HEAD \"B\"'!CP3","v":51.740471869328495},1]
[{"$f":"'NAGS HEAD \"B\"'!A4","v":"Andy Haw"},{"$f":"'NAGS HEAD \"B\"'!CL4","v":15},{"$f":"'NAGS HEAD \"B\"'!CM4","v":5},{"$f":"'NAGS HEAD \"B\"'!CN4","v":9408},{"$f":"'NAGS HEAD \"B\"'!CO4","v":650},{"$f":"'NAGS HEAD \"B\"'!CQ4","v":43.333333333333336},{"$f":"'NAGS HEAD \"B\"'!CP4","v":43.421538461538461},1]
[{"$f":"'NAGS HEAD \"B\"'!A5","v":"Steve Atkinson"},{"$f":"'NAGS HEAD \"B\"'!CL5","v":12},{"$f":"'NAGS HEAD \"B\"'!CM5","v":3},{"$f":"'NAGS HEAD \"B\"'!CN5","v":7985},{"$f":"'NAGS HEAD \"B\"'!CO5","v":525},{"$f":"'NAGS HEAD \"B\"'!CQ5","v":43.75},{"$f":"'NAGS HEAD \"B\"'!CP5","v":45.628571428571426},1]
[{"$f":"'NAGS HEAD \"B\"'!A6","v":"Gaz Lumley"},{"$f":"'NAGS HEAD \"B\"'!CL6","v":10},{"$f":"'NAGS HEAD \"B\"'!CM6","v":3},{"$f":"'NAGS HEAD \"B\"'!CN6","v":6019},{"$f":"'NAGS HEAD \"B\"'!CO6","v":393},{"$f":"'NAGS HEAD \"B\"'!CQ6","v":39.299999999999997},{"$f":"'NAGS HEAD \"B\"'!CP6","v":45.94656488549618},1]
[{"$f":"'NAGS HEAD \"B\"'!A7","v":"Dave Crilly"},{"$f":"'NAGS HEAD \"B\"'!CL7","v":15},{"$f":"'NAGS HEAD \"B\"'!CM7","v":4},{"$f":"'NAGS HEAD \"B\"'!CN7","v":9133},{"$f":"'NAGS HEAD \"B\"'!CO7","v":560},{"$f":"'NAGS HEAD \"B\"'!CQ7","v":37.333333333333336},{"$f":"'NAGS HEAD \"B\"'!CP7","v":48.926785714285714},1]
[{"$f":"'NAGS HEAD \"B\"'!A8","v":"Steve Cooke"},{"$f":"'NAGS HEAD \"B\"'!CL8","v":13},{"$f":"'NAGS HEAD \"B\"'!CM8","v":6},{"$f":"'NAGS HEAD \"B\"'!CN8","v":8209},{"$f":"'NAGS HEAD \"B\"'!CO8","v":521},{"$f":"'NAGS HEAD \"B\"'!CQ8","v":40.07692307692308},{"$f":"'NAGS HEAD \"B\"'!CP8","v":47.268714011516309},1]
[{"$f":"'NAGS HEAD \"B\"'!A9","v":"Jake Doherty"},{"$f":"'NAGS HEAD \"B\"'!CL9","v":1},{"$f":"'NAGS HEAD \"B\"'!CM9","v":0},{"$f":"'NAGS HEAD \"B\"'!CN9","v":699},{"$f":"'NAGS HEAD \"B\"'!CO9","v":48},{"$f":"'NAGS HEAD \"B\"'!CQ9","v":48},{"$f":"'NAGS HEAD \"B\"'!CP9","v":43.6875},0]
[{"$f":"'NAGS HEAD \"B\"'!A10","v":"Steve Gibb"},{"$f":"'NAGS HEAD \"B\"'!CL10","v":0},{"$f":"'NAGS HEAD \"B\"'!CM10","v":0},{"$f":"'NAGS HEAD \"B\"'!CN10","v":0},{"$f":"'NAGS HEAD \"B\"'!CO10","v":0},{"$f":"'NAGS HEAD \"B\"'!CQ10","v":0},{"$f":"'NAGS HEAD \"B\"'!CP10","v":0},0]
[{"$f":"'NAGS HEAD \"B\"'!A11","v":"Stuart Truman"},{"$f":"'NAGS HEAD \"B\"'!CL11","v":9},{"$f":"'NAGS HEAD \"B\"'!CM11","v":2},{"$f":"'NAGS HEAD \"B\"'!CN11","v":5634},{"$f":"'NAGS HEAD \"B\"'!CO11","v":417},{"$f":"'NAGS HEAD \"B\"'!CQ11","v":46.333333333333336},{"$f":"'NAGS HEAD \"B\"'!CP11","v":40.532374100719423},0]
[{"$f":"'NAGS HEAD \"B\"'!A12","v":"Kenny Kerringan"},{"$f":"'NAGS HEAD \"B\"'!CL12","v":5},{"$f":"'NAGS HEAD \"B\"'!CM12","v":1},{"$f":"'NAGS HEAD \"B\"'!CN12","v":2807},{"$f":"'NAGS HEAD \"B\"'!CO12","v":174},{"$f":"'NAGS HEAD \"B\"'!CQ12","v":34.799999999999997},{"$f":"'NAGS HEAD \"B\"'!CP12","v":48.396551724137936},{"$f":"IF(B119>=10,1,0)","v":0}]
[{"$f":"'NAGS HEAD \"B\"'!A13","v":0},{"$f":"'NAGS HEAD \"B\"'!CL13","v":0},{"$f":"'NAGS HEAD \"B\"'!CM13","v":0},{"$f":"'NAGS HEAD \"B\"'!CN13","v":0},{"$f":"'NAGS HEAD \"B\"'!CO13","v":0},{"$f":"'NAGS HEAD \"B\"'!CQ13","v":0},{"$f":"'NAGS HEAD \"B\"'!CP13","v":0},{"$f":"IF(B120>=10,1,0)","v":0}]
[{"$f":"'NAGS HEAD \"B\"'!A14","v":0},{"$f":"'NAGS HEAD \"B\"'!CL14","v":0},{"$f":"'NAGS HEAD \"B\"'!CM14","v":0},{"$f":"'NAGS HEAD \"B\"'!CN14","v":0},{"$f":"'NAGS HEAD \"B\"'!CO14","v":0},{"$f":"'NAGS HEAD \"B\"'!CQ14","v":0},{"$f":"'NAGS HEAD \"B\"'!CP14","v":0},{"$f":"IF(B121>=10,1,0)","v":0}]
[{"$f":"'Team 11 - Unused'!A3","v":0},{"$f":"'Team 11 - Unused'!CL3","v":0},{"$f":"'Team 11 - Unused'!CM3","v":0},{"$f":"'Team 11 - Unused'!CN3","v":0},{"$f":"'Team 11 - Unused'!CO3","v":0},{"$f":"'Team 11 - Unused'!CQ3","v":0},{"$f":"'Team 11 - Unused'!CP3","v":0},{"$f":"IF(B122>=10,1,0)","v":0}]
[{"$f":"'Team 11 - Unused'!A4","v":0},{"$f":"'Team 11 - Unused'!CL4","v":0},{"$f":"'Team 11 - Unused'!CM4","v":0},{"$f":"'Team 11 - Unused'!CN4","v":0},{"$f":"'Team 11 - Unused'!CO4","v":0},{"$f":"'Team 11 - Unused'!CQ4","v":0},{"$f":"'Team 11 - Unused'!CP4","v":0},0]
[{"$f":"'Team 11 - Unused'!A5","v":0},{"$f":"'Team 11 - Unused'!CL5","v":0},{"$f":"'Team 11 - Unused'!CM5","v":0},{"$f":"'Team 11 - Unused'!CN5","v":0},{"$f":"'Team 11 - Unused'!CO5","v":0},{"$f":"'Team 11 - Unused'!CQ5","v":0},{"$f":"'Team 11 - Unused'!CP5","v":0},0]
[{"$f":"'Team 11 - Unused'!A6","v":0},{"$f":"'Team 11 - Unused'!CL6","v":0},{"$f":"'Team 11 - Unused'!CM6","v":0},{"$f":"'Team 11 - Unused'!CN6","v":0},{"$f":"'Team 11 - Unused'!CO6","v":0},{"$f":"'Team 11 - Unused'!CQ6","v":0},{"$f":"'Team 11 - Unused'!CP6","v":0},0]
[{"$f":"'Team 11 - Unused'!A7","v":0},{"$f":"'Team 11 - Unused'!CL7","v":0},{"$f":"'Team 11 - Unused'!CM7","v":0},{"$f":"'Team 11 - Unused'!CN7","v":0},{"$f":"'Team 11 - Unused'!CO7","v":0},{"$f":"'Team 11 - Unused'!CQ7","v":0},{"$f":"'Team 11 - Unused'!CP7","v":0},0]
[{"$f":"'Team 11 - Unused'!A8","v":0},{"$f":"'Team 11 - Unused'!CL8","v":0},{"$f":"'Team 11 - Unused'!CM8","v":0},{"$f":"'Team 11 - Unused'!CN8","v":0},{"$f":"'Team 11 - Unused'!CO8","v":0},{"$f":"'Team 11 - Unused'!CQ8","v":0},{"$f":"'Team 11 - Unused'!CP8","v":0},0]
[{"$f":"'Team 11 - Unused'!A9","v":0},{"$f":"'Team 11 - Unused'!CL9","v":0},{"$f":"'Team 11 - Unused'!CM9","v":0},{"$f":"'Team 11 - Unused'!CN9","v":0},{"$f":"'Team 11 - Unused'!CO9","v":0},{"$f":"'Team 11 - Unused'!CQ9","v":0},{"$f":"'Team 11 - Unused'!CP9","v":0},0]
[{"$f":"'Team 11 - Unused'!A10","v":0},{"$f":"'Team 11 - Unused'!CL10","v":0},{"$f":"'Team 11 - Unused'!CM10","v":0},{"$f":"'Team 11 - Unused'!CN10","v":0},{"$f":"'Team 11 - Unused'!CO10","v":0},{"$f":"'Team 11 - Unused'!CQ10","v":0},{"$f":"'Team 11 - Unused'!CP10","v":0},0]
[{"$f":"'Team 11 - Unused'!A11","v":0},{"$f":"'Team 11 - Unused'!CL11","v":0},{"$f":"'Team 11 - Unused'!CM11","v":0},{"$f":"'Team 11 - Unused'!CN11","v":0},{"$f":"'Team 11 - Unused'!CO11","v":0},{"$f":"'Team 11 - Unused'!CQ11","v":0},{"$f":"'Team 11 - Unused'!CP11","v":0},0]
[{"$f":"'Team 11 - Unused'!A12","v":0},{"$f":"'Team 11 - Unused'!CL12","v":0},{"$f":"'Team 11 - Unused'!CM12","v":0},{"$f":"'Team 11 - Unused'!CN12","v":0},{"$f":"'Team 11 - Unused'!CO12","v":0},{"$f":"'Team 11 - Unused'!CQ12","v":0},{"$f":"'Team 11 - Unused'!CP12","v":0},{"$f":"IF(B131>=10,1,0)","v":0}]
[{"$f":"'Team 11 - Unused'!A13","v":0},{"$f":"'Team 11 - Unused'!CL13","v":0},{"$f":"'Team 11 - Unused'!CM13","v":0},{"$f":"'Team 11 - Unused'!CN13","v":0},{"$f":"'Team 11 - Unused'!CO13","v":0},{"$f":"'Team 11 - Unused'!CQ13","v":0},{"$f":"'Team 11 - Unused'!CP13","v":0},{"$f":"IF(B132>=10,1,0)","v":0}]
[{"$f":"'Team 11 - Unused'!A14","v":0},{"$f":"'Team 11 - Unused'!CL14","v":0},{"$f":"'Team 11 - Unused'!CM14","v":0},{"$f":"'Team 11 - Unused'!CN14","v":0},{"$f":"'Team 11 - Unused'!CO14","v":0},{"$f":"'Team 11 - Unused'!CQ14","v":0},{"$f":"'Team 11 - Unused'!CP14","v":0},{"$f":"IF(B133>=10,1,0)","v":0}]
[{"$f":"'Team 12 - Unused'!A3","v":0},{"$f":"'Team 12 - Unused'!CL3","v":0},{"$f":"'Team 12 - Unused'!CM3","v":0},{"$f":"'Team 12 - Unused'!CN3","v":0},{"$f":"'Team 12 - Unused'!CO3","v":0},{"$f":"'Team 12 - Unused'!CQ3","v":0},{"$f":"'Team 12 - Unused'!CP3","v":0},{"$f":"IF(B134>=10,1,0)","v":0}]
[{"$f":"'Team 12 - Unused'!A4","v":0},{"$f":"'Team 12 - Unused'!CL4","v":0},{"$f":"'Team 12 - Unused'!CM4","v":0},{"$f":"'Team 12 - Unused'!CN4","v":0},{"$f":"'Team 12 - Unused'!CO4","v":0},{"$f":"'Team 12 - Unused'!CQ4","v":0},{"$f":"'Team 12 - Unused'!CP4","v":0},{"$f":"IF(B135>=10,1,0)","v":0}]
[{"$f":"'Team 12 - Unused'!A5","v":0},{"$f":"'Team 12 - Unused'!CL5","v":0},{"$f":"'Team 12 - Unused'!CM5","v":0},{"$f":"'Team 12 - Unused'!CN5","v":0},{"$f":"'Team 12 - Unused'!CO5","v":0},{"$f":"'Team 12 - Unused'!CQ5","v":0},{"$f":"'Team 12 - Unused'!CP5","v":0},0]
[{"$f":"'Team 12 - Unused'!A6","v":0},{"$f":"'Team 12 - Unused'!CL6","v":0},{"$f":"'Team 12 - Unused'!CM6","v":0},{"$f":"'Team 12 - Unused'!CN6","v":0},{"$f":"'Team 12 - Unused'!CO6","v":0},{"$f":"'Team 12 - Unused'!CQ6","v":0},{"$f":"'Team 12 - Unused'!CP6","v":0},0]
[{"$f":"'Team 12 - Unused'!A7","v":0},{"$f":"'Team 12 - Unused'!CL7","v":0},{"$f":"'Team 12 - Unused'!CM7","v":0},{"$f":"'Team 12 - Unused'!CN7","v":0},{"$f":"'Team 12 - Unused'!CO7","v":0},{"$f":"'Team 12 - Unused'!CQ7","v":0},{"$f":"'Team 12 - Unused'!CP7","v":0},0]
[{"$f":"'Team 12 - Unused'!A8","v":0},{"$f":"'Team 12 - Unused'!CL8","v":0},{"$f":"'Team 12 - Unused'!CM8","v":0},{"$f":"'Team 12 - Unused'!CN8","v":0},{"$f":"'Team 12 - Unused'!CO8","v":0},{"$f":"'Team 12 - Unused'!CQ8","v":0},{"$f":"'Team 12 - Unused'!CP8","v":0},0]
[{"$f":"'Team 12 - Unused'!A9","v":0},{"$f":"'Team 12 - Unused'!CL9","v":0},{"$f":"'Team 12 - Unused'!CM9","v":0},{"$f":"'Team 12 - Unused'!CN9","v":0},{"$f":"'Team 12 - Unused'!CO9","v":0},{"$f":"'Team 12 - Unused'!CQ9","v":0},{"$f":"'Team 12 - Unused'!CP9","v":0},0]
[{"$f":"'Team 12 - Unused'!A10","v":0},{"$f":"'Team 12 - Unused'!CL10","v":0},{"$f":"'Team 12 - Unused'!CM10","v":0},{"$f":"'Team 12 - Unused'!CN10","v":0},{"$f":"'Team 12 - Unused'!CO10","v":0},{"$f":"'Team 12 - Unused'!CQ10","v":0},{"$f":"'Team 12 - Unused'!CP10","v":0},0]
[{"$f":"'Team 12 - Unused'!A11","v":0},{"$f":"'Team 12 - Unused'!CL11","v":0},{"$f":"'Team 12 - Unused'!CM11","v":0},{"$f":"'Team 12 - Unused'!CN11","v":0},{"$f":"'Team 12 - Unused'!CO11","v":0},{"$f":"'Team 12 - Unused'!CQ11","v":0},{"$f":"'Team 12 - Unused'!CP11","v":0},0]
[{"$f":"'Team 12 - Unused'!A12","v":0},{"$f":"'Team 12 - Unused'!CL12","v":0},{"$f":"'Team 12 - Unused'!CM12","v":0},{"$f":"'Team 12 - Unused'!CN12","v":0},{"$f":"'Team 12 - Unused'!CO12","v":0},{"$f":"'Team 12 - Unused'!CQ12","v":0},{"$f":"'Team 12 - Unused'!CP12","v":0},0]
[{"$f":"'Team 12 - Unused'!A13","v":0},{"$f":"'Team 12 - Unused'!CL13","v":0},{"$f":"'Team 12 - Unused'!CM13","v":0},{"$f":"'Team 12 - Unused'!CN13","v":0},{"$f":"'Team 12 - Unused'!CO13","v":0},{"$f":"'Team 12 - Unused'!CQ13","v":0},{"$f":"'Team 12 - Unused'!CP13","v":0},0]
[{"$f":"'Team 12 - Unused'!A14","v":0},{"$f":"'Team 12 - Unused'!CL14","v":0},{"$f":"'Team 12 - Unused'!CM14","v":0},{"$f":"'Team 12 - Unused'!CN14","v":0},{"$f":"'Team 12 - Unused'!CO14","v":0},{"$f":"'Team 12 - Unused'!CQ14","v":0},{"$f":"'Team 12 - Unused'!CP14","v":0},0]

{"sheet":"100+ WORKING SHEET","index":21,"n_rows":145,"n_cols":5,"rows_kept":145,"cut":false,"hidden":true,"merged":[]}
["NAME","GP","T100+","AVG 100+/G","OVER 10 GAMES?"]
[{"$f":"'NAGS HEAD \"A\"'!A3","v":"Steve Blewitt"},{"$f":"'NAGS HEAD \"A\"'!CL3","v":15},{"$f":"'NAGS HEAD \"A\"'!CR3","v":47},{"$f":"'NAGS HEAD \"A\"'!CS3","v":3.1333333333333333},{"$f":"IF(B2>=10,1,0)","v":1}]
[{"$f":"'NAGS HEAD \"A\"'!A4","v":"Sean Kendrew"},{"$f":"'NAGS HEAD \"A\"'!CL4","v":16},{"$f":"'NAGS HEAD \"A\"'!CR4","v":59},{"$f":"'NAGS HEAD \"A\"'!CS4","v":3.6875},{"$f":"IF(B3>=10,1,0)","v":1}]
[{"$f":"'NAGS HEAD \"A\"'!A5","v":"Steve Truman"},{"$f":"'NAGS HEAD \"A\"'!CL5","v":14},{"$f":"'NAGS HEAD \"A\"'!CR5","v":40},{"$f":"'NAGS HEAD \"A\"'!CS5","v":2.8571428571428572},1]
[{"$f":"'NAGS HEAD \"A\"'!A6","v":"Al Spence"},{"$f":"'NAGS HEAD \"A\"'!CL6","v":10},{"$f":"'NAGS HEAD \"A\"'!CR6","v":22},{"$f":"'NAGS HEAD \"A\"'!CS6","v":2.2000000000000002},1]
[{"$f":"'NAGS HEAD \"A\"'!A7","v":"Al Whelan"},{"$f":"'NAGS HEAD \"A\"'!CL7","v":14},{"$f":"'NAGS HEAD \"A\"'!CR7","v":27},{"$f":"'NAGS HEAD \"A\"'!CS7","v":1.9285714285714286},1]
[{"$f":"'NAGS HEAD \"A\"'!A8","v":"Dave Atkinson"},{"$f":"'NAGS HEAD \"A\"'!CL8","v":15},{"$f":"'NAGS HEAD \"A\"'!CR8","v":38},{"$f":"'NAGS HEAD \"A\"'!CS8","v":2.5333333333333332},1]
[{"$f":"'NAGS HEAD \"A\"'!A9","v":"Greg Tozier"},{"$f":"'NAGS HEAD \"A\"'!CL9","v":1},{"$f":"'NAGS HEAD \"A\"'!CR9","v":0},{"$f":"'NAGS HEAD \"A\"'!CS9","v":0},0]
[{"$f":"'NAGS HEAD \"A\"'!A10","v":"Col Lagan"},{"$f":"'NAGS HEAD \"A\"'!CL10","v":9},{"$f":"'NAGS HEAD \"A\"'!CR10","v":13},{"$f":"'NAGS HEAD \"A\"'!CS10","v":1.4444444444444444},0]
[{"$f":"'NAGS HEAD \"A\"'!A11","v":"Kireon Timmons"},{"$f":"'NAGS HEAD \"A\"'!CL11","v":2},{"$f":"'NAGS HEAD \"A\"'!CR11","v":7},{"$f":"'NAGS HEAD \"A\"'!CS11","v":3.5},0]
[{"$f":"'NAGS HEAD \"A\"'!A12","v":0},{"$f":"'NAGS HEAD \"A\"'!CL12","v":0},{"$f":"'NAGS HEAD \"A\"'!CR12","v":0},{"$f":"'NAGS HEAD \"A\"'!CS12","v":0},0]
[{"$f":"'NAGS HEAD \"A\"'!A13","v":0},{"$f":"'NAGS HEAD \"A\"'!CL13","v":0},{"$f":"'NAGS HEAD \"A\"'!CR13","v":0},{"$f":"'NAGS HEAD \"A\"'!CS13","v":0},0]
[{"$f":"'NAGS HEAD \"A\"'!A14","v":0},{"$f":"'NAGS HEAD \"A\"'!CL14","v":0},{"$f":"'NAGS HEAD \"A\"'!CR14","v":0},{"$f":"'NAGS HEAD \"A\"'!CS14","v":0},0]
[{"$f":"'CRICKET CLUB'!A3","v":"Pete Wilkinson"},{"$f":"'CRICKET CLUB'!CL3","v":0},{"$f":"'CRICKET CLUB'!CR3","v":1},{"$f":"'CRICKET CLUB'!CS3","v":0},0]
[{"$f":"'CRICKET CLUB'!A4","v":"Dan Buxton"},{"$f":"'CRICKET CLUB'!CL4","v":14},{"$f":"'CRICKET CLUB'!CR4","v":15},{"$f":"'CRICKET CLUB'!CS4","v":1.0714285714285714},1]
[{"$f":"'CRICKET CLUB'!A5","v":"Chris Wayman"},{"$f":"'CRICKET CLUB'!CL5","v":6},{"$f":"'CRICKET CLUB'!CR5","v":5},{"$f":"'CRICKET CLUB'!CS5","v":0.83333333333333337},0]
[{"$f":"'CRICKET CLUB'!A6","v":"Phil Wayman"},{"$f":"'CRICKET CLUB'!CL6","v":0},{"$f":"'CRICKET CLUB'!CR6","v":0},{"$f":"'CRICKET CLUB'!CS6","v":0},0]
[{"$f":"'CRICKET CLUB'!A7","v":"Mike Wayman"},{"$f":"'CRICKET CLUB'!CL7","v":13},{"$f":"'CRICKET CLUB'!CR7","v":34},{"$f":"'CRICKET CLUB'!CS7","v":2.6153846153846154},1]
[{"$f":"'CRICKET CLUB'!A8","v":"Chris Garsed"},{"$f":"'CRICKET CLUB'!CL8","v":14},{"$f":"'CRICKET CLUB'!CR8","v":59},{"$f":"'CRICKET CLUB'!CS8","v":4.2142857142857144},1]
[{"$f":"'CRICKET CLUB'!A9","v":"George Webb"},{"$f":"'CRICKET CLUB'!CL9","v":16},{"$f":"'CRICKET CLUB'!CR9","v":39},{"$f":"'CRICKET CLUB'!CS9","v":2.4375},1]
[{"$f":"'CRICKET CLUB'!A10","v":"Bob Berry"},{"$f":"'CRICKET CLUB'!CL10","v":0},{"$f":"'CRICKET CLUB'!CR10","v":0},{"$f":"'CRICKET CLUB'!CS10","v":0},0]
[{"$f":"'CRICKET CLUB'!A11","v":"Howard Ward"},{"$f":"'CRICKET CLUB'!CL11","v":5},{"$f":"'CRICKET CLUB'!CR11","v":15},{"$f":"'CRICKET CLUB'!CS11","v":3},0]
[{"$f":"'CRICKET CLUB'!A12","v":"Mel Paylor"},{"$f":"'CRICKET CLUB'!CL12","v":13},{"$f":"'CRICKET CLUB'!CR12","v":19},{"$f":"'CRICKET CLUB'!CS12","v":1.4615384615384615},1]
[{"$f":"'CRICKET CLUB'!A13","v":"George Kay"},{"$f":"'CRICKET CLUB'!CL13","v":15},{"$f":"'CRICKET CLUB'!CR13","v":31},{"$f":"'CRICKET CLUB'!CS13","v":2.0666666666666669},1]
[{"$f":"'CRICKET CLUB'!A14","v":"Ben Jack"},{"$f":"'CRICKET CLUB'!CL14","v":0},{"$f":"'CRICKET CLUB'!CR14","v":0},{"$f":"'CRICKET CLUB'!CS14","v":0},0]
[{"$f":"CROWN!A3","v":"Mark Outram"},{"$f":"CROWN!CL3","v":16},{"$f":"CROWN!CR3","v":18},{"$f":"CROWN!CS3","v":1.125},1]
[{"$f":"CROWN!A4","v":"Dave Thornton"},{"$f":"CROWN!CL4","v":6},{"$f":"CROWN!CR4","v":8},{"$f":"CROWN!CS4","v":1.3333333333333333},0]
[{"$f":"CROWN!A5","v":"Dean Wakeling  "},{"$f":"CROWN!CL5","v":8},{"$f":"CROWN!CR5","v":3},{"$f":"CROWN!CS5","v":0.375},0]
[{"$f":"CROWN!A6","v":"David Langthorne"},{"$f":"CROWN!CL6","v":16},{"$f":"CROWN!CR6","v":10},{"$f":"CROWN!CS6","v":0.625},1]
[{"$f":"CROWN!A7","v":"Tony Bell"},{"$f":"CROWN!CL7","v":0},{"$f":"CROWN!CR7","v":0},{"$f":"CROWN!CS7","v":0},0]
[{"$f":"CROWN!A8","v":"Chris Cockerline"},{"$f":"CROWN!CL8","v":15},{"$f":"CROWN!CR8","v":2},{"$f":"CROWN!CS8","v":0.13333333333333333},1]
[{"$f":"CROWN!A9","v":"Mark Natttrass"},{"$f":"CROWN!CL9","v":16},{"$f":"CROWN!CR9","v":3},{"$f":"CROWN!CS9","v":0.1875},1]
[{"$f":"CROWN!A10","v":"Phil Teare"},{"$f":"CROWN!CL10","v":16},{"$f":"CROWN!CR10","v":20},{"$f":"CROWN!CS10","v":1.25},1]
[{"$f":"CROWN!A11","v":"Richard Salton"},{"$f":"CROWN!CL11","v":1},{"$f":"CROWN!CR11","v":0},{"$f":"CROWN!CS11","v":0},0]
[{"$f":"CROWN!A12","v":"Shaun Raynor"},{"$f":"CROWN!CL12","v":0},{"$f":"CROWN!CR12","v":0},{"$f":"CROWN!CS12","v":0},0]
[{"$f":"CROWN!A13","v":"Adam Carter"},{"$f":"CROWN!CL13","v":0},{"$f":"CROWN!CR13","v":0},{"$f":"CROWN!CS13","v":0},0]
[{"$f":"CROWN!A14","v":"Tim Bowman"},{"$f":"CROWN!CL14","v":0},{"$f":"CROWN!CR14","v":0},{"$f":"CROWN!CS14","v":0},0]
[{"$f":"'JOLLY MINSTER'!A3","v":"Eric Stapley"},{"$f":"'JOLLY MINSTER'!CL3","v":15},{"$f":"'JOLLY MINSTER'!CR3","v":27},{"$f":"'JOLLY MINSTER'!CS3","v":1.8},1]
[{"$f":"'JOLLY MINSTER'!A4","v":"Ian Atherton"},{"$f":"'JOLLY MINSTER'!CL4","v":16},{"$f":"'JOLLY MINSTER'!CR4","v":12},{"$f":"'JOLLY MINSTER'!CS4","v":0.75},1]
[{"$f":"'JOLLY MINSTER'!A5","v":"George McPhee"},{"$f":"'JOLLY MINSTER'!CL5","v":15},{"$f":"'JOLLY MINSTER'!CR5","v":15},{"$f":"'JOLLY MINSTER'!CS5","v":1},1]
[{"$f":"'JOLLY MINSTER'!A6","v":"Craig Burns"},{"$f":"'JOLLY MINSTER'!CL6","v":13},{"$f":"'JOLLY MINSTER'!CR6","v":16},{"$f":"'JOLLY MINSTER'!CS6","v":1.2307692307692308},1]
[{"$f":"'JOLLY MINSTER'!A7","v":"Tymo Sobkowiak"},{"$f":"'JOLLY MINSTER'!CL7","v":16},{"$f":"'JOLLY MINSTER'!CR7","v":9},{"$f":"'JOLLY MINSTER'!CS7","v":0.5625},1]
[{"$f":"'JOLLY MINSTER'!A8","v":"Anthony Clemmet"},{"$f":"'JOLLY MINSTER'!CL8","v":16},{"$f":"'JOLLY MINSTER'!CR8","v":22},{"$f":"'JOLLY MINSTER'!CS8","v":1.375},1]
[{"$f":"'JOLLY MINSTER'!A9","v":"Sam Mathews"},{"$f":"'JOLLY MINSTER'!CL9","v":2},{"$f":"'JOLLY MINSTER'!CR9","v":2},{"$f":"'JOLLY MINSTER'!CS9","v":1},0]
[{"$f":"'JOLLY MINSTER'!A10","v":"Tony Read"},{"$f":"'JOLLY MINSTER'!CL10","v":0},{"$f":"'JOLLY MINSTER'!CR10","v":0},{"$f":"'JOLLY MINSTER'!CS10","v":0},0]
[{"$f":"'JOLLY MINSTER'!A11","v":"Josh Willis"},{"$f":"'JOLLY MINSTER'!CL11","v":0},{"$f":"'JOLLY MINSTER'!CR11","v":0},{"$f":"'JOLLY MINSTER'!CS11","v":0},0]
[{"$f":"'JOLLY MINSTER'!A12","v":"Marty Burns"},{"$f":"'JOLLY MINSTER'!CL12","v":1},{"$f":"'JOLLY MINSTER'!CR12","v":2},{"$f":"'JOLLY MINSTER'!CS12","v":2},0]
[{"$f":"'JOLLY MINSTER'!A13","v":0},{"$f":"'JOLLY MINSTER'!CL13","v":0},{"$f":"'JOLLY MINSTER'!CR13","v":0},{"$f":"'JOLLY MINSTER'!CS13","v":0},0]
[{"$f":"'JOLLY MINSTER'!A14","v":0},{"$f":"'JOLLY MINSTER'!CL14","v":0},{"$f":"'JOLLY MINSTER'!CR14","v":0},{"$f":"'JOLLY MINSTER'!CS14","v":0},0]
[{"$f":"'WORKMENS CLUB \"A\"'!A3","v":"Mick Smedley"},{"$f":"'WORKMENS CLUB \"A\"'!CL3","v":15},{"$f":"'WORKMENS CLUB \"A\"'!CR3","v":23},{"$f":"'WORKMENS CLUB \"A\"'!CS3","v":1.5333333333333334},1]
[{"$f":"'WORKMENS CLUB \"A\"'!A4","v":"Joe Hutchinson"},{"$f":"'WORKMENS CLUB \"A\"'!CL4","v":14},{"$f":"'WORKMENS CLUB \"A\"'!CR4","v":24},{"$f":"'WORKMENS CLUB \"A\"'!CS4","v":1.7142857142857142},1]
[{"$f":"'WORKMENS CLUB \"A\"'!A5","v":"Andy Etherington"},{"$f":"'WORKMENS CLUB \"A\"'!CL5","v":13},{"$f":"'WORKMENS CLUB \"A\"'!CR5","v":23},{"$f":"'WORKMENS CLUB \"A\"'!CS5","v":1.7692307692307692},1]
[{"$f":"'WORKMENS CLUB \"A\"'!A6","v":"Bill Rispin"},{"$f":"'WORKMENS CLUB \"A\"'!CL6","v":6},{"$f":"'WORKMENS CLUB \"A\"'!CR6","v":11},{"$f":"'WORKMENS CLUB \"A\"'!CS6","v":1.8333333333333333},0]
[{"$f":"'WORKMENS CLUB \"A\"'!A7","v":"Morris Walker"},{"$f":"'WORKMENS CLUB \"A\"'!CL7","v":16},{"$f":"'WORKMENS CLUB \"A\"'!CR7","v":31},{"$f":"'WORKMENS CLUB \"A\"'!CS7","v":1.9375},1]
[{"$f":"'WORKMENS CLUB \"A\"'!A8","v":"Morris Weighell"},{"$f":"'WORKMENS CLUB \"A\"'!CL8","v":7},{"$f":"'WORKMENS CLUB \"A\"'!CR8","v":4},{"$f":"'WORKMENS CLUB \"A\"'!CS8","v":0.5714285714285714},0]
[{"$f":"'WORKMENS CLUB \"A\"'!A9","v":"Tom Melvil"},{"$f":"'WORKMENS CLUB \"A\"'!CL9","v":1},{"$f":"'WORKMENS CLUB \"A\"'!CR9","v":0},{"$f":"'WORKMENS CLUB \"A\"'!CS9","v":0},0]
[{"$f":"'WORKMENS CLUB \"A\"'!A10","v":"Chris Pattison"},{"$f":"'WORKMENS CLUB \"A\"'!CL10","v":8},{"$f":"'WORKMENS CLUB \"A\"'!CR10","v":8},{"$f":"'WORKMENS CLUB \"A\"'!CS10","v":1},0]
[{"$f":"'WORKMENS CLUB \"A\"'!A11","v":"Matthew Cornforth"},{"$f":"'WORKMENS CLUB \"A\"'!CL11","v":15},{"$f":"'WORKMENS CLUB \"A\"'!CR11","v":33},{"$f":"'WORKMENS CLUB \"A\"'!CS11","v":2.2000000000000002},1]
[{"$f":"'WORKMENS CLUB \"A\"'!A12","v":"John Oliver"},{"$f":"'WORKMENS CLUB \"A\"'!CL12","v":0},{"$f":"'WORKMENS CLUB \"A\"'!CR12","v":2},{"$f":"'WORKMENS CLUB \"A\"'!CS12","v":0},0]
[{"$f":"'WORKMENS CLUB \"A\"'!A13","v":0},{"$f":"'WORKMENS CLUB \"A\"'!CL13","v":0},{"$f":"'WORKMENS CLUB \"A\"'!CR13","v":0},{"$f":"'WORKMENS CLUB \"A\"'!CS13","v":0},0]
[{"$f":"'WORKMENS CLUB \"A\"'!A14","v":0},{"$f":"'WORKMENS CLUB \"A\"'!CL14","v":0},{"$f":"'WORKMENS CLUB \"A\"'!CR14","v":0},{"$f":"'WORKMENS CLUB \"A\"'!CS14","v":0},0]
[{"$f":"'BUCK INN'!A3","v":"Jim Timmons"},{"$f":"'BUCK INN'!CL3","v":0},{"$f":"'BUCK INN'!CR3","v":0},{"$f":"'BUCK INN'!CS3","v":0},0]
[{"$f":"'BUCK INN'!A4","v":"Graham Lake"},{"$f":"'BUCK INN'!CL4","v":0},{"$f":"'BUCK INN'!CR4","v":0},{"$f":"'BUCK INN'!CS4","v":0},0]
[{"$f":"'BUCK INN'!A5","v":"Kireon Timmons"},{"$f":"'BUCK INN'!CL5","v":0},{"$f":"'BUCK INN'!CR5","v":0},{"$f":"'BUCK INN'!CS5","v":0},0]
[{"$f":"'BUCK INN'!A6","v":"Kenny Kerrigan"},{"$f":"'BUCK INN'!CL6","v":0},{"$f":"'BUCK INN'!CR6","v":0},{"$f":"'BUCK INN'!CS6","v":0},0]
[{"$f":"'BUCK INN'!A7","v":"Lee Johnson"},{"$f":"'BUCK INN'!CL7","v":0},{"$f":"'BUCK INN'!CR7","v":0},{"$f":"'BUCK INN'!CS7","v":0},0]
[{"$f":"'BUCK INN'!A8","v":"Chris Timmons"},{"$f":"'BUCK INN'!CL8","v":0},{"$f":"'BUCK INN'!CR8","v":0},{"$f":"'BUCK INN'!CS8","v":0},{"$f":"IF(B67>=10,1,0)","v":0}]
[{"$f":"'BUCK INN'!A9","v":"M. Meadley"},{"$f":"'BUCK INN'!CL9","v":0},{"$f":"'BUCK INN'!CR9","v":0},{"$f":"'BUCK INN'!CS9","v":0},0]
[{"$f":"'BUCK INN'!A10","v":0},{"$f":"'BUCK INN'!CL10","v":0},{"$f":"'BUCK INN'!CR10","v":0},{"$f":"'BUCK INN'!CS10","v":0},0]
[{"$f":"'BUCK INN'!A11","v":0},{"$f":"'BUCK INN'!CL11","v":0},{"$f":"'BUCK INN'!CR11","v":0},{"$f":"'BUCK INN'!CS11","v":0},0]
[{"$f":"'BUCK INN'!A12","v":0},{"$f":"'BUCK INN'!CL12","v":0},{"$f":"'BUCK INN'!CR12","v":0},{"$f":"'BUCK INN'!CS12","v":0},0]
[{"$f":"'BUCK INN'!A13","v":0},{"$f":"'BUCK INN'!CL13","v":0},{"$f":"'BUCK INN'!CR13","v":0},{"$f":"'BUCK INN'!CS13","v":0},0]
[{"$f":"'BUCK INN'!A14","v":0},{"$f":"'BUCK INN'!CL14","v":0},{"$f":"'BUCK INN'!CR14","v":0},{"$f":"'BUCK INN'!CS14","v":0},0]
[{"$f":"'ODD FELLOWS'!A3","v":"Steve Monk"},{"$f":"'ODD FELLOWS'!CL3","v":10},{"$f":"'ODD FELLOWS'!CR3","v":12},{"$f":"'ODD FELLOWS'!CS3","v":1.2},1]
[{"$f":"'ODD FELLOWS'!A4","v":"Craig Monk"},{"$f":"'ODD FELLOWS'!CL4","v":16},{"$f":"'ODD FELLOWS'!CR4","v":62},{"$f":"'ODD FELLOWS'!CS4","v":3.875},1]
[{"$f":"'ODD FELLOWS'!A5","v":"Liam Monk"},{"$f":"'ODD FELLOWS'!CL5","v":0},{"$f":"'ODD FELLOWS'!CR5","v":1},{"$f":"'ODD FELLOWS'!CS5","v":0},0]
[{"$f":"'ODD FELLOWS'!A6","v":"Alan Martin"},{"$f":"'ODD FELLOWS'!CL6","v":15},{"$f":"'ODD FELLOWS'!CR6","v":42},{"$f":"'ODD FELLOWS'!CS6","v":2.8},1]
[{"$f":"'ODD FELLOWS'!A7","v":"Tim Whiting JNR"},{"$f":"'ODD FELLOWS'!CL7","v":16},{"$f":"'ODD FELLOWS'!CR7","v":31},{"$f":"'ODD FELLOWS'!CS7","v":1.9375},1]
[{"$f":"'ODD FELLOWS'!A8","v":"Tim Whiting SNR"},{"$f":"'ODD FELLOWS'!CL8","v":0},{"$f":"'ODD FELLOWS'!CR8","v":0},{"$f":"'ODD FELLOWS'!CS8","v":0},0]
[{"$f":"'ODD FELLOWS'!A9","v":"Darren Downs"},{"$f":"'ODD FELLOWS'!CL9","v":8},{"$f":"'ODD FELLOWS'!CR9","v":12},{"$f":"'ODD FELLOWS'!CS9","v":1.5},0]
[{"$f":"'ODD FELLOWS'!A10","v":"Dennis Clarkson"},{"$f":"'ODD FELLOWS'!CL10","v":16},{"$f":"'ODD FELLOWS'!CR10","v":79},{"$f":"'ODD FELLOWS'!CS10","v":4.9375},1]
[{"$f":"'ODD FELLOWS'!A11","v":"Alex Sinclair"},{"$f":"'ODD FELLOWS'!CL11","v":3},{"$f":"'ODD FELLOWS'!CR11","v":9},{"$f":"'ODD FELLOWS'!CS11","v":3},0]
[{"$f":"'ODD FELLOWS'!A12","v":"Carl Bickerton"},{"$f":"'ODD FELLOWS'!CL12","v":11},{"$f":"'ODD FELLOWS'!CR12","v":8},{"$f":"'ODD FELLOWS'!CS12","v":0.72727272727272729},1]
[{"$f":"'ODD FELLOWS'!A13","v":0},{"$f":"'ODD FELLOWS'!CL13","v":0},{"$f":"'ODD FELLOWS'!CR13","v":0},{"$f":"'ODD FELLOWS'!CS13","v":0},0]
[{"$f":"'ODD FELLOWS'!A14","v":0},{"$f":"'ODD FELLOWS'!CL14","v":0},{"$f":"'ODD FELLOWS'!CR14","v":0},{"$f":"'ODD FELLOWS'!CS14","v":0},0]
[{"$f":"SPORTSMANS!A3","v":"Nigel Outram"},{"$f":"SPORTSMANS!CL3","v":16},{"$f":"SPORTSMANS!CR3","v":50},{"$f":"SPORTSMANS!CS3","v":3.125},1]
[{"$f":"SPORTSMANS!A4","v":"Martin Young"},{"$f":"SPORTSMANS!CL4","v":16},{"$f":"SPORTSMANS!CR4","v":48},{"$f":"SPORTSMANS!CS4","v":3},1]
[{"$f":"SPORTSMANS!A5","v":"Andy Monk"},{"$f":"SPORTSMANS!CL5","v":16},{"$f":"SPORTSMANS!CR5","v":31},{"$f":"SPORTSMANS!CS5","v":1.9375},1]
[{"$f":"SPORTSMANS!A6","v":"Pete Young"},{"$f":"SPORTSMANS!CL6","v":3},{"$f":"SPORTSMANS!CR6","v":1},{"$f":"SPORTSMANS!CS6","v":0.33333333333333331},0]
[{"$f":"SPORTSMANS!A7","v":"Kyle Young"},{"$f":"SPORTSMANS!CL7","v":15},{"$f":"SPORTSMANS!CR7","v":36},{"$f":"SPORTSMANS!CS7","v":2.4},1]
[{"$f":"SPORTSMANS!A8","v":"Baz Pearson"},{"$f":"SPORTSMANS!CL8","v":13},{"$f":"SPORTSMANS!CR8","v":22},{"$f":"SPORTSMANS!CS8","v":1.6923076923076923},1]
[{"$f":"SPORTSMANS!A9","v":"Ian Whittaker"},{"$f":"SPORTSMANS!CL9","v":15},{"$f":"SPORTSMANS!CR9","v":48},{"$f":"SPORTSMANS!CS9","v":3.2},1]
[{"$f":"SPORTSMANS!A10","v":"Ian Windress"},{"$f":"SPORTSMANS!CL10","v":0},{"$f":"SPORTSMANS!CR10","v":0},{"$f":"SPORTSMANS!CS10","v":0},0]
[{"$f":"SPORTSMANS!A11","v":"Dan Clarke"},{"$f":"SPORTSMANS!CL11","v":0},{"$f":"SPORTSMANS!CR11","v":0},{"$f":"SPORTSMANS!CS11","v":0},0]
[{"$f":"SPORTSMANS!A12","v":"Jack Stevenson"},{"$f":"SPORTSMANS!CL12","v":2},{"$f":"SPORTSMANS!CR12","v":3},{"$f":"SPORTSMANS!CS12","v":1.5},0]
[{"$f":"SPORTSMANS!A13","v":0},{"$f":"SPORTSMANS!CL13","v":0},{"$f":"SPORTSMANS!CR13","v":0},{"$f":"SPORTSMANS!CS13","v":0},0]
[{"$f":"SPORTSMANS!A14","v":0},{"$f":"SPORTSMANS!CL14","v":0},{"$f":"SPORTSMANS!CR14","v":0},{"$f":"SPORTSMANS!CS14","v":0},0]
[{"$f":"'WORKMENS CLUB \"B\"'!A3","v":"Chris Whiting"},{"$f":"'WORKMENS CLUB \"B\"'!CL3","v":7},{"$f":"'WORKMENS CLUB \"B\"'!CR3","v":11},{"$f":"'WORKMENS CLUB \"B\"'!CS3","v":1.5714285714285714},0]
[{"$f":"'WORKMENS CLUB \"B\"'!A4","v":"Phil Wells"},{"$f":"'WORKMENS CLUB \"B\"'!CL4","v":9},{"$f":"'WORKMENS CLUB \"B\"'!CR4","v":5},{"$f":"'WORKMENS CLUB \"B\"'!CS4","v":0.55555555555555558},0]
[{"$f":"'WORKMENS CLUB \"B\"'!A5","v":"Ian Richards"},{"$f":"'WORKMENS CLUB \"B\"'!CL5","v":13},{"$f":"'WORKMENS CLUB \"B\"'!CR5","v":30},{"$f":"'WORKMENS CLUB \"B\"'!CS5","v":2.3076923076923075},1]
[{"$f":"'WORKMENS CLUB \"B\"'!A6","v":"Adam Richards"},{"$f":"'WORKMENS CLUB \"B\"'!CL6","v":0},{"$f":"'WORKMENS CLUB \"B\"'!CR6","v":1},{"$f":"'WORKMENS CLUB \"B\"'!CS6","v":0},0]
[{"$f":"'WORKMENS CLUB \"B\"'!A7","v":"Alex Watson"},{"$f":"'WORKMENS CLUB \"B\"'!CL7","v":9},{"$f":"'WORKMENS CLUB \"B\"'!CR7","v":12},{"$f":"'WORKMENS CLUB \"B\"'!CS7","v":1.3333333333333333},0]
[{"$f":"'WORKMENS CLUB \"B\"'!A8","v":"Ian Appleby"},{"$f":"'WORKMENS CLUB \"B\"'!CL8","v":0},{"$f":"'WORKMENS CLUB \"B\"'!CR8","v":0},{"$f":"'WORKMENS CLUB \"B\"'!CS8","v":0},0]
[{"$f":"'WORKMENS CLUB \"B\"'!A9","v":"Bob Carter"},{"$f":"'WORKMENS CLUB \"B\"'!CL9","v":14},{"$f":"'WORKMENS CLUB \"B\"'!CR9","v":31},{"$f":"'WORKMENS CLUB \"B\"'!CS9","v":2.2142857142857144},1]
[{"$f":"'WORKMENS CLUB \"B\"'!A10","v":"B. Dawson"},{"$f":"'WORKMENS CLUB \"B\"'!CL10","v":12},{"$f":"'WORKMENS CLUB \"B\"'!CR10","v":6},{"$f":"'WORKMENS CLUB \"B\"'!CS10","v":0.5},1]
[{"$f":"'WORKMENS CLUB \"B\"'!A11","v":"Trevor Brown"},{"$f":"'WORKMENS CLUB \"B\"'!CL11","v":15},{"$f":"'WORKMENS CLUB \"B\"'!CR11","v":26},{"$f":"'WORKMENS CLUB \"B\"'!CS11","v":1.7333333333333334},1]
[{"$f":"'WORKMENS CLUB \"B\"'!A12","v":"Mark Cox"},{"$f":"'WORKMENS CLUB \"B\"'!CL12","v":16},{"$f":"'WORKMENS CLUB \"B\"'!CR12","v":23},{"$f":"'WORKMENS CLUB \"B\"'!CS12","v":1.4375},1]
[{"$f":"'WORKMENS CLUB \"B\"'!A13","v":0},{"$f":"'WORKMENS CLUB \"B\"'!CL13","v":0},{"$f":"'WORKMENS CLUB \"B\"'!CR13","v":0},{"$f":"'WORKMENS CLUB \"B\"'!CS13","v":0},0]
[{"$f":"'WORKMENS CLUB \"B\"'!A14","v":0},{"$f":"'WORKMENS CLUB \"B\"'!CL14","v":0},{"$f":"'WORKMENS CLUB \"B\"'!CR14","v":0},{"$f":"'WORKMENS CLUB \"B\"'!CS14","v":0},0]
[{"$f":"'NAGS HEAD \"B\"'!A3","v":"Andy Johnson"},{"$f":"'NAGS HEAD \"B\"'!CL3","v":15},{"$f":"'NAGS HEAD \"B\"'!CR3","v":32},{"$f":"'NAGS HEAD \"B\"'!CS3","v":2.1333333333333333},1]
[{"$f":"'NAGS HEAD \"B\"'!A4","v":"Andy Haw"},{"$f":"'NAGS HEAD \"B\"'!CL4","v":15},{"$f":"'NAGS HEAD \"B\"'!CR4","v":15},{"$f":"'NAGS HEAD \"B\"'!CS4","v":1},1]
[{"$f":"'NAGS HEAD \"B\"'!A5","v":"Steve Atkinson"},{"$f":"'NAGS HEAD \"B\"'!CL5","v":12},{"$f":"'NAGS HEAD \"B\"'!CR5","v":7},{"$f":"'NAGS HEAD \"B\"'!CS5","v":0.58333333333333337},1]
[{"$f":"'NAGS HEAD \"B\"'!A6","v":"Gaz Lumley"},{"$f":"'NAGS HEAD \"B\"'!CL6","v":10},{"$f":"'NAGS HEAD \"B\"'!CR6","v":8},{"$f":"'NAGS HEAD \"B\"'!CS6","v":0.8},1]
[{"$f":"'NAGS HEAD \"B\"'!A7","v":"Dave Crilly"},{"$f":"'NAGS HEAD \"B\"'!CL7","v":15},{"$f":"'NAGS HEAD \"B\"'!CR7","v":20},{"$f":"'NAGS HEAD \"B\"'!CS7","v":1.3333333333333333},1]
[{"$f":"'NAGS HEAD \"B\"'!A8","v":"Steve Cooke"},{"$f":"'NAGS HEAD \"B\"'!CL8","v":13},{"$f":"'NAGS HEAD \"B\"'!CR8","v":20},{"$f":"'NAGS HEAD \"B\"'!CS8","v":1.5384615384615385},1]
[{"$f":"'NAGS HEAD \"B\"'!A9","v":"Jake Doherty"},{"$f":"'NAGS HEAD \"B\"'!CL9","v":1},{"$f":"'NAGS HEAD \"B\"'!CR9","v":1},{"$f":"'NAGS HEAD \"B\"'!CS9","v":1},0]
[{"$f":"'NAGS HEAD \"B\"'!A10","v":"Steve Gibb"},{"$f":"'NAGS HEAD \"B\"'!CL10","v":0},{"$f":"'NAGS HEAD \"B\"'!CR10","v":0},{"$f":"'NAGS HEAD \"B\"'!CS10","v":0},0]
[{"$f":"'NAGS HEAD \"B\"'!A11","v":"Stuart Truman"},{"$f":"'NAGS HEAD \"B\"'!CL11","v":9},{"$f":"'NAGS HEAD \"B\"'!CR11","v":8},{"$f":"'NAGS HEAD \"B\"'!CS11","v":0.88888888888888884},0]
[{"$f":"'NAGS HEAD \"B\"'!A12","v":"Kenny Kerringan"},{"$f":"'NAGS HEAD \"B\"'!CL12","v":5},{"$f":"'NAGS HEAD \"B\"'!CR12","v":11},{"$f":"'NAGS HEAD \"B\"'!CS12","v":2.2000000000000002},{"$f":"IF(B119>=10,1,0)","v":0}]
[{"$f":"'NAGS HEAD \"B\"'!A13","v":0},{"$f":"'NAGS HEAD \"B\"'!CL13","v":0},{"$f":"'NAGS HEAD \"B\"'!CR13","v":0},{"$f":"'NAGS HEAD \"B\"'!CS13","v":0},{"$f":"IF(B120>=10,1,0)","v":0}]
[{"$f":"'NAGS HEAD \"B\"'!A14","v":0},{"$f":"'NAGS HEAD \"B\"'!CL14","v":0},{"$f":"'NAGS HEAD \"B\"'!CR14","v":0},{"$f":"'NAGS HEAD \"B\"'!CS14","v":0},{"$f":"IF(B121>=10,1,0)","v":0}]
[{"$f":"'Team 11 - Unused'!A3","v":0},{"$f":"'Team 11 - Unused'!CL3","v":0},{"$f":"'Team 11 - Unused'!CR3","v":0},{"$f":"'Team 11 - Unused'!CS3","v":0},{"$f":"IF(B122>=10,1,0)","v":0}]
[{"$f":"'Team 11 - Unused'!A4","v":0},{"$f":"'Team 11 - Unused'!CL4","v":0},{"$f":"'Team 11 - Unused'!CR4","v":0},{"$f":"'Team 11 - Unused'!CS4","v":0},0]
[{"$f":"'Team 11 - Unused'!A5","v":0},{"$f":"'Team 11 - Unused'!CL5","v":0},{"$f":"'Team 11 - Unused'!CR5","v":0},{"$f":"'Team 11 - Unused'!CS5","v":0},0]
[{"$f":"'Team 11 - Unused'!A6","v":0},{"$f":"'Team 11 - Unused'!CL6","v":0},{"$f":"'Team 11 - Unused'!CR6","v":0},{"$f":"'Team 11 - Unused'!CS6","v":0},0]
[{"$f":"'Team 11 - Unused'!A7","v":0},{"$f":"'Team 11 - Unused'!CL7","v":0},{"$f":"'Team 11 - Unused'!CR7","v":0},{"$f":"'Team 11 - Unused'!CS7","v":0},0]
[{"$f":"'Team 11 - Unused'!A8","v":0},{"$f":"'Team 11 - Unused'!CL8","v":0},{"$f":"'Team 11 - Unused'!CR8","v":0},{"$f":"'Team 11 - Unused'!CS8","v":0},0]
[{"$f":"'Team 11 - Unused'!A9","v":0},{"$f":"'Team 11 - Unused'!CL9","v":0},{"$f":"'Team 11 - Unused'!CR9","v":0},{"$f":"'Team 11 - Unused'!CS9","v":0},0]
[{"$f":"'Team 11 - Unused'!A10","v":0},{"$f":"'Team 11 - Unused'!CL10","v":0},{"$f":"'Team 11 - Unused'!CR10","v":0},{"$f":"'Team 11 - Unused'!CS10","v":0},0]
[{"$f":"'Team 11 - Unused'!A11","v":0},{"$f":"'Team 11 - Unused'!CL11","v":0},{"$f":"'Team 11 - Unused'!CR11","v":0},{"$f":"'Team 11 - Unused'!CS11","v":0},0]
[{"$f":"'Team 11 - Unused'!A12","v":0},{"$f":"'Team 11 - Unused'!CL12","v":0},{"$f":"'Team 11 - Unused'!CR12","v":0},{"$f":"'Team 11 - Unused'!CS12","v":0},{"$f":"IF(B131>=10,1,0)","v":0}]
[{"$f":"'Team 11 - Unused'!A13","v":0},{"$f":"'Team 11 - Unused'!CL13","v":0},{"$f":"'Team 11 - Unused'!CR13","v":0},{"$f":"'Team 11 - Unused'!CS13","v":0},{"$f":"IF(B132>=10,1,0)","v":0}]
[{"$f":"'Team 11 - Unused'!A14","v":0},{"$f":"'Team 11 - Unused'!CL14","v":0},{"$f":"'Team 11 - Unused'!CR14","v":0},{"$f":"'Team 11 - Unused'!CS14","v":0},{"$f":"IF(B133>=10,1,0)","v":0}]
[{"$f":"'Team 12 - Unused'!A3","v":0},{"$f":"'Team 12 - Unused'!CL3","v":0},{"$f":"'Team 12 - Unused'!CR3","v":0},{"$f":"'Team 12 - Unused'!CS3","v":0},{"$f":"IF(B134>=10,1,0)","v":0}]
[{"$f":"'Team 12 - Unused'!A4","v":0},{"$f":"'Team 12 - Unused'!CL4","v":0},{"$f":"'Team 12 - Unused'!CR4","v":0},{"$f":"'Team 12 - Unused'!CS4","v":0},{"$f":"IF(B135>=10,1,0)","v":0}]
[{"$f":"'Team 12 - Unused'!A5","v":0},{"$f":"'Team 12 - Unused'!CL5","v":0},{"$f":"'Team 12 - Unused'!CR5","v":0},{"$f":"'Team 12 - Unused'!CS5","v":0},0]
[{"$f":"'Team 12 - Unused'!A6","v":0},{"$f":"'Team 12 - Unused'!CL6","v":0},{"$f":"'Team 12 - Unused'!CR6","v":0},{"$f":"'Team 12 - Unused'!CS6","v":0},0]
[{"$f":"'Team 12 - Unused'!A7","v":0},{"$f":"'Team 12 - Unused'!CL7","v":0},{"$f":"'Team 12 - Unused'!CR7","v":0},{"$f":"'Team 12 - Unused'!CS7","v":0},0]
[{"$f":"'Team 12 - Unused'!A8","v":0},{"$f":"'Team 12 - Unused'!CL8","v":0},{"$f":"'Team 12 - Unused'!CR8","v":0},{"$f":"'Team 12 - Unused'!CS8","v":0},0]
[{"$f":"'Team 12 - Unused'!A9","v":0},{"$f":"'Team 12 - Unused'!CL9","v":0},{"$f":"'Team 12 - Unused'!CR9","v":0},{"$f":"'Team 12 - Unused'!CS9","v":0},0]
[{"$f":"'Team 12 - Unused'!A10","v":0},{"$f":"'Team 12 - Unused'!CL10","v":0},{"$f":"'Team 12 - Unused'!CR10","v":0},{"$f":"'Team 12 - Unused'!CS10","v":0},0]
[{"$f":"'Team 12 - Unused'!A11","v":0},{"$f":"'Team 12 - Unused'!CL11","v":0},{"$f":"'Team 12 - Unused'!CR11","v":0},{"$f":"'Team 12 - Unused'!CS11","v":0},0]
[{"$f":"'Team 12 - Unused'!A12","v":0},{"$f":"'Team 12 - Unused'!CL12","v":0},{"$f":"'Team 12 - Unused'!CR12","v":0},{"$f":"'Team 12 - Unused'!CS12","v":0},0]
[{"$f":"'Team 12 - Unused'!A13","v":0},{"$f":"'Team 12 - Unused'!CL13","v":0},{"$f":"'Team 12 - Unused'!CR13","v":0},{"$f":"'Team 12 - Unused'!CS13","v":0},0]
[{"$f":"'Team 12 - Unused'!A14","v":0},{"$f":"'Team 12 - Unused'!CL14","v":0},{"$f":"'Team 12 - Unused'!CR14","v":0},{"$f":"'Team 12 - Unused'!CS14","v":0},0]

{"sheet":"UNDER 30 DARTS WORKING SHEET","index":22,"n_rows":145,"n_cols":3,"rows_kept":145,"cut":false,"hidden":true,"merged":[]}
["NAME","T<30","AVG D/G"]
[{"$f":"'NAGS HEAD \"A\"'!A3","v":"Steve Blewitt"},{"$f":"'NAGS HEAD \"A\"'!CU3","v":2},{"$f":"'NAGS HEAD \"A\"'!CQ3","v":34.333333333333336}]
[{"$f":"'NAGS HEAD \"A\"'!A4","v":"Sean Kendrew"},{"$f":"'NAGS HEAD \"A\"'!CU4","v":4},{"$f":"'NAGS HEAD \"A\"'!CQ4","v":32.9375}]
[{"$f":"'NAGS HEAD \"A\"'!A5","v":"Steve Truman"},{"$f":"'NAGS HEAD \"A\"'!CU5","v":1},{"$f":"'NAGS HEAD \"A\"'!CQ5","v":37.714285714285715}]
[{"$f":"'NAGS HEAD \"A\"'!A6","v":"Al Spence"},{"$f":"'NAGS HEAD \"A\"'!CU6","v":0},{"$f":"'NAGS HEAD \"A\"'!CQ6","v":42.9}]
[{"$f":"'NAGS HEAD \"A\"'!A7","v":"Al Whelan"},{"$f":"'NAGS HEAD \"A\"'!CU7","v":0},{"$f":"'NAGS HEAD \"A\"'!CQ7","v":40.428571428571431}]
[{"$f":"'NAGS HEAD \"A\"'!A8","v":"Dave Atkinson"},{"$f":"'NAGS HEAD \"A\"'!CU8","v":4},{"$f":"'NAGS HEAD \"A\"'!CQ8","v":35.133333333333333}]
[{"$f":"'NAGS HEAD \"A\"'!A9","v":"Greg Tozier"},{"$f":"'NAGS HEAD \"A\"'!CU9","v":0},{"$f":"'NAGS HEAD \"A\"'!CQ9","v":48}]
[{"$f":"'NAGS HEAD \"A\"'!A10","v":"Col Lagan"},{"$f":"'NAGS HEAD \"A\"'!CU10","v":0},{"$f":"'NAGS HEAD \"A\"'!CQ10","v":36.555555555555557}]
[{"$f":"'NAGS HEAD \"A\"'!A11","v":"Kireon Timmons"},{"$f":"'NAGS HEAD \"A\"'!CU11","v":0},{"$f":"'NAGS HEAD \"A\"'!CQ11","v":38}]
[{"$f":"'NAGS HEAD \"A\"'!A12","v":0},{"$f":"'NAGS HEAD \"A\"'!CU12","v":0},{"$f":"'NAGS HEAD \"A\"'!CQ12","v":0}]
[{"$f":"'NAGS HEAD \"A\"'!A13","v":0},{"$f":"'NAGS HEAD \"A\"'!CU13","v":0},{"$f":"'NAGS HEAD \"A\"'!CQ13","v":0}]
[{"$f":"'NAGS HEAD \"A\"'!A14","v":0},{"$f":"'NAGS HEAD \"A\"'!CU14","v":0},{"$f":"'NAGS HEAD \"A\"'!CQ14","v":0}]
[{"$f":"'CRICKET CLUB'!A3","v":"Pete Wilkinson"},{"$f":"'CRICKET CLUB'!CU3","v":0},{"$f":"'CRICKET CLUB'!CQ3","v":0}]
[{"$f":"'CRICKET CLUB'!A4","v":"Dan Buxton"},{"$f":"'CRICKET CLUB'!CU4","v":0},{"$f":"'CRICKET CLUB'!CQ4","v":42.071428571428569}]
[{"$f":"'CRICKET CLUB'!A5","v":"Chris Wayman"},{"$f":"'CRICKET CLUB'!CU5","v":0},{"$f":"'CRICKET CLUB'!CQ5","v":44}]
[{"$f":"'CRICKET CLUB'!A6","v":"Phil Wayman"},{"$f":"'CRICKET CLUB'!CU6","v":0},{"$f":"'CRICKET CLUB'!CQ6","v":0}]
[{"$f":"'CRICKET CLUB'!A7","v":"Mike Wayman"},{"$f":"'CRICKET CLUB'!CU7","v":3},{"$f":"'CRICKET CLUB'!CQ7","v":38}]
[{"$f":"'CRICKET CLUB'!A8","v":"Chris Garsed"},{"$f":"'CRICKET CLUB'!CU8","v":8},{"$f":"'CRICKET CLUB'!CQ8","v":28.285714285714285}]
[{"$f":"'CRICKET CLUB'!A9","v":"George Webb"},{"$f":"'CRICKET CLUB'!CU9","v":1},{"$f":"'CRICKET CLUB'!CQ9","v":35.1875}]
[{"$f":"'CRICKET CLUB'!A10","v":"Bob Berry"},{"$f":"'CRICKET CLUB'!CU10","v":0},{"$f":"'CRICKET CLUB'!CQ10","v":0}]
[{"$f":"'CRICKET CLUB'!A11","v":"Howard Ward"},{"$f":"'CRICKET CLUB'!CU11","v":1},{"$f":"'CRICKET CLUB'!CQ11","v":37.6}]
[{"$f":"'CRICKET CLUB'!A12","v":"Mel Paylor"},{"$f":"'CRICKET CLUB'!CU12","v":0},{"$f":"'CRICKET CLUB'!CQ12","v":42.46153846153846}]
[{"$f":"'CRICKET CLUB'!A13","v":"George Kay"},{"$f":"'CRICKET CLUB'!CU13","v":1},{"$f":"'CRICKET CLUB'!CQ13","v":37.266666666666666}]
[{"$f":"'CRICKET CLUB'!A14","v":"Ben Jack"},{"$f":"'CRICKET CLUB'!CU14","v":0},{"$f":"'CRICKET CLUB'!CQ14","v":0}]
[{"$f":"CROWN!A3","v":"Mark Outram"},{"$f":"CROWN!CU3","v":1},{"$f":"CROWN!CQ3","v":38.3125}]
[{"$f":"CROWN!A4","v":"Dave Thornton"},{"$f":"CROWN!CU4","v":0},{"$f":"CROWN!CQ4","v":45.5}]
[{"$f":"CROWN!A5","v":"Dean Wakeling  "},{"$f":"CROWN!CU5","v":0},{"$f":"CROWN!CQ5","v":40.875}]
[{"$f":"CROWN!A6","v":"David Langthorne"},{"$f":"CROWN!CU6","v":0},{"$f":"CROWN!CQ6","v":42.0625}]
[{"$f":"CROWN!A7","v":"Tony Bell"},{"$f":"CROWN!CU7","v":0},{"$f":"CROWN!CQ7","v":0}]
[{"$f":"CROWN!A8","v":"Chris Cockerline"},{"$f":"CROWN!CU8","v":0},{"$f":"CROWN!CQ8","v":42.266666666666666}]
[{"$f":"CROWN!A9","v":"Mark Natttrass"},{"$f":"CROWN!CU9","v":0},{"$f":"CROWN!CQ9","v":44.9375}]
[{"$f":"CROWN!A10","v":"Phil Teare"},{"$f":"CROWN!CU10","v":0},{"$f":"CROWN!CQ10","v":39.5}]
[{"$f":"CROWN!A11","v":"Richard Salton"},{"$f":"CROWN!CU11","v":0},{"$f":"CROWN!CQ11","v":27}]
[{"$f":"CROWN!A12","v":"Shaun Raynor"},{"$f":"CROWN!CU12","v":0},{"$f":"CROWN!CQ12","v":0}]
[{"$f":"CROWN!A13","v":"Adam Carter"},{"$f":"CROWN!CU13","v":0},{"$f":"CROWN!CQ13","v":0}]
[{"$f":"CROWN!A14","v":"Tim Bowman"},{"$f":"CROWN!CU14","v":0},{"$f":"CROWN!CQ14","v":0}]
[{"$f":"'JOLLY MINSTER'!A3","v":"Eric Stapley"},{"$f":"'JOLLY MINSTER'!CU3","v":0},{"$f":"'JOLLY MINSTER'!CQ3","v":42.533333333333331}]
[{"$f":"'JOLLY MINSTER'!A4","v":"Ian Atherton"},{"$f":"'JOLLY MINSTER'!CU4","v":0},{"$f":"'JOLLY MINSTER'!CQ4","v":40.1875}]
[{"$f":"'JOLLY MINSTER'!A5","v":"George McPhee"},{"$f":"'JOLLY MINSTER'!CU5","v":1},{"$f":"'JOLLY MINSTER'!CQ5","v":43.93333333333333}]
[{"$f":"'JOLLY MINSTER'!A6","v":"Craig Burns"},{"$f":"'JOLLY MINSTER'!CU6","v":0},{"$f":"'JOLLY MINSTER'!CQ6","v":41.53846153846154}]
[{"$f":"'JOLLY MINSTER'!A7","v":"Tymo Sobkowiak"},{"$f":"'JOLLY MINSTER'!CU7","v":0},{"$f":"'JOLLY MINSTER'!CQ7","v":44.125}]
[{"$f":"'JOLLY MINSTER'!A8","v":"Anthony Clemmet"},{"$f":"'JOLLY MINSTER'!CU8","v":0},{"$f":"'JOLLY MINSTER'!CQ8","v":45.125}]
[{"$f":"'JOLLY MINSTER'!A9","v":"Sam Mathews"},{"$f":"'JOLLY MINSTER'!CU9","v":0},{"$f":"'JOLLY MINSTER'!CQ9","v":43.5}]
[{"$f":"'JOLLY MINSTER'!A10","v":"Tony Read"},{"$f":"'JOLLY MINSTER'!CU10","v":0},{"$f":"'JOLLY MINSTER'!CQ10","v":0}]
[{"$f":"'JOLLY MINSTER'!A11","v":"Josh Willis"},{"$f":"'JOLLY MINSTER'!CU11","v":0},{"$f":"'JOLLY MINSTER'!CQ11","v":0}]
[{"$f":"'JOLLY MINSTER'!A12","v":"Marty Burns"},{"$f":"'JOLLY MINSTER'!CU12","v":0},{"$f":"'JOLLY MINSTER'!CQ12","v":45}]
[{"$f":"'JOLLY MINSTER'!A13","v":0},{"$f":"'JOLLY MINSTER'!CU13","v":0},{"$f":"'JOLLY MINSTER'!CQ13","v":0}]
[{"$f":"'JOLLY MINSTER'!A14","v":0},{"$f":"'JOLLY MINSTER'!CU14","v":0},{"$f":"'JOLLY MINSTER'!CQ14","v":0}]
[{"$f":"'WORKMENS CLUB \"A\"'!A3","v":"Mick Smedley"},{"$f":"'WORKMENS CLUB \"A\"'!CU3","v":0},{"$f":"'WORKMENS CLUB \"A\"'!CQ3","v":39.799999999999997}]
[{"$f":"'WORKMENS CLUB \"A\"'!A4","v":"Joe Hutchinson"},{"$f":"'WORKMENS CLUB \"A\"'!CU4","v":0},{"$f":"'WORKMENS CLUB \"A\"'!CQ4","v":41.214285714285715}]
[{"$f":"'WORKMENS CLUB \"A\"'!A5","v":"Andy Etherington"},{"$f":"'WORKMENS CLUB \"A\"'!CU5","v":1},{"$f":"'WORKMENS CLUB \"A\"'!CQ5","v":37.230769230769234}]
[{"$f":"'WORKMENS CLUB \"A\"'!A6","v":"Bill Rispin"},{"$f":"'WORKMENS CLUB \"A\"'!CU6","v":0},{"$f":"'WORKMENS CLUB \"A\"'!CQ6","v":34}]
[{"$f":"'WORKMENS CLUB \"A\"'!A7","v":"Morris Walker"},{"$f":"'WORKMENS CLUB \"A\"'!CU7","v":1},{"$f":"'WORKMENS CLUB \"A\"'!CQ7","v":39.3125}]
[{"$f":"'WORKMENS CLUB \"A\"'!A8","v":"Morris Weighell"},{"$f":"'WORKMENS CLUB \"A\"'!CU8","v":0},{"$f":"'WORKMENS CLUB \"A\"'!CQ8","v":46.571428571428569}]
[{"$f":"'WORKMENS CLUB \"A\"'!A9","v":"Tom Melvil"},{"$f":"'WORKMENS CLUB \"A\"'!CU9","v":0},{"$f":"'WORKMENS CLUB \"A\"'!CQ9","v":36}]
[{"$f":"'WORKMENS CLUB \"A\"'!A10","v":"Chris Pattison"},{"$f":"'WORKMENS CLUB \"A\"'!CU10","v":0},{"$f":"'WORKMENS CLUB \"A\"'!CQ10","v":40.375}]
[{"$f":"'WORKMENS CLUB \"A\"'!A11","v":"Matthew Cornforth"},{"$f":"'WORKMENS CLUB \"A\"'!CU11","v":1},{"$f":"'WORKMENS CLUB \"A\"'!CQ11","v":37.133333333333333}]
[{"$f":"'WORKMENS CLUB \"A\"'!A12","v":"John Oliver"},{"$f":"'WORKMENS CLUB \"A\"'!CU12","v":0},{"$f":"'WORKMENS CLUB \"A\"'!CQ12","v":0}]
[{"$f":"'WORKMENS CLUB \"A\"'!A13","v":0},{"$f":"'WORKMENS CLUB \"A\"'!CU13","v":0},{"$f":"'WORKMENS CLUB \"A\"'!CQ13","v":0}]
[{"$f":"'WORKMENS CLUB \"A\"'!A14","v":0},{"$f":"'WORKMENS CLUB \"A\"'!CU14","v":0},{"$f":"'WORKMENS CLUB \"A\"'!CQ14","v":0}]
[{"$f":"'BUCK INN'!A3","v":"Jim Timmons"},{"$f":"'BUCK INN'!CU3","v":0},{"$f":"'BUCK INN'!CQ3","v":0}]
[{"$f":"'BUCK INN'!A4","v":"Graham Lake"},{"$f":"'BUCK INN'!CU4","v":0},{"$f":"'BUCK INN'!CQ4","v":0}]
[{"$f":"'BUCK INN'!A5","v":"Kireon Timmons"},{"$f":"'BUCK INN'!CU5","v":0},{"$f":"'BUCK INN'!CQ5","v":0}]
[{"$f":"'BUCK INN'!A6","v":"Kenny Kerrigan"},{"$f":"'BUCK INN'!CU6","v":0},{"$f":"'BUCK INN'!CQ6","v":0}]
[{"$f":"'BUCK INN'!A7","v":"Lee Johnson"},{"$f":"'BUCK INN'!CU7","v":0},{"$f":"'BUCK INN'!CQ7","v":0}]
[{"$f":"'BUCK INN'!A8","v":"Chris Timmons"},{"$f":"'BUCK INN'!CU8","v":0},{"$f":"'BUCK INN'!CQ8","v":0}]
[{"$f":"'BUCK INN'!A9","v":"M. Meadley"},{"$f":"'BUCK INN'!CU9","v":0},{"$f":"'BUCK INN'!CQ9","v":0}]
[{"$f":"'BUCK INN'!A10","v":0},{"$f":"'BUCK INN'!CU10","v":0},{"$f":"'BUCK INN'!CQ10","v":0}]
[{"$f":"'BUCK INN'!A11","v":0},{"$f":"'BUCK INN'!CU11","v":0},{"$f":"'BUCK INN'!CQ11","v":0}]
[{"$f":"'BUCK INN'!A12","v":0},{"$f":"'BUCK INN'!CU12","v":0},{"$f":"'BUCK INN'!CQ12","v":0}]
[{"$f":"'BUCK INN'!A13","v":0},{"$f":"'BUCK INN'!CU13","v":0},{"$f":"'BUCK INN'!CQ13","v":0}]
[{"$f":"'BUCK INN'!A14","v":0},{"$f":"'BUCK INN'!CU14","v":0},{"$f":"'BUCK INN'!CQ14","v":0}]
[{"$f":"'ODD FELLOWS'!A3","v":"Steve Monk"},{"$f":"'ODD FELLOWS'!CU3","v":0},{"$f":"'ODD FELLOWS'!CQ3","v":41}]
[{"$f":"'ODD FELLOWS'!A4","v":"Craig Monk"},{"$f":"'ODD FELLOWS'!CU4","v":7},{"$f":"'ODD FELLOWS'!CQ4","v":31.0625}]
[{"$f":"'ODD FELLOWS'!A5","v":"Liam Monk"},{"$f":"'ODD FELLOWS'!CU5","v":0},{"$f":"'ODD FELLOWS'!CQ5","v":0}]
[{"$f":"'ODD FELLOWS'!A6","v":"Alan Martin"},{"$f":"'ODD FELLOWS'!CU6","v":3},{"$f":"'ODD FELLOWS'!CQ6","v":34.533333333333331}]
[{"$f":"'ODD FELLOWS'!A7","v":"Tim Whiting JNR"},{"$f":"'ODD FELLOWS'!CU7","v":1},{"$f":"'ODD FELLOWS'!CQ7","v":37.0625}]
[{"$f":"'ODD FELLOWS'!A8","v":"Tim Whiting SNR"},{"$f":"'ODD FELLOWS'!CU8","v":0},{"$f":"'ODD FELLOWS'!CQ8","v":0}]
[{"$f":"'ODD FELLOWS'!A9","v":"Darren Downs"},{"$f":"'ODD FELLOWS'!CU9","v":0},{"$f":"'ODD FELLOWS'!CQ9","v":44.375}]
[{"$f":"'ODD FELLOWS'!A10","v":"Dennis Clarkson"},{"$f":"'ODD FELLOWS'!CU10","v":6},{"$f":"'ODD FELLOWS'!CQ10","v":32.8125}]
[{"$f":"'ODD FELLOWS'!A11","v":"Alex Sinclair"},{"$f":"'ODD FELLOWS'!CU11","v":0},{"$f":"'ODD FELLOWS'!CQ11","v":39.666666666666664}]
[{"$f":"'ODD FELLOWS'!A12","v":"Carl Bickerton"},{"$f":"'ODD FELLOWS'!CU12","v":0},{"$f":"'ODD FELLOWS'!CQ12","v":44.090909090909093}]
[{"$f":"'ODD FELLOWS'!A13","v":0},{"$f":"'ODD FELLOWS'!CU13","v":0},{"$f":"'ODD FELLOWS'!CQ13","v":0}]
[{"$f":"'ODD FELLOWS'!A14","v":0},{"$f":"'ODD FELLOWS'!CU14","v":0},{"$f":"'ODD FELLOWS'!CQ14","v":0}]
[{"$f":"SPORTSMANS!A3","v":"Nigel Outram"},{"$f":"SPORTSMANS!CU3","v":2},{"$f":"SPORTSMANS!CQ3","v":34.125}]
[{"$f":"SPORTSMANS!A4","v":"Martin Young"},{"$f":"SPORTSMANS!CU4","v":1},{"$f":"SPORTSMANS!CQ4","v":37.5625}]
[{"$f":"SPORTSMANS!A5","v":"Andy Monk"},{"$f":"SPORTSMANS!CU5","v":0},{"$f":"SPORTSMANS!CQ5","v":38.375}]
[{"$f":"SPORTSMANS!A6","v":"Pete Young"},{"$f":"SPORTSMANS!CU6","v":0},{"$f":"SPORTSMANS!CQ6","v":39}]
[{"$f":"SPORTSMANS!A7","v":"Kyle Young"},{"$f":"SPORTSMANS!CU7","v":7},{"$f":"SPORTSMANS!CQ7","v":34.06666666666667}]
[{"$f":"SPORTSMANS!A8","v":"Baz Pearson"},{"$f":"SPORTSMANS!CU8","v":0},{"$f":"SPORTSMANS!CQ8","v":43.53846153846154}]
[{"$f":"SPORTSMANS!A9","v":"Ian Whittaker"},{"$f":"SPORTSMANS!CU9","v":4},{"$f":"SPORTSMANS!CQ9","v":34.666666666666664}]
[{"$f":"SPORTSMANS!A10","v":"Ian Windress"},{"$f":"SPORTSMANS!CU10","v":0},{"$f":"SPORTSMANS!CQ10","v":0}]
[{"$f":"SPORTSMANS!A11","v":"Dan Clarke"},{"$f":"SPORTSMANS!CU11","v":0},{"$f":"SPORTSMANS!CQ11","v":0}]
[{"$f":"SPORTSMANS!A12","v":"Jack Stevenson"},{"$f":"SPORTSMANS!CU12","v":0},{"$f":"SPORTSMANS!CQ12","v":41}]
[{"$f":"SPORTSMANS!A13","v":0},{"$f":"SPORTSMANS!CU13","v":0},{"$f":"SPORTSMANS!CQ13","v":0}]
[{"$f":"SPORTSMANS!A14","v":0},{"$f":"SPORTSMANS!CU14","v":0},{"$f":"SPORTSMANS!CQ14","v":0}]
[{"$f":"'WORKMENS CLUB \"B\"'!A3","v":"Chris Whiting"},{"$f":"'WORKMENS CLUB \"B\"'!CU3","v":0},{"$f":"'WORKMENS CLUB \"B\"'!CQ3","v":40.142857142857146}]
[{"$f":"'WORKMENS CLUB \"B\"'!A4","v":"Phil Wells"},{"$f":"'WORKMENS CLUB \"B\"'!CU4","v":0},{"$f":"'WORKMENS CLUB \"B\"'!CQ4","v":42.777777777777779}]
[{"$f":"'WORKMENS CLUB \"B\"'!A5","v":"Ian Richards"},{"$f":"'WORKMENS CLUB \"B\"'!CU5","v":1},{"$f":"'WORKMENS CLUB \"B\"'!CQ5","v":37.07692307692308}]
[{"$f":"'WORKMENS CLUB \"B\"'!A6","v":"Adam Richards"},{"$f":"'WORKMENS CLUB \"B\"'!CU6","v":0},{"$f":"'WORKMENS CLUB \"B\"'!CQ6","v":0}]
[{"$f":"'WORKMENS CLUB \"B\"'!A7","v":"Alex Watson"},{"$f":"'WORKMENS CLUB \"B\"'!CU7","v":0},{"$f":"'WORKMENS CLUB \"B\"'!CQ7","v":43.333333333333336}]
[{"$f":"'WORKMENS CLUB \"B\"'!A8","v":"Ian Appleby"},{"$f":"'WORKMENS CLUB \"B\"'!CU8","v":0},{"$f":"'WORKMENS CLUB \"B\"'!CQ8","v":0}]
[{"$f":"'WORKMENS CLUB \"B\"'!A9","v":"Bob Carter"},{"$f":"'WORKMENS CLUB \"B\"'!CU9","v":1},{"$f":"'WORKMENS CLUB \"B\"'!CQ9","v":37.357142857142854}]
[{"$f":"'WORKMENS CLUB \"B\"'!A10","v":"B. Dawson"},{"$f":"'WORKMENS CLUB \"B\"'!CU10","v":0},{"$f":"'WORKMENS CLUB \"B\"'!CQ10","v":42.583333333333336}]
[{"$f":"'WORKMENS CLUB \"B\"'!A11","v":"Trevor Brown"},{"$f":"'WORKMENS CLUB \"B\"'!CU11","v":0},{"$f":"'WORKMENS CLUB \"B\"'!CQ11","v":43.06666666666667}]
[{"$f":"'WORKMENS CLUB \"B\"'!A12","v":"Mark Cox"},{"$f":"'WORKMENS CLUB \"B\"'!CU12","v":0},{"$f":"'WORKMENS CLUB \"B\"'!CQ12","v":36.5}]
[{"$f":"'WORKMENS CLUB \"B\"'!A13","v":0},{"$f":"'WORKMENS CLUB \"B\"'!CU13","v":0},{"$f":"'WORKMENS CLUB \"B\"'!CQ13","v":0}]
[{"$f":"'WORKMENS CLUB \"B\"'!A14","v":0},{"$f":"'WORKMENS CLUB \"B\"'!CU14","v":0},{"$f":"'WORKMENS CLUB \"B\"'!CQ14","v":0}]
[{"$f":"'NAGS HEAD \"B\"'!A3","v":"Andy Johnson"},{"$f":"'NAGS HEAD \"B\"'!CU3","v":0},{"$f":"'NAGS HEAD \"B\"'!CQ3","v":36.733333333333334}]
[{"$f":"'NAGS HEAD \"B\"'!A4","v":"Andy Haw"},{"$f":"'NAGS HEAD \"B\"'!CU4","v":0},{"$f":"'NAGS HEAD \"B\"'!CQ4","v":43.333333333333336}]
[{"$f":"'NAGS HEAD \"B\"'!A5","v":"Steve Atkinson"},{"$f":"'NAGS HEAD \"B\"'!CU5","v":0},{"$f":"'NAGS HEAD \"B\"'!CQ5","v":43.75}]
[{"$f":"'NAGS HEAD \"B\"'!A6","v":"Gaz Lumley"},{"$f":"'NAGS HEAD \"B\"'!CU6","v":0},{"$f":"'NAGS HEAD \"B\"'!CQ6","v":39.299999999999997}]
[{"$f":"'NAGS HEAD \"B\"'!A7","v":"Dave Crilly"},{"$f":"'NAGS HEAD \"B\"'!CU7","v":0},{"$f":"'NAGS HEAD \"B\"'!CQ7","v":37.333333333333336}]
[{"$f":"'NAGS HEAD \"B\"'!A8","v":"Steve Cooke"},{"$f":"'NAGS HEAD \"B\"'!CU8","v":0},{"$f":"'NAGS HEAD \"B\"'!CQ8","v":40.07692307692308}]
[{"$f":"'NAGS HEAD \"B\"'!A9","v":"Jake Doherty"},{"$f":"'NAGS HEAD \"B\"'!CU9","v":0},{"$f":"'NAGS HEAD \"B\"'!CQ9","v":48}]
[{"$f":"'NAGS HEAD \"B\"'!A10","v":"Steve Gibb"},{"$f":"'NAGS HEAD \"B\"'!CU10","v":0},{"$f":"'NAGS HEAD \"B\"'!CQ10","v":0}]
[{"$f":"'NAGS HEAD \"B\"'!A11","v":"Stuart Truman"},{"$f":"'NAGS HEAD \"B\"'!CU11","v":0},{"$f":"'NAGS HEAD \"B\"'!CQ11","v":46.333333333333336}]
[{"$f":"'NAGS HEAD \"B\"'!A12","v":"Kenny Kerringan"},{"$f":"'NAGS HEAD \"B\"'!CU12","v":0},{"$f":"'NAGS HEAD \"B\"'!CQ12","v":34.799999999999997}]
[{"$f":"'NAGS HEAD \"B\"'!A13","v":0},{"$f":"'NAGS HEAD \"B\"'!CU13","v":0},{"$f":"'NAGS HEAD \"B\"'!CQ13","v":0}]
[{"$f":"'NAGS HEAD \"B\"'!A14","v":0},{"$f":"'NAGS HEAD \"B\"'!CU14","v":0},{"$f":"'NAGS HEAD \"B\"'!CQ14","v":0}]
[{"$f":"'Team 11 - Unused'!A3","v":0},{"$f":"'Team 11 - Unused'!CU3","v":0},{"$f":"'Team 11 - Unused'!CQ3","v":0}]
[{"$f":"'Team 11 - Unused'!A4","v":0},{"$f":"'Team 11 - Unused'!CU4","v":0},{"$f":"'Team 11 - Unused'!CQ4","v":0}]
[{"$f":"'Team 11 - Unused'!A5","v":0},{"$f":"'Team 11 - Unused'!CU5","v":0},{"$f":"'Team 11 - Unused'!CQ5","v":0}]
[{"$f":"'Team 11 - Unused'!A6","v":0},{"$f":"'Team 11 - Unused'!CU6","v":0},{"$f":"'Team 11 - Unused'!CQ6","v":0}]
[{"$f":"'Team 11 - Unused'!A7","v":0},{"$f":"'Team 11 - Unused'!CU7","v":0},{"$f":"'Team 11 - Unused'!CQ7","v":0}]
[{"$f":"'Team 11 - Unused'!A8","v":0},{"$f":"'Team 11 - Unused'!CU8","v":0},{"$f":"'Team 11 - Unused'!CQ8","v":0}]
[{"$f":"'Team 11 - Unused'!A9","v":0},{"$f":"'Team 11 - Unused'!CU9","v":0},{"$f":"'Team 11 - Unused'!CQ9","v":0}]
[{"$f":"'Team 11 - Unused'!A10","v":0},{"$f":"'Team 11 - Unused'!CU10","v":0},{"$f":"'Team 11 - Unused'!CQ10","v":0}]
[{"$f":"'Team 11 - Unused'!A11","v":0},{"$f":"'Team 11 - Unused'!CU11","v":0},{"$f":"'Team 11 - Unused'!CQ11","v":0}]
[{"$f":"'Team 11 - Unused'!A12","v":0},{"$f":"'Team 11 - Unused'!CU12","v":0},{"$f":"'Team 11 - Unused'!CQ12","v":0}]
[{"$f":"'Team 11 - Unused'!A13","v":0},{"$f":"'Team 11 - Unused'!CU13","v":0},{"$f":"'Team 11 - Unused'!CQ13","v":0}]
[{"$f":"'Team 11 - Unused'!A14","v":0},{"$f":"'Team 11 - Unused'!CU14","v":0},{"$f":"'Team 11 - Unused'!CQ14","v":0}]
[{"$f":"'Team 12 - Unused'!A3","v":0},{"$f":"'Team 12 - Unused'!CU3","v":0},{"$f":"'Team 12 - Unused'!CQ3","v":0}]
[{"$f":"'Team 12 - Unused'!A4","v":0},{"$f":"'Team 12 - Unused'!CU4","v":0},{"$f":"'Team 12 - Unused'!CQ4","v":0}]
[{"$f":"'Team 12 - Unused'!A5","v":0},{"$f":"'Team 12 - Unused'!CU5","v":0},{"$f":"'Team 12 - Unused'!CQ5","v":0}]
[{"$f":"'Team 12 - Unused'!A6","v":0},{"$f":"'Team 12 - Unused'!CU6","v":0},{"$f":"'Team 12 - Unused'!CQ6","v":0}]
[{"$f":"'Team 12 - Unused'!A7","v":0},{"$f":"'Team 12 - Unused'!CU7","v":0},{"$f":"'Team 12 - Unused'!CQ7","v":0}]
[{"$f":"'Team 12 - Unused'!A8","v":0},{"$f":"'Team 12 - Unused'!CU8","v":0},{"$f":"'Team 12 - Unused'!CQ8","v":0}]
[{"$f":"'Team 12 - Unused'!A9","v":0},{"$f":"'Team 12 - Unused'!CU9","v":0},{"$f":"'Team 12 - Unused'!CQ9","v":0}]
[{"$f":"'Team 12 - Unused'!A10","v":0},{"$f":"'Team 12 - Unused'!CU10","v":0},{"$f":"'Team 12 - Unused'!CQ10","v":0}]
[{"$f":"'Team 12 - Unused'!A11","v":0},{"$f":"'Team 12 - Unused'!CU11","v":0},{"$f":"'Team 12 - Unused'!CQ11","v":0}]
[{"$f":"'Team 12 - Unused'!A12","v":0},{"$f":"'Team 12 - Unused'!CU12","v":0},{"$f":"'Team 12 - Unused'!CQ12","v":0}]
[{"$f":"'Team 12 - Unused'!A13","v":0},{"$f":"'Team 12 - Unused'!CU13","v":0},{"$f":"'Team 12 - Unused'!CQ13","v":0}]
[{"$f":"'Team 12 - Unused'!A14","v":0},{"$f":"'Team 12 - Unused'!CU14","v":0},{"$f":"'Team 12 - Unused'!CQ14","v":0}]

{"sheet":"180'S WORKING SHEET","index":23,"n_rows":145,"n_cols":2,"rows_kept":145,"cut":false,"hidden":true,"merged":[]}
["NAME","T180'S"]
[{"$f":"'NAGS HEAD \"A\"'!A3","v":"Steve Blewitt"},{"$f":"'NAGS HEAD \"A\"'!CT3","v":2}]
[{"$f":"'NAGS HEAD \"A\"'!A4","v":"Sean Kendrew"},{"$f":"'NAGS HEAD \"A\"'!CT4","v":0}]
[{"$f":"'NAGS HEAD \"A\"'!A5","v":"Steve Truman"},{"$f":"'NAGS HEAD \"A\"'!CT5","v":0}]
[{"$f":"'NAGS HEAD \"A\"'!A6","v":"Al Spence"},{"$f":"'NAGS HEAD \"A\"'!CT6","v":0}]
[{"$f":"'NAGS HEAD \"A\"'!A7","v":"Al Whelan"},{"$f":"'NAGS HEAD \"A\"'!CT7","v":0}]
[{"$f":"'NAGS HEAD \"A\"'!A8","v":"Dave Atkinson"},{"$f":"'NAGS HEAD \"A\"'!CT8","v":1}]
[{"$f":"'NAGS HEAD \"A\"'!A9","v":"Greg Tozier"},{"$f":"'NAGS HEAD \"A\"'!CT9","v":0}]
[{"$f":"'NAGS HEAD \"A\"'!A10","v":"Col Lagan"},{"$f":"'NAGS HEAD \"A\"'!CT10","v":0}]
[{"$f":"'NAGS HEAD \"A\"'!A11","v":"Kireon Timmons"},{"$f":"'NAGS HEAD \"A\"'!CT11","v":0}]
[{"$f":"'NAGS HEAD \"A\"'!A12","v":0},{"$f":"'NAGS HEAD \"A\"'!CT12","v":0}]
[{"$f":"'NAGS HEAD \"A\"'!A13","v":0},{"$f":"'NAGS HEAD \"A\"'!CT13","v":0}]
[{"$f":"'NAGS HEAD \"A\"'!A14","v":0},{"$f":"'NAGS HEAD \"A\"'!CT14","v":0}]
[{"$f":"'CRICKET CLUB'!A3","v":"Pete Wilkinson"},{"$f":"'CRICKET CLUB'!CT3","v":0}]
[{"$f":"'CRICKET CLUB'!A4","v":"Dan Buxton"},{"$f":"'CRICKET CLUB'!CT4","v":0}]
[{"$f":"'CRICKET CLUB'!A5","v":"Chris Wayman"},{"$f":"'CRICKET CLUB'!CT5","v":0}]
[{"$f":"'CRICKET CLUB'!A6","v":"Phil Wayman"},{"$f":"'CRICKET CLUB'!CT6","v":0}]
[{"$f":"'CRICKET CLUB'!A7","v":"Mike Wayman"},{"$f":"'CRICKET CLUB'!CT7","v":4}]
[{"$f":"'CRICKET CLUB'!A8","v":"Chris Garsed"},{"$f":"'CRICKET CLUB'!CT8","v":4}]
[{"$f":"'CRICKET CLUB'!A9","v":"George Webb"},{"$f":"'CRICKET CLUB'!CT9","v":1}]
[{"$f":"'CRICKET CLUB'!A10","v":"Bob Berry"},{"$f":"'CRICKET CLUB'!CT10","v":0}]
[{"$f":"'CRICKET CLUB'!A11","v":"Howard Ward"},{"$f":"'CRICKET CLUB'!CT11","v":0}]
[{"$f":"'CRICKET CLUB'!A12","v":"Mel Paylor"},{"$f":"'CRICKET CLUB'!CT12","v":0}]
[{"$f":"'CRICKET CLUB'!A13","v":"George Kay"},{"$f":"'CRICKET CLUB'!CT13","v":0}]
[{"$f":"'CRICKET CLUB'!A14","v":"Ben Jack"},{"$f":"'CRICKET CLUB'!CT14","v":0}]
[{"$f":"CROWN!A3","v":"Mark Outram"},{"$f":"CROWN!CT3","v":0}]
[{"$f":"CROWN!A4","v":"Dave Thornton"},{"$f":"CROWN!CT4","v":0}]
[{"$f":"CROWN!A5","v":"Dean Wakeling  "},{"$f":"CROWN!CT5","v":0}]
[{"$f":"CROWN!A6","v":"David Langthorne"},{"$f":"CROWN!CT6","v":0}]
[{"$f":"CROWN!A7","v":"Tony Bell"},{"$f":"CROWN!CT7","v":0}]
[{"$f":"CROWN!A8","v":"Chris Cockerline"},{"$f":"CROWN!CT8","v":0}]
[{"$f":"CROWN!A9","v":"Mark Natttrass"},{"$f":"CROWN!CT9","v":0}]
[{"$f":"CROWN!A10","v":"Phil Teare"},{"$f":"CROWN!CT10","v":0}]
[{"$f":"CROWN!A11","v":"Richard Salton"},{"$f":"CROWN!CT11","v":0}]
[{"$f":"CROWN!A12","v":"Shaun Raynor"},{"$f":"CROWN!CT12","v":0}]
[{"$f":"CROWN!A13","v":"Adam Carter"},{"$f":"CROWN!CT13","v":0}]
[{"$f":"CROWN!A14","v":"Tim Bowman"},{"$f":"CROWN!CT14","v":0}]
[{"$f":"'JOLLY MINSTER'!A3","v":"Eric Stapley"},{"$f":"'JOLLY MINSTER'!CT3","v":0}]
[{"$f":"'JOLLY MINSTER'!A4","v":"Ian Atherton"},{"$f":"'JOLLY MINSTER'!CT4","v":0}]
[{"$f":"'JOLLY MINSTER'!A5","v":"George McPhee"},{"$f":"'JOLLY MINSTER'!CT5","v":0}]
[{"$f":"'JOLLY MINSTER'!A6","v":"Craig Burns"},{"$f":"'JOLLY MINSTER'!CT6","v":0}]
[{"$f":"'JOLLY MINSTER'!A7","v":"Tymo Sobkowiak"},{"$f":"'JOLLY MINSTER'!CT7","v":0}]
[{"$f":"'JOLLY MINSTER'!A8","v":"Anthony Clemmet"},{"$f":"'JOLLY MINSTER'!CT8","v":0}]
[{"$f":"'JOLLY MINSTER'!A9","v":"Sam Mathews"},{"$f":"'JOLLY MINSTER'!CT9","v":0}]
[{"$f":"'JOLLY MINSTER'!A10","v":"Tony Read"},{"$f":"'JOLLY MINSTER'!CT10","v":0}]
[{"$f":"'JOLLY MINSTER'!A11","v":"Josh Willis"},{"$f":"'JOLLY MINSTER'!CT11","v":0}]
[{"$f":"'JOLLY MINSTER'!A12","v":"Marty Burns"},{"$f":"'JOLLY MINSTER'!CT12","v":0}]
[{"$f":"'JOLLY MINSTER'!A13","v":0},{"$f":"'JOLLY MINSTER'!CT13","v":0}]
[{"$f":"'JOLLY MINSTER'!A14","v":0},{"$f":"'JOLLY MINSTER'!CT14","v":0}]
[{"$f":"'WORKMENS CLUB \"A\"'!A3","v":"Mick Smedley"},{"$f":"'WORKMENS CLUB \"A\"'!CT3","v":0}]
[{"$f":"'WORKMENS CLUB \"A\"'!A4","v":"Joe Hutchinson"},{"$f":"'WORKMENS CLUB \"A\"'!CT4","v":0}]
[{"$f":"'WORKMENS CLUB \"A\"'!A5","v":"Andy Etherington"},{"$f":"'WORKMENS CLUB \"A\"'!CT5","v":1}]
[{"$f":"'WORKMENS CLUB \"A\"'!A6","v":"Bill Rispin"},{"$f":"'WORKMENS CLUB \"A\"'!CT6","v":0}]
[{"$f":"'WORKMENS CLUB \"A\"'!A7","v":"Morris Walker"},{"$f":"'WORKMENS CLUB \"A\"'!CT7","v":0}]
[{"$f":"'WORKMENS CLUB \"A\"'!A8","v":"Morris Weighell"},{"$f":"'WORKMENS CLUB \"A\"'!CT8","v":0}]
[{"$f":"'WORKMENS CLUB \"A\"'!A9","v":"Tom Melvil"},{"$f":"'WORKMENS CLUB \"A\"'!CT9","v":0}]
[{"$f":"'WORKMENS CLUB \"A\"'!A10","v":"Chris Pattison"},{"$f":"'WORKMENS CLUB \"A\"'!CT10","v":0}]
[{"$f":"'WORKMENS CLUB \"A\"'!A11","v":"Matthew Cornforth"},{"$f":"'WORKMENS CLUB \"A\"'!CT11","v":1}]
[{"$f":"'WORKMENS CLUB \"A\"'!A12","v":"John Oliver"},{"$f":"'WORKMENS CLUB \"A\"'!CT12","v":0}]
[{"$f":"'WORKMENS CLUB \"A\"'!A13","v":0},{"$f":"'WORKMENS CLUB \"A\"'!CT13","v":0}]
[{"$f":"'WORKMENS CLUB \"A\"'!A14","v":0},{"$f":"'WORKMENS CLUB \"A\"'!CT14","v":0}]
[{"$f":"'BUCK INN'!A3","v":"Jim Timmons"},{"$f":"'BUCK INN'!CT3","v":0}]
[{"$f":"'BUCK INN'!A4","v":"Graham Lake"},{"$f":"'BUCK INN'!CT4","v":0}]
[{"$f":"'BUCK INN'!A5","v":"Kireon Timmons"},{"$f":"'BUCK INN'!CT5","v":0}]
[{"$f":"'BUCK INN'!A6","v":"Kenny Kerrigan"},{"$f":"'BUCK INN'!CT6","v":0}]
[{"$f":"'BUCK INN'!A7","v":"Lee Johnson"},{"$f":"'BUCK INN'!CT7","v":0}]
[{"$f":"'BUCK INN'!A8","v":"Chris Timmons"},{"$f":"'BUCK INN'!CT8","v":0}]
[{"$f":"'BUCK INN'!A9","v":"M. Meadley"},{"$f":"'BUCK INN'!CT9","v":0}]
[{"$f":"'BUCK INN'!A10","v":0},{"$f":"'BUCK INN'!CT10","v":0}]
[{"$f":"'BUCK INN'!A11","v":0},{"$f":"'BUCK INN'!CT11","v":0}]
[{"$f":"'BUCK INN'!A12","v":0},{"$f":"'BUCK INN'!CT12","v":0}]
[{"$f":"'BUCK INN'!A13","v":0},{"$f":"'BUCK INN'!CT13","v":0}]
[{"$f":"'BUCK INN'!A14","v":0},{"$f":"'BUCK INN'!CT14","v":0}]
[{"$f":"'ODD FELLOWS'!A3","v":"Steve Monk"},{"$f":"'ODD FELLOWS'!CT3","v":0}]
[{"$f":"'ODD FELLOWS'!A4","v":"Craig Monk"},{"$f":"'ODD FELLOWS'!CT4","v":3}]
[{"$f":"'ODD FELLOWS'!A5","v":"Liam Monk"},{"$f":"'ODD FELLOWS'!CT5","v":0}]
[{"$f":"'ODD FELLOWS'!A6","v":"Alan Martin"},{"$f":"'ODD FELLOWS'!CT6","v":2}]
[{"$f":"'ODD FELLOWS'!A7","v":"Tim Whiting JNR"},{"$f":"'ODD FELLOWS'!CT7","v":1}]
[{"$f":"'ODD FELLOWS'!A8","v":"Tim Whiting SNR"},{"$f":"'ODD FELLOWS'!CT8","v":0}]
[{"$f":"'ODD FELLOWS'!A9","v":"Darren Downs"},{"$f":"'ODD FELLOWS'!CT9","v":0}]
[{"$f":"'ODD FELLOWS'!A10","v":"Dennis Clarkson"},{"$f":"'ODD FELLOWS'!CT10","v":1}]
[{"$f":"'ODD FELLOWS'!A11","v":"Alex Sinclair"},{"$f":"'ODD FELLOWS'!CT11","v":0}]
[{"$f":"'ODD FELLOWS'!A12","v":"Carl Bickerton"},{"$f":"'ODD FELLOWS'!CT12","v":0}]
[{"$f":"'ODD FELLOWS'!A13","v":0},{"$f":"'ODD FELLOWS'!CT13","v":0}]
[{"$f":"'ODD FELLOWS'!A14","v":0},{"$f":"'ODD FELLOWS'!CT14","v":0}]
[{"$f":"SPORTSMANS!A3","v":"Nigel Outram"},{"$f":"SPORTSMANS!CT3","v":1}]
[{"$f":"SPORTSMANS!A4","v":"Martin Young"},{"$f":"SPORTSMANS!CT4","v":0}]
[{"$f":"SPORTSMANS!A5","v":"Andy Monk"},{"$f":"SPORTSMANS!CT5","v":0}]
[{"$f":"SPORTSMANS!A6","v":"Pete Young"},{"$f":"SPORTSMANS!CT6","v":0}]
[{"$f":"SPORTSMANS!A7","v":"Kyle Young"},{"$f":"SPORTSMANS!CT7","v":3}]
[{"$f":"SPORTSMANS!A8","v":"Baz Pearson"},{"$f":"SPORTSMANS!CT8","v":0}]
[{"$f":"SPORTSMANS!A9","v":"Ian Whittaker"},{"$f":"SPORTSMANS!CT9","v":0}]
[{"$f":"SPORTSMANS!A10","v":"Ian Windress"},{"$f":"SPORTSMANS!CT10","v":0}]
[{"$f":"SPORTSMANS!A11","v":"Dan Clarke"},{"$f":"SPORTSMANS!CT11","v":0}]
[{"$f":"SPORTSMANS!A12","v":"Jack Stevenson"},{"$f":"SPORTSMANS!CT12","v":0}]
[{"$f":"SPORTSMANS!A13","v":0},{"$f":"SPORTSMANS!CT13","v":0}]
[{"$f":"SPORTSMANS!A14","v":0},{"$f":"SPORTSMANS!CT14","v":0}]
[{"$f":"'WORKMENS CLUB \"B\"'!A3","v":"Chris Whiting"},{"$f":"'WORKMENS CLUB \"B\"'!CT3","v":0}]
[{"$f":"'WORKMENS CLUB \"B\"'!A4","v":"Phil Wells"},{"$f":"'WORKMENS CLUB \"B\"'!CT4","v":0}]
[{"$f":"'WORKMENS CLUB \"B\"'!A5","v":"Ian Richards"},{"$f":"'WORKMENS CLUB \"B\"'!CT5","v":0}]
[{"$f":"'WORKMENS CLUB \"B\"'!A6","v":"Adam Richards"},{"$f":"'WORKMENS CLUB \"B\"'!CT6","v":0}]
[{"$f":"'WORKMENS CLUB \"B\"'!A7","v":"Alex Watson"},{"$f":"'WORKMENS CLUB \"B\"'!CT7","v":0}]
[{"$f":"'WORKMENS CLUB \"B\"'!A8","v":"Ian Appleby"},{"$f":"'WORKMENS CLUB \"B\"'!CT8","v":0}]
[{"$f":"'WORKMENS CLUB \"B\"'!A9","v":"Bob Carter"},{"$f":"'WORKMENS CLUB \"B\"'!CT9","v":0}]
[{"$f":"'WORKMENS CLUB \"B\"'!A10","v":"B. Dawson"},{"$f":"'WORKMENS CLUB \"B\"'!CT10","v":0}]
[{"$f":"'WORKMENS CLUB \"B\"'!A11","v":"Trevor Brown"},{"$f":"'WORKMENS CLUB \"B\"'!CT11","v":0}]
[{"$f":"'WORKMENS CLUB \"B\"'!A12","v":"Mark Cox"},{"$f":"'WORKMENS CLUB \"B\"'!CT12","v":0}]
[{"$f":"'WORKMENS CLUB \"B\"'!A13","v":0},{"$f":"'WORKMENS CLUB \"B\"'!CT13","v":0}]
[{"$f":"'WORKMENS CLUB \"B\"'!A14","v":0},{"$f":"'WORKMENS CLUB \"B\"'!CT14","v":0}]
[{"$f":"'NAGS HEAD \"B\"'!A3","v":"Andy Johnson"},{"$f":"'NAGS HEAD \"B\"'!CT3","v":0}]
[{"$f":"'NAGS HEAD \"B\"'!A4","v":"Andy Haw"},{"$f":"'NAGS HEAD \"B\"'!CT4","v":1}]
[{"$f":"'NAGS HEAD \"B\"'!A5","v":"Steve Atkinson"},{"$f":"'NAGS HEAD \"B\"'!CT5","v":0}]
[{"$f":"'NAGS HEAD \"B\"'!A6","v":"Gaz Lumley"},{"$f":"'NAGS HEAD \"B\"'!CT6","v":0}]
[{"$f":"'NAGS HEAD \"B\"'!A7","v":"Dave Crilly"},{"$f":"'NAGS HEAD \"B\"'!CT7","v":0}]
[{"$f":"'NAGS HEAD \"B\"'!A8","v":"Steve Cooke"},{"$f":"'NAGS HEAD \"B\"'!CT8","v":1}]
[{"$f":"'NAGS HEAD \"B\"'!A9","v":"Jake Doherty"},{"$f":"'NAGS HEAD \"B\"'!CT9","v":0}]
[{"$f":"'NAGS HEAD \"B\"'!A10","v":"Steve Gibb"},{"$f":"'NAGS HEAD \"B\"'!CT10","v":0}]
[{"$f":"'NAGS HEAD \"B\"'!A11","v":"Stuart Truman"},{"$f":"'NAGS HEAD \"B\"'!CT11","v":0}]
[{"$f":"'NAGS HEAD \"B\"'!A12","v":"Kenny Kerringan"},{"$f":"'NAGS HEAD \"B\"'!CT12","v":0}]
[{"$f":"'NAGS HEAD \"B\"'!A13","v":0},{"$f":"'NAGS HEAD \"B\"'!CT13","v":0}]
[{"$f":"'NAGS HEAD \"B\"'!A14","v":0},{"$f":"'NAGS HEAD \"B\"'!CT14","v":0}]
[{"$f":"'Team 11 - Unused'!A3","v":0},{"$f":"'Team 11 - Unused'!CT3","v":0}]
[{"$f":"'Team 11 - Unused'!A4","v":0},{"$f":"'Team 11 - Unused'!CT4","v":0}]
[{"$f":"'Team 11 - Unused'!A5","v":0},{"$f":"'Team 11 - Unused'!CT5","v":0}]
[{"$f":"'Team 11 - Unused'!A6","v":0},{"$f":"'Team 11 - Unused'!CT6","v":0}]
[{"$f":"'Team 11 - Unused'!A7","v":0},{"$f":"'Team 11 - Unused'!CT7","v":0}]
[{"$f":"'Team 11 - Unused'!A8","v":0},{"$f":"'Team 11 - Unused'!CT8","v":0}]
[{"$f":"'Team 11 - Unused'!A9","v":0},{"$f":"'Team 11 - Unused'!CT9","v":0}]
[{"$f":"'Team 11 - Unused'!A10","v":0},{"$f":"'Team 11 - Unused'!CT10","v":0}]
[{"$f":"'Team 11 - Unused'!A11","v":0},{"$f":"'Team 11 - Unused'!CT11","v":0}]
[{"$f":"'Team 11 - Unused'!A12","v":0},{"$f":"'Team 11 - Unused'!CT12","v":0}]
[{"$f":"'Team 11 - Unused'!A13","v":0},{"$f":"'Team 11 - Unused'!CT13","v":0}]
[{"$f":"'Team 11 - Unused'!A14","v":0},{"$f":"'Team 11 - Unused'!CT14","v":0}]
[{"$f":"'Team 12 - Unused'!A3","v":0},{"$f":"'Team 12 - Unused'!CT3","v":0}]
[{"$f":"'Team 12 - Unused'!A4","v":0},{"$f":"'Team 12 - Unused'!CT4","v":0}]
[{"$f":"'Team 12 - Unused'!A5","v":0},{"$f":"'Team 12 - Unused'!CT5","v":0}]
[{"$f":"'Team 12 - Unused'!A6","v":0},{"$f":"'Team 12 - Unused'!CT6","v":0}]
[{"$f":"'Team 12 - Unused'!A7","v":0},{"$f":"'Team 12 - Unused'!CT7","v":0}]
[{"$f":"'Team 12 - Unused'!A8","v":0},{"$f":"'Team 12 - Unused'!CT8","v":0}]
[{"$f":"'Team 12 - Unused'!A9","v":0},{"$f":"'Team 12 - Unused'!CT9","v":0}]
[{"$f":"'Team 12 - Unused'!A10","v":0},{"$f":"'Team 12 - Unused'!CT10","v":0}]
[{"$f":"'Team 12 - Unused'!A11","v":0},{"$f":"'Team 12 - Unused'!CT11","v":0}]
[{"$f":"'Team 12 - Unused'!A12","v":0},{"$f":"'Team 12 - Unused'!CT12","v":0}]
[{"$f":"'Team 12 - Unused'!A13","v":0},{"$f":"'Team 12 - Unused'!CT13","v":0}]
[{"$f":"'Team 12 - Unused'!A14","v":0},{"$f":"'Team 12 - Unused'!CT14","v":0}]

{"sheet":"LEAST WORKING SHEET","index":24,"n_rows":145,"n_cols":2,"rows_kept":145,"cut":false,"hidden":true,"merged":[]}
["NAME","DARTS"]
[{"$f":"'NAGS HEAD \"A\"'!A10","v":"Col Lagan"},{"$f":"'NAGS HEAD \"A\"'!CV10","v":32}]
[{"$f":"'NAGS HEAD \"A\"'!A11","v":"Kireon Timmons"},{"$f":"'NAGS HEAD \"A\"'!CV11","v":40}]
[{"$f":"'NAGS HEAD \"A\"'!A12","v":0},{"$f":"'NAGS HEAD \"A\"'!CV12","v":0}]
[{"$f":"'NAGS HEAD \"A\"'!A13","v":0},{"$f":"'NAGS HEAD \"A\"'!CV13","v":0}]
[{"$f":"'NAGS HEAD \"A\"'!A14","v":0},{"$f":"'NAGS HEAD \"A\"'!CV14","v":0}]
[{"$f":"'CRICKET CLUB'!A7","v":"Mike Wayman"},{"$f":"'CRICKET CLUB'!CV7","v":25}]
[{"$f":"'CRICKET CLUB'!A9","v":"George Webb"},{"$f":"'CRICKET CLUB'!CV9","v":27}]
[{"$f":"'CRICKET CLUB'!A11","v":"Howard Ward"},{"$f":"'CRICKET CLUB'!CV11","v":29}]
[{"$f":"'CRICKET CLUB'!A12","v":"Mel Paylor"},{"$f":"'CRICKET CLUB'!CV12","v":31}]
[{"$f":"'CRICKET CLUB'!A13","v":"George Kay"},{"$f":"'CRICKET CLUB'!CV13","v":28}]
[{"$f":"'CRICKET CLUB'!A14","v":"Ben Jack"},{"$f":"'CRICKET CLUB'!CV14","v":0}]
[{"$f":"CROWN!A11","v":"Richard Salton"},{"$f":"CROWN!CV11","v":0}]
[{"$f":"CROWN!A12","v":"Shaun Raynor"},{"$f":"CROWN!CV12","v":0}]
[{"$f":"CROWN!A13","v":"Adam Carter"},{"$f":"CROWN!CV13","v":0}]
[{"$f":"CROWN!A14","v":"Tim Bowman"},{"$f":"CROWN!CV14","v":0}]
[{"$f":"'JOLLY MINSTER'!A3","v":"Eric Stapley"},{"$f":"'JOLLY MINSTER'!CV3","v":38}]
[{"$f":"'JOLLY MINSTER'!A4","v":"Ian Atherton"},{"$f":"'JOLLY MINSTER'!CV4","v":38}]
[{"$f":"'JOLLY MINSTER'!A5","v":"George McPhee"},{"$f":"'JOLLY MINSTER'!CV5","v":30}]
[{"$f":"'JOLLY MINSTER'!A6","v":"Craig Burns"},{"$f":"'JOLLY MINSTER'!CV6","v":32}]
[{"$f":"'JOLLY MINSTER'!A7","v":"Tymo Sobkowiak"},{"$f":"'JOLLY MINSTER'!CV7","v":51}]
[{"$f":"'JOLLY MINSTER'!A8","v":"Anthony Clemmet"},{"$f":"'JOLLY MINSTER'!CV8","v":42}]
[{"$f":"'JOLLY MINSTER'!A10","v":"Tony Read"},{"$f":"'JOLLY MINSTER'!CV10","v":0}]
[{"$f":"'JOLLY MINSTER'!A11","v":"Josh Willis"},{"$f":"'JOLLY MINSTER'!CV11","v":0}]
[{"$f":"'JOLLY MINSTER'!A12","v":"Marty Burns"},{"$f":"'JOLLY MINSTER'!CV12","v":0}]
[{"$f":"'JOLLY MINSTER'!A13","v":0},{"$f":"'JOLLY MINSTER'!CT13","v":0}]
[{"$f":"'JOLLY MINSTER'!A14","v":0},{"$f":"'JOLLY MINSTER'!CT14","v":0}]
[{"$f":"'WORKMENS CLUB \"A\"'!A7","v":"Morris Walker"},{"$f":"'WORKMENS CLUB \"A\"'!CV7","v":30}]
[{"$f":"'WORKMENS CLUB \"A\"'!A10","v":"Chris Pattison"},{"$f":"'WORKMENS CLUB \"A\"'!CV10","v":34}]
[{"$f":"'WORKMENS CLUB \"A\"'!A13","v":0},{"$f":"'WORKMENS CLUB \"A\"'!CV13","v":0}]
[{"$f":"'WORKMENS CLUB \"A\"'!A14","v":0},{"$f":"'WORKMENS CLUB \"A\"'!CV14","v":0}]
[{"$f":"'BUCK INN'!A9","v":"M. Meadley"},{"$f":"'BUCK INN'!CV9","v":0}]
[{"$f":"'BUCK INN'!A10","v":0},{"$f":"'BUCK INN'!CV10","v":0}]
[{"$f":"'BUCK INN'!A12","v":0},{"$f":"'BUCK INN'!CV12","v":0}]
[{"$f":"'BUCK INN'!A13","v":0},{"$f":"'BUCK INN'!CV13","v":0}]
[{"$f":"'BUCK INN'!A14","v":0},{"$f":"'BUCK INN'!CV14","v":0}]
[{"$f":"'ODD FELLOWS'!A3","v":"Steve Monk"},{"$f":"'ODD FELLOWS'!CV3","v":45}]
[{"$f":"'ODD FELLOWS'!A7","v":"Tim Whiting JNR"},{"$f":"'ODD FELLOWS'!CV7","v":29}]
[{"$f":"'ODD FELLOWS'!A12","v":"Carl Bickerton"},{"$f":"'ODD FELLOWS'!CV12","v":42}]
[{"$f":"SPORTSMANS!A10","v":"Ian Windress"},{"$f":"SPORTSMANS!CV10","v":0}]
[{"$f":"SPORTSMANS!A11","v":"Dan Clarke"},{"$f":"SPORTSMANS!CV11","v":0}]
[{"$f":"SPORTSMANS!A12","v":"Jack Stevenson"},{"$f":"SPORTSMANS!CV12","v":43}]
[{"$f":"SPORTSMANS!A13","v":0},{"$f":"SPORTSMANS!CV13","v":0}]
[{"$f":"SPORTSMANS!A14","v":0},{"$f":"SPORTSMANS!CV14","v":0}]
[{"$f":"'WORKMENS CLUB \"B\"'!A3","v":"Chris Whiting"},{"$f":"'WORKMENS CLUB \"B\"'!CV3","v":35}]
[{"$f":"'WORKMENS CLUB \"B\"'!A13","v":0},{"$f":"'WORKMENS CLUB \"B\"'!CV13","v":0}]
[{"$f":"'WORKMENS CLUB \"B\"'!A14","v":0},{"$f":"'WORKMENS CLUB \"B\"'!CV14","v":0}]
[{"$f":"'NAGS HEAD \"B\"'!A9","v":"Jake Doherty"},{"$f":"'NAGS HEAD \"B\"'!CV9","v":0}]
[{"$f":"'NAGS HEAD \"B\"'!A12","v":"Kenny Kerringan"},{"$f":"'NAGS HEAD \"B\"'!CV12","v":48}]
[{"$f":"'NAGS HEAD \"B\"'!A13","v":0},{"$f":"'NAGS HEAD \"B\"'!CV13","v":0}]
[{"$f":"'NAGS HEAD \"B\"'!A14","v":0},{"$f":"'NAGS HEAD \"B\"'!CV14","v":0}]
[{"$f":"'Team 11 - Unused'!A9","v":0},{"$f":"'Team 11 - Unused'!CV9","v":0}]
[{"$f":"'Team 11 - Unused'!A13","v":0},{"$f":"'Team 11 - Unused'!CV13","v":0}]
[{"$f":"'Team 11 - Unused'!A14","v":0},{"$f":"'Team 11 - Unused'!CV14","v":0}]
[{"$f":"'JOLLY MINSTER'!A9","v":"Sam Mathews"},{"$f":"'JOLLY MINSTER'!CV9","v":0}]
[{"$f":"CROWN!A4","v":"Dave Thornton"},{"$f":"CROWN!CV4","v":59}]
[{"$f":"'NAGS HEAD \"B\"'!A3","v":"Andy Johnson"},{"$f":"'NAGS HEAD \"B\"'!CV3","v":32}]
[{"$f":"'NAGS HEAD \"B\"'!A4","v":"Andy Haw"},{"$f":"'NAGS HEAD \"B\"'!CV4","v":41}]
[{"$f":"'NAGS HEAD \"B\"'!A7","v":"Dave Crilly"},{"$f":"'NAGS HEAD \"B\"'!CV7","v":35}]
[{"$f":"'NAGS HEAD \"A\"'!A4","v":"Sean Kendrew"},{"$f":"'NAGS HEAD \"A\"'!CV4","v":24}]
[{"$f":"'CRICKET CLUB'!A4","v":"Dan Buxton"},{"$f":"'CRICKET CLUB'!CV4","v":35}]
[{"$f":"'CRICKET CLUB'!A5","v":"Chris Wayman"},{"$f":"'CRICKET CLUB'!CV5","v":39}]
[{"$f":"'ODD FELLOWS'!A10","v":"Dennis Clarkson"},{"$f":"'ODD FELLOWS'!CV10","v":27}]
[{"$f":"'WORKMENS CLUB \"B\"'!A7","v":"Alex Watson"},{"$f":"'WORKMENS CLUB \"B\"'!CV7","v":33}]
[{"$f":"'NAGS HEAD \"A\"'!A3","v":"Steve Blewitt"},{"$f":"'NAGS HEAD \"A\"'!CV3","v":27}]
[{"$f":"'NAGS HEAD \"A\"'!A6","v":"Al Spence"},{"$f":"'NAGS HEAD \"A\"'!CV6","v":32}]
[{"$f":"'Team 11 - Unused'!A6","v":0},{"$f":"'Team 11 - Unused'!CV6","v":0}]
[{"$f":"'NAGS HEAD \"A\"'!A7","v":"Al Whelan"},{"$f":"'NAGS HEAD \"A\"'!CV7","v":34}]
[{"$f":"CROWN!A6","v":"David Langthorne"},{"$f":"CROWN!CV6","v":33}]
[{"$f":"SPORTSMANS!A3","v":"Nigel Outram"},{"$f":"SPORTSMANS!CV3","v":23}]
[{"$f":"'Team 11 - Unused'!A3","v":0},{"$f":"'Team 11 - Unused'!CV3","v":0}]
[{"$f":"'Team 11 - Unused'!A8","v":0},{"$f":"'Team 11 - Unused'!CV8","v":0}]
[{"$f":"'NAGS HEAD \"A\"'!A9","v":"Greg Tozier"},{"$f":"'NAGS HEAD \"A\"'!CV9","v":0}]
[{"$f":"'CRICKET CLUB'!A3","v":"Pete Wilkinson"},{"$f":"'CRICKET CLUB'!CV3","v":0}]
[{"$f":"'CRICKET CLUB'!A6","v":"Phil Wayman"},{"$f":"'CRICKET CLUB'!CV6","v":0}]
[{"$f":"'WORKMENS CLUB \"A\"'!A8","v":"Morris Weighell"},{"$f":"'WORKMENS CLUB \"A\"'!CV8","v":43}]
[{"$f":"SPORTSMANS!A6","v":"Pete Young"},{"$f":"SPORTSMANS!CV6","v":0}]
[{"$f":"'Team 11 - Unused'!A12","v":0},{"$f":"'Team 11 - Unused'!CV12","v":0}]
[{"$f":"CROWN!A5","v":"Dean Wakeling  "},{"$f":"CROWN!CV5","v":57}]
[{"$f":"CROWN!A10","v":"Phil Teare"},{"$f":"CROWN!CV10","v":37}]
[{"$f":"'Team 11 - Unused'!A11","v":0},{"$f":"'Team 11 - Unused'!CV11","v":0}]
[{"$f":"CROWN!A8","v":"Chris Cockerline"},{"$f":"CROWN!CV8","v":48}]
[{"$f":"CROWN!A9","v":"Mark Natttrass"},{"$f":"CROWN!CV9","v":45}]
[{"$f":"'ODD FELLOWS'!A8","v":"Tim Whiting SNR"},{"$f":"'ODD FELLOWS'!CV8","v":0}]
[{"$f":"'WORKMENS CLUB \"B\"'!A5","v":"Ian Richards"},{"$f":"'WORKMENS CLUB \"B\"'!CV5","v":30}]
[{"$f":"'NAGS HEAD \"B\"'!A5","v":"Steve Atkinson"},{"$f":"'NAGS HEAD \"B\"'!CV5","v":42}]
[{"$f":"'NAGS HEAD \"B\"'!A8","v":"Steve Cooke"},{"$f":"'NAGS HEAD \"B\"'!CV8","v":35}]
[{"$f":"'WORKMENS CLUB \"A\"'!A3","v":"Mick Smedley"},{"$f":"'WORKMENS CLUB \"A\"'!CV3","v":31}]
[{"$f":"'Team 11 - Unused'!A10","v":0},{"$f":"'Team 11 - Unused'!CV10","v":0}]
[{"$f":"'WORKMENS CLUB \"A\"'!A12","v":"John Oliver"},{"$f":"'WORKMENS CLUB \"A\"'!CV12","v":0}]
[{"$f":"SPORTSMANS!A4","v":"Martin Young"},{"$f":"SPORTSMANS!CV4","v":27}]
[{"$f":"CROWN!A7","v":"Tony Bell"},{"$f":"CROWN!CV7","v":0}]
[{"$f":"'WORKMENS CLUB \"A\"'!A4","v":"Joe Hutchinson"},{"$f":"'WORKMENS CLUB \"A\"'!CV4","v":37}]
[{"$f":"'WORKMENS CLUB \"A\"'!A5","v":"Andy Etherington"},{"$f":"'WORKMENS CLUB \"A\"'!CV5","v":30}]
[{"$f":"'WORKMENS CLUB \"A\"'!A6","v":"Bill Rispin"},{"$f":"'WORKMENS CLUB \"A\"'!CV6","v":36}]
[{"$f":"SPORTSMANS!A5","v":"Andy Monk"},{"$f":"SPORTSMANS!CV5","v":32}]
[{"$f":"'CRICKET CLUB'!A8","v":"Chris Garsed"},{"$f":"'CRICKET CLUB'!CV8","v":19}]
[{"$f":"'ODD FELLOWS'!A5","v":"Liam Monk"},{"$f":"'ODD FELLOWS'!CV5","v":0}]
[{"$f":"SPORTSMANS!A7","v":"Kyle Young"},{"$f":"SPORTSMANS!CV7","v":24}]
[{"$f":"'NAGS HEAD \"B\"'!A6","v":"Gaz Lumley"},{"$f":"'NAGS HEAD \"B\"'!CV6","v":37}]
[{"$f":"'NAGS HEAD \"A\"'!A5","v":"Steve Truman"},{"$f":"'NAGS HEAD \"A\"'!CV5","v":30}]
[{"$f":"'WORKMENS CLUB \"B\"'!A4","v":"Phil Wells"},{"$f":"'WORKMENS CLUB \"B\"'!CV4","v":38}]
[{"$f":"'NAGS HEAD \"B\"'!A11","v":"Stuart Truman"},{"$f":"'NAGS HEAD \"B\"'!CV11","v":50}]
[{"$f":"'WORKMENS CLUB \"A\"'!A11","v":"Matthew Cornforth"},{"$f":"'WORKMENS CLUB \"A\"'!CV11","v":29}]
[{"$f":"'BUCK INN'!A5","v":"Kireon Timmons"},{"$f":"'BUCK INN'!CV5","v":0}]
[{"$f":"'WORKMENS CLUB \"B\"'!A10","v":"B. Dawson"},{"$f":"'WORKMENS CLUB \"B\"'!CV10","v":46}]
[{"$f":"'ODD FELLOWS'!A9","v":"Darren Downs"},{"$f":"'ODD FELLOWS'!CV9","v":43}]
[{"$f":"'NAGS HEAD \"B\"'!A10","v":"Steve Gibb"},{"$f":"'NAGS HEAD \"B\"'!CV10","v":0}]
[{"$f":"'ODD FELLOWS'!A6","v":"Alan Martin"},{"$f":"'ODD FELLOWS'!CV6","v":26}]
[{"$f":"CROWN!A3","v":"Mark Outram"},{"$f":"CROWN!CV3","v":30}]
[{"$f":"'Team 11 - Unused'!A7","v":0},{"$f":"'Team 11 - Unused'!CV7","v":0}]
[{"$f":"'WORKMENS CLUB \"B\"'!A8","v":"Ian Appleby"},{"$f":"'WORKMENS CLUB \"B\"'!CV8","v":0}]
[{"$f":"'Team 11 - Unused'!A4","v":0},{"$f":"'Team 11 - Unused'!CV4","v":0}]
[{"$f":"'WORKMENS CLUB \"A\"'!A9","v":"Tom Melvil"},{"$f":"'WORKMENS CLUB \"A\"'!CV9","v":0}]
[{"$f":"'BUCK INN'!A3","v":"Jim Timmons"},{"$f":"'BUCK INN'!CV3","v":0}]
[{"$f":"'WORKMENS CLUB \"B\"'!A6","v":"Adam Richards"},{"$f":"'WORKMENS CLUB \"B\"'!CV6","v":0}]
[{"$f":"'BUCK INN'!A6","v":"Kenny Kerrigan"},{"$f":"'BUCK INN'!CV6","v":0}]
[{"$f":"'ODD FELLOWS'!A4","v":"Craig Monk"},{"$f":"'ODD FELLOWS'!CV4","v":21}]
[{"$f":"'CRICKET CLUB'!A10","v":"Bob Berry"},{"$f":"'CRICKET CLUB'!CV10","v":0}]
[{"$f":"'BUCK INN'!A4","v":"Graham Lake"},{"$f":"'BUCK INN'!CV4","v":0}]
[{"$f":"'ODD FELLOWS'!A11","v":"Alex Sinclair"},{"$f":"'ODD FELLOWS'!CV11","v":32}]
[{"$f":"'NAGS HEAD \"A\"'!A8","v":"Dave Atkinson"},{"$f":"'NAGS HEAD \"A\"'!CV8","v":26}]
[{"$f":"'WORKMENS CLUB \"B\"'!A11","v":"Trevor Brown"},{"$f":"'WORKMENS CLUB \"B\"'!CV11","v":37}]
[{"$f":"'BUCK INN'!A7","v":"Lee Johnson"},{"$f":"'BUCK INN'!CV7","v":0}]
[{"$f":"'BUCK INN'!A11","v":0},{"$f":"'BUCK INN'!CV11","v":0}]
[{"$f":"'Team 11 - Unused'!A5","v":0},{"$f":"'Team 11 - Unused'!CV5","v":0}]
[{"$f":"SPORTSMANS!A8","v":"Baz Pearson"},{"$f":"SPORTSMANS!CV8","v":33}]
[{"$f":"'WORKMENS CLUB \"B\"'!A12","v":"Mark Cox"},{"$f":"'WORKMENS CLUB \"B\"'!CV12","v":31}]
[{"$f":"'BUCK INN'!A8","v":"Chris Timmons"},{"$f":"'BUCK INN'!CV8","v":0}]
[{"$f":"SPORTSMANS!A9","v":"Ian Whittaker"},{"$f":"SPORTSMANS!CV9","v":27}]
[{"$f":"'ODD FELLOWS'!A14","v":0},{"$f":"'ODD FELLOWS'!CV14","v":0}]
[{"$f":"'WORKMENS CLUB \"B\"'!A9","v":"Bob Carter"},{"$f":"'WORKMENS CLUB \"B\"'!CV9","v":27}]
[{"$f":"'ODD FELLOWS'!A13","v":0},{"$f":"'ODD FELLOWS'!CV13","v":0}]
[{"$f":"'Team 12 - Unused'!A3","v":0},{"$f":"'Team 12 - Unused'!CV3","v":0}]
[{"$f":"'Team 12 - Unused'!A4","v":0},{"$f":"'Team 12 - Unused'!CV4","v":0}]
[{"$f":"'Team 12 - Unused'!A5","v":0},{"$f":"'Team 12 - Unused'!CV5","v":0}]
[{"$f":"'Team 12 - Unused'!A6","v":0},{"$f":"'Team 12 - Unused'!CV6","v":0}]
[{"$f":"'Team 12 - Unused'!A7","v":0},{"$f":"'Team 12 - Unused'!CV7","v":0}]
[{"$f":"'Team 12 - Unused'!A8","v":0},{"$f":"'Team 12 - Unused'!CV8","v":0}]
[{"$f":"'Team 12 - Unused'!A9","v":0},{"$f":"'Team 12 - Unused'!CV9","v":0}]
[{"$f":"'Team 12 - Unused'!A10","v":0},{"$f":"'Team 12 - Unused'!CV10","v":0}]
[{"$f":"'Team 12 - Unused'!A11","v":0},{"$f":"'Team 12 - Unused'!CV11","v":0}]
[{"$f":"'Team 12 - Unused'!A12","v":0},{"$f":"'JOLLY MINSTER'!CV12","v":0}]
[{"$f":"'Team 12 - Unused'!A13","v":0},{"$f":"'JOLLY MINSTER'!CV13","v":0}]
[{"$f":"'Team 12 - Unused'!A14","v":0},{"$f":"'JOLLY MINSTER'!CV14","v":0}]

{"sheet":"MOST WORKING SHEET","index":25,"n_rows":145,"n_cols":2,"rows_kept":145,"cut":false,"hidden":true,"merged":[]}
["NAME","DARTS"]
[{"$f":"'NAGS HEAD \"A\"'!A10","v":"Col Lagan"},{"$f":"'NAGS HEAD \"A\"'!CW10","v":53}]
[{"$f":"'NAGS HEAD \"A\"'!A11","v":"Kireon Timmons"},{"$f":"'NAGS HEAD \"A\"'!CW11","v":40}]
[{"$f":"'NAGS HEAD \"A\"'!A12","v":0},{"$f":"'NAGS HEAD \"A\"'!CW12","v":0}]
[{"$f":"'NAGS HEAD \"A\"'!A13","v":0},{"$f":"'NAGS HEAD \"A\"'!CW13","v":0}]
[{"$f":"'NAGS HEAD \"A\"'!A14","v":0},{"$f":"'NAGS HEAD \"A\"'!CW14","v":0}]
[{"$f":"'CRICKET CLUB'!A7","v":"Mike Wayman"},{"$f":"'CRICKET CLUB'!CW7","v":60}]
[{"$f":"'CRICKET CLUB'!A9","v":"George Webb"},{"$f":"'CRICKET CLUB'!CW9","v":45}]
[{"$f":"'CRICKET CLUB'!A11","v":"Howard Ward"},{"$f":"'CRICKET CLUB'!CW11","v":41}]
[{"$f":"'CRICKET CLUB'!A12","v":"Mel Paylor"},{"$f":"'CRICKET CLUB'!CW12","v":57}]
[{"$f":"'CRICKET CLUB'!A13","v":"George Kay"},{"$f":"'CRICKET CLUB'!CW13","v":45}]
[{"$f":"'CRICKET CLUB'!A14","v":"Ben Jack"},{"$f":"'CRICKET CLUB'!CW14","v":0}]
[{"$f":"CROWN!A11","v":"Richard Salton"},{"$f":"CROWN!CW11","v":0}]
[{"$f":"CROWN!A12","v":"Shaun Raynor"},{"$f":"CROWN!CW12","v":0}]
[{"$f":"CROWN!A13","v":"Adam Carter"},{"$f":"CROWN!CW13","v":0}]
[{"$f":"CROWN!A14","v":"Tim Bowman"},{"$f":"CROWN!CW14","v":0}]
[{"$f":"'JOLLY MINSTER'!A3","v":"Eric Stapley"},{"$f":"'JOLLY MINSTER'!CW3","v":53}]
[{"$f":"'JOLLY MINSTER'!A4","v":"Ian Atherton"},{"$f":"'JOLLY MINSTER'!CW4","v":54}]
[{"$f":"'JOLLY MINSTER'!A5","v":"George McPhee"},{"$f":"'JOLLY MINSTER'!CW5","v":71}]
[{"$f":"'JOLLY MINSTER'!A6","v":"Craig Burns"},{"$f":"'JOLLY MINSTER'!CW6","v":58}]
[{"$f":"'JOLLY MINSTER'!A7","v":"Tymo Sobkowiak"},{"$f":"'JOLLY MINSTER'!CW7","v":63}]
[{"$f":"'JOLLY MINSTER'!A8","v":"Anthony Clemmet"},{"$f":"'JOLLY MINSTER'!CW8","v":62}]
[{"$f":"'JOLLY MINSTER'!A10","v":"Tony Read"},{"$f":"'JOLLY MINSTER'!CW10","v":0}]
[{"$f":"'JOLLY MINSTER'!A11","v":"Josh Willis"},{"$f":"'JOLLY MINSTER'!CW11","v":0}]
[{"$f":"'JOLLY MINSTER'!A12","v":"Marty Burns"},{"$f":"'JOLLY MINSTER'!CW12","v":0}]
[{"$f":"'JOLLY MINSTER'!A13","v":0},{"$f":"'JOLLY MINSTER'!CW13","v":0}]
[{"$f":"'JOLLY MINSTER'!A14","v":0},{"$f":"'JOLLY MINSTER'!CT14","v":0}]
[{"$f":"'WORKMENS CLUB \"A\"'!A7","v":"Morris Walker"},{"$f":"'WORKMENS CLUB \"A\"'!CW7","v":65}]
[{"$f":"'WORKMENS CLUB \"A\"'!A10","v":"Chris Pattison"},{"$f":"'WORKMENS CLUB \"A\"'!CW10","v":56}]
[{"$f":"'WORKMENS CLUB \"A\"'!A13","v":0},{"$f":"'WORKMENS CLUB \"A\"'!CW13","v":0}]
[{"$f":"'WORKMENS CLUB \"A\"'!A14","v":0},{"$f":"'WORKMENS CLUB \"A\"'!CW14","v":0}]
[{"$f":"'BUCK INN'!A9","v":"M. Meadley"},{"$f":"'BUCK INN'!CW9","v":0}]
[{"$f":"'BUCK INN'!A10","v":0},{"$f":"'BUCK INN'!CW10","v":0}]
[{"$f":"'BUCK INN'!A12","v":0},{"$f":"'BUCK INN'!CW12","v":0}]
[{"$f":"'BUCK INN'!A13","v":0},{"$f":"'BUCK INN'!CW13","v":0}]
[{"$f":"'BUCK INN'!A14","v":0},{"$f":"'BUCK INN'!CW14","v":0}]
[{"$f":"'ODD FELLOWS'!A3","v":"Steve Monk"},{"$f":"'ODD FELLOWS'!CW3","v":50}]
[{"$f":"'ODD FELLOWS'!A7","v":"Tim Whiting JNR"},{"$f":"'ODD FELLOWS'!CW7","v":54}]
[{"$f":"'ODD FELLOWS'!A12","v":"Carl Bickerton"},{"$f":"'ODD FELLOWS'!CW12","v":51}]
[{"$f":"SPORTSMANS!A10","v":"Ian Windress"},{"$f":"SPORTSMANS!CW10","v":0}]
[{"$f":"SPORTSMANS!A11","v":"Dan Clarke"},{"$f":"SPORTSMANS!CW11","v":0}]
[{"$f":"SPORTSMANS!A12","v":"Jack Stevenson"},{"$f":"SPORTSMANS!CW12","v":43}]
[{"$f":"SPORTSMANS!A13","v":0},{"$f":"SPORTSMANS!CW13","v":0}]
[{"$f":"SPORTSMANS!A14","v":0},{"$f":"SPORTSMANS!CW14","v":0}]
[{"$f":"'WORKMENS CLUB \"B\"'!A3","v":"Chris Whiting"},{"$f":"'WORKMENS CLUB \"B\"'!CW3","v":52}]
[{"$f":"'WORKMENS CLUB \"B\"'!A13","v":0},{"$f":"'WORKMENS CLUB \"B\"'!CW13","v":0}]
[{"$f":"'WORKMENS CLUB \"B\"'!A14","v":0},{"$f":"'WORKMENS CLUB \"B\"'!CW14","v":0}]
[{"$f":"'NAGS HEAD \"B\"'!A9","v":"Jake Doherty"},{"$f":"'NAGS HEAD \"B\"'!CW9","v":0}]
[{"$f":"'NAGS HEAD \"B\"'!A12","v":"Kenny Kerringan"},{"$f":"'NAGS HEAD \"B\"'!CW12","v":48}]
[{"$f":"'NAGS HEAD \"B\"'!A13","v":0},{"$f":"'NAGS HEAD \"B\"'!CW13","v":0}]
[{"$f":"'NAGS HEAD \"B\"'!A14","v":0},{"$f":"'NAGS HEAD \"B\"'!CW14","v":0}]
[{"$f":"'Team 11 - Unused'!A9","v":0},{"$f":"'Team 11 - Unused'!CW9","v":0}]
[{"$f":"'Team 11 - Unused'!A13","v":0},{"$f":"'Team 11 - Unused'!CW13","v":0}]
[{"$f":"'Team 11 - Unused'!A14","v":0},{"$f":"'Team 11 - Unused'!CW14","v":0}]
[{"$f":"'JOLLY MINSTER'!A9","v":"Sam Mathews"},{"$f":"'JOLLY MINSTER'!CW9","v":0}]
[{"$f":"CROWN!A4","v":"Dave Thornton"},{"$f":"CROWN!CW4","v":59}]
[{"$f":"'NAGS HEAD \"B\"'!A3","v":"Andy Johnson"},{"$f":"'NAGS HEAD \"B\"'!CW3","v":44}]
[{"$f":"'NAGS HEAD \"B\"'!A4","v":"Andy Haw"},{"$f":"'NAGS HEAD \"B\"'!CW4","v":59}]
[{"$f":"'NAGS HEAD \"B\"'!A7","v":"Dave Crilly"},{"$f":"'NAGS HEAD \"B\"'!CW7","v":46}]
[{"$f":"'NAGS HEAD \"A\"'!A4","v":"Sean Kendrew"},{"$f":"'NAGS HEAD \"A\"'!CW4","v":39}]
[{"$f":"'CRICKET CLUB'!A4","v":"Dan Buxton"},{"$f":"'CRICKET CLUB'!CW4","v":51}]
[{"$f":"'CRICKET CLUB'!A5","v":"Chris Wayman"},{"$f":"'CRICKET CLUB'!CW5","v":48}]
[{"$f":"'ODD FELLOWS'!A10","v":"Dennis Clarkson"},{"$f":"'ODD FELLOWS'!CW10","v":42}]
[{"$f":"'WORKMENS CLUB \"B\"'!A7","v":"Alex Watson"},{"$f":"'WORKMENS CLUB \"B\"'!CW7","v":58}]
[{"$f":"'NAGS HEAD \"A\"'!A3","v":"Steve Blewitt"},{"$f":"'NAGS HEAD \"A\"'!CW3","v":43}]
[{"$f":"'NAGS HEAD \"A\"'!A6","v":"Al Spence"},{"$f":"'NAGS HEAD \"A\"'!CW6","v":55}]
[{"$f":"'Team 11 - Unused'!A6","v":0},{"$f":"'Team 11 - Unused'!CW6","v":0}]
[{"$f":"'NAGS HEAD \"A\"'!A7","v":"Al Whelan"},{"$f":"'NAGS HEAD \"A\"'!CW7","v":48}]
[{"$f":"CROWN!A6","v":"David Langthorne"},{"$f":"CROWN!CW6","v":50}]
[{"$f":"SPORTSMANS!A3","v":"Nigel Outram"},{"$f":"SPORTSMANS!CW3","v":51}]
[{"$f":"'Team 11 - Unused'!A3","v":0},{"$f":"'Team 11 - Unused'!CW3","v":0}]
[{"$f":"'Team 11 - Unused'!A8","v":0},{"$f":"'Team 11 - Unused'!CW8","v":0}]
[{"$f":"'NAGS HEAD \"A\"'!A9","v":"Greg Tozier"},{"$f":"'NAGS HEAD \"A\"'!CW9","v":0}]
[{"$f":"'CRICKET CLUB'!A3","v":"Pete Wilkinson"},{"$f":"'CRICKET CLUB'!CW3","v":0}]
[{"$f":"'CRICKET CLUB'!A6","v":"Phil Wayman"},{"$f":"'CRICKET CLUB'!CW6","v":0}]
[{"$f":"'WORKMENS CLUB \"A\"'!A8","v":"Morris Weighell"},{"$f":"'WORKMENS CLUB \"A\"'!CW8","v":46}]
[{"$f":"SPORTSMANS!A6","v":"Pete Young"},{"$f":"SPORTSMANS!CW6","v":0}]
[{"$f":"'Team 11 - Unused'!A12","v":0},{"$f":"'Team 11 - Unused'!CW12","v":0}]
[{"$f":"CROWN!A5","v":"Dean Wakeling  "},{"$f":"CROWN!CW5","v":57}]
[{"$f":"CROWN!A10","v":"Phil Teare"},{"$f":"CROWN!CW10","v":58}]
[{"$f":"'Team 11 - Unused'!A11","v":0},{"$f":"'Team 11 - Unused'!CW11","v":0}]
[{"$f":"CROWN!A8","v":"Chris Cockerline"},{"$f":"CROWN!CW8","v":63}]
[{"$f":"CROWN!A9","v":"Mark Natttrass"},{"$f":"CROWN!CW9","v":51}]
[{"$f":"'ODD FELLOWS'!A8","v":"Tim Whiting SNR"},{"$f":"'ODD FELLOWS'!CW8","v":0}]
[{"$f":"'WORKMENS CLUB \"B\"'!A5","v":"Ian Richards"},{"$f":"'WORKMENS CLUB \"B\"'!CW5","v":51}]
[{"$f":"'NAGS HEAD \"B\"'!A5","v":"Steve Atkinson"},{"$f":"'NAGS HEAD \"B\"'!CW5","v":44}]
[{"$f":"'NAGS HEAD \"B\"'!A8","v":"Steve Cooke"},{"$f":"'NAGS HEAD \"B\"'!CW8","v":51}]
[{"$f":"'WORKMENS CLUB \"A\"'!A3","v":"Mick Smedley"},{"$f":"'WORKMENS CLUB \"A\"'!CW3","v":62}]
[{"$f":"'Team 11 - Unused'!A10","v":0},{"$f":"'Team 11 - Unused'!CW10","v":0}]
[{"$f":"'WORKMENS CLUB \"A\"'!A12","v":"John Oliver"},{"$f":"'WORKMENS CLUB \"A\"'!CW12","v":0}]
[{"$f":"SPORTSMANS!A4","v":"Martin Young"},{"$f":"SPORTSMANS!CW4","v":62}]
[{"$f":"CROWN!A7","v":"Tony Bell"},{"$f":"CROWN!CW7","v":0}]
[{"$f":"'WORKMENS CLUB \"A\"'!A4","v":"Joe Hutchinson"},{"$f":"'WORKMENS CLUB \"A\"'!CW4","v":52}]
[{"$f":"'WORKMENS CLUB \"A\"'!A5","v":"Andy Etherington"},{"$f":"'WORKMENS CLUB \"A\"'!CW5","v":58}]
[{"$f":"'WORKMENS CLUB \"A\"'!A6","v":"Bill Rispin"},{"$f":"'WORKMENS CLUB \"A\"'!CW6","v":36}]
[{"$f":"SPORTSMANS!A5","v":"Andy Monk"},{"$f":"SPORTSMANS!CW5","v":48}]
[{"$f":"'CRICKET CLUB'!A8","v":"Chris Garsed"},{"$f":"'CRICKET CLUB'!CW8","v":36}]
[{"$f":"'ODD FELLOWS'!A5","v":"Liam Monk"},{"$f":"'ODD FELLOWS'!CW5","v":0}]
[{"$f":"SPORTSMANS!A7","v":"Kyle Young"},{"$f":"SPORTSMANS!CW7","v":47}]
[{"$f":"'NAGS HEAD \"B\"'!A6","v":"Gaz Lumley"},{"$f":"'NAGS HEAD \"B\"'!CW6","v":49}]
[{"$f":"'NAGS HEAD \"A\"'!A5","v":"Steve Truman"},{"$f":"'NAGS HEAD \"A\"'!CW5","v":56}]
[{"$f":"'WORKMENS CLUB \"B\"'!A4","v":"Phil Wells"},{"$f":"'WORKMENS CLUB \"B\"'!CW4","v":62}]
[{"$f":"'NAGS HEAD \"B\"'!A11","v":"Stuart Truman"},{"$f":"'NAGS HEAD \"B\"'!CW11","v":61}]
[{"$f":"'WORKMENS CLUB \"A\"'!A11","v":"Matthew Cornforth"},{"$f":"'WORKMENS CLUB \"A\"'!CW11","v":54}]
[{"$f":"'BUCK INN'!A5","v":"Kireon Timmons"},{"$f":"'BUCK INN'!CW5","v":0}]
[{"$f":"'WORKMENS CLUB \"B\"'!A10","v":"B. Dawson"},{"$f":"'WORKMENS CLUB \"B\"'!CW10","v":57}]
[{"$f":"'ODD FELLOWS'!A9","v":"Darren Downs"},{"$f":"'ODD FELLOWS'!CW9","v":57}]
[{"$f":"'NAGS HEAD \"B\"'!A10","v":"Steve Gibb"},{"$f":"'NAGS HEAD \"B\"'!CW10","v":0}]
[{"$f":"'ODD FELLOWS'!A6","v":"Alan Martin"},{"$f":"'ODD FELLOWS'!CW6","v":48}]
[{"$f":"CROWN!A3","v":"Mark Outram"},{"$f":"CROWN!CW3","v":42}]
[{"$f":"'Team 11 - Unused'!A7","v":0},{"$f":"'Team 11 - Unused'!CW7","v":0}]
[{"$f":"'WORKMENS CLUB \"B\"'!A8","v":"Ian Appleby"},{"$f":"'WORKMENS CLUB \"B\"'!CW8","v":0}]
[{"$f":"'Team 11 - Unused'!A4","v":0},{"$f":"'Team 11 - Unused'!CW4","v":0}]
[{"$f":"'WORKMENS CLUB \"A\"'!A9","v":"Tom Melvil"},{"$f":"'WORKMENS CLUB \"A\"'!CW9","v":0}]
[{"$f":"'BUCK INN'!A3","v":"Jim Timmons"},{"$f":"'BUCK INN'!CW3","v":0}]
[{"$f":"'WORKMENS CLUB \"B\"'!A6","v":"Adam Richards"},{"$f":"'WORKMENS CLUB \"B\"'!CW6","v":0}]
[{"$f":"'BUCK INN'!A6","v":"Kenny Kerrigan"},{"$f":"'BUCK INN'!CW6","v":0}]
[{"$f":"'ODD FELLOWS'!A4","v":"Craig Monk"},{"$f":"'ODD FELLOWS'!CW4","v":40}]
[{"$f":"'CRICKET CLUB'!A10","v":"Bob Berry"},{"$f":"'CRICKET CLUB'!CW10","v":0}]
[{"$f":"'BUCK INN'!A4","v":"Graham Lake"},{"$f":"'BUCK INN'!CW4","v":0}]
[{"$f":"'ODD FELLOWS'!A11","v":"Alex Sinclair"},{"$f":"'ODD FELLOWS'!CW11","v":66}]
[{"$f":"'NAGS HEAD \"A\"'!A8","v":"Dave Atkinson"},{"$f":"'NAGS HEAD \"A\"'!CW8","v":46}]
[{"$f":"'WORKMENS CLUB \"B\"'!A11","v":"Trevor Brown"},{"$f":"'WORKMENS CLUB \"B\"'!CW11","v":54}]
[{"$f":"'BUCK INN'!A7","v":"Lee Johnson"},{"$f":"'BUCK INN'!CW7","v":0}]
[{"$f":"'BUCK INN'!A11","v":0},{"$f":"'BUCK INN'!CW11","v":0}]
[{"$f":"'Team 11 - Unused'!A5","v":0},{"$f":"'Team 11 - Unused'!CW5","v":0}]
[{"$f":"SPORTSMANS!A8","v":"Baz Pearson"},{"$f":"SPORTSMANS!CW8","v":54}]
[{"$f":"'WORKMENS CLUB \"B\"'!A12","v":"Mark Cox"},{"$f":"'WORKMENS CLUB \"B\"'!CW12","v":48}]
[{"$f":"'BUCK INN'!A8","v":"Chris Timmons"},{"$f":"'BUCK INN'!CW8","v":0}]
[{"$f":"SPORTSMANS!A9","v":"Ian Whittaker"},{"$f":"SPORTSMANS!CW9","v":47}]
[{"$f":"'ODD FELLOWS'!A14","v":0},{"$f":"'ODD FELLOWS'!CW14","v":0}]
[{"$f":"'WORKMENS CLUB \"B\"'!A9","v":"Bob Carter"},{"$f":"'WORKMENS CLUB \"B\"'!CW9","v":48}]
[{"$f":"'ODD FELLOWS'!A13","v":0},{"$f":"'ODD FELLOWS'!CW13","v":0}]
[{"$f":"'Team 12 - Unused'!A3","v":0},{"$f":"'Team 12 - Unused'!CW3","v":0}]
[{"$f":"'Team 12 - Unused'!A4","v":0},{"$f":"'Team 12 - Unused'!CW4","v":0}]
[{"$f":"'Team 12 - Unused'!A5","v":0},{"$f":"'Team 12 - Unused'!CW5","v":0}]
[{"$f":"'Team 12 - Unused'!A6","v":0},{"$f":"'Team 12 - Unused'!CW6","v":0}]
[{"$f":"'Team 12 - Unused'!A7","v":0},{"$f":"'Team 12 - Unused'!CW7","v":0}]
[{"$f":"'Team 12 - Unused'!A8","v":0},{"$f":"'Team 12 - Unused'!CW8","v":0}]
[{"$f":"'Team 12 - Unused'!A9","v":0},{"$f":"'Team 12 - Unused'!CW9","v":0}]
[{"$f":"'Team 12 - Unused'!A10","v":0},{"$f":"'Team 12 - Unused'!CW10","v":0}]
[{"$f":"'Team 12 - Unused'!A11","v":0},{"$f":"'Team 12 - Unused'!CW11","v":0}]
[{"$f":"'Team 12 - Unused'!A12","v":0},{"$f":"'Team 12 - Unused'!CW12","v":0}]
[{"$f":"'Team 12 - Unused'!A13","v":0},{"$f":"'Team 12 - Unused'!CW13","v":0}]
[{"$f":"'Team 12 - Unused'!A14","v":0},{"$f":"'Team 12 - Unused'!CW14","v":0}]

{"sheet":"League Table Working Sheet","index":26,"n_rows":43,"n_cols":25,"rows_kept":43,"cut":false,"hidden":false,"merged":[]}
["Points","Week 1","Week 2","Week 3","Week 4","Week 5","Week 6","Week 7","Week 8","Week 9","Week 10","Week 11","Week 12","Week 13","Week 14","Week 15","Week 16","Week 17",null,null,null,null,null,"Total Points","Unused = 1"]
["NAGS HEAD \"A\"",0,6,4,1,8,5,8,8,7,0,8,4,8,0,6,0,0,null,null,null,null,null,{"$f":"SUM(B2:W2)","v":73}]
["CRICKET CLUB",0,3,3,7,7,5,0,4,2,8,5,6,0,8,0,8,7,null,null,null,null,null,{"$f":"SUM(B3:W3)","v":73}]
["CROWN",0,2,7,2,4,4,0,1,3,1,2,0,2,3,3,1,0,null,null,null,null,null,35]
["JOLLY MINSTER",7,4,2,3,5,4,1,3,2,0,0,2,3,6,0,0,2,null,null,null,null,null,44]
["WORKMENS CLUB \"A\"",0,7,7,7,2,4,5,4,5,0,5,7,7,1,3,4,3,null,null,null,null,null,71]
["BUCK INN",0,5,2,2,1,0,0,0,0,0,0,0,0,0,0,0,0,null,null,null,null,null,10]
["ODD FELLOWS",0,7,6,7,6,4,0,0,4,0,7,3,1,6,4,8,0,null,null,null,null,null,63]
["SPORTSMANS",2,6,5,6,5,5,0,5,7,8,4,5,6,0,5,0,6,null,null,null,null,null,75]
["WORKMENS CLUB \"B\"",0,3,6,3,3,0,4,6,6,1,1,5,3,3,0,5,7,null,null,null,null,null,56]
["NAGS HEAD \"B\"",0,2,3,6,4,5,0,5,0,0,4,4,6,0,6,1,2,null,null,null,null,null,48]
["Team 11 - Unused",0,3,null,null,null,null,null,null,null,null,null,null,null,null,null,null,null,null,null,null,null,null,3,1]
["Team 12 - Unused",null,null,null,null,null,null,null,null,null,null,null,null,null,null,null,null,null,null,null,null,null,null,0,1]
[]
["Played",null,null,null,null,null,null,null,null,null,null,null,null,null,null,null,null,null,null,null,null,null,null,"Total Played"]
["Team 1",1,1,1,1,1,1,1,1,1,1,1,1,1,1,1,1,1,null,null,null,null,null,{"$f":"SUM(B16:W16)","v":17}]
["Team 2",1,1,1,1,1,1,1,1,1,1,1,1,1,1,1,1,1,null,null,null,null,null,{"$f":"SUM(B17:W17)","v":17}]
["Team 3",1,1,1,1,1,1,1,1,1,1,1,1,1,1,1,1,1,null,null,null,null,null,17]
["Team 4",1,1,1,1,1,1,1,1,1,1,1,1,1,1,1,1,1,null,null,null,null,null,17]
["Team 5",1,1,1,1,1,1,1,1,1,1,1,1,1,1,1,1,1,null,null,null,null,null,17]
["Team 6",1,1,1,1,1,1,1,1,1,1,1,1,1,1,1,1,1,null,null,null,null,null,17]
["Team 7",1,1,1,1,1,1,1,1,1,1,1,1,1,1,1,1,1,null,null,null,null,null,17]
["Team 8",1,1,1,1,1,1,1,1,1,1,1,1,1,1,1,1,1,null,null,null,null,null,17]
["Team 9",1,1,1,1,1,1,1,1,1,1,1,1,1,1,1,1,1,null,null,null,null,null,17]
["Team 10",1,1,1,1,1,1,1,1,1,1,1,1,1,1,1,1,1,null,null,null,null,null,17]
["Team 11",1,1,null,null,null,null,null,null,null,null,null,null,null,null,null,null,null,null,null,null,null,null,2]
["Team 12 - Unused",null,null,null,null,null,null,null,null,null,null,null,null,null,null,null,null,null,null,null,null,null,null,0]
[]
[null,"Pld","Pts","Unused"]
["SPORTSMANS",17,75]
["NAGS HEAD \"A\"",17,73]
["CRICKET CLUB",17,73]
["WORKMENS CLUB \"A\"",17,71]
["ODD FELLOWS",17,63]
["WORKMENS CLUB \"B\"",17,56]
["NAGS HEAD \"B\"",17,48]
["JOLLY MINSTER",17,44]
["CROWN",17,35]
["BUCK INN",17,10]
["Team 11 - Unused",2,3,1]
["Team 12 - Unused",0,0,1]
[]
[null,null,"Total",{"$f":"SUM(D30:D41)","v":2}]

{"sheet":"Week 17","index":27,"n_rows":48,"n_cols":15,"rows_kept":48,"cut":false,"hidden":false,"merged":[[25,1,25,3],[48,1,48,5],[19,1,19,3],[20,1,20,3],[21,1,21,3],[22,1,22,3],[23,1,23,3],[24,1,24,3],[18,1,18,3],[0,1,0,5],[0,7,0,11],[2,1,2,5],[4,1,4,2],[4,4,4,5],[5,2,5,4],[13,1,13,3],[14,1,14,3],[15,1,15,3],[16,1,16,3],[17,1,17,3]]}
[null,"NORTHALLERTON CLUBS WINTER DARTS LEAGUE\r\n2014/2015",null,null,null,null,null,"DO NOT DELETE ANY OF THE BELOW DATA"]
[]
[null,"Results & League Table - LAST GAME OF SEASON"]
[]
[null,"Week - 18",null,null,"2015-03-23"]
[]
[null,"CRICKET CLUB",4,"v",5,"NAGS HEAD \"A\""]
[null,"WORKMENS CLUB \"A\"",3,"v",6,"ODD FELLOWS"]
[null,"CROWN",2,"v",7,"WORKMENS CLUB \"B\"",null,"",{"$f":"IF(B9=\"BYE\",IF(F9=\"BYE\",1,\"\"),\"\")","v":""}]
[null,"JOLLY MINSTER",0,"v",9,"SPORTMANS",null,"","",{"$f":"'180''s'!$B2","v":"Chris Garsed"}," - ",{"$f":"'180''s'!$C2","v":4}]
[null,"NAGS HEAD \"B\"",0,"v",0,"BUCK INN",null,"","",{"$f":"'180''s'!$B3","v":"Mike Wayman"}," - ",{"$f":"'180''s'!$C3","v":4}]
[null,"BYE","-","v","-","BYE",null,null,1]
[null,null,null,null,null,null,null,null,null,{"$f":"CONCATENATE(J10,K10,L10)","v":"Chris Garsed - 4"}]
[null,"Team",null,null,"Pld","Pts",null,null,null,{"$f":"CONCATENATE(J11,K11,L11)","v":"Mike Wayman - 4"}]
[null,"NAGS HEAD \"A\"",null,null,16,105]
[null,"SPORTSMANS",null,null,16,98,null,null,null,{"$f":"'100+ Scores'!$B2","v":"Dennis Clarkson"}," - ",{"$f":"'100+ Scores'!$D2","v":79}]
[null,"CRICKET CLUB",null,null,16,96,null,null,null,{"$f":"'100+ Scores'!$B3","v":"Craig Monk"}," - ",{"$f":"'100+ Scores'!$D3","v":62}]
[null,"ODDFELLOWS",null,null,16,94]
[null,"WORKMENS CLUB \"A\"",null,null,16,74,null,null,null,{"$f":"CONCATENATE(J16,K16,L16)","v":"Dennis Clarkson - 79"}]
[null,"WORKMENS CLUB \"B\"",null,null,16,64,null,null,null,{"$f":"CONCATENATE(J17,K17,L17)","v":"Craig Monk - 62"}]
[null,"NAGS HEAD \"B\"",null,null,16,50]
[null,"JOLLY MINSTER",null,null,16,35]
[null,"CROWN",null,null,16,32]
[null,null,null,null,null,null,null,null,null,null,null,null,null,null," "]
[null,"Team 11",null,null,2,3]
[]
[]
[null,null,null,null,null,null,null,null,null,null,null,null," "]
[null,"Singles Games 30 Darts & Under:","Chris Garsed x 8"]
[]
[null,"Least Darts Singles:","Chris Garsed = 19 (Week - 10)"]
[]
[null,"Highest Checkout Singles:","Morris Walker = 150 (Week 16)"]
[]
[null,"Least Darts Pairs","Craig Monk & Tim Whiting = 37 (Week - 10)"]
[]
[null,"Highest Checkout Pairs:","Chris Garsed 118 (Week 18)"]
[]
[null,"180's:","Chris Garsed & Mike Wayman x 4 Each"]
[]
[null,"100 + Scores (Not 180,s)","Dennis Clarkson x 79"]
[]
[null,"Average Leaders (Top 6)","Chris Garsed = 74.23"]
[null,null,"Craig Monk = 67.36"]
[null,null,"Dennis Clarkson = 63.79"]
[null,null,"Sean Kendrew = 63.73"]
[null,null,"Kyle Young = 61.44"]
[null,null,"Alan Martin = 60.79"]

{"sheet":"Week 16","index":28,"n_rows":0,"n_cols":0,"rows_kept":0,"cut":false,"hidden":false,"merged":[[18,1,18,3],[0,1,0,5],[0,7,0,11],[2,1,2,5],[4,1,4,2],[4,4,4,5],[5,2,5,4],[13,1,13,3],[14,1,14,3],[15,1,15,3],[16,1,16,3],[17,1,17,3],[25,1,25,3],[48,1,48,5],[19,1,19,3],[20,1,20,3],[21,1,21,3],[22,1,22,3],[23,1,23,3],[24,1,24,3]]}

{"sheet":"Week 15","index":29,"n_rows":0,"n_cols":0,"rows_kept":0,"cut":false,"hidden":false,"merged":[[25,1,25,3],[48,1,48,5],[19,1,19,3],[20,1,20,3],[21,1,21,3],[22,1,22,3],[23,1,23,3],[24,1,24,3],[18,1,18,3],[0,1,0,5],[0,7,0,11],[2,1,2,5],[4,1,4,2],[4,4,4,5],[5,2,5,4],[13,1,13,3],[14,1,14,3],[15,1,15,3],[16,1,16,3],[17,1,17,3]]}

{"sheet":"Week 14","index":30,"n_rows":20,"n_cols":12,"rows_kept":20,"cut":false,"hidden":false,"merged":[[18,1,18,3],[0,1,0,5],[0,7,0,11],[2,1,2,5],[4,1,4,2],[4,4,4,5],[5,2,5,4],[13,1,13,3],[14,1,14,3],[15,1,15,3],[16,1,16,3],[17,1,17,3],[25,1,25,3],[48,1,48,5],[19,1,19,3],[20,1,20,3],[21,1,21,3],[22,1,22,3],[23,1,23,3],[24,1,24,3]]}
[null,null,null,null,null,null,null,"DO NOT DELETE ANY OF THE BELOW DATA"]
[]
[]
[]
[]
[]
[]
[]
[null,null,null,null,null,null,null,"",{"$f":"IF(B9=\"BYE\",IF(F9=\"BYE\",1,\"\"),\"\")","v":""}]
[null,null,null,null,null,null,null,"","",{"$f":"'180''s'!$B2","v":"Chris Garsed"}," - ",{"$f":"'180''s'!$C2","v":4}]
[null,null,null,null,null,null,null,"","",{"$f":"'180''s'!$B3","v":"Mike Wayman"}," - ",{"$f":"'180''s'!$C3","v":4}]
[null,null,null,null,null,null,null,null,""]
[null,null,null,null,null,null,null,null,null,{"$f":"CONCATENATE(J10,K10,L10)","v":"Chris Garsed - 4"}]
[null,null,null,null,null,null,null,null,null,{"$f":"CONCATENATE(J11,K11,L11)","v":"Mike Wayman - 4"}]
[]
[null,null,null,null,null,null,null,null,null,{"$f":"'100+ Scores'!$B2","v":"Dennis Clarkson"}," - ",{"$f":"'100+ Scores'!$D2","v":79}]
[null,null,null,null,null,null,null,null,null,{"$f":"'100+ Scores'!$B3","v":"Craig Monk"}," - ",{"$f":"'100+ Scores'!$D3","v":62}]
[]
[null,null,null,null,null,null,null,null,null,{"$f":"CONCATENATE(J16,K16,L16)","v":"Dennis Clarkson - 79"}]
[null,null,null,null,null,null,null,null,null,{"$f":"CONCATENATE(J17,K17,L17)","v":"Craig Monk - 62"}]

{"sheet":"Week 13","index":31,"n_rows":20,"n_cols":12,"rows_kept":20,"cut":false,"hidden":false,"merged":[[25,1,25,3],[48,1,48,5],[19,1,19,3],[20,1,20,3],[21,1,21,3],[22,1,22,3],[23,1,23,3],[24,1,24,3],[18,1,18,3],[0,1,0,5],[0,7,0,11],[2,1,2,5],[4,1,4,2],[4,4,4,5],[5,2,5,4],[13,1,13,3],[14,1,14,3],[15,1,15,3],[16,1,16,3],[17,1,17,3]]}
[null,null,null,null,null,null,null,"DO NOT DELETE ANY OF THE BELOW DATA"]
[]
[]
[]
[]
[]
[]
[]
[null,null,null,null,null,null,null,"",{"$f":"IF(B9=\"BYE\",IF(F9=\"BYE\",1,\"\"),\"\")","v":""}]
[null,null,null,null,null,null,null,"","",{"$f":"'180''s'!$B2","v":"Chris Garsed"}," - ",{"$f":"'180''s'!$C2","v":4}]
[null,null,null,null,null,null,null,"","",{"$f":"'180''s'!$B3","v":"Mike Wayman"}," - ",{"$f":"'180''s'!$C3","v":4}]
[null,null,null,null,null,null,null,null,""]
[null,null,null,null,null,null,null,null,null,{"$f":"CONCATENATE(J10,K10,L10)","v":"Chris Garsed - 4"}]
[null,null,null,null,null,null,null,null,null,{"$f":"CONCATENATE(J11,K11,L11)","v":"Mike Wayman - 4"}]
[]
[null,null,null,null,null,null,null,null,null,{"$f":"'100+ Scores'!$B2","v":"Dennis Clarkson"}," - ",{"$f":"'100+ Scores'!$D2","v":79}]
[null,null,null,null,null,null,null,null,null,{"$f":"'100+ Scores'!$B3","v":"Craig Monk"}," - ",{"$f":"'100+ Scores'!$D3","v":62}]
[]
[null,null,null,null,null,null,null,null,null,{"$f":"CONCATENATE(J16,K16,L16)","v":"Dennis Clarkson - 79"}]
[null,null,null,null,null,null,null,null,null,{"$f":"CONCATENATE(J17,K17,L17)","v":"Craig Monk - 62"}]

{"sheet":"Week 12","index":32,"n_rows":20,"n_cols":12,"rows_kept":20,"cut":false,"hidden":false,"merged":[[18,1,18,3],[0,1,0,5],[0,7,0,11],[2,1,2,5],[4,1,4,2],[4,4,4,5],[5,2,5,4],[13,1,13,3],[14,1,14,3],[15,1,15,3],[16,1,16,3],[17,1,17,3],[25,1,25,3],[48,1,48,5],[19,1,19,3],[20,1,20,3],[21,1,21,3],[22,1,22,3],[23,1,23,3],[24,1,24,3]]}
[null,null,null,null,null,null,null,"DO NOT DELETE ANY OF THE BELOW DATA"]
[]
[]
[]
[]
[]
[]
[]
[null,null,null,null,null,null,null,"",{"$f":"IF(B9=\"BYE\",IF(F9=\"BYE\",1,\"\"),\"\")","v":""}]
[null,null,null,null,null,null,null,"","",{"$f":"'180''s'!$B2","v":"Chris Garsed"}," - ",{"$f":"'180''s'!$C2","v":4}]
[null,null,null,null,null,null,null,"","",{"$f":"'180''s'!$B3","v":"Mike Wayman"}," - ",{"$f":"'180''s'!$C3","v":4}]
[null,null,null,null,null,null,null,null,""]
[null,null,null,null,null,null,null,null,null,{"$f":"CONCATENATE(J10,K10,L10)","v":"Chris Garsed - 4"}]
[null,null,null,null,null,null,null,null,null,{"$f":"CONCATENATE(J11,K11,L11)","v":"Mike Wayman - 4"}]
[]
[null,null,null,null,null,null,null,null,null,{"$f":"'100+ Scores'!$B2","v":"Dennis Clarkson"}," - ",{"$f":"'100+ Scores'!$D2","v":79}]
[null,null,null,null,null,null,null,null,null,{"$f":"'100+ Scores'!$B3","v":"Craig Monk"}," - ",{"$f":"'100+ Scores'!$D3","v":62}]
[]
[null,null,null,null,null,null,null,null,null,{"$f":"CONCATENATE(J16,K16,L16)","v":"Dennis Clarkson - 79"}]
[null,null,null,null,null,null,null,null,null,{"$f":"CONCATENATE(J17,K17,L17)","v":"Craig Monk - 62"}]

{"sheet":"Week 11","index":33,"n_rows":20,"n_cols":12,"rows_kept":20,"cut":false,"hidden":false,"merged":[[25,1,25,3],[48,1,48,5],[19,1,19,3],[20,1,20,3],[21,1,21,3],[22,1,22,3],[23,1,23,3],[24,1,24,3],[18,1,18,3],[0,1,0,5],[0,7,0,11],[2,1,2,5],[4,1,4,2],[4,4,4,5],[5,2,5,4],[13,1,13,3],[14,1,14,3],[15,1,15,3],[16,1,16,3],[17,1,17,3]]}
[null,"NORTHALLERTON CLUBS WINTER DARTS LEAGUE\r\n2014/2015",null,null,null,null,null,"DO NOT DELETE ANY OF THE BELOW DATA"]
[]
[]
[]
[]
[]
[]
[]
[null,null,null,null,null,null,null,"",{"$f":"IF(B9=\"BYE\",IF(F9=\"BYE\",1,\"\"),\"\")","v":""}]
[null,null,null,null,null,null,null,"","",{"$f":"'180''s'!$B2","v":"Chris Garsed"}," - ",{"$f":"'180''s'!$C2","v":4}]
[null,null,null,null,null,null,null,"","",{"$f":"'180''s'!$B3","v":"Mike Wayman"}," - ",{"$f":"'180''s'!$C3","v":4}]
[null,null,null,null,null,null,null,null,""]
[null,null,null,null,null,null,null,null,null,{"$f":"CONCATENATE(J10,K10,L10)","v":"Chris Garsed - 4"}]
[null,null,null,null,null,null,null,null,null,{"$f":"CONCATENATE(J11,K11,L11)","v":"Mike Wayman - 4"}]
[]
[null,null,null,null,null,null,null,null,null,{"$f":"'100+ Scores'!$B2","v":"Dennis Clarkson"}," - ",{"$f":"'100+ Scores'!$D2","v":79}]
[null,null,null,null,null,null,null,null,null,{"$f":"'100+ Scores'!$B3","v":"Craig Monk"}," - ",{"$f":"'100+ Scores'!$D3","v":62}]
[]
[null,null,null,null,null,null,null,null,null,{"$f":"CONCATENATE(J16,K16,L16)","v":"Dennis Clarkson - 79"}]
[null,null,null,null,null,null,null,null,null,{"$f":"CONCATENATE(J17,K17,L17)","v":"Craig Monk - 62"}]

{"sheet":"Week 10","index":34,"n_rows":20,"n_cols":12,"rows_kept":20,"cut":false,"hidden":false,"merged":[[18,1,18,3],[0,1,0,5],[0,7,0,11],[2,1,2,5],[4,1,4,2],[4,4,4,5],[5,2,5,4],[13,1,13,3],[14,1,14,3],[15,1,15,3],[16,1,16,3],[17,1,17,3],[25,1,25,3],[48,1,48,5],[19,1,19,3],[20,1,20,3],[21,1,21,3],[22,1,22,3],[23,1,23,3],[24,1,24,3]]}
[null,null,null,null,null,null,null,"DO NOT DELETE ANY OF THE BELOW DATA"]
[]
[]
[]
[]
[]
[]
[]
[null,null,null,null,null,null,null,"",{"$f":"IF(B9=\"BYE\",IF(F9=\"BYE\",1,\"\"),\"\")","v":""}]
[null,null,null,null,null,null,null,"","",{"$f":"'180''s'!$B2","v":"Chris Garsed"}," - ",{"$f":"'180''s'!$C2","v":4}]
[null,null,null,null,null,null,null,"","",{"$f":"'180''s'!$B3","v":"Mike Wayman"}," - ",{"$f":"'180''s'!$C3","v":4}]
[null,null,null,null,null,null,null,null,""]
[null,null,null,null,null,null,null,null,null,{"$f":"CONCATENATE(J10,K10,L10)","v":"Chris Garsed - 4"}]
[null,null,null,null,null,null,null,null,null,{"$f":"CONCATENATE(J11,K11,L11)","v":"Mike Wayman - 4"}]
[]
[null,null,null,null,null,null,null,null,null,{"$f":"'100+ Scores'!$B2","v":"Dennis Clarkson"}," - ",{"$f":"'100+ Scores'!$D2","v":79}]
[null,null,null,null,null,null,null,null,null,{"$f":"'100+ Scores'!$B3","v":"Craig Monk"}," - ",{"$f":"'100+ Scores'!$D3","v":62}]
[]
[null,null,null,null,null,null,null,null,null,{"$f":"CONCATENATE(J16,K16,L16)","v":"Dennis Clarkson - 79"}]
[null,null,null,null,null,null,null,null,null,{"$f":"CONCATENATE(J17,K17,L17)","v":"Craig Monk - 62"}]

{"sheet":"Week 9","index":35,"n_rows":29,"n_cols":14,"rows_kept":29,"cut":false,"hidden":false,"merged":[[25,1,25,3],[48,1,48,5],[19,1,19,3],[20,1,20,3],[21,1,21,3],[22,1,22,3],[23,1,23,3],[24,1,24,3],[18,1,18,3],[0,1,0,5],[0,7,0,11],[2,1,2,5],[4,1,4,2],[4,4,4,5],[5,2,5,4],[13,1,13,3],[14,1,14,3],[15,1,15,3],[16,1,16,3],[17,1,17,3]]}
[]
[]
[]
[]
[]
[]
[]
[]
[]
[]
[]
[]
[]
[]
[]
[]
[null,null,null,null,null,null,null,null,null,{"$f":"'100+ Scores'!$B3","v":"Craig Monk"}," - ",{"$f":"'100+ Scores'!$D3","v":62}]
[]
[null,null,null,null,null,null,null,null,null,{"$f":"CONCATENATE(J16,K16,L16)","v":""}]
[null,null,null,null,null,null,null,null,null,{"$f":"CONCATENATE(J17,K17,L17)","v":"Craig Monk - 62"}]
[]
[]
[]
[]
[]
[]
[]
[]
[null,null,null,null,null,null,null,null,null,null,null,null,null," "]

{"sheet":"Week 8","index":36,"n_rows":0,"n_cols":0,"rows_kept":0,"cut":false,"hidden":false,"merged":[[18,1,18,3],[0,1,0,5],[0,7,0,11],[2,1,2,5],[4,1,4,2],[4,4,4,5],[5,2,5,4],[13,1,13,3],[14,1,14,3],[15,1,15,3],[16,1,16,3],[17,1,17,3],[25,1,25,3],[48,1,48,5],[19,1,19,3],[20,1,20,3],[21,1,21,3],[22,1,22,3],[23,1,23,3],[24,1,24,3]]}

{"sheet":"Week 7","index":37,"n_rows":20,"n_cols":12,"rows_kept":20,"cut":false,"hidden":false,"merged":[[5,2,5,4],[0,1,0,5],[0,7,0,11],[2,1,2,5],[4,1,4,2],[4,4,4,5],[13,1,13,3],[14,1,14,3],[15,1,15,3],[16,1,16,3],[17,1,17,3],[25,1,25,3],[48,1,48,5],[16,15,16,17],[19,1,19,3],[20,1,20,3],[21,1,21,3],[22,1,22,3],[23,1,23,3],[24,1,24,3],[18,1,18,3]]}
[null,null,null,null,null,null,null,"DO NOT DELETE ANY OF THE BELOW DATA"]
[]
[]
[]
[]
[]
[]
[]
[null,null,null,null,null,null,null,"",{"$f":"IF(B9=\"BYE\",IF(F9=\"BYE\",1,\"\"),\"\")","v":""}]
[null,null,null,null,null,null,null,"","",{"$f":"'180''s'!$B2","v":"Chris Garsed"}," - ",{"$f":"'180''s'!$C2","v":4}]
[null,null,null,null,null,null,null,"","",{"$f":"'180''s'!$B3","v":"Mike Wayman"}," - ",{"$f":"'180''s'!$C3","v":4}]
[null,null,null,null,null,null,null,null,""]
[null,null,null,null,null,null,null,null,null,{"$f":"CONCATENATE(J10,K10,L10)","v":"Chris Garsed - 4"}]
[null,null,null,null,null,null,null,null,null,{"$f":"CONCATENATE(J11,K11,L11)","v":"Mike Wayman - 4"}]
[]
[null,null,null,null,null,null,null,null,null,{"$f":"'100+ Scores'!$B2","v":"Dennis Clarkson"}," - ",{"$f":"'100+ Scores'!$D2","v":79}]
[null,null,null,null,null,null,null,null,null,{"$f":"'100+ Scores'!$B3","v":"Craig Monk"}," - ",{"$f":"'100+ Scores'!$D3","v":62}]
[]
[null,null,null,null,null,null,null,null,null,{"$f":"CONCATENATE(J16,K16,L16)","v":"Dennis Clarkson - 79"}]
[null,null,null,null,null,null,null,null,null,{"$f":"CONCATENATE(J17,K17,L17)","v":"Craig Monk - 62"}]

{"sheet":"Week 6","index":38,"n_rows":20,"n_cols":12,"rows_kept":20,"cut":false,"hidden":false,"merged":[[25,1,25,3],[48,1,48,5],[19,1,19,3],[20,1,20,3],[21,1,21,3],[22,1,22,3],[23,1,23,3],[24,1,24,3],[18,1,18,3],[0,1,0,5],[0,7,0,11],[2,1,2,5],[4,1,4,2],[4,4,4,5],[5,2,5,4],[13,1,13,3],[14,1,14,3],[15,1,15,3],[16,1,16,3],[17,1,17,3]]}
[null,null,null,null,null,null,null,"DO NOT DELETE ANY OF THE BELOW DATA"]
[]
[]
[]
[]
[]
[]
[]
[null,null,null,null,null,null,null,"",{"$f":"IF(B9=\"BYE\",IF(F9=\"BYE\",1,\"\"),\"\")","v":""}]
[null,null,null,null,null,null,null,"","",{"$f":"'180''s'!$B2","v":"Chris Garsed"}," - ",{"$f":"'180''s'!$C2","v":4}]
[null,null,null,null,null,null,null,"","",{"$f":"'180''s'!$B3","v":"Mike Wayman"}," - ",{"$f":"'180''s'!$C3","v":4}]
[null,null,null,null,null,null,null,null,""]
[null,null,null,null,null,null,null,null,null,{"$f":"CONCATENATE(J10,K10,L10)","v":"Chris Garsed - 4"}]
[null,null,null,null,null,null,null,null,null,{"$f":"CONCATENATE(J11,K11,L11)","v":"Mike Wayman - 4"}]
[]
[null,null,null,null,null,null,null,null,null,{"$f":"'100+ Scores'!$B2","v":"Dennis Clarkson"}," - ",{"$f":"'100+ Scores'!$D2","v":79}]
[null,null,null,null,null,null,null,null,null,{"$f":"'100+ Scores'!$B3","v":"Craig Monk"}," - ",{"$f":"'100+ Scores'!$D3","v":62}]
[]
[null,null,null,null,null,null,null,null,null,{"$f":"CONCATENATE(J16,K16,L16)","v":"Dennis Clarkson - 79"}]
[null,null,null,null,null,null,null,null,null,{"$f":"CONCATENATE(J17,K17,L17)","v":"Craig Monk - 62"}]

{"sheet":"Week 5","index":39,"n_rows":20,"n_cols":12,"rows_kept":20,"cut":false,"hidden":false,"merged":[[18,1,18,3],[0,1,0,5],[0,7,0,11],[2,1,2,5],[4,1,4,2],[4,4,4,5],[5,2,5,4],[13,1,13,3],[14,1,14,3],[15,1,15,3],[16,1,16,3],[17,1,17,3],[25,1,25,3],[48,1,48,5],[19,1,19,3],[20,1,20,3],[21,1,21,3],[22,1,22,3],[23,1,23,3],[24,1,24,3]]}
[null,null,null,null,null,null,null,"DO NOT DELETE ANY OF THE BELOW DATA"]
[]
[]
[]
[]
[]
[]
[]
[null,null,null,null,null,null,null,"",{"$f":"IF(B9=\"BYE\",IF(F9=\"BYE\",1,\"\"),\"\")","v":""}]
[null,null,null,null,null,null,null,"","",{"$f":"'180''s'!$B2","v":"Chris Garsed"}," - ",{"$f":"'180''s'!$C2","v":4}]
[null,null,null,null,null,null,null,"","",{"$f":"'180''s'!$B3","v":"Mike Wayman"}," - ",{"$f":"'180''s'!$C3","v":4}]
[null,null,null,null,null,null,null,null,""]
[null,null,null,null,null,null,null,null,null,{"$f":"CONCATENATE(J10,K10,L10)","v":"Chris Garsed - 4"}]
[null,null,null,null,null,null,null,null,null,{"$f":"CONCATENATE(J11,K11,L11)","v":"Mike Wayman - 4"}]
[]
[null,null,null,null,null,null,null,null,null,{"$f":"'100+ Scores'!$B2","v":"Dennis Clarkson"}," - ",{"$f":"'100+ Scores'!$D2","v":79}]
[null,null,null,null,null,null,null,null,null,{"$f":"'100+ Scores'!$B3","v":"Craig Monk"}," - ",{"$f":"'100+ Scores'!$D3","v":62}]
[]
[null,null,null,null,null,null,null,null,null,{"$f":"CONCATENATE(J16,K16,L16)","v":"Dennis Clarkson - 79"}]
[null,null,null,null,null,null,null,null,null,{"$f":"CONCATENATE(J17,K17,L17)","v":"Craig Monk - 62"}]

{"sheet":"Week 4","index":40,"n_rows":0,"n_cols":0,"rows_kept":0,"cut":false,"hidden":false,"merged":[[25,1,25,3],[48,1,48,5],[19,1,19,3],[20,1,20,3],[21,1,21,3],[22,1,22,3],[23,1,23,3],[24,1,24,3],[18,1,18,3],[0,1,0,5],[0,7,0,11],[2,1,2,5],[4,1,4,2],[4,4,4,5],[5,2,5,4],[13,1,13,3],[14,1,14,3],[15,1,15,3],[16,1,16,3],[17,1,17,3]]}

{"sheet":"Week 3","index":41,"n_rows":20,"n_cols":12,"rows_kept":20,"cut":false,"hidden":false,"merged":[[25,1,25,3],[48,1,48,5],[19,1,19,3],[20,1,20,3],[21,1,21,3],[22,1,22,3],[23,1,23,3],[24,1,24,3],[18,1,18,3],[0,1,0,5],[0,7,0,11],[2,1,2,5],[4,1,4,2],[4,4,4,5],[5,2,5,4],[13,1,13,3],[14,1,14,3],[15,1,15,3],[16,1,16,3],[17,1,17,3]]}
[null,null,null,null,null,null,null,"DO NOT DELETE ANY OF THE BELOW DATA"]
[]
[]
[]
[]
[]
[]
[]
[null,null,null,null,null,null,null,"",{"$f":"IF(B9=\"BYE\",IF(F9=\"BYE\",1,\"\"),\"\")","v":""}]
[null,null,null,null,null,null,null,"","",{"$f":"'180''s'!$B2","v":"Chris Garsed"}," - ",{"$f":"'180''s'!$C2","v":4}]
[null,null,null,null,null,null,null,"","",{"$f":"'180''s'!$B3","v":"Mike Wayman"}," - ",{"$f":"'180''s'!$C3","v":4}]
[null,null,null,null,null,null,null,null,""]
[null,null,null,null,null,null,null,null,null,{"$f":"CONCATENATE(J10,K10,L10)","v":"Chris Garsed - 4"}]
[null,null,null,null,null,null,null,null,null,{"$f":"CONCATENATE(J11,K11,L11)","v":"Mike Wayman - 4"}]
[]
[null,null,null,null,null,null,null,null,null,{"$f":"'100+ Scores'!$B2","v":"Dennis Clarkson"}," - ",{"$f":"'100+ Scores'!$D2","v":79}]
[null,null,null,null,null,null,null,null,null,{"$f":"'100+ Scores'!$B3","v":"Craig Monk"}," - ",{"$f":"'100+ Scores'!$D3","v":62}]
[]
[null,null,null,null,null,null,null,null,null,{"$f":"CONCATENATE(J16,K16,L16)","v":"Dennis Clarkson - 79"}]
[null,null,null,null,null,null,null,null,null,{"$f":"CONCATENATE(J17,K17,L17)","v":"Craig Monk - 62"}]

{"sheet":"Week 2","index":42,"n_rows":46,"n_cols":14,"rows_kept":46,"cut":false,"hidden":false,"merged":[[25,1,25,3],[48,1,48,5],[19,1,19,3],[20,1,20,3],[21,1,21,3],[22,1,22,3],[23,1,23,3],[24,1,24,3],[18,1,18,3],[0,1,0,5],[0,7,0,11],[2,1,2,5],[4,1,4,2],[4,4,4,5],[5,2,5,4],[13,1,13,3],[14,1,14,3],[15,1,15,3],[16,1,16,3],[17,1,17,3]]}
[null,null,null,null,null,null,null,"DO NOT DELETE ANY OF THE BELOW DATA"]
[]
[]
[]
[]
[]
[]
[]
[null,null,null,null,null,null,null,"",{"$f":"IF(B9=\"BYE\",IF(F9=\"BYE\",1,\"\"),\"\")","v":""}]
[null,null,null,null,null,null,null,"","",{"$f":"'180''s'!$B2","v":"Chris Garsed"}," - ",{"$f":"'180''s'!$C2","v":4}]
[null,null,null,null,null,null,null,"","",{"$f":"'180''s'!$B3","v":"Mike Wayman"}," - ",{"$f":"'180''s'!$C3","v":4}]
[null,null,null,null,null,null,null,null,""]
[null,null,null,null,null,null,null,null,null,{"$f":"CONCATENATE(J10,K10,L10)","v":"Chris Garsed - 4"}]
[null,null,null,null,null,null,null,null,null,{"$f":"CONCATENATE(J11,K11,L11)","v":"Mike Wayman - 4"}]
[]
[null,null,null,null,null,null,null,null,null,{"$f":"'100+ Scores'!$B2","v":"Dennis Clarkson"}," - ",{"$f":"'100+ Scores'!$D2","v":79}]
[null,null,null,null,null,null,null,null,null,{"$f":"'100+ Scores'!$B3","v":"Craig Monk"}," - ",{"$f":"'100+ Scores'!$D3","v":62}]
[]
[null,null,null,null,null,null,null,null,null,{"$f":"CONCATENATE(J16,K16,L16)","v":"Dennis Clarkson - 79"}]
[null,null,null,null,null,null,null,null,null,{"$f":"CONCATENATE(J17,K17,L17)","v":"Craig Monk - 62"}]
[]
[]
[]
[]
[]
[]
[]
[]
[]
[]
[]
[]
[]
[]
[]
[]
[]
[]
[]
[]
[]
[]
[]
[]
[]
[null,null,null,null,null,null,null,null,null,null,null,null,null," "]

{"sheet":"League Table Template","index":43,"n_rows":47,"n_cols":12,"rows_kept":47,"cut":false,"hidden":true,"merged":[[2,1,2,5],[5,2,5,4],[13,1,13,3],[14,1,14,3],[0,7,0,11],[0,1,0,5],[21,1,21,3],[22,1,22,3],[25,1,25,3],[48,1,48,5],[4,1,4,2],[4,4,4,5],[23,1,23,3],[24,1,24,3],[15,1,15,3],[16,1,16,3],[17,1,17,3],[18,1,18,3],[19,1,19,3],[20,1,20,3]]}
[null,"NORTHALLERTON CLUBS WINTER DARTS LEAGUE\r\n2014/2015",null,null,null,null,null,"DO NOT DELETE ANY OF THE BELOW DATA"]
[null,null,null,null,null,null,null,null,null,{"$f":"'Player Averages'!$B$2","v":"Chris Garsed"}," - ",{"$f":"ROUND('Player Averages'!$H$2,2)","v":74.23}]
[null,"Results & League Table",null,null,null,null,null,null,null,{"$f":"'Player Averages'!$B$3","v":"Craig Monk"}," - ",{"$f":"ROUND('Player Averages'!$H$3,2)","v":67.36}]
[null,null,null,null,null,null,null,null,null,{"$f":"'Player Averages'!$B$4","v":"Dennis Clarkson"}," - ",{"$f":"ROUND('Player Averages'!$H$4,2)","v":63.79}]
[null,"Week 17",null,"-","2015-03-09"]
[null,null,null,null,null,null,null,"bTot",{"$f":"SUM(I7:I12)","v":1},{"$f":"CONCATENATE(J2,K2,L2)","v":"Chris Garsed - 74.23"}]
[null,"SPORTSMANS",6,"v",3,"WORKMENS CLUB \"A\"",null,"",{"$f":"IF(B7=\"BYE\",IF(F7=\"BYE\",1,\"\"),\"\")","v":""},{"$f":"CONCATENATE(J3,K3,L3)","v":"Craig Monk - 67.36"}]
[null,"CRICKET CLUB",7,"v",2,"NAGS HEAD \"B\"",null,"",{"$f":"IF(B8=\"BYE\",IF(F8=\"BYE\",1,\"\"),\"\")","v":""},{"$f":"CONCATENATE(J4,K4,L4)","v":"Dennis Clarkson - 63.79"}]
[null,"WORKMENS CLUB \"B\"",7,"v",2,"JOLLY MINSTER",null,"",""]
[null,"NAGS HEAD \"A\"",9,"v",0,"CROWN",null,"","",{"$f":"'180''s'!$B2","v":"Chris Garsed"}," - ",{"$f":"'180''s'!$C2","v":4}]
[null,"ODD FELLOWS",0,"v",0,"BUCK INN",null,"","",{"$f":"'180''s'!$B3","v":"Mike Wayman"}," - ",{"$f":"'180''s'!$C3","v":4}]
[null,"BYE","-","v","-","BYE",null,null,1]
[null,null,null,null,null,null,null,null,null,{"$f":"CONCATENATE(J10,K10,L10)","v":"Chris Garsed - 4"}]
[null,"Team",null,null,"Pld","Pts",null,null,null,{"$f":"CONCATENATE(J11,K11,L11)","v":"Mike Wayman - 4"}]
[null,"SPORTSMANS",null,null,17,75]
[null,"NAGS HEAD \"A\"",null,null,17,73,null,null,null,{"$f":"'100+ Scores'!$B2","v":"Dennis Clarkson"}," - ",{"$f":"'100+ Scores'!$D2","v":79}]
[null,"CRICKET CLUB",null,null,17,73,null,null,null,{"$f":"'100+ Scores'!$B3","v":"Craig Monk"}," - ",{"$f":"'100+ Scores'!$D3","v":62}]
[null,"WORKMENS CLUB \"A\"",null,null,17,71]
[null,"ODD FELLOWS",null,null,17,63,null,null,null,{"$f":"CONCATENATE(J16,K16,L16)","v":"Dennis Clarkson - 79"}]
[null,"WORKMENS CLUB \"B\"",null,null,17,56,null,null,null,{"$f":"CONCATENATE(J17,K17,L17)","v":"Craig Monk - 62"}]
[null,"NAGS HEAD \"B\"",null,null,17,48]
[null,"JOLLY MINSTER",null,null,17,44]
[null,"CROWN",null,null,17,35]
[null,"BUCK INN",null,null,17,10]
[null,"Team 11",null,null,2,3]
[]
[]
[]
[null,"Singles Games 30 Darts & Under:","Steve Blewitt, Nige Outram, Andy Monk & Al Whelan - 1"]
[]
[null,"Least Darts Singles:","Steve Blewitt - 25 (Week 1)"]
[]
[null,"Highest Checkout Singles:","Tony Westby - 74 (Week 1)"]
[]
[null,"Least Darts Pairs:","Craig Monk & Ian Whittaker - 37 (Week 1)"]
[]
[null,"Highest Checkout Pairs:","Ben Jack - 108 (Week 1)"]
[]
[null,"180's:","Chris Garsed - 4"]
[null,null,"Mike Wayman - 4"]
[]
[null,"TJB 100+:","Dennis Clarkson - 72"]
[null,null,"Craig Monk - 57"]
[]
[null,"Averages Leaders:","Chris Garsed - 75.18"]
[null,null,"Craig Monk - 66.33"]
[null,null,"Sean Kendrew - 64.39"]

{"sheet":"Sheet1","index":44,"n_rows":0,"n_cols":0,"rows_kept":0,"cut":false,"hidden":false,"merged":[]}